Workbook

Sheet Bridge
B1: The Bridge
BB3: ✓
B4: Alerts or Instructions | BB4: ✕
B5: =IF($BD5="", "", $BF5) | BD5: =IF(AND(Settings!$BB$7=0, 'Dev Settings'!$BX$6=0), "", "X") | BF5: Incomplete or incorrect settings | BH5: Carrier | BI5: =Carrier!$CB$21 -> 0
B6: =IF($BD6="", "", $BF6) | BD6: =IF(Carrier!$BF$3=0, "", "X") | BF6: Mission error on the carrier | BH6: Codes | BI6: =2000-(COUNTIF('Mission Codes'!$E$6:$E$165, "")+COUNTIF('Mission Codes'!$J$6:$J$165, "")) -> 1680
B7: =IF($BD7="", "", $BF7) | BD7: =IF(FOB!$BF$3=0, "", "X") | BF7: Mission error on the forward operating base
B8: =IF($BD8="", "", $BF8) | BD8: =IF(SUM('Mission Codes'!$AU$2:$AV$2)=0, "", "X") | BF8: mission code error | BH8: Dest | BI8: =24-(COUNTIF(Destinations!$D$7:$D$19, "")+COUNTIF(Destinations!$L$7:$L$19, "")) -> -2
B9: =IF($BD9="", "", $BF9) | BD9: =IF(SUM(Destinations!$BC$3:$BE$3)=0, "", "X") | BF9: destination error
B10: =IF($BD10="", "", $BF10) | BD10: =IF('Mission Codes'!$GK$2=0, "", "X") | BF10: =CONCATENATE("Mission in progress - ", $BK10) -> Mission in progress - | BH10: Total | BI10: =SUM($BI$5:$BI$8) -> 1678 | BK10: =IF('Mission Codes'!$BH$19='Mission Codes'!$BH$15, 'Mission Codes'!$BH$15, IF('Mission Codes'!$BH$19='Mission Codes'!$BH$16, "Carrier", IF('Mission Codes'!$BH$19='Mission Codes'!$BH$17, 'Mission Codes'!$BH$17, "")))
B11: =IF($BD11="", "", $BF11) -> NEW intel from MI6 | BD11: =IF($BD$13="X", "", IF('MI6'!$B$6='MI6'!$BD$4, "X", "")) -> X | BF11: NEW intel from MI6
B12: =IF($BD12="", "", $BF12) | BD12: =IF($BH12="", "", "X") | BF12: =CONCATENATE("Mission ", $BH12, " code required") -> Mission code required | BH12: =IF('Mission Codes'!$AV$3>0, "Debriefing", IF('Mission Codes'!$AU$3>0, "Briefing", "")) | BL12: =IF(AND(NOT(BK13=""), NOT(BL13="")), " & ", "") | BM12: =IF(AND(OR(NOT(BL13=""), NOT(BK13="")), NOT(BM13="")), " & ", "")
B13: =IF($BD13="", "", $BF13) | BD13: =IF(BD12="X", "", IF(AND('Mission Codes'!$GK$2=0, COUNTIF($BK13:$BM13, "")<3), "X", "")) | BF13: =CONCATENATE("Clear ", $BH13, " for next mission") -> Clear for next mission | BH13: =IF(AND($BK13="", $BL13="", $BM$13=""), "", $BO13) | BK13: =IF(Carrier!$CB$21>0, "The carrier", "") | BL13: =IF(FOB!$CB$21>0, 'Mission Codes'!$BH$15, "") | BM13: =IF(UK!$CB$21>0, 'Mission Codes'!$BH$17, "") | BO13: =CONCATENATE($BK$13, $BL$12, $BL$13, $BM$12, $BM$13)
B14: =IF($BD14="", "", $BF14) -> Depart for new destination | BD14: =IF($BD$13="X", "", IF(OR('MI6'!$BB$8=$BD$29, 'MI6'!$BB$8=$BD$30), "X", "")) -> X | BF14: =IF($BD14="", "", IF('MI6'!$BB$8=$BD$29, $BF$29, IF('MI6'!$BB$8=$BD$30, $BF$30, ""))) -> Depart for new destination
B15: =IF($BD15="", "", $BF15) | BD15: =IF(OR($BD$23="X", $BD$26="X"), "X", "") | BF15: =IF($BD$23="X", $BF23, IF($BD$26="X", $BF26, ""))
B16: =IF($BD16="", "", $BF16) | BD16: =BD15 | BF16: =IF($BD$23="X", $BF24, IF($BD$26="X", $BF27, ""))
B17: =IF($BD17="", "", $BF17) | BD17: =IF(OR($BD$15="X", $BD$9="X", $BD$8="X", $BD$6="X"), "X", "") | BF17: =CONCATENATE("To start a new career, clear the following: ", $BO$18) -> To start a new career, clear the following: | BK17: =BK13 | BL17: =BL13 | BM17: =BM13
BK18: =IF('Mission Codes'!$BO$3=FALSE, "Mission Codes", "") | BL18: =IF(Destinations!$BE$26=FALSE, "Destinations", "") | BM18: =IF(Supplies!$BB$74=FALSE, "Supply Stock Code", "") | BO18: =CONCATENATE(BQ18, BR18, BS18, BT18, BU18, BV18, BW18, BX18, BY18, BZ18, CA18) | BQ18: =$BK$17 | BR18: =IF(BQ18="", "", IF(BS18="", "", " | ")) | BS18: =$BL$17 | BT18: =IF(AND(BQ18="", BS18=""), "", IF(BU18="", "", " | ")) | BU18: =$BM$17 | BV18: =IF(AND(BQ18="", BS18="", BU18=""), "", IF(BW18="", "", " | ")) | BW18: =$BM$18 | BX18: =IF(AND(BQ18="", BS18="", BU18="", BW18=""), "", IF(BY18="", "", " | ")) | BY18: =$BK$18 | BZ18: =IF(AND(BQ18="", BS18="", BU18="", BW18="", BY18=""), "", IF(CA18="", "", " | ")) | CA18: =$BL$18
BI19: ='Dev Settings'!$AF$12 -> USA
B20: =IF($BD20="", "", $BF20) | BD20: =IF(BF20="", "", "X") | BF20: =IF(OR($BH20="", $BI20=""), "", CONCATENATE("En Route to ", IF($BI20=$BI$19, "The ", ""), $BI20, " - Arriving: ", TEXT($BH20, "dd/mm/yy hh:mm"))) | BH20: =IFERROR(INDEX(Destinations!$O$7:$O$19, MATCH(Destinations!$AY$24, Destinations!$AY$7:$AY$19, 0)), "") | BI20: =IFERROR(INDEX(Destinations!$AQ$7:$AQ$19, MATCH(Destinations!$AY$24, Destinations!$AY$7:$AY$19, 0)), "")
B21: =IF($BD21="", "", $BF21) | BD21: =IF(BF21="", "", "X") | BF21: =Supplies!$BD$70 | BH21: =IF(OR(Supplies!$BD$70=Supplies!$BD$51, Supplies!$BD$70=Supplies!$BD$64), Supplies!$BB$50, IF(OR(Supplies!$BD$70=Supplies!$BD$58, Supplies!$BD$70=Supplies!$BD$61), Supplies!$BB$57, "")) | BK21: =Supplies!$BB$50 -> Red | BL21: =Supplies!$BB$57 -> Yellow
B22: =IF($BD22="", "", $BF22) | BD22: =IF($BF$22="", "", "X") | BF22: =IF(Careers!$F$3="", "", "Please Select Career Code")
B23: Current Situation | BD23: =IF(AND(Destinations!$BL$24=TRUE, 'Mission Codes'!$EI$20>=1), "X", "") | BF23: Mission complete! What a succesful career!
BF24: You've earned your retirement!
B25: Current | F25: Won | J25: Failed | O25: Won | S25: Failed
B26: Carrier | F26: Location | J26: Location | O26: Career | S26: Career | BD26: =IF(AND(Destinations!$BL$24=TRUE, 'Mission Codes'!$EI$20<1), "X", "") | BF26: Mission failed! What a waste of a career!
B27: Location | F27: Missions | J27: Missions | O27: Missions | S27: Missions | BF27: You're forced into retirement!
B28: =Carrier!$S$3 -> #VALUE! | F28: =COUNTIF('Mission Codes'!$GI$6:$GI$165, 'Mission Codes'!$BW$2) -> 0 | J28: =COUNTIF('Mission Codes'!$GI$6:$GI$165, 'Mission Codes'!$BW$3) -> 0 | O28: =COUNTIF('Mission Codes'!$P$6:$P$165, 'Mission Codes'!$BW$2) -> 0 | S28: =COUNTIF('Mission Codes'!$P$6:$P$165, 'Mission Codes'!$BW$3) -> 0
BD29: ='MI6'!$BB$16 -> Move On | BF29: Depart for new destination
BD30: ='MI6'!$BB$17 -> En Route | BF30: Training is now available while sailing
B31: This is the allowance of your missions used
B32: Missions Used | I32: ='Mission Codes'!$GM$4 -> 0
B33: This is the percentage of your overall mission completed
B34: Career | I34: ='Mission Codes'!$EI$20 -> 0 | BH34: =IFERROR(INDEX('Mission Codes'!$CS$5:$CS$165, MATCH('Mission Codes'!$ES$3, 'Mission Codes'!$EU$5:$EU$165, 0)), "") -> Officer Cadet
B35: This is the percentage of your quest to reach the highest rank
B36: Rank Progress | I36: =$BH$40 -> 0
BH37: =IFERROR(INDEX('Mission Codes'!$CP$6:$CP$17, MATCH($BH$34, 'Mission Codes'!$CO$6:$CO$17, 0)), "") -> ⚊
B38: =IF($BD38="", "", $BF38) -> It looks like you are on track in all areas | BD38: =IF(AND($BD$40="", $BD$42="", $BD$44=""), "X", "") -> X | BF38: It looks like you are on track in all areas
B39: =IF($BD39="", "", $BF39) -> This is the best case scenario, keep on going | BD39: =BD38 -> X | BF39: This is the best case scenario, keep on going
B40: =IF($BD40="", "", $BF40) | BD40: =IF($I$32>$I$36, "X", "") | BF40: Your used missions % outweighs your rank % | BH40: ='Mission Codes'!$CS$2 -> 0
B41: =IF($BD41="", "", $BF41) | BD41: =BD40 | BF41: This just means that you may not reach the top rank
B42: =IF($BD42="", "", $BF42) | BD42: =IF($I$32>$I$34, "X", "") | BF42: Your used missions % outweighs your career %
B43: =IF($BD43="", "", $BF43) | BD43: =BD42 | BF43: This means you may not complete your objective | BH43: =IFERROR(INDEX('Mission Codes'!$CX$19:$CX$30, MATCH(BH44, 'Mission Codes'!$CZ$19:$CZ$30, 0)), "")
B44: =IF($BD44="", "", $BF44) | BD44: =IF($I$34>$I$36, "X", "") | BF44: Your career may end before the top rank | BH44: =IFERROR(INDEX('Mission Codes'!$DU$6:$DU$165, MATCH('Mission Codes'!$ES$3, 'Mission Codes'!$EU$5:$EU$165, 0)), "") -> 0
B45: =IF($BD45="", "", $BF45) | BD45: =BD44 | BF45: This just means that you may not reach the top rank
B48: Career Details
B50: Rank | H50: =$BH$34 -> Officer Cadet
B53: Insignia | H53: =$BH$37 -> ⚊
B55: Earned
B56: Medals | H56: =$BH$43
G59: No of Turns | R59: No of Turns
B60: Best | G60: =Carrier!$EX$7 | M60: Average | R60: ='Mission Codes'!$BL$2
B62: Win
B63: Ratio | G63: ='Mission Codes'!$BQ$2 | M63: Supplies | R63: =Supplies!$R$4 | BD63: =Supplies!$BB$67 -> 0.3

Sheet Carrier
B2: =IF(OR($CB$11=TRUE, $CB$12=TRUE), "Enemy Defence", "") | L2: =IF($BV$33=TRUE, 'Dev Settings'!$AM$11, "") | M2: =IF($BV$33=TRUE, 'Dev Settings'!$AM$11, "") | P2: =IF($BV$33=TRUE, 'Dev Settings'!$AM$11, "") | Q2: =IF($BV$33=TRUE, 'Dev Settings'!$AM$11, "") | S2: Location | BD2: Yellow Alerts | BT2: =SUM(Destinations!$BC$2:$BC$3)+SUM(Destinations!$BE$2:$BE$3) -> 1 | BV2: En Route | BY2: Carrier
B3: =IF(OR($CB$11=TRUE, $CB$12=TRUE), $EP$5, "") | D3: =IF(OR($CB$11=TRUE, $CB$12=TRUE), $EQ$5, "") | F3: =IF(OR($CB$11=TRUE, $CB$12=TRUE), $ER$5, "") | H3: =IF(OR($CB$11=TRUE, $CB$12=TRUE), $ES$5, "") | K3: Right Unit & Place | Q3: =$BV$13 -> ◼ | S3: =IF($BT$5=$BV$2, 'Dev Settings'!$AM$25, IFERROR(INDEX('Dev Settings'!$AM$11:$AM$23, MATCH($BT$5, 'Dev Settings'!$AF$11:$AF$23, 0)), "")) -> #VALUE! | BD3: Red Alerts | BF3: =SUM($BH$10:$BH$33)+SUM($BJ$10:$BJ$33)+SUM($BL$10:$BL$33)+SUM($BN$10:$BN$33) -> 0 | BT3: =Destinations!$AY$3 -> 0 | BY3: ='Mission Codes'!$BF$16 -> FALSE | CE3: =IF('Dev Settings'!$B11="", "", 'Dev Settings'!$B11) -> SBS
J4: Unit & Place Wrong | Q4: =$BV$13 -> ◼ | CE4: =IF('Dev Settings'!$B12="", "", 'Dev Settings'!$B12) -> MAR
B5: =IF(E5="", "", "Mission") | E5: =IF(OR($BT$3>0, $BY$3=FALSE), "", IFERROR(INDEX('Mission Codes'!$B$6:$D$165, MATCH('Mission Codes'!$ES$3, 'Mission Codes'!$EU$6:$EU$165, 0)), "")) | I5: Right Unit Wrong place | Q5: =$BV$13 -> ◼ | S5: =$BV$29 | U5: =$BV$30 | BT5: =IF($BT$3=0, IFERROR(INDEX(Destinations!$BG$6:$BG$19, MATCH(Destinations!$AY$25, Destinations!$AY$6:$AY$19, 0)), ""), $BV$2) -> UK | BV5: ✓ | CE5: =IF('Dev Settings'!$B13="", "", 'Dev Settings'!$B13) -> HM2 | EP5: =IF(EP$7="", "", IFERROR(INDEX($EX$10:$EX$15, MATCH(EP$7, $EW$10:$EW$15, 0)), "")) | EQ5: =IF(EQ$7="", "", IFERROR(INDEX($EX$10:$EX$15, MATCH(EQ$7, $EW$10:$EW$15, 0)), "")) | ER5: =IF(ER$7="", "", IFERROR(INDEX($EX$10:$EX$15, MATCH(ER$7, $EW$10:$EW$15, 0)), "")) | ES5: =IF(ES$7="", "", IFERROR(INDEX($EX$10:$EX$15, MATCH(ES$7, $EW$10:$EW$15, 0)), ""))
R6: =IF($BV$33=TRUE, $BV$10, "") | BV6: ✕ | CA6: 1 | CB6: =IFERROR(INDEX('Mission Codes'!$BU$6:$BU$165, MATCH("X", 'Mission Codes'!$CK$6:$CK$165, 0)), "") | CC6: =IFERROR(INDEX($BY$15:$BY$20, MATCH($CB6, $BX$15:$BX$20, 0)), "") | CE6: =IF('Dev Settings'!$B14="", "", 'Dev Settings'!$B14) -> APA
G7: =$CA$33 | S7: =IF($BV$33=TRUE, $BV$8, "") | BT7: MI5 Ins | BY7: =IF(OR($BT$3>0, $BT$2>0, $BY$3=FALSE, $AH$9=TRUE), "", IF('Dev Settings'!$B11="", "", 'Dev Settings'!$B11)) | CA7: 2 | CB7: =IFERROR(INDEX('Mission Codes'!$BV$6:$BV$165, MATCH("X", 'Mission Codes'!$CK$6:$CK$165, 0)), "") | CC7: =IFERROR(INDEX($BY$15:$BY$20, MATCH($CB7, $BX$15:$BX$20, 0)), "") | CE7: =IF('Dev Settings'!$B15="", "", 'Dev Settings'!$B15) -> F35 | CG7: =$EP$7 | CI7: =$EQ$7 | CK7: =$ER$7 | CM7: =$ES$7 | EP7: =IFERROR(INDEX($EW$10:$EW$15, MATCH($CC$6, $EX$10:$EX$15, 0)), "") | EQ7: =IFERROR(INDEX($EW$10:$EW$15, MATCH($CC$7, $EX$10:$EX$15, 0)), "") | ER7: =IFERROR(INDEX($EW$10:$EW$15, MATCH($CC$8, $EX$10:$EX$15, 0)), "") | ES7: =IFERROR(INDEX($EW$10:$EW$15, MATCH($CC$9, $EX$10:$EX$15, 0)), "") | EW7: PB | EX7: =IF(MIN('Mission Codes'!$T$6:$T$165)=0, "", MIN('Mission Codes'!$T$6:$T$165))
B8: =IFERROR(INDEX($BD$14:$BD$22, MATCH("X", $BF$14:$BF$22, 0)), "") -> NEW intel from MI6 | F8: =$CB$33 | G8: =IF(OR($CB$11=TRUE, $CB$12=TRUE), $EP$7, "") | I8: =IF(OR($CB$11=TRUE, $CB$12=TRUE), $EQ$7, "") | K8: =IF(OR($CB$11=TRUE, $CB$12=TRUE), $ER$7, "") | M8: =IF(OR($CB$11=TRUE, $CB$12=TRUE), $ES$7, "") | O8: =$CB$33 | T8: =IF($BV$33=TRUE, $BV$10, "") | BT8: ='MI6'!$B$6='MI6'!$BD$4 -> TRUE | BV8: ⋱ | BY8: =IF(OR($BT$3>0, $BT$2>0, $BY$3=FALSE, $AH$9=TRUE), "", IF('Dev Settings'!$B12="", "", 'Dev Settings'!$B12)) | CA8: 3 | CB8: =IFERROR(INDEX('Mission Codes'!$BW$6:$BW$165, MATCH("X", 'Mission Codes'!$CK$6:$CK$165, 0)), "") | CC8: =IFERROR(INDEX($BY$15:$BY$20, MATCH($CB8, $BX$15:$BX$20, 0)), "") | CE8: =IF('Dev Settings'!$B16="", "", 'Dev Settings'!$B16) -> RAM | CY8: Actual | DH8: Desired
U9: =IF($BV$33=TRUE, $BV$8, "") | AH9: =COUNTIF(AH$14:AH$33, "X")=0 -> FALSE | BV9: ⋰ | BY9: =IF(OR($BT$3>0, $BT$2>0, $BY$3=FALSE, $AH$9=TRUE), "", IF('Dev Settings'!$B13="", "", 'Dev Settings'!$B13)) | CA9: 4 | CB9: =IFERROR(INDEX('Mission Codes'!$BX$6:$BX$165, MATCH("X", 'Mission Codes'!$CK$6:$CK$165, 0)), "") | CC9: =IFERROR(INDEX($BY$15:$BY$20, MATCH($CB9, $BX$15:$BX$20, 0)), "") | EP9: 1 | EQ9: 2 | ER9: 3 | ES9: 4
F10: =IF($EZ10=$EW$7, $BV$14, "") | P10: =IF($BV$33=TRUE, $BV$10, "") | Q10: =IF(BQ10="", "", $BV$13) | R10: =IF(BR10="", "", $BV$13) | U10: =IF($BV$33=TRUE, 'Dev Settings'!$AM$11, "") | AC10: =IF(AF10="", "", "T") -> T | AE10: =AJ10 -> X | AF10: =AJ10 -> X | AH10: =IF($AJ10="", "", IF($AR10="X", "", $AJ10)) -> X | AJ10: =IF($AL10<=$BF$33, "X", "") -> X | AL10: 12 | AO10: =IF(AND($AR12="X", $BV$17=TRUE, $CB$11=FALSE, $CB$12=FALSE), "X", "") | AR10: =IF(AND(NOT($G10=""), NOT($I10=""), NOT($K10=""), NOT($M10="")), "X", "") | AU10: =IF($AO10="", "", IF(G10="", "X", "")) | AW10: =IF($AO10="", "", IF(I10="", "X", "")) | AY10: =IF($AO10="", "", IF(K10="", "X", "")) | BA10: =IF($AO10="", "", IF(M10="", "X", "")) | BH10: =IF(AND(NOT(G10=""), COUNTIF($BY$7:$BY$12, G10)=0), "X", "") | BJ10: =IF(AND(NOT(I10=""), COUNTIF($BY$7:$BY$12, I10)=0), "X", "") | BL10: =IF(AND(NOT(K10=""), COUNTIF($BY$7:$BY$12, K10)=0), "X", "") | BN10: =IF(AND(NOT(M10=""), COUNTIF($BY$7:$BY$12, M10)=0), "X", "") | BQ10: =IF($EP10="", "", IFERROR(INDEX($CC$25:$CC$27, MATCH($EP10, $CB$25:$CB$27, 0)), "")) | BR10: =IF($EQ10="", "", IFERROR(INDEX($CC$25:$CC$27, MATCH($EQ10, $CB$25:$CB$27, 0)), "")) | BT10: 12 | BV10: ✺ | BY10: =IF(OR($BT$3>0, $BT$2>0, $BY$3=FALSE, $AH$9=TRUE), "", IF('Dev Settings'!$B14="", "", 'Dev Settings'!$B14)) | CE10: =SUM($EP10:$ES10) -> 0 | CG10: =IF(OR($G10="", $I10="", $K10="", $M10=""), "", G10) | CI10: =IF(OR($G10="", $I10="", $K10="", $M10=""), "", I10) | CK10: =IF(OR($G10="", $I10="", $K10="", $M10=""), "", K10) | CM10: =IF(OR($G10="", $I10="", $K10="", $M10=""), "", M10) | CP10: =IF(CG10="", "", IF(CG10=CG$7, $CC$27, "")) | CR10: =IF(CI10="", "", IF(CI10=CI$7, $CC$27, "")) | CT10: =IF(CK10="", "", IF(CK10=CK$7, $CC$27, "")) | CV10: =IF(CM10="", "", IF(CM10=CM$7, $CC$27, "")) | CY10: =IF(CG10="", "", IF(CP10=$CC$27, "", CG10)) | DA10: =IF(CI10="", "", IF(CR10=$CC$27, "", CI10)) | DC10: =IF(CK10="", "", IF(CT10=$CC$27, "", CK10)) | DE10: =IF(CM10="", "", IF(CV10=$CC$27, "", CM10)) | DH10: =IF(CG10="", "", IF(CP10=$CC$27, "", CG$7)) | DJ10: =IF(CI10="", "", IF(CR10=$CC$27, "", CI$7)) | DL10: =IF(CK10="", "", IF(CT10=$CC$27, "", CK$7)) | DN10: =IF(CM10="", "", IF(CV10=$CC$27, "", CM$7)) | DQ10: =IF(CP10=$CC$27, $CC$27, IF(CY10="", "", IF(COUNTIF($CY10:CY10, CY10)>COUNTIF($DH10:$DO11, CY10), $CC$25, $CC$26))) | DS10: =IF(CR10=$CC$27, $CC$27, IF(DA10="", "", IF(COUNTIF($CY10:DA10, DA10)>COUNTIF($DH10:$DO11, DA10), $CC$25, $CC$26))) | DU10: =IF(CT10=$CC$27, $CC$27, IF(DC10="", "", IF(COUNTIF($CY10:DC10, DC10)>COUNTIF($DH10:$DO11, DC10), $CC$25, $CC$26))) | DW10: =IF(CV10=$CC$27, $CC$27, IF(DE10="", "", IF(COUNTIF($CY10:DE10, DE10)>COUNTIF($DH10:$DO11, DE10), $CC$25, $CC$26))) | DZ10: =IFERROR(INDEX($CB$25:$CB$27, MATCH(DQ10, $CC$25:$CC$27, 0)), "") | EB10: =IFERROR(INDEX($CB$25:$CB$27, MATCH(DS10, $CC$25:$CC$27, 0)), "") | ED10: =IFERROR(INDEX($CB$25:$CB$27, MATCH(DU10, $CC$25:$CC$27, 0)), "") | EF10: =IFERROR(INDEX($CB$25:$CB$27, MATCH(DW10, $CC$25:$CC$27, 0)), "") | EI10: =DZ10 | EJ10: =EB10 | EK10: =ED10 | EL10: =EF10 | EN10: 12 | EP10: =IFERROR(INDEX($EI$37:$EL$48, MATCH($EN10, $EG$37:$EG$48, 0), MATCH(EP$9, $EI$35:$EL$35, 0)), "") | EQ10: =IFERROR(INDEX($EI$37:$EL$48, MATCH($EN10, $EG$37:$EG$48, 0), MATCH(EQ$9, $EI$35:$EL$35, 0)), "") | ER10: =IFERROR(INDEX($EI$37:$EL$48, MATCH($EN10, $EG$37:$EG$48, 0), MATCH(ER$9, $EI$35:$EL$35, 0)), "") | ES10: =IFERROR(INDEX($EI$37:$EL$48, MATCH($EN10, $EG$37:$EG$48, 0), MATCH(ES$9, $EI$35:$EL$35, 0)), "") | EU10: =IF(COUNTIF($EP10:$ES10, "")=4, "", "X") | EW10: =$BY7 | EX10: =$BY15 -> HVT | EZ10: =IF($BT10=$EX$7, $EW$7, "")
O11: =IF($BV$33=TRUE, $BV$9, "") | Q11: =IF(BQ11="", "", $BV$13) | R11: =IF(BR11="", "", $BV$13) | S11: =IF('Dev Settings'!$B$11="", "", 'Dev Settings'!$B$11) -> SBS | AC11: =IF(AF11="", "", "B") -> B | AE11: =AJ10 -> X | AF11: =AJ10 -> X | BQ11: =IF($ER10="", "", IFERROR(INDEX($CC$25:$CC$27, MATCH($ER10, $CB$25:$CB$27, 0)), "")) | BR11: =IF($ES10="", "", IFERROR(INDEX($CC$25:$CC$27, MATCH($ES10, $CB$25:$CB$27, 0)), "")) | BV11: ⛔ | BY11: =IF(OR($BT$3>0, $BT$2>0, $BY$3=FALSE, $AH$9=TRUE), "", IF('Dev Settings'!$B15="", "", 'Dev Settings'!$B15)) | CA11: FAILURE | CB11: =IF(AND($AH$9=TRUE, COUNTIF($CE$10:$CE$33, 8)=0), TRUE, FALSE) -> FALSE | EI11: =DZ12 | EJ11: =EB12 | EK11: =ED12 | EL11: =EF12 | EW11: =$BY8 | EX11: =$BY16 -> ISC
F12: =IF($EZ12=$EW$7, $BV$14, "") | O12: =IF($BV$33=TRUE, $BV$10, "") | Q12: =IF(BQ12="", "", $BV$13) | R12: =IF(BR12="", "", $BV$13) | S12: =IF('Dev Settings'!$L$11="", "", 'Dev Settings'!$L$11) -> #VALUE! | U12: =IF($BV$33=TRUE, 'Dev Settings'!$AM$11, "") | AC12: =IF(AF12="", "", "T") -> T | AE12: =AJ12 -> X | AF12: =AJ12 -> X | AH12: =IF($AJ12="", "", IF($AR12="X", "", $AJ12)) -> X | AJ12: =IF($AL12<=$BF$33, "X", "") -> X | AL12: 11 | AO12: =IF(AND($AR14="X", $BV$17=TRUE, $CB$11=FALSE, $CB$12=FALSE), "X", "") | AR12: =IF(AND(NOT($G12=""), NOT($I12=""), NOT($K12=""), NOT($M12="")), "X", "") | AU12: =IF($AO12="", "", IF(G12="", "X", "")) | AW12: =IF($AO12="", "", IF(I12="", "X", "")) | AY12: =IF($AO12="", "", IF(K12="", "X", "")) | BA12: =IF($AO12="", "", IF(M12="", "X", "")) | BH12: =IF(AND(NOT(G12=""), COUNTIF($BY$7:$BY$12, G12)=0), "X", "") | BJ12: =IF(AND(NOT(I12=""), COUNTIF($BY$7:$BY$12, I12)=0), "X", "") | BL12: =IF(AND(NOT(K12=""), COUNTIF($BY$7:$BY$12, K12)=0), "X", "") | BN12: =IF(AND(NOT(M12=""), COUNTIF($BY$7:$BY$12, M12)=0), "X", "") | BQ12: =IF($EP12="", "", IFERROR(INDEX($CC$25:$CC$27, MATCH($EP12, $CB$25:$CB$27, 0)), "")) | BR12: =IF($EQ12="", "", IFERROR(INDEX($CC$25:$CC$27, MATCH($EQ12, $CB$25:$CB$27, 0)), "")) | BT12: 11 | BV12: ▲ | BY12: =IF(OR($BT$3>0, $BT$2>0, $BY$3=FALSE, $AH$9=TRUE), "", IF('Dev Settings'!$B16="", "", 'Dev Settings'!$B16)) | CA12: SUCCESS | CB12: =IF(COUNTIF($CE$10:$CE$33, 8)>0, TRUE, FALSE) -> FALSE | CE12: =SUM($EP12:$ES12) -> 0 | CG12: =IF(OR($G12="", $I12="", $K12="", $M12=""), "", G12) | CI12: =IF(OR($G12="", $I12="", $K12="", $M12=""), "", I12) | CK12: =IF(OR($G12="", $I12="", $K12="", $M12=""), "", K12) | CM12: =IF(OR($G12="", $I12="", $K12="", $M12=""), "", M12) | CP12: =IF(CG12="", "", IF(CG12=CG$7, $CC$27, "")) | CR12: =IF(CI12="", "", IF(CI12=CI$7, $CC$27, "")) | CT12: =IF(CK12="", "", IF(CK12=CK$7, $CC$27, "")) | CV12: =IF(CM12="", "", IF(CM12=CM$7, $CC$27, "")) | CY12: =IF(CG12="", "", IF(CP12=$CC$27, "", CG12)) | DA12: =IF(CI12="", "", IF(CR12=$CC$27, "", CI12)) | DC12: =IF(CK12="", "", IF(CT12=$CC$27, "", CK12)) | DE12: =IF(CM12="", "", IF(CV12=$CC$27, "", CM12)) | DH12: =IF(CG12="", "", IF(CP12=$CC$27, "", CG$7)) | DJ12: =IF(CI12="", "", IF(CR12=$CC$27, "", CI$7)) | DL12: =IF(CK12="", "", IF(CT12=$CC$27, "", CK$7)) | DN12: =IF(CM12="", "", IF(CV12=$CC$27, "", CM$7)) | DQ12: =IF(CP12=$CC$27, $CC$27, IF(CY12="", "", IF(COUNTIF($CY12:CY12, CY12)>COUNTIF($DH12:$DO13, CY12), $CC$25, $CC$26))) | DS12: =IF(CR12=$CC$27, $CC$27, IF(DA12="", "", IF(COUNTIF($CY12:DA12, DA12)>COUNTIF($DH12:$DO13, DA12), $CC$25, $CC$26))) | DU12: =IF(CT12=$CC$27, $CC$27, IF(DC12="", "", IF(COUNTIF($CY12:DC12, DC12)>COUNTIF($DH12:$DO13, DC12), $CC$25, $CC$26))) | DW12: =IF(CV12=$CC$27, $CC$27, IF(DE12="", "", IF(COUNTIF($CY12:DE12, DE12)>COUNTIF($DH12:$DO13, DE12), $CC$25, $CC$26))) | DZ12: =IFERROR(INDEX($CB$25:$CB$27, MATCH(DQ12, $CC$25:$CC$27, 0)), "") | EB12: =IFERROR(INDEX($CB$25:$CB$27, MATCH(DS12, $CC$25:$CC$27, 0)), "") | ED12: =IFERROR(INDEX($CB$25:$CB$27, MATCH(DU12, $CC$25:$CC$27, 0)), "") | EF12: =IFERROR(INDEX($CB$25:$CB$27, MATCH(DW12, $CC$25:$CC$27, 0)), "") | EI12: =DZ14 | EJ12: =EB14 | EK12: =ED14 | EL12: =EF14 | EN12: 11 | EP12: =IFERROR(INDEX($EI$37:$EL$48, MATCH($EN12, $EG$37:$EG$48, 0), MATCH(EP$9, $EI$35:$EL$35, 0)), "") | EQ12: =IFERROR(INDEX($EI$37:$EL$48, MATCH($EN12, $EG$37:$EG$48, 0), MATCH(EQ$9, $EI$35:$EL$35, 0)), "") | ER12: =IFERROR(INDEX($EI$37:$EL$48, MATCH($EN12, $EG$37:$EG$48, 0), MATCH(ER$9, $EI$35:$EL$35, 0)), "") | ES12: =IFERROR(INDEX($EI$37:$EL$48, MATCH($EN12, $EG$37:$EG$48, 0), MATCH(ES$9, $EI$35:$EL$35, 0)), "") | EU12: =IF(COUNTIF($EP12:$ES12, "")=4, "", "X") | EW12: =$BY9 | EX12: =$BY17 -> SUB | EZ12: =IF($BT12=$EX$7, $EW$7, "")
P13: =IF($BV$33=TRUE, $BV$8, "") | Q13: =IF(BQ13="", "", $BV$13) | R13: =IF(BR13="", "", $BV$13) | AC13: =IF(AF13="", "", "B") -> B | AE13: =AJ12 -> X | AF13: =AJ12 -> X | BQ13: =IF($ER12="", "", IFERROR(INDEX($CC$25:$CC$27, MATCH($ER12, $CB$25:$CB$27, 0)), "")) | BR13: =IF($ES12="", "", IFERROR(INDEX($CC$25:$CC$27, MATCH($ES12, $CB$25:$CB$27, 0)), "")) | BV13: ◼ | EI13: =DZ16 | EJ13: =EB16 | EK13: =ED16 | EL13: =EF16 | EW13: =$BY10 | EX13: =$BY18 -> TNK
F14: =IF($EZ14=$EW$7, $BV$14, "") | P14: =IF($BV$33=TRUE, $BV$10, "") | Q14: =IF(BQ14="", "", $BV$13) | R14: =IF(BR14="", "", $BV$13) | U14: =IF($BV$33=TRUE, 'Dev Settings'!$AM$11, "") | AC14: =IF(AF14="", "", "T") -> T | AE14: =AJ14 -> X | AF14: =AJ14 -> X | AH14: =IF($AJ14="", "", IF($AR14="X", "", $AJ14)) -> X | AJ14: =IF($AL14<=$BF$33, "X", "") -> X | AL14: 10 | AO14: =IF(AND($AR16="X", $BV$17=TRUE, $CB$11=FALSE, $CB$12=FALSE), "X", "") | AR14: =IF(AND(NOT($G14=""), NOT($I14=""), NOT($K14=""), NOT($M14="")), "X", "") | AU14: =IF($AO14="", "", IF(G14="", "X", "")) | AW14: =IF($AO14="", "", IF(I14="", "X", "")) | AY14: =IF($AO14="", "", IF(K14="", "X", "")) | BA14: =IF($AO14="", "", IF(M14="", "X", "")) | BD14: =Bridge!$B10 | BF14: =Bridge!$BD10 | BH14: =IF(AND(NOT(G14=""), COUNTIF($BY$7:$BY$12, G14)=0), "X", "") | BJ14: =IF(AND(NOT(I14=""), COUNTIF($BY$7:$BY$12, I14)=0), "X", "") | BL14: =IF(AND(NOT(K14=""), COUNTIF($BY$7:$BY$12, K14)=0), "X", "") | BN14: =IF(AND(NOT(M14=""), COUNTIF($BY$7:$BY$12, M14)=0), "X", "") | BQ14: =IF($EP14="", "", IFERROR(INDEX($CC$25:$CC$27, MATCH($EP14, $CB$25:$CB$27, 0)), "")) | BR14: =IF($EQ14="", "", IFERROR(INDEX($CC$25:$CC$27, MATCH($EQ14, $CB$25:$CB$27, 0)), "")) | BT14: 10 | BV14: ● | CA14: Score | CB14: =IF($CB$12=FALSE, 0, COUNTIF($EU$10:$EU$32, "X")) -> 0 | CE14: =SUM($EP14:$ES14) -> 0 | CG14: =IF(OR($G14="", $I14="", $K14="", $M14=""), "", G14) | CI14: =IF(OR($G14="", $I14="", $K14="", $M14=""), "", I14) | CK14: =IF(OR($G14="", $I14="", $K14="", $M14=""), "", K14) | CM14: =IF(OR($G14="", $I14="", $K14="", $M14=""), "", M14) | CP14: =IF(CG14="", "", IF(CG14=CG$7, $CC$27, "")) | CR14: =IF(CI14="", "", IF(CI14=CI$7, $CC$27, "")) | CT14: =IF(CK14="", "", IF(CK14=CK$7, $CC$27, "")) | CV14: =IF(CM14="", "", IF(CM14=CM$7, $CC$27, "")) | CY14: =IF(CG14="", "", IF(CP14=$CC$27, "", CG14)) | DA14: =IF(CI14="", "", IF(CR14=$CC$27, "", CI14)) | DC14: =IF(CK14="", "", IF(CT14=$CC$27, "", CK14)) | DE14: =IF(CM14="", "", IF(CV14=$CC$27, "", CM14)) | DH14: =IF(CG14="", "", IF(CP14=$CC$27, "", CG$7)) | DJ14: =IF(CI14="", "", IF(CR14=$CC$27, "", CI$7)) | DL14: =IF(CK14="", "", IF(CT14=$CC$27, "", CK$7)) | DN14: =IF(CM14="", "", IF(CV14=$CC$27, "", CM$7)) | DQ14: =IF(CP14=$CC$27, $CC$27, IF(CY14="", "", IF(COUNTIF($CY14:CY14, CY14)>COUNTIF($DH14:$DO15, CY14), $CC$25, $CC$26))) | DS14: =IF(CR14=$CC$27, $CC$27, IF(DA14="", "", IF(COUNTIF($CY14:DA14, DA14)>COUNTIF($DH14:$DO15, DA14), $CC$25, $CC$26))) | DU14: =IF(CT14=$CC$27, $CC$27, IF(DC14="", "", IF(COUNTIF($CY14:DC14, DC14)>COUNTIF($DH14:$DO15, DC14), $CC$25, $CC$26))) | DW14: =IF(CV14=$CC$27, $CC$27, IF(DE14="", "", IF(COUNTIF($CY14:DE14, DE14)>COUNTIF($DH14:$DO15, DE14), $CC$25, $CC$26))) | DZ14: =IFERROR(INDEX($CB$25:$CB$27, MATCH(DQ14, $CC$25:$CC$27, 0)), "") | EB14: =IFERROR(INDEX($CB$25:$CB$27, MATCH(DS14, $CC$25:$CC$27, 0)), "") | ED14: =IFERROR(INDEX($CB$25:$CB$27, MATCH(DU14, $CC$25:$CC$27, 0)), "") | EF14: =IFERROR(INDEX($CB$25:$CB$27, MATCH(DW14, $CC$25:$CC$27, 0)), "") | EI14: =DZ18 | EJ14: =EB18 | EK14: =ED18 | EL14: =EF18 | EN14: 10 | EP14: =IFERROR(INDEX($EI$37:$EL$48, MATCH($EN14, $EG$37:$EG$48, 0), MATCH(EP$9, $EI$35:$EL$35, 0)), "") | EQ14: =IFERROR(INDEX($EI$37:$EL$48, MATCH($EN14, $EG$37:$EG$48, 0), MATCH(EQ$9, $EI$35:$EL$35, 0)), "") | ER14: =IFERROR(INDEX($EI$37:$EL$48, MATCH($EN14, $EG$37:$EG$48, 0), MATCH(ER$9, $EI$35:$EL$35, 0)), "") | ES14: =IFERROR(INDEX($EI$37:$EL$48, MATCH($EN14, $EG$37:$EG$48, 0), MATCH(ES$9, $EI$35:$EL$35, 0)), "") | EU14: =IF(COUNTIF($EP14:$ES14, "")=4, "", "X") | EW14: =$BY11 | EX14: =$BY19 -> AIR | EZ14: =IF($BT14=$EX$7, $EW$7, "")
O15: =IF($BV$33=TRUE, $BV$9, "") | Q15: =IF(BQ15="", "", $BV$13) | R15: =IF(BR15="", "", $BV$13) | S15: =IF('Dev Settings'!$B$12="", "", 'Dev Settings'!$B$12) -> MAR | AC15: =IF(AF15="", "", "B") -> B | AE15: =AJ14 -> X | AF15: =AJ14 -> X | BD15: Carrier currently en route | BF15: =IF($BT$3=0, "", "X") | BQ15: =IF($ER14="", "", IFERROR(INDEX($CC$25:$CC$27, MATCH($ER14, $CB$25:$CB$27, 0)), "")) | BR15: =IF($ES14="", "", IFERROR(INDEX($CC$25:$CC$27, MATCH($ES14, $CB$25:$CB$27, 0)), "")) | BX15: 1 | BY15: =IF('Dev Settings'!$Q11="", "", 'Dev Settings'!$Q11) -> HVT | EI15: =DZ20 | EJ15: =EB20 | EK15: =ED20 | EL15: =EF20 | EW15: =$BY12 | EX15: =$BY20 -> MSL
F16: =IF($EZ16=$EW$7, $BV$14, "") | O16: =IF($BV$33=TRUE, $BV$10, "") | Q16: =IF(BQ16="", "", $BV$13) | R16: =IF(BR16="", "", $BV$13) | S16: =IF('Dev Settings'!$L$12="", "", 'Dev Settings'!$L$12) -> #VALUE! | U16: =IF($BV$33=TRUE, 'Dev Settings'!$AM$11, "") | AC16: =IF(AF16="", "", "T") -> T | AE16: =AJ16 -> X | AF16: =AJ16 -> X | AH16: =IF($AJ16="", "", IF($AR16="X", "", $AJ16)) -> X | AJ16: =IF($AL16<=$BF$33, "X", "") -> X | AL16: 9 | AO16: =IF(AND($AR18="X", $BV$17=TRUE, $CB$11=FALSE, $CB$12=FALSE), "X", "") | AR16: =IF(AND(NOT($G16=""), NOT($I16=""), NOT($K16=""), NOT($M16="")), "X", "") | AU16: =IF($AO16="", "", IF(G16="", "X", "")) | AW16: =IF($AO16="", "", IF(I16="", "X", "")) | AY16: =IF($AO16="", "", IF(K16="", "X", "")) | BA16: =IF($AO16="", "", IF(M16="", "X", "")) | BD16: =Bridge!$B11 -> NEW intel from MI6 | BF16: =Bridge!$BD11 -> X | BH16: =IF(AND(NOT(G16=""), COUNTIF($BY$7:$BY$12, G16)=0), "X", "") | BJ16: =IF(AND(NOT(I16=""), COUNTIF($BY$7:$BY$12, I16)=0), "X", "") | BL16: =IF(AND(NOT(K16=""), COUNTIF($BY$7:$BY$12, K16)=0), "X", "") | BN16: =IF(AND(NOT(M16=""), COUNTIF($BY$7:$BY$12, M16)=0), "X", "") | BQ16: =IF($EP16="", "", IFERROR(INDEX($CC$25:$CC$27, MATCH($EP16, $CB$25:$CB$27, 0)), "")) | BR16: =IF($EQ16="", "", IFERROR(INDEX($CC$25:$CC$27, MATCH($EQ16, $CB$25:$CB$27, 0)), "")) | BT16: 9 | BV16: Play | BX16: 2 | BY16: =IF('Dev Settings'!$Q12="", "", 'Dev Settings'!$Q12) -> ISC | CA16: Mission Failed | CB16: =$BV$11 -> ⛔ | CE16: =SUM($EP16:$ES16) -> 0 | CG16: =IF(OR($G16="", $I16="", $K16="", $M16=""), "", G16) | CI16: =IF(OR($G16="", $I16="", $K16="", $M16=""), "", I16) | CK16: =IF(OR($G16="", $I16="", $K16="", $M16=""), "", K16) | CM16: =IF(OR($G16="", $I16="", $K16="", $M16=""), "", M16) | CP16: =IF(CG16="", "", IF(CG16=CG$7, $CC$27, "")) | CR16: =IF(CI16="", "", IF(CI16=CI$7, $CC$27, "")) | CT16: =IF(CK16="", "", IF(CK16=CK$7, $CC$27, "")) | CV16: =IF(CM16="", "", IF(CM16=CM$7, $CC$27, "")) | CY16: =IF(CG16="", "", IF(CP16=$CC$27, "", CG16)) | DA16: =IF(CI16="", "", IF(CR16=$CC$27, "", CI16)) | DC16: =IF(CK16="", "", IF(CT16=$CC$27, "", CK16)) | DE16: =IF(CM16="", "", IF(CV16=$CC$27, "", CM16)) | DH16: =IF(CG16="", "", IF(CP16=$CC$27, "", CG$7)) | DJ16: =IF(CI16="", "", IF(CR16=$CC$27, "", CI$7)) | DL16: =IF(CK16="", "", IF(CT16=$CC$27, "", CK$7)) | DN16: =IF(CM16="", "", IF(CV16=$CC$27, "", CM$7)) | DQ16: =IF(CP16=$CC$27, $CC$27, IF(CY16="", "", IF(COUNTIF($CY16:CY16, CY16)>COUNTIF($DH16:$DO17, CY16), $CC$25, $CC$26))) | DS16: =IF(CR16=$CC$27, $CC$27, IF(DA16="", "", IF(COUNTIF($CY16:DA16, DA16)>COUNTIF($DH16:$DO17, DA16), $CC$25, $CC$26))) | DU16: =IF(CT16=$CC$27, $CC$27, IF(DC16="", "", IF(COUNTIF($CY16:DC16, DC16)>COUNTIF($DH16:$DO17, DC16), $CC$25, $CC$26))) | DW16: =IF(CV16=$CC$27, $CC$27, IF(DE16="", "", IF(COUNTIF($CY16:DE16, DE16)>COUNTIF($DH16:$DO17, DE16), $CC$25, $CC$26))) | DZ16: =IFERROR(INDEX($CB$25:$CB$27, MATCH(DQ16, $CC$25:$CC$27, 0)), "") | EB16: =IFERROR(INDEX($CB$25:$CB$27, MATCH(DS16, $CC$25:$CC$27, 0)), "") | ED16: =IFERROR(INDEX($CB$25:$CB$27, MATCH(DU16, $CC$25:$CC$27, 0)), "") | EF16: =IFERROR(INDEX($CB$25:$CB$27, MATCH(DW16, $CC$25:$CC$27, 0)), "") | EI16: =DZ22 | EJ16: =EB22 | EK16: =ED22 | EL16: =EF22 | EN16: 9 | EP16: =IFERROR(INDEX($EI$37:$EL$48, MATCH($EN16, $EG$37:$EG$48, 0), MATCH(EP$9, $EI$35:$EL$35, 0)), "") | EQ16: =IFERROR(INDEX($EI$37:$EL$48, MATCH($EN16, $EG$37:$EG$48, 0), MATCH(EQ$9, $EI$35:$EL$35, 0)), "") | ER16: =IFERROR(INDEX($EI$37:$EL$48, MATCH($EN16, $EG$37:$EG$48, 0), MATCH(ER$9, $EI$35:$EL$35, 0)), "") | ES16: =IFERROR(INDEX($EI$37:$EL$48, MATCH($EN16, $EG$37:$EG$48, 0), MATCH(ES$9, $EI$35:$EL$35, 0)), "") | EU16: =IF(COUNTIF($EP16:$ES16, "")=4, "", "X") | EZ16: =IF($BT16=$EX$7, $EW$7, "")
P17: =IF($BV$33=TRUE, $BV$8, "") | Q17: =IF(BQ17="", "", $BV$13) | R17: =IF(BR17="", "", $BV$13) | AC17: =IF(AF17="", "", "B") -> B | AE17: =AJ16 -> X | AF17: =AJ16 -> X | BD17: =Bridge!$B12 | BF17: =Bridge!$BD12 | BQ17: =IF($ER16="", "", IFERROR(INDEX($CC$25:$CC$27, MATCH($ER16, $CB$25:$CB$27, 0)), "")) | BR17: =IF($ES16="", "", IFERROR(INDEX($CC$25:$CC$27, MATCH($ES16, $CB$25:$CB$27, 0)), "")) | BV17: =$BF$14="X" -> FALSE | BX17: 3 | BY17: =IF('Dev Settings'!$Q13="", "", 'Dev Settings'!$Q13) -> SUB | CA17: Mission Success | CB17: =$BV$12 -> ▲ | EI17: =DZ24 | EJ17: =EB24 | EK17: =ED24 | EL17: =EF24
F18: =IF($EZ18=$EW$7, $BV$14, "") | P18: =IF($BV$33=TRUE, $BV$10, "") | Q18: =IF(BQ18="", "", $BV$13) | R18: =IF(BR18="", "", $BV$13) | U18: =IF($BV$33=TRUE, 'Dev Settings'!$AM$11, "") | AC18: =IF(AF18="", "", "T") -> T | AE18: =AJ18 -> X | AF18: =AJ18 -> X | AH18: =IF($AJ18="", "", IF($AR18="X", "", $AJ18)) -> X | AJ18: =IF($AL18<=$BF$33, "X", "") -> X | AL18: 8 | AO18: =IF(AND($AR20="X", $BV$17=TRUE, $CB$11=FALSE, $CB$12=FALSE), "X", "") | AR18: =IF(AND(NOT($G18=""), NOT($I18=""), NOT($K18=""), NOT($M18="")), "X", "") | AU18: =IF($AO18="", "", IF(G18="", "X", "")) | AW18: =IF($AO18="", "", IF(I18="", "X", "")) | AY18: =IF($AO18="", "", IF(K18="", "X", "")) | BA18: =IF($AO18="", "", IF(M18="", "X", "")) | BD18: =Bridge!$B13 | BF18: =Bridge!$BD13 | BH18: =IF(AND(NOT(G18=""), COUNTIF($BY$7:$BY$12, G18)=0), "X", "") | BJ18: =IF(AND(NOT(I18=""), COUNTIF($BY$7:$BY$12, I18)=0), "X", "") | BL18: =IF(AND(NOT(K18=""), COUNTIF($BY$7:$BY$12, K18)=0), "X", "") | BN18: =IF(AND(NOT(M18=""), COUNTIF($BY$7:$BY$12, M18)=0), "X", "") | BQ18: =IF($EP18="", "", IFERROR(INDEX($CC$25:$CC$27, MATCH($EP18, $CB$25:$CB$27, 0)), "")) | BR18: =IF($EQ18="", "", IFERROR(INDEX($CC$25:$CC$27, MATCH($EQ18, $CB$25:$CB$27, 0)), "")) | BT18: 8 | BX18: 4 | BY18: =IF('Dev Settings'!$Q14="", "", 'Dev Settings'!$Q14) -> TNK | CA18: CONGRATULATIONS | CE18: =SUM($EP18:$ES18) -> 0 | CG18: =IF(OR($G18="", $I18="", $K18="", $M18=""), "", G18) | CI18: =IF(OR($G18="", $I18="", $K18="", $M18=""), "", I18) | CK18: =IF(OR($G18="", $I18="", $K18="", $M18=""), "", K18) | CM18: =IF(OR($G18="", $I18="", $K18="", $M18=""), "", M18) | CP18: =IF(CG18="", "", IF(CG18=CG$7, $CC$27, "")) | CR18: =IF(CI18="", "", IF(CI18=CI$7, $CC$27, "")) | CT18: =IF(CK18="", "", IF(CK18=CK$7, $CC$27, "")) | CV18: =IF(CM18="", "", IF(CM18=CM$7, $CC$27, "")) | CY18: =IF(CG18="", "", IF(CP18=$CC$27, "", CG18)) | DA18: =IF(CI18="", "", IF(CR18=$CC$27, "", CI18)) | DC18: =IF(CK18="", "", IF(CT18=$CC$27, "", CK18)) | DE18: =IF(CM18="", "", IF(CV18=$CC$27, "", CM18)) | DH18: =IF(CG18="", "", IF(CP18=$CC$27, "", CG$7)) | DJ18: =IF(CI18="", "", IF(CR18=$CC$27, "", CI$7)) | DL18: =IF(CK18="", "", IF(CT18=$CC$27, "", CK$7)) | DN18: =IF(CM18="", "", IF(CV18=$CC$27, "", CM$7)) | DQ18: =IF(CP18=$CC$27, $CC$27, IF(CY18="", "", IF(COUNTIF($CY18:CY18, CY18)>COUNTIF($DH18:$DO19, CY18), $CC$25, $CC$26))) | DS18: =IF(CR18=$CC$27, $CC$27, IF(DA18="", "", IF(COUNTIF($CY18:DA18, DA18)>COUNTIF($DH18:$DO19, DA18), $CC$25, $CC$26))) | DU18: =IF(CT18=$CC$27, $CC$27, IF(DC18="", "", IF(COUNTIF($CY18:DC18, DC18)>COUNTIF($DH18:$DO19, DC18), $CC$25, $CC$26))) | DW18: =IF(CV18=$CC$27, $CC$27, IF(DE18="", "", IF(COUNTIF($CY18:DE18, DE18)>COUNTIF($DH18:$DO19, DE18), $CC$25, $CC$26))) | DZ18: =IFERROR(INDEX($CB$25:$CB$27, MATCH(DQ18, $CC$25:$CC$27, 0)), "") | EB18: =IFERROR(INDEX($CB$25:$CB$27, MATCH(DS18, $CC$25:$CC$27, 0)), "") | ED18: =IFERROR(INDEX($CB$25:$CB$27, MATCH(DU18, $CC$25:$CC$27, 0)), "") | EF18: =IFERROR(INDEX($CB$25:$CB$27, MATCH(DW18, $CC$25:$CC$27, 0)), "") | EI18: =DZ26 | EJ18: =EB26 | EK18: =ED26 | EL18: =EF26 | EN18: 8 | EP18: =IFERROR(INDEX($EI$37:$EL$48, MATCH($EN18, $EG$37:$EG$48, 0), MATCH(EP$9, $EI$35:$EL$35, 0)), "") | EQ18: =IFERROR(INDEX($EI$37:$EL$48, MATCH($EN18, $EG$37:$EG$48, 0), MATCH(EQ$9, $EI$35:$EL$35, 0)), "") | ER18: =IFERROR(INDEX($EI$37:$EL$48, MATCH($EN18, $EG$37:$EG$48, 0), MATCH(ER$9, $EI$35:$EL$35, 0)), "") | ES18: =IFERROR(INDEX($EI$37:$EL$48, MATCH($EN18, $EG$37:$EG$48, 0), MATCH(ES$9, $EI$35:$EL$35, 0)), "") | EU18: =IF(COUNTIF($EP18:$ES18, "")=4, "", "X") | EZ18: =IF($BT18=$EX$7, $EW$7, "")
B19: =IF(B20="", "", "Loc") -> Loc | O19: =IF($BV$33=TRUE, $BV$9, "") | Q19: =IF(BQ19="", "", $BV$13) | R19: =IF(BR19="", "", $BV$13) | S19: =IF('Dev Settings'!$B$13="", "", 'Dev Settings'!$B$13) -> HM2 | AC19: =IF(AF19="", "", "B") -> B | AE19: =AJ18 -> X | AF19: =AJ18 -> X | BD19: =Bridge!$B14 -> Depart for new destination | BF19: =Bridge!$BD14 -> X | BQ19: =IF($ER18="", "", IFERROR(INDEX($CC$25:$CC$27, MATCH($ER18, $CB$25:$CB$27, 0)), "")) | BR19: =IF($ES18="", "", IFERROR(INDEX($CC$25:$CC$27, MATCH($ES18, $CB$25:$CB$27, 0)), "")) | BX19: 5 | BY19: =IF('Dev Settings'!$Q15="", "", 'Dev Settings'!$Q15) -> AIR | EI19: =DZ28 | EJ19: =EB28 | EK19: =ED28 | EL19: =EF28
B20: =IFERROR(INDEX('Mission Codes'!$EI$7:$EI$19, MATCH($BT$5, 'Mission Codes'!$EF$7:$EF$19, 0)), "") -> 0 | F20: =IF($EZ20=$EW$7, $BV$14, "") | O20: =IF($BV$33=TRUE, $BV$10, "") | Q20: =IF(BQ20="", "", $BV$13) | R20: =IF(BR20="", "", $BV$13) | S20: =IF('Dev Settings'!$L$13="", "", 'Dev Settings'!$L$13) -> #VALUE! | U20: =IF($BV$33=TRUE, 'Dev Settings'!$AM$11, "") | AC20: =IF(AF20="", "", "T") -> T | AE20: =AJ20 -> X | AF20: =AJ20 -> X | AH20: =IF($AJ20="", "", IF($AR20="X", "", $AJ20)) -> X | AJ20: =IF($AL20<=$BF$33, "X", "") -> X | AL20: 7 | AO20: =IF(AND($AR22="X", $BV$17=TRUE, $CB$11=FALSE, $CB$12=FALSE), "X", "") | AR20: =IF(AND(NOT($G20=""), NOT($I20=""), NOT($K20=""), NOT($M20="")), "X", "") | AU20: =IF($AO20="", "", IF(G20="", "X", "")) | AW20: =IF($AO20="", "", IF(I20="", "X", "")) | AY20: =IF($AO20="", "", IF(K20="", "X", "")) | BA20: =IF($AO20="", "", IF(M20="", "X", "")) | BD20: =CONCATENATE(Bridge!$BF$23, " ", Bridge!$BF$24) -> Mission complete! What a succesful career! You've earned your retirement! | BF20: =Bridge!$BD$23 | BH20: =IF(AND(NOT(G20=""), COUNTIF($BY$7:$BY$12, G20)=0), "X", "") | BJ20: =IF(AND(NOT(I20=""), COUNTIF($BY$7:$BY$12, I20)=0), "X", "") | BL20: =IF(AND(NOT(K20=""), COUNTIF($BY$7:$BY$12, K20)=0), "X", "") | BN20: =IF(AND(NOT(M20=""), COUNTIF($BY$7:$BY$12, M20)=0), "X", "") | BQ20: =IF($EP20="", "", IFERROR(INDEX($CC$25:$CC$27, MATCH($EP20, $CB$25:$CB$27, 0)), "")) | BR20: =IF($EQ20="", "", IFERROR(INDEX($CC$25:$CC$27, MATCH($EQ20, $CB$25:$CB$27, 0)), "")) | BT20: 7 | BX20: 6 | BY20: =IF('Dev Settings'!$Q16="", "", 'Dev Settings'!$Q16) -> MSL | CB20: 48 | CE20: =SUM($EP20:$ES20) -> 0 | CG20: =IF(OR($G20="", $I20="", $K20="", $M20=""), "", G20) | CI20: =IF(OR($G20="", $I20="", $K20="", $M20=""), "", I20) | CK20: =IF(OR($G20="", $I20="", $K20="", $M20=""), "", K20) | CM20: =IF(OR($G20="", $I20="", $K20="", $M20=""), "", M20) | CP20: =IF(CG20="", "", IF(CG20=CG$7, $CC$27, "")) | CR20: =IF(CI20="", "", IF(CI20=CI$7, $CC$27, "")) | CT20: =IF(CK20="", "", IF(CK20=CK$7, $CC$27, "")) | CV20: =IF(CM20="", "", IF(CM20=CM$7, $CC$27, "")) | CY20: =IF(CG20="", "", IF(CP20=$CC$27, "", CG20)) | DA20: =IF(CI20="", "", IF(CR20=$CC$27, "", CI20)) | DC20: =IF(CK20="", "", IF(CT20=$CC$27, "", CK20)) | DE20: =IF(CM20="", "", IF(CV20=$CC$27, "", CM20)) | DH20: =IF(CG20="", "", IF(CP20=$CC$27, "", CG$7)) | DJ20: =IF(CI20="", "", IF(CR20=$CC$27, "", CI$7)) | DL20: =IF(CK20="", "", IF(CT20=$CC$27, "", CK$7)) | DN20: =IF(CM20="", "", IF(CV20=$CC$27, "", CM$7)) | DQ20: =IF(CP20=$CC$27, $CC$27, IF(CY20="", "", IF(COUNTIF($CY20:CY20, CY20)>COUNTIF($DH20:$DO21, CY20), $CC$25, $CC$26))) | DS20: =IF(CR20=$CC$27, $CC$27, IF(DA20="", "", IF(COUNTIF($CY20:DA20, DA20)>COUNTIF($DH20:$DO21, DA20), $CC$25, $CC$26))) | DU20: =IF(CT20=$CC$27, $CC$27, IF(DC20="", "", IF(COUNTIF($CY20:DC20, DC20)>COUNTIF($DH20:$DO21, DC20), $CC$25, $CC$26))) | DW20: =IF(CV20=$CC$27, $CC$27, IF(DE20="", "", IF(COUNTIF($CY20:DE20, DE20)>COUNTIF($DH20:$DO21, DE20), $CC$25, $CC$26))) | DZ20: =IFERROR(INDEX($CB$25:$CB$27, MATCH(DQ20, $CC$25:$CC$27, 0)), "") | EB20: =IFERROR(INDEX($CB$25:$CB$27, MATCH(DS20, $CC$25:$CC$27, 0)), "") | ED20: =IFERROR(INDEX($CB$25:$CB$27, MATCH(DU20, $CC$25:$CC$27, 0)), "") | EF20: =IFERROR(INDEX($CB$25:$CB$27, MATCH(DW20, $CC$25:$CC$27, 0)), "") | EI20: =DZ30 | EJ20: =EB30 | EK20: =ED30 | EL20: =EF30 | EN20: 7 | EP20: =IFERROR(INDEX($EI$37:$EL$48, MATCH($EN20, $EG$37:$EG$48, 0), MATCH(EP$9, $EI$35:$EL$35, 0)), "") | EQ20: =IFERROR(INDEX($EI$37:$EL$48, MATCH($EN20, $EG$37:$EG$48, 0), MATCH(EQ$9, $EI$35:$EL$35, 0)), "") | ER20: =IFERROR(INDEX($EI$37:$EL$48, MATCH($EN20, $EG$37:$EG$48, 0), MATCH(ER$9, $EI$35:$EL$35, 0)), "") | ES20: =IFERROR(INDEX($EI$37:$EL$48, MATCH($EN20, $EG$37:$EG$48, 0), MATCH(ES$9, $EI$35:$EL$35, 0)), "") | EU20: =IF(COUNTIF($EP20:$ES20, "")=4, "", "X") | EZ20: =IF($BT20=$EX$7, $EW$7, "")
P21: =IF($BV$33=TRUE, $BV$8, "") | Q21: =IF(BQ21="", "", $BV$13) | R21: =IF(BR21="", "", $BV$13) | AC21: =IF(AF21="", "", "B") -> B | AE21: =AJ20 -> X | AF21: =AJ20 -> X | BD21: =CONCATENATE(Bridge!$BF$26, " ", Bridge!$BF$27) -> Mission failed! What a waste of a career! You're forced into retirement! | BF21: =Bridge!$BD$26 | BQ21: =IF($ER20="", "", IFERROR(INDEX($CC$25:$CC$27, MATCH($ER20, $CB$25:$CB$27, 0)), "")) | BR21: =IF($ES20="", "", IFERROR(INDEX($CC$25:$CC$27, MATCH($ES20, $CB$25:$CB$27, 0)), "")) | BV21: =MAX('Mission Codes'!$GG$6:$GG$165) -> 0 | CB21: =$BY$25 -> 0 | EI21: =DZ32 | EJ21: =EB32 | EK21: =ED32 | EL21: =EF32
F22: =IF($EZ22=$EW$7, $BV$14, "") | P22: =IF($BV$33=TRUE, $BV$10, "") | Q22: =IF(BQ22="", "", $BV$13) | R22: =IF(BR22="", "", $BV$13) | U22: =IF($BV$33=TRUE, 'Dev Settings'!$AM$11, "") | AC22: =IF(AF22="", "", "T") -> T | AE22: =AJ22 -> X | AF22: =AJ22 -> X | AH22: =IF($AJ22="", "", IF($AR22="X", "", $AJ22)) -> X | AJ22: =IF($AL22<=$BF$33, "X", "") -> X | AL22: 6 | AO22: =IF(AND($AR24="X", $BV$17=TRUE, $CB$11=FALSE, $CB$12=FALSE), "X", "") | AR22: =IF(AND(NOT($G22=""), NOT($I22=""), NOT($K22=""), NOT($M22="")), "X", "") | AU22: =IF($AO22="", "", IF(G22="", "X", "")) | AW22: =IF($AO22="", "", IF(I22="", "X", "")) | AY22: =IF($AO22="", "", IF(K22="", "X", "")) | BA22: =IF($AO22="", "", IF(M22="", "X", "")) | BD22: Please consult HQ | BF22: =IF(COUNTIF(Bridge!$BD$5:$BD$9, "X")+COUNTIF(Bridge!$BD$17:$BD$19, "X")=0, "", "X") | BH22: =IF(AND(NOT(G22=""), COUNTIF($BY$7:$BY$12, G22)=0), "X", "") | BJ22: =IF(AND(NOT(I22=""), COUNTIF($BY$7:$BY$12, I22)=0), "X", "") | BL22: =IF(AND(NOT(K22=""), COUNTIF($BY$7:$BY$12, K22)=0), "X", "") | BN22: =IF(AND(NOT(M22=""), COUNTIF($BY$7:$BY$12, M22)=0), "X", "") | BQ22: =IF($EP22="", "", IFERROR(INDEX($CC$25:$CC$27, MATCH($EP22, $CB$25:$CB$27, 0)), "")) | BR22: =IF($EQ22="", "", IFERROR(INDEX($CC$25:$CC$27, MATCH($EQ22, $CB$25:$CB$27, 0)), "")) | BT22: 6 | CB22: =CB20-CB21 -> 48 | CE22: =SUM($EP22:$ES22) -> 0 | CG22: =IF(OR($G22="", $I22="", $K22="", $M22=""), "", G22) | CI22: =IF(OR($G22="", $I22="", $K22="", $M22=""), "", I22) | CK22: =IF(OR($G22="", $I22="", $K22="", $M22=""), "", K22) | CM22: =IF(OR($G22="", $I22="", $K22="", $M22=""), "", M22) | CP22: =IF(CG22="", "", IF(CG22=CG$7, $CC$27, "")) | CR22: =IF(CI22="", "", IF(CI22=CI$7, $CC$27, "")) | CT22: =IF(CK22="", "", IF(CK22=CK$7, $CC$27, "")) | CV22: =IF(CM22="", "", IF(CM22=CM$7, $CC$27, "")) | CY22: =IF(CG22="", "", IF(CP22=$CC$27, "", CG22)) | DA22: =IF(CI22="", "", IF(CR22=$CC$27, "", CI22)) | DC22: =IF(CK22="", "", IF(CT22=$CC$27, "", CK22)) | DE22: =IF(CM22="", "", IF(CV22=$CC$27, "", CM22)) | DH22: =IF(CG22="", "", IF(CP22=$CC$27, "", CG$7)) | DJ22: =IF(CI22="", "", IF(CR22=$CC$27, "", CI$7)) | DL22: =IF(CK22="", "", IF(CT22=$CC$27, "", CK$7)) | DN22: =IF(CM22="", "", IF(CV22=$CC$27, "", CM$7)) | DQ22: =IF(CP22=$CC$27, $CC$27, IF(CY22="", "", IF(COUNTIF($CY22:CY22, CY22)>COUNTIF($DH22:$DO23, CY22), $CC$25, $CC$26))) | DS22: =IF(CR22=$CC$27, $CC$27, IF(DA22="", "", IF(COUNTIF($CY22:DA22, DA22)>COUNTIF($DH22:$DO23, DA22), $CC$25, $CC$26))) | DU22: =IF(CT22=$CC$27, $CC$27, IF(DC22="", "", IF(COUNTIF($CY22:DC22, DC22)>COUNTIF($DH22:$DO23, DC22), $CC$25, $CC$26))) | DW22: =IF(CV22=$CC$27, $CC$27, IF(DE22="", "", IF(COUNTIF($CY22:DE22, DE22)>COUNTIF($DH22:$DO23, DE22), $CC$25, $CC$26))) | DZ22: =IFERROR(INDEX($CB$25:$CB$27, MATCH(DQ22, $CC$25:$CC$27, 0)), "") | EB22: =IFERROR(INDEX($CB$25:$CB$27, MATCH(DS22, $CC$25:$CC$27, 0)), "") | ED22: =IFERROR(INDEX($CB$25:$CB$27, MATCH(DU22, $CC$25:$CC$27, 0)), "") | EF22: =IFERROR(INDEX($CB$25:$CB$27, MATCH(DW22, $CC$25:$CC$27, 0)), "") | EI22: =IF(EI10="", "", COUNTIF($EI10:$EL10, ">"&EI10)+1+COUNTIF($EI10:EI10, EI10)-1) | EJ22: =IF(EJ10="", "", COUNTIF($EI10:$EL10, ">"&EJ10)+1+COUNTIF($EI10:EJ10, EJ10)-1) | EK22: =IF(EK10="", "", COUNTIF($EI10:$EL10, ">"&EK10)+1+COUNTIF($EI10:EK10, EK10)-1) | EL22: =IF(EL10="", "", COUNTIF($EI10:$EL10, ">"&EL10)+1+COUNTIF($EI10:EL10, EL10)-1) | EN22: 6 | EP22: =IFERROR(INDEX($EI$37:$EL$48, MATCH($EN22, $EG$37:$EG$48, 0), MATCH(EP$9, $EI$35:$EL$35, 0)), "") | EQ22: =IFERROR(INDEX($EI$37:$EL$48, MATCH($EN22, $EG$37:$EG$48, 0), MATCH(EQ$9, $EI$35:$EL$35, 0)), "") | ER22: =IFERROR(INDEX($EI$37:$EL$48, MATCH($EN22, $EG$37:$EG$48, 0), MATCH(ER$9, $EI$35:$EL$35, 0)), "") | ES22: =IFERROR(INDEX($EI$37:$EL$48, MATCH($EN22, $EG$37:$EG$48, 0), MATCH(ES$9, $EI$35:$EL$35, 0)), "") | EU22: =IF(COUNTIF($EP22:$ES22, "")=4, "", "X") | EZ22: =IF($BT22=$EX$7, $EW$7, "")
B23: Career | O23: =IF($BV$33=TRUE, $BV$9, "") | Q23: =IF(BQ23="", "", $BV$13) | R23: =IF(BR23="", "", $BV$13) | S23: =IF('Dev Settings'!$B$14="", "", 'Dev Settings'!$B$14) -> APA | AC23: =IF(AF23="", "", "B") -> B | AE23: =AJ22 -> X | AF23: =AJ22 -> X | BQ23: =IF($ER22="", "", IFERROR(INDEX($CC$25:$CC$27, MATCH($ER22, $CB$25:$CB$27, 0)), "")) | BR23: =IF($ES22="", "", IFERROR(INDEX($CC$25:$CC$27, MATCH($ES22, $CB$25:$CB$27, 0)), "")) | BV23: =IFERROR(INDEX('Mission Codes'!$AY$6:$AY$165, MATCH($BV$21, 'Mission Codes'!$GG$6:$GG$165, 0)), "") | BY23: =48*2 -> 96 | EI23: =IF(EI11="", "", COUNTIF($EI11:$EL11, ">"&EI11)+1+COUNTIF($EI11:EI11, EI11)-1) | EJ23: =IF(EJ11="", "", COUNTIF($EI11:$EL11, ">"&EJ11)+1+COUNTIF($EI11:EJ11, EJ11)-1) | EK23: =IF(EK11="", "", COUNTIF($EI11:$EL11, ">"&EK11)+1+COUNTIF($EI11:EK11, EK11)-1) | EL23: =IF(EL11="", "", COUNTIF($EI11:$EL11, ">"&EL11)+1+COUNTIF($EI11:EL11, EL11)-1)
B24: ='Mission Codes'!$EI$20 -> 0 | F24: =IF($EZ24=$EW$7, $BV$14, "") | O24: =IF($BV$33=TRUE, $BV$10, "") | Q24: =IF(BQ24="", "", $BV$13) | R24: =IF(BR24="", "", $BV$13) | S24: =IF('Dev Settings'!$L$14="", "", 'Dev Settings'!$L$14) -> #VALUE! | U24: =IF($BV$33=TRUE, 'Dev Settings'!$AM$11, "") | AC24: =IF(AF24="", "", "T") -> T | AE24: =AJ24 -> X | AF24: =AJ24 -> X | AH24: =IF($AJ24="", "", IF($AR24="X", "", $AJ24)) -> X | AJ24: =IF($AL24<=$BF$33, "X", "") -> X | AL24: 5 | AO24: =IF(AND($AR26="X", $BV$17=TRUE, $CB$11=FALSE, $CB$12=FALSE), "X", "") | AR24: =IF(AND(NOT($G24=""), NOT($I24=""), NOT($K24=""), NOT($M24="")), "X", "") | AU24: =IF($AO24="", "", IF(G24="", "X", "")) | AW24: =IF($AO24="", "", IF(I24="", "X", "")) | AY24: =IF($AO24="", "", IF(K24="", "X", "")) | BA24: =IF($AO24="", "", IF(M24="", "X", "")) | BH24: =IF(AND(NOT(G24=""), COUNTIF($BY$7:$BY$12, G24)=0), "X", "") | BJ24: =IF(AND(NOT(I24=""), COUNTIF($BY$7:$BY$12, I24)=0), "X", "") | BL24: =IF(AND(NOT(K24=""), COUNTIF($BY$7:$BY$12, K24)=0), "X", "") | BN24: =IF(AND(NOT(M24=""), COUNTIF($BY$7:$BY$12, M24)=0), "X", "") | BQ24: =IF($EP24="", "", IFERROR(INDEX($CC$25:$CC$27, MATCH($EP24, $CB$25:$CB$27, 0)), "")) | BR24: =IF($EQ24="", "", IFERROR(INDEX($CC$25:$CC$27, MATCH($EQ24, $CB$25:$CB$27, 0)), "")) | BT24: 5 | BV24: =IFERROR(INDEX('Mission Codes'!$AZ$6:$AZ$165, MATCH($BV$21, 'Mission Codes'!$GG$6:$GG$165, 0)), "") | BY24: =(COUNTIF($G$10:$G$33, "")+COUNTIF($I$10:$I$33, "")+COUNTIF($K$10:$K$33, "")+COUNTIF($M$10:$M$33, "")) -> 96 | CE24: =SUM($EP24:$ES24) -> 0 | CG24: =IF(OR($G24="", $I24="", $K24="", $M24=""), "", G24) | CI24: =IF(OR($G24="", $I24="", $K24="", $M24=""), "", I24) | CK24: =IF(OR($G24="", $I24="", $K24="", $M24=""), "", K24) | CM24: =IF(OR($G24="", $I24="", $K24="", $M24=""), "", M24) | CP24: =IF(CG24="", "", IF(CG24=CG$7, $CC$27, "")) | CR24: =IF(CI24="", "", IF(CI24=CI$7, $CC$27, "")) | CT24: =IF(CK24="", "", IF(CK24=CK$7, $CC$27, "")) | CV24: =IF(CM24="", "", IF(CM24=CM$7, $CC$27, "")) | CY24: =IF(CG24="", "", IF(CP24=$CC$27, "", CG24)) | DA24: =IF(CI24="", "", IF(CR24=$CC$27, "", CI24)) | DC24: =IF(CK24="", "", IF(CT24=$CC$27, "", CK24)) | DE24: =IF(CM24="", "", IF(CV24=$CC$27, "", CM24)) | DH24: =IF(CG24="", "", IF(CP24=$CC$27, "", CG$7)) | DJ24: =IF(CI24="", "", IF(CR24=$CC$27, "", CI$7)) | DL24: =IF(CK24="", "", IF(CT24=$CC$27, "", CK$7)) | DN24: =IF(CM24="", "", IF(CV24=$CC$27, "", CM$7)) | DQ24: =IF(CP24=$CC$27, $CC$27, IF(CY24="", "", IF(COUNTIF($CY24:CY24, CY24)>COUNTIF($DH24:$DO25, CY24), $CC$25, $CC$26))) | DS24: =IF(CR24=$CC$27, $CC$27, IF(DA24="", "", IF(COUNTIF($CY24:DA24, DA24)>COUNTIF($DH24:$DO25, DA24), $CC$25, $CC$26))) | DU24: =IF(CT24=$CC$27, $CC$27, IF(DC24="", "", IF(COUNTIF($CY24:DC24, DC24)>COUNTIF($DH24:$DO25, DC24), $CC$25, $CC$26))) | DW24: =IF(CV24=$CC$27, $CC$27, IF(DE24="", "", IF(COUNTIF($CY24:DE24, DE24)>COUNTIF($DH24:$DO25, DE24), $CC$25, $CC$26))) | DZ24: =IFERROR(INDEX($CB$25:$CB$27, MATCH(DQ24, $CC$25:$CC$27, 0)), "") | EB24: =IFERROR(INDEX($CB$25:$CB$27, MATCH(DS24, $CC$25:$CC$27, 0)), "") | ED24: =IFERROR(INDEX($CB$25:$CB$27, MATCH(DU24, $CC$25:$CC$27, 0)), "") | EF24: =IFERROR(INDEX($CB$25:$CB$27, MATCH(DW24, $CC$25:$CC$27, 0)), "") | EI24: =IF(EI12="", "", COUNTIF($EI12:$EL12, ">"&EI12)+1+COUNTIF($EI12:EI12, EI12)-1) | EJ24: =IF(EJ12="", "", COUNTIF($EI12:$EL12, ">"&EJ12)+1+COUNTIF($EI12:EJ12, EJ12)-1) | EK24: =IF(EK12="", "", COUNTIF($EI12:$EL12, ">"&EK12)+1+COUNTIF($EI12:EK12, EK12)-1) | EL24: =IF(EL12="", "", COUNTIF($EI12:$EL12, ">"&EL12)+1+COUNTIF($EI12:EL12, EL12)-1) | EN24: 5 | EP24: =IFERROR(INDEX($EI$37:$EL$48, MATCH($EN24, $EG$37:$EG$48, 0), MATCH(EP$9, $EI$35:$EL$35, 0)), "") | EQ24: =IFERROR(INDEX($EI$37:$EL$48, MATCH($EN24, $EG$37:$EG$48, 0), MATCH(EQ$9, $EI$35:$EL$35, 0)), "") | ER24: =IFERROR(INDEX($EI$37:$EL$48, MATCH($EN24, $EG$37:$EG$48, 0), MATCH(ER$9, $EI$35:$EL$35, 0)), "") | ES24: =IFERROR(INDEX($EI$37:$EL$48, MATCH($EN24, $EG$37:$EG$48, 0), MATCH(ES$9, $EI$35:$EL$35, 0)), "") | EU24: =IF(COUNTIF($EP24:$ES24, "")=4, "", "X") | EZ24: =IF($BT24=$EX$7, $EW$7, "")
P25: =IF($BV$33=TRUE, $BV$8, "") | Q25: =IF(BQ25="", "", $BV$13) | R25: =IF(BR25="", "", $BV$13) | AC25: =IF(AF25="", "", "B") -> B | AE25: =AJ24 -> X | AF25: =AJ24 -> X | BQ25: =IF($ER24="", "", IFERROR(INDEX($CC$25:$CC$27, MATCH($ER24, $CB$25:$CB$27, 0)), "")) | BR25: =IF($ES24="", "", IFERROR(INDEX($CC$25:$CC$27, MATCH($ES24, $CB$25:$CB$27, 0)), "")) | BY25: =BY23-$BY$24 -> 0 | CB25: 0 | CC25: R | EI25: =IF(EI13="", "", COUNTIF($EI13:$EL13, ">"&EI13)+1+COUNTIF($EI13:EI13, EI13)-1) | EJ25: =IF(EJ13="", "", COUNTIF($EI13:$EL13, ">"&EJ13)+1+COUNTIF($EI13:EJ13, EJ13)-1) | EK25: =IF(EK13="", "", COUNTIF($EI13:$EL13, ">"&EK13)+1+COUNTIF($EI13:EK13, EK13)-1) | EL25: =IF(EL13="", "", COUNTIF($EI13:$EL13, ">"&EL13)+1+COUNTIF($EI13:EL13, EL13)-1)
F26: =IF($EZ26=$EW$7, $BV$14, "") | P26: =IF($BV$33=TRUE, $BV$10, "") | Q26: =IF(BQ26="", "", $BV$13) | R26: =IF(BR26="", "", $BV$13) | U26: =IF($BV$33=TRUE, 'Dev Settings'!$AM$11, "") | AC26: =IF(AF26="", "", "T") -> T | AE26: =AJ26 -> X | AF26: =AJ26 -> X | AH26: =IF($AJ26="", "", IF($AR26="X", "", $AJ26)) -> X | AJ26: =IF($AL26<=$BF$33, "X", "") -> X | AL26: 4 | AO26: =IF(AND($AR28="X", $BV$17=TRUE, $CB$11=FALSE, $CB$12=FALSE), "X", "") | AR26: =IF(AND(NOT($G26=""), NOT($I26=""), NOT($K26=""), NOT($M26="")), "X", "") | AU26: =IF($AO26="", "", IF(G26="", "X", "")) | AW26: =IF($AO26="", "", IF(I26="", "X", "")) | AY26: =IF($AO26="", "", IF(K26="", "X", "")) | BA26: =IF($AO26="", "", IF(M26="", "X", "")) | BH26: =IF(AND(NOT(G26=""), COUNTIF($BY$7:$BY$12, G26)=0), "X", "") | BJ26: =IF(AND(NOT(I26=""), COUNTIF($BY$7:$BY$12, I26)=0), "X", "") | BL26: =IF(AND(NOT(K26=""), COUNTIF($BY$7:$BY$12, K26)=0), "X", "") | BN26: =IF(AND(NOT(M26=""), COUNTIF($BY$7:$BY$12, M26)=0), "X", "") | BQ26: =IF($EP26="", "", IFERROR(INDEX($CC$25:$CC$27, MATCH($EP26, $CB$25:$CB$27, 0)), "")) | BR26: =IF($EQ26="", "", IFERROR(INDEX($CC$25:$CC$27, MATCH($EQ26, $CB$25:$CB$27, 0)), "")) | BT26: 4 | BV26: ▲ | CB26: 1 | CC26: Y | CE26: =SUM($EP26:$ES26) -> 0 | CG26: =IF(OR($G26="", $I26="", $K26="", $M26=""), "", G26) | CI26: =IF(OR($G26="", $I26="", $K26="", $M26=""), "", I26) | CK26: =IF(OR($G26="", $I26="", $K26="", $M26=""), "", K26) | CM26: =IF(OR($G26="", $I26="", $K26="", $M26=""), "", M26) | CP26: =IF(CG26="", "", IF(CG26=CG$7, $CC$27, "")) | CR26: =IF(CI26="", "", IF(CI26=CI$7, $CC$27, "")) | CT26: =IF(CK26="", "", IF(CK26=CK$7, $CC$27, "")) | CV26: =IF(CM26="", "", IF(CM26=CM$7, $CC$27, "")) | CY26: =IF(CG26="", "", IF(CP26=$CC$27, "", CG26)) | DA26: =IF(CI26="", "", IF(CR26=$CC$27, "", CI26)) | DC26: =IF(CK26="", "", IF(CT26=$CC$27, "", CK26)) | DE26: =IF(CM26="", "", IF(CV26=$CC$27, "", CM26)) | DH26: =IF(CG26="", "", IF(CP26=$CC$27, "", CG$7)) | DJ26: =IF(CI26="", "", IF(CR26=$CC$27, "", CI$7)) | DL26: =IF(CK26="", "", IF(CT26=$CC$27, "", CK$7)) | DN26: =IF(CM26="", "", IF(CV26=$CC$27, "", CM$7)) | DQ26: =IF(CP26=$CC$27, $CC$27, IF(CY26="", "", IF(COUNTIF($CY26:CY26, CY26)>COUNTIF($DH26:$DO27, CY26), $CC$25, $CC$26))) | DS26: =IF(CR26=$CC$27, $CC$27, IF(DA26="", "", IF(COUNTIF($CY26:DA26, DA26)>COUNTIF($DH26:$DO27, DA26), $CC$25, $CC$26))) | DU26: =IF(CT26=$CC$27, $CC$27, IF(DC26="", "", IF(COUNTIF($CY26:DC26, DC26)>COUNTIF($DH26:$DO27, DC26), $CC$25, $CC$26))) | DW26: =IF(CV26=$CC$27, $CC$27, IF(DE26="", "", IF(COUNTIF($CY26:DE26, DE26)>COUNTIF($DH26:$DO27, DE26), $CC$25, $CC$26))) | DZ26: =IFERROR(INDEX($CB$25:$CB$27, MATCH(DQ26, $CC$25:$CC$27, 0)), "") | EB26: =IFERROR(INDEX($CB$25:$CB$27, MATCH(DS26, $CC$25:$CC$27, 0)), "") | ED26: =IFERROR(INDEX($CB$25:$CB$27, MATCH(DU26, $CC$25:$CC$27, 0)), "") | EF26: =IFERROR(INDEX($CB$25:$CB$27, MATCH(DW26, $CC$25:$CC$27, 0)), "") | EI26: =IF(EI14="", "", COUNTIF($EI14:$EL14, ">"&EI14)+1+COUNTIF($EI14:EI14, EI14)-1) | EJ26: =IF(EJ14="", "", COUNTIF($EI14:$EL14, ">"&EJ14)+1+COUNTIF($EI14:EJ14, EJ14)-1) | EK26: =IF(EK14="", "", COUNTIF($EI14:$EL14, ">"&EK14)+1+COUNTIF($EI14:EK14, EK14)-1) | EL26: =IF(EL14="", "", COUNTIF($EI14:$EL14, ">"&EL14)+1+COUNTIF($EI14:EL14, EL14)-1) | EN26: 4 | EP26: =IFERROR(INDEX($EI$37:$EL$48, MATCH($EN26, $EG$37:$EG$48, 0), MATCH(EP$9, $EI$35:$EL$35, 0)), "") | EQ26: =IFERROR(INDEX($EI$37:$EL$48, MATCH($EN26, $EG$37:$EG$48, 0), MATCH(EQ$9, $EI$35:$EL$35, 0)), "") | ER26: =IFERROR(INDEX($EI$37:$EL$48, MATCH($EN26, $EG$37:$EG$48, 0), MATCH(ER$9, $EI$35:$EL$35, 0)), "") | ES26: =IFERROR(INDEX($EI$37:$EL$48, MATCH($EN26, $EG$37:$EG$48, 0), MATCH(ES$9, $EI$35:$EL$35, 0)), "") | EU26: =IF(COUNTIF($EP26:$ES26, "")=4, "", "X") | EZ26: =IF($BT26=$EX$7, $EW$7, "")
B27: SucCess | O27: =IF($BV$33=TRUE, $BV$9, "") | Q27: =IF(BQ27="", "", $BV$13) | R27: =IF(BR27="", "", $BV$13) | S27: =IF('Dev Settings'!$B$15="", "", 'Dev Settings'!$B$15) -> F35 | AC27: =IF(AF27="", "", "B") -> B | AE27: =AJ26 -> X | AF27: =AJ26 -> X | BQ27: =IF($ER26="", "", IFERROR(INDEX($CC$25:$CC$27, MATCH($ER26, $CB$25:$CB$27, 0)), "")) | BR27: =IF($ES26="", "", IFERROR(INDEX($CC$25:$CC$27, MATCH($ES26, $CB$25:$CB$27, 0)), "")) | BV27: ✪ | CB27: 2 | CC27: G | EI27: =IF(EI15="", "", COUNTIF($EI15:$EL15, ">"&EI15)+1+COUNTIF($EI15:EI15, EI15)-1) | EJ27: =IF(EJ15="", "", COUNTIF($EI15:$EL15, ">"&EJ15)+1+COUNTIF($EI15:EJ15, EJ15)-1) | EK27: =IF(EK15="", "", COUNTIF($EI15:$EL15, ">"&EK15)+1+COUNTIF($EI15:EK15, EK15)-1) | EL27: =IF(EL15="", "", COUNTIF($EI15:$EL15, ">"&EL15)+1+COUNTIF($EI15:EL15, EL15)-1)
B28: Rate | F28: =IF($EZ28=$EW$7, $BV$14, "") | O28: =IF($BV$33=TRUE, $BV$10, "") | Q28: =IF(BQ28="", "", $BV$13) | R28: =IF(BR28="", "", $BV$13) | S28: =IF('Dev Settings'!$L$15="", "", 'Dev Settings'!$L$15) -> #VALUE! | U28: =IF($BV$33=TRUE, 'Dev Settings'!$AM$11, "") | AC28: =IF(AF28="", "", "T") -> T | AE28: =AJ28 -> X | AF28: =AJ28 -> X | AH28: =IF($AJ28="", "", IF($AR28="X", "", $AJ28)) -> X | AJ28: =IF($AL28<=$BF$33, "X", "") -> X | AL28: 3 | AO28: =IF(AND($AR30="X", $BV$17=TRUE, $CB$11=FALSE, $CB$12=FALSE), "X", "") | AR28: =IF(AND(NOT($G28=""), NOT($I28=""), NOT($K28=""), NOT($M28="")), "X", "") | AU28: =IF($AO28="", "", IF(G28="", "X", "")) | AW28: =IF($AO28="", "", IF(I28="", "X", "")) | AY28: =IF($AO28="", "", IF(K28="", "X", "")) | BA28: =IF($AO28="", "", IF(M28="", "X", "")) | BH28: =IF(AND(NOT(G28=""), COUNTIF($BY$7:$BY$12, G28)=0), "X", "") | BJ28: =IF(AND(NOT(I28=""), COUNTIF($BY$7:$BY$12, I28)=0), "X", "") | BL28: =IF(AND(NOT(K28=""), COUNTIF($BY$7:$BY$12, K28)=0), "X", "") | BN28: =IF(AND(NOT(M28=""), COUNTIF($BY$7:$BY$12, M28)=0), "X", "") | BQ28: =IF($EP28="", "", IFERROR(INDEX($CC$25:$CC$27, MATCH($EP28, $CB$25:$CB$27, 0)), "")) | BR28: =IF($EQ28="", "", IFERROR(INDEX($CC$25:$CC$27, MATCH($EQ28, $CB$25:$CB$27, 0)), "")) | BT28: 3 | CE28: =SUM($EP28:$ES28) -> 0 | CG28: =IF(OR($G28="", $I28="", $K28="", $M28=""), "", G28) | CI28: =IF(OR($G28="", $I28="", $K28="", $M28=""), "", I28) | CK28: =IF(OR($G28="", $I28="", $K28="", $M28=""), "", K28) | CM28: =IF(OR($G28="", $I28="", $K28="", $M28=""), "", M28) | CP28: =IF(CG28="", "", IF(CG28=CG$7, $CC$27, "")) | CR28: =IF(CI28="", "", IF(CI28=CI$7, $CC$27, "")) | CT28: =IF(CK28="", "", IF(CK28=CK$7, $CC$27, "")) | CV28: =IF(CM28="", "", IF(CM28=CM$7, $CC$27, "")) | CY28: =IF(CG28="", "", IF(CP28=$CC$27, "", CG28)) | DA28: =IF(CI28="", "", IF(CR28=$CC$27, "", CI28)) | DC28: =IF(CK28="", "", IF(CT28=$CC$27, "", CK28)) | DE28: =IF(CM28="", "", IF(CV28=$CC$27, "", CM28)) | DH28: =IF(CG28="", "", IF(CP28=$CC$27, "", CG$7)) | DJ28: =IF(CI28="", "", IF(CR28=$CC$27, "", CI$7)) | DL28: =IF(CK28="", "", IF(CT28=$CC$27, "", CK$7)) | DN28: =IF(CM28="", "", IF(CV28=$CC$27, "", CM$7)) | DQ28: =IF(CP28=$CC$27, $CC$27, IF(CY28="", "", IF(COUNTIF($CY28:CY28, CY28)>COUNTIF($DH28:$DO29, CY28), $CC$25, $CC$26))) | DS28: =IF(CR28=$CC$27, $CC$27, IF(DA28="", "", IF(COUNTIF($CY28:DA28, DA28)>COUNTIF($DH28:$DO29, DA28), $CC$25, $CC$26))) | DU28: =IF(CT28=$CC$27, $CC$27, IF(DC28="", "", IF(COUNTIF($CY28:DC28, DC28)>COUNTIF($DH28:$DO29, DC28), $CC$25, $CC$26))) | DW28: =IF(CV28=$CC$27, $CC$27, IF(DE28="", "", IF(COUNTIF($CY28:DE28, DE28)>COUNTIF($DH28:$DO29, DE28), $CC$25, $CC$26))) | DZ28: =IFERROR(INDEX($CB$25:$CB$27, MATCH(DQ28, $CC$25:$CC$27, 0)), "") | EB28: =IFERROR(INDEX($CB$25:$CB$27, MATCH(DS28, $CC$25:$CC$27, 0)), "") | ED28: =IFERROR(INDEX($CB$25:$CB$27, MATCH(DU28, $CC$25:$CC$27, 0)), "") | EF28: =IFERROR(INDEX($CB$25:$CB$27, MATCH(DW28, $CC$25:$CC$27, 0)), "") | EI28: =IF(EI16="", "", COUNTIF($EI16:$EL16, ">"&EI16)+1+COUNTIF($EI16:EI16, EI16)-1) | EJ28: =IF(EJ16="", "", COUNTIF($EI16:$EL16, ">"&EJ16)+1+COUNTIF($EI16:EJ16, EJ16)-1) | EK28: =IF(EK16="", "", COUNTIF($EI16:$EL16, ">"&EK16)+1+COUNTIF($EI16:EK16, EK16)-1) | EL28: =IF(EL16="", "", COUNTIF($EI16:$EL16, ">"&EL16)+1+COUNTIF($EI16:EL16, EL16)-1) | EN28: 3 | EP28: =IFERROR(INDEX($EI$37:$EL$48, MATCH($EN28, $EG$37:$EG$48, 0), MATCH(EP$9, $EI$35:$EL$35, 0)), "") | EQ28: =IFERROR(INDEX($EI$37:$EL$48, MATCH($EN28, $EG$37:$EG$48, 0), MATCH(EQ$9, $EI$35:$EL$35, 0)), "") | ER28: =IFERROR(INDEX($EI$37:$EL$48, MATCH($EN28, $EG$37:$EG$48, 0), MATCH(ER$9, $EI$35:$EL$35, 0)), "") | ES28: =IFERROR(INDEX($EI$37:$EL$48, MATCH($EN28, $EG$37:$EG$48, 0), MATCH(ES$9, $EI$35:$EL$35, 0)), "") | EU28: =IF(COUNTIF($EP28:$ES28, "")=4, "", "X") | EZ28: =IF($BT28=$EX$7, $EW$7, "")
B29: ='Mission Codes'!$BQ$2 | P29: =IF($BV$33=TRUE, $BV$8, "") | Q29: =IF(BQ29="", "", $BV$13) | R29: =IF(BR29="", "", $BV$13) | AC29: =IF(AF29="", "", "B") -> B | AE29: =AJ28 -> X | AF29: =AJ28 -> X | BQ29: =IF($ER28="", "", IFERROR(INDEX($CC$25:$CC$27, MATCH($ER28, $CB$25:$CB$27, 0)), "")) | BR29: =IF($ES28="", "", IFERROR(INDEX($CC$25:$CC$27, MATCH($ES28, $CB$25:$CB$27, 0)), "")) | BV29: =IF(BV23="", "", BV26) | CA29: Game Over | CB29: =Destinations!$BL$24 -> FALSE | EI29: =IF(EI17="", "", COUNTIF($EI17:$EL17, ">"&EI17)+1+COUNTIF($EI17:EI17, EI17)-1) | EJ29: =IF(EJ17="", "", COUNTIF($EI17:$EL17, ">"&EJ17)+1+COUNTIF($EI17:EJ17, EJ17)-1) | EK29: =IF(EK17="", "", COUNTIF($EI17:$EL17, ">"&EK17)+1+COUNTIF($EI17:EK17, EK17)-1) | EL29: =IF(EL17="", "", COUNTIF($EI17:$EL17, ">"&EL17)+1+COUNTIF($EI17:EL17, EL17)-1)
F30: =IF($EZ30=$EW$7, $BV$14, "") | P30: =IF($BV$33=TRUE, $BV$10, "") | Q30: =IF(BQ30="", "", $BV$13) | R30: =IF(BR30="", "", $BV$13) | U30: =IF($BV$33=TRUE, 'Dev Settings'!$AM$11, "") | AC30: =IF(AF30="", "", "T") -> T | AE30: =AJ30 -> X | AF30: =AJ30 -> X | AH30: =IF($AJ30="", "", IF($AR30="X", "", $AJ30)) -> X | AJ30: =IF($AL30<=$BF$33, "X", "") -> X | AL30: 2 | AO30: =IF(AND($AR32="X", $BV$17=TRUE, $CB$11=FALSE, $CB$12=FALSE), "X", "") | AR30: =IF(AND(NOT($G30=""), NOT($I30=""), NOT($K30=""), NOT($M30="")), "X", "") | AU30: =IF($AO30="", "", IF(G30="", "X", "")) | AW30: =IF($AO30="", "", IF(I30="", "X", "")) | AY30: =IF($AO30="", "", IF(K30="", "X", "")) | BA30: =IF($AO30="", "", IF(M30="", "X", "")) | BH30: =IF(AND(NOT(G30=""), COUNTIF($BY$7:$BY$12, G30)=0), "X", "") | BJ30: =IF(AND(NOT(I30=""), COUNTIF($BY$7:$BY$12, I30)=0), "X", "") | BL30: =IF(AND(NOT(K30=""), COUNTIF($BY$7:$BY$12, K30)=0), "X", "") | BN30: =IF(AND(NOT(M30=""), COUNTIF($BY$7:$BY$12, M30)=0), "X", "") | BQ30: =IF($EP30="", "", IFERROR(INDEX($CC$25:$CC$27, MATCH($EP30, $CB$25:$CB$27, 0)), "")) | BR30: =IF($EQ30="", "", IFERROR(INDEX($CC$25:$CC$27, MATCH($EQ30, $CB$25:$CB$27, 0)), "")) | BT30: 2 | BV30: =IF(BV24="", "", BV27) | CE30: =SUM($EP30:$ES30) -> 0 | CG30: =IF(OR($G30="", $I30="", $K30="", $M30=""), "", G30) | CI30: =IF(OR($G30="", $I30="", $K30="", $M30=""), "", I30) | CK30: =IF(OR($G30="", $I30="", $K30="", $M30=""), "", K30) | CM30: =IF(OR($G30="", $I30="", $K30="", $M30=""), "", M30) | CP30: =IF(CG30="", "", IF(CG30=CG$7, $CC$27, "")) | CR30: =IF(CI30="", "", IF(CI30=CI$7, $CC$27, "")) | CT30: =IF(CK30="", "", IF(CK30=CK$7, $CC$27, "")) | CV30: =IF(CM30="", "", IF(CM30=CM$7, $CC$27, "")) | CY30: =IF(CG30="", "", IF(CP30=$CC$27, "", CG30)) | DA30: =IF(CI30="", "", IF(CR30=$CC$27, "", CI30)) | DC30: =IF(CK30="", "", IF(CT30=$CC$27, "", CK30)) | DE30: =IF(CM30="", "", IF(CV30=$CC$27, "", CM30)) | DH30: =IF(CG30="", "", IF(CP30=$CC$27, "", CG$7)) | DJ30: =IF(CI30="", "", IF(CR30=$CC$27, "", CI$7)) | DL30: =IF(CK30="", "", IF(CT30=$CC$27, "", CK$7)) | DN30: =IF(CM30="", "", IF(CV30=$CC$27, "", CM$7)) | DQ30: =IF(CP30=$CC$27, $CC$27, IF(CY30="", "", IF(COUNTIF($CY30:CY30, CY30)>COUNTIF($DH30:$DO31, CY30), $CC$25, $CC$26))) | DS30: =IF(CR30=$CC$27, $CC$27, IF(DA30="", "", IF(COUNTIF($CY30:DA30, DA30)>COUNTIF($DH30:$DO31, DA30), $CC$25, $CC$26))) | DU30: =IF(CT30=$CC$27, $CC$27, IF(DC30="", "", IF(COUNTIF($CY30:DC30, DC30)>COUNTIF($DH30:$DO31, DC30), $CC$25, $CC$26))) | DW30: =IF(CV30=$CC$27, $CC$27, IF(DE30="", "", IF(COUNTIF($CY30:DE30, DE30)>COUNTIF($DH30:$DO31, DE30), $CC$25, $CC$26))) | DZ30: =IFERROR(INDEX($CB$25:$CB$27, MATCH(DQ30, $CC$25:$CC$27, 0)), "") | EB30: =IFERROR(INDEX($CB$25:$CB$27, MATCH(DS30, $CC$25:$CC$27, 0)), "") | ED30: =IFERROR(INDEX($CB$25:$CB$27, MATCH(DU30, $CC$25:$CC$27, 0)), "") | EF30: =IFERROR(INDEX($CB$25:$CB$27, MATCH(DW30, $CC$25:$CC$27, 0)), "") | EI30: =IF(EI18="", "", COUNTIF($EI18:$EL18, ">"&EI18)+1+COUNTIF($EI18:EI18, EI18)-1) | EJ30: =IF(EJ18="", "", COUNTIF($EI18:$EL18, ">"&EJ18)+1+COUNTIF($EI18:EJ18, EJ18)-1) | EK30: =IF(EK18="", "", COUNTIF($EI18:$EL18, ">"&EK18)+1+COUNTIF($EI18:EK18, EK18)-1) | EL30: =IF(EL18="", "", COUNTIF($EI18:$EL18, ">"&EL18)+1+COUNTIF($EI18:EL18, EL18)-1) | EN30: 2 | EP30: =IFERROR(INDEX($EI$37:$EL$48, MATCH($EN30, $EG$37:$EG$48, 0), MATCH(EP$9, $EI$35:$EL$35, 0)), "") | EQ30: =IFERROR(INDEX($EI$37:$EL$48, MATCH($EN30, $EG$37:$EG$48, 0), MATCH(EQ$9, $EI$35:$EL$35, 0)), "") | ER30: =IFERROR(INDEX($EI$37:$EL$48, MATCH($EN30, $EG$37:$EG$48, 0), MATCH(ER$9, $EI$35:$EL$35, 0)), "") | ES30: =IFERROR(INDEX($EI$37:$EL$48, MATCH($EN30, $EG$37:$EG$48, 0), MATCH(ES$9, $EI$35:$EL$35, 0)), "") | EU30: =IF(COUNTIF($EP30:$ES30, "")=4, "", "X") | EZ30: =IF($BT30=$EX$7, $EW$7, "")
O31: =IF($BV$33=TRUE, $BV$9, "") | Q31: =IF(BQ31="", "", $BV$13) | R31: =IF(BR31="", "", $BV$13) | S31: =IF('Dev Settings'!$B$16="", "", 'Dev Settings'!$B$16) -> RAM | AC31: =IF(AF31="", "", "B") -> B | AE31: =AJ30 -> X | AF31: =AJ30 -> X | BQ31: =IF($ER30="", "", IFERROR(INDEX($CC$25:$CC$27, MATCH($ER30, $CB$25:$CB$27, 0)), "")) | BR31: =IF($ES30="", "", IFERROR(INDEX($CC$25:$CC$27, MATCH($ES30, $CB$25:$CB$27, 0)), "")) | EI31: =IF(EI19="", "", COUNTIF($EI19:$EL19, ">"&EI19)+1+COUNTIF($EI19:EI19, EI19)-1) | EJ31: =IF(EJ19="", "", COUNTIF($EI19:$EL19, ">"&EJ19)+1+COUNTIF($EI19:EJ19, EJ19)-1) | EK31: =IF(EK19="", "", COUNTIF($EI19:$EL19, ">"&EK19)+1+COUNTIF($EI19:EK19, EK19)-1) | EL31: =IF(EL19="", "", COUNTIF($EI19:$EL19, ">"&EL19)+1+COUNTIF($EI19:EL19, EL19)-1)
B32: Ave | F32: =IF($EZ32=$EW$7, $BV$14, "") | O32: =IF($BV$33=TRUE, $BV$10, "") | Q32: =IF(BQ32="", "", $BV$13) | R32: =IF(BR32="", "", $BV$13) | S32: =IF('Dev Settings'!$L$16="", "", 'Dev Settings'!$L$16) -> #VALUE! | U32: =IF($BV$33=TRUE, 'Dev Settings'!$AM$11, "") | AC32: =IF(AF32="", "", "T") -> T | AE32: =AJ32 -> X | AF32: =AJ32 -> X | AH32: =IF($AJ32="", "", IF($AR32="X", "", $AJ32)) -> X | AJ32: =IF($AL32<=$BF$33, "X", "") -> X | AL32: 1 | AO32: =IF(AND($BV$17=TRUE, $CB$11=FALSE, $CB$12=FALSE, $BY$3=TRUE), "X", "") | AR32: =IF(AND(NOT($G32=""), NOT($I32=""), NOT($K32=""), NOT($M32="")), "X", "") | AU32: =IF($AO32="", "", IF(G32="", "X", "")) | AW32: =IF($AO32="", "", IF(I32="", "X", "")) | AY32: =IF($AO32="", "", IF(K32="", "X", "")) | BA32: =IF($AO32="", "", IF(M32="", "X", "")) | BH32: =IF(AND(NOT(G32=""), COUNTIF($BY$7:$BY$12, G32)=0), "X", "") | BJ32: =IF(AND(NOT(I32=""), COUNTIF($BY$7:$BY$12, I32)=0), "X", "") | BL32: =IF(AND(NOT(K32=""), COUNTIF($BY$7:$BY$12, K32)=0), "X", "") | BN32: =IF(AND(NOT(M32=""), COUNTIF($BY$7:$BY$12, M32)=0), "X", "") | BQ32: =IF($EP32="", "", IFERROR(INDEX($CC$25:$CC$27, MATCH($EP32, $CB$25:$CB$27, 0)), "")) | BR32: =IF($EQ32="", "", IFERROR(INDEX($CC$25:$CC$27, MATCH($EQ32, $CB$25:$CB$27, 0)), "")) | BT32: 1 | BV32: Fireworks | CE32: =SUM($EP32:$ES32) -> 0 | CG32: =IF(OR($G32="", $I32="", $K32="", $M32=""), "", G32) | CI32: =IF(OR($G32="", $I32="", $K32="", $M32=""), "", I32) | CK32: =IF(OR($G32="", $I32="", $K32="", $M32=""), "", K32) | CM32: =IF(OR($G32="", $I32="", $K32="", $M32=""), "", M32) | CP32: =IF(CG32="", "", IF(CG32=CG$7, $CC$27, "")) | CR32: =IF(CI32="", "", IF(CI32=CI$7, $CC$27, "")) | CT32: =IF(CK32="", "", IF(CK32=CK$7, $CC$27, "")) | CV32: =IF(CM32="", "", IF(CM32=CM$7, $CC$27, "")) | CY32: =IF(CG32="", "", IF(CP32=$CC$27, "", CG32)) | DA32: =IF(CI32="", "", IF(CR32=$CC$27, "", CI32)) | DC32: =IF(CK32="", "", IF(CT32=$CC$27, "", CK32)) | DE32: =IF(CM32="", "", IF(CV32=$CC$27, "", CM32)) | DH32: =IF(CG32="", "", IF(CP32=$CC$27, "", CG$7)) | DJ32: =IF(CI32="", "", IF(CR32=$CC$27, "", CI$7)) | DL32: =IF(CK32="", "", IF(CT32=$CC$27, "", CK$7)) | DN32: =IF(CM32="", "", IF(CV32=$CC$27, "", CM$7)) | DQ32: =IF(CP32=$CC$27, $CC$27, IF(CY32="", "", IF(COUNTIF($CY32:CY32, CY32)>COUNTIF($DH32:$DO33, CY32), $CC$25, $CC$26))) | DS32: =IF(CR32=$CC$27, $CC$27, IF(DA32="", "", IF(COUNTIF($CY32:DA32, DA32)>COUNTIF($DH32:$DO33, DA32), $CC$25, $CC$26))) | DU32: =IF(CT32=$CC$27, $CC$27, IF(DC32="", "", IF(COUNTIF($CY32:DC32, DC32)>COUNTIF($DH32:$DO33, DC32), $CC$25, $CC$26))) | DW32: =IF(CV32=$CC$27, $CC$27, IF(DE32="", "", IF(COUNTIF($CY32:DE32, DE32)>COUNTIF($DH32:$DO33, DE32), $CC$25, $CC$26))) | DZ32: =IFERROR(INDEX($CB$25:$CB$27, MATCH(DQ32, $CC$25:$CC$27, 0)), "") | EB32: =IFERROR(INDEX($CB$25:$CB$27, MATCH(DS32, $CC$25:$CC$27, 0)), "") | ED32: =IFERROR(INDEX($CB$25:$CB$27, MATCH(DU32, $CC$25:$CC$27, 0)), "") | EF32: =IFERROR(INDEX($CB$25:$CB$27, MATCH(DW32, $CC$25:$CC$27, 0)), "") | EI32: =IF(EI20="", "", COUNTIF($EI20:$EL20, ">"&EI20)+1+COUNTIF($EI20:EI20, EI20)-1) | EJ32: =IF(EJ20="", "", COUNTIF($EI20:$EL20, ">"&EJ20)+1+COUNTIF($EI20:EJ20, EJ20)-1) | EK32: =IF(EK20="", "", COUNTIF($EI20:$EL20, ">"&EK20)+1+COUNTIF($EI20:EK20, EK20)-1) | EL32: =IF(EL20="", "", COUNTIF($EI20:$EL20, ">"&EL20)+1+COUNTIF($EI20:EL20, EL20)-1) | EN32: 1 | EP32: =IFERROR(INDEX($EI$37:$EL$48, MATCH($EN32, $EG$37:$EG$48, 0), MATCH(EP$9, $EI$35:$EL$35, 0)), "") | EQ32: =IFERROR(INDEX($EI$37:$EL$48, MATCH($EN32, $EG$37:$EG$48, 0), MATCH(EQ$9, $EI$35:$EL$35, 0)), "") | ER32: =IFERROR(INDEX($EI$37:$EL$48, MATCH($EN32, $EG$37:$EG$48, 0), MATCH(ER$9, $EI$35:$EL$35, 0)), "") | ES32: =IFERROR(INDEX($EI$37:$EL$48, MATCH($EN32, $EG$37:$EG$48, 0), MATCH(ES$9, $EI$35:$EL$35, 0)), "") | EU32: =IF(COUNTIF($EP32:$ES32, "")=4, "", "X") | EZ32: =IF($BT32=$EX$7, $EW$7, "")
B33: Turns | P33: =IF($BV$33=TRUE, $BV$8, "") | Q33: =IF(BQ33="", "", $BV$13) | R33: =IF(BR33="", "", $BV$13) | AC33: =IF(AF33="", "", "B") -> B | AE33: =AJ32 -> X | AF33: =AJ32 -> X | BD33: Row Numbers | BF33: =Settings!$AX$30 -> 12 | BQ33: =IF($ER32="", "", IFERROR(INDEX($CC$25:$CC$27, MATCH($ER32, $CB$25:$CB$27, 0)), "")) | BR33: =IF($ES32="", "", IFERROR(INDEX($CC$25:$CC$27, MATCH($ES32, $CB$25:$CB$27, 0)), "")) | BV33: ='Mission Codes'!$FM$3='Mission Codes'!$BW$2 -> FALSE | CA33: =IF($BV$33=TRUE, $CA$18, IF($CB$11=TRUE, CA$16, IF($CB$12=TRUE, CA$17, ""))) | CB33: =IF($CB$11=TRUE, CB$16, IF($CB$12=TRUE, CB$17, "")) | EI33: =IF(EI21="", "", COUNTIF($EI21:$EL21, ">"&EI21)+1+COUNTIF($EI21:EI21, EI21)-1) | EJ33: =IF(EJ21="", "", COUNTIF($EI21:$EL21, ">"&EJ21)+1+COUNTIF($EI21:EJ21, EJ21)-1) | EK33: =IF(EK21="", "", COUNTIF($EI21:$EL21, ">"&EK21)+1+COUNTIF($EI21:EK21, EK21)-1) | EL33: =IF(EL21="", "", COUNTIF($EI21:$EL21, ">"&EL21)+1+COUNTIF($EI21:EL21, EL21)-1)
B34: ='Mission Codes'!$BL$2 | F34: Personal best | U34: =IF($BV$33=TRUE, 'Dev Settings'!$AM$11, "")
G35: =IF($BV$33=TRUE, 'Dev Settings'!$AM$11, "") | I35: =IF($BV$33=TRUE, 'Dev Settings'!$AM$11, "") | K35: =IF($BV$33=TRUE, 'Dev Settings'!$AM$11, "") | M35: =IF($BV$33=TRUE, 'Dev Settings'!$AM$11, "") | O35: =IF($BV$33=TRUE, 'Dev Settings'!$AM$11, "") | Q35: =IF($BV$33=TRUE, 'Dev Settings'!$AM$11, "") | S35: =IF($BV$33=TRUE, 'Dev Settings'!$AM$11, "") | EI35: 1 | EJ35: 2 | EK35: 3 | EL35: 4
B36: =Bridge!$BF$21
EG37: 12 | EI37: =IFERROR(INDEX($EI10:$EL10, MATCH(EI$35, $EI22:$EL22, 0)), "") | EJ37: =IFERROR(INDEX($EI10:$EL10, MATCH(EJ$35, $EI22:$EL22, 0)), "") | EK37: =IFERROR(INDEX($EI10:$EL10, MATCH(EK$35, $EI22:$EL22, 0)), "") | EL37: =IFERROR(INDEX($EI10:$EL10, MATCH(EL$35, $EI22:$EL22, 0)), "")
EG38: 11 | EI38: =IFERROR(INDEX($EI11:$EL11, MATCH(EI$35, $EI23:$EL23, 0)), "") | EJ38: =IFERROR(INDEX($EI11:$EL11, MATCH(EJ$35, $EI23:$EL23, 0)), "") | EK38: =IFERROR(INDEX($EI11:$EL11, MATCH(EK$35, $EI23:$EL23, 0)), "") | EL38: =IFERROR(INDEX($EI11:$EL11, MATCH(EL$35, $EI23:$EL23, 0)), "")
EG39: 10 | EI39: =IFERROR(INDEX($EI12:$EL12, MATCH(EI$35, $EI24:$EL24, 0)), "") | EJ39: =IFERROR(INDEX($EI12:$EL12, MATCH(EJ$35, $EI24:$EL24, 0)), "") | EK39: =IFERROR(INDEX($EI12:$EL12, MATCH(EK$35, $EI24:$EL24, 0)), "") | EL39: =IFERROR(INDEX($EI12:$EL12, MATCH(EL$35, $EI24:$EL24, 0)), "")
EG40: 9 | EI40: =IFERROR(INDEX($EI13:$EL13, MATCH(EI$35, $EI25:$EL25, 0)), "") | EJ40: =IFERROR(INDEX($EI13:$EL13, MATCH(EJ$35, $EI25:$EL25, 0)), "") | EK40: =IFERROR(INDEX($EI13:$EL13, MATCH(EK$35, $EI25:$EL25, 0)), "") | EL40: =IFERROR(INDEX($EI13:$EL13, MATCH(EL$35, $EI25:$EL25, 0)), "")
EG41: 8 | EI41: =IFERROR(INDEX($EI14:$EL14, MATCH(EI$35, $EI26:$EL26, 0)), "") | EJ41: =IFERROR(INDEX($EI14:$EL14, MATCH(EJ$35, $EI26:$EL26, 0)), "") | EK41: =IFERROR(INDEX($EI14:$EL14, MATCH(EK$35, $EI26:$EL26, 0)), "") | EL41: =IFERROR(INDEX($EI14:$EL14, MATCH(EL$35, $EI26:$EL26, 0)), "")
EG42: 7 | EI42: =IFERROR(INDEX($EI15:$EL15, MATCH(EI$35, $EI27:$EL27, 0)), "") | EJ42: =IFERROR(INDEX($EI15:$EL15, MATCH(EJ$35, $EI27:$EL27, 0)), "") | EK42: =IFERROR(INDEX($EI15:$EL15, MATCH(EK$35, $EI27:$EL27, 0)), "") | EL42: =IFERROR(INDEX($EI15:$EL15, MATCH(EL$35, $EI27:$EL27, 0)), "")
EG43: 6 | EI43: =IFERROR(INDEX($EI16:$EL16, MATCH(EI$35, $EI28:$EL28, 0)), "") | EJ43: =IFERROR(INDEX($EI16:$EL16, MATCH(EJ$35, $EI28:$EL28, 0)), "") | EK43: =IFERROR(INDEX($EI16:$EL16, MATCH(EK$35, $EI28:$EL28, 0)), "") | EL43: =IFERROR(INDEX($EI16:$EL16, MATCH(EL$35, $EI28:$EL28, 0)), "")
EG44: 5 | EI44: =IFERROR(INDEX($EI17:$EL17, MATCH(EI$35, $EI29:$EL29, 0)), "") | EJ44: =IFERROR(INDEX($EI17:$EL17, MATCH(EJ$35, $EI29:$EL29, 0)), "") | EK44: =IFERROR(INDEX($EI17:$EL17, MATCH(EK$35, $EI29:$EL29, 0)), "") | EL44: =IFERROR(INDEX($EI17:$EL17, MATCH(EL$35, $EI29:$EL29, 0)), "")
EG45: 4 | EI45: =IFERROR(INDEX($EI18:$EL18, MATCH(EI$35, $EI30:$EL30, 0)), "") | EJ45: =IFERROR(INDEX($EI18:$EL18, MATCH(EJ$35, $EI30:$EL30, 0)), "") | EK45: =IFERROR(INDEX($EI18:$EL18, MATCH(EK$35, $EI30:$EL30, 0)), "") | EL45: =IFERROR(INDEX($EI18:$EL18, MATCH(EL$35, $EI30:$EL30, 0)), "")
EG46: 3 | EI46: =IFERROR(INDEX($EI19:$EL19, MATCH(EI$35, $EI31:$EL31, 0)), "") | EJ46: =IFERROR(INDEX($EI19:$EL19, MATCH(EJ$35, $EI31:$EL31, 0)), "") | EK46: =IFERROR(INDEX($EI19:$EL19, MATCH(EK$35, $EI31:$EL31, 0)), "") | EL46: =IFERROR(INDEX($EI19:$EL19, MATCH(EL$35, $EI31:$EL31, 0)), "")
EG47: 2 | EI47: =IFERROR(INDEX($EI20:$EL20, MATCH(EI$35, $EI32:$EL32, 0)), "") | EJ47: =IFERROR(INDEX($EI20:$EL20, MATCH(EJ$35, $EI32:$EL32, 0)), "") | EK47: =IFERROR(INDEX($EI20:$EL20, MATCH(EK$35, $EI32:$EL32, 0)), "") | EL47: =IFERROR(INDEX($EI20:$EL20, MATCH(EL$35, $EI32:$EL32, 0)), "")
EG48: 1 | EI48: =IFERROR(INDEX($EI21:$EL21, MATCH(EI$35, $EI33:$EL33, 0)), "") | EJ48: =IFERROR(INDEX($EI21:$EL21, MATCH(EJ$35, $EI33:$EL33, 0)), "") | EK48: =IFERROR(INDEX($EI21:$EL21, MATCH(EK$35, $EI33:$EL33, 0)), "") | EL48: =IFERROR(INDEX($EI21:$EL21, MATCH(EL$35, $EI33:$EL33, 0)), "")

Sheet FOB
FG1: =$FC$19 -> Grass | FH1: =$FC$19 -> Grass | FI1: =$FC$19 -> Grass | FJ1: =$FC$19 -> Grass | FK1: =$FC$19 -> Grass | FL1: =$FC$19 -> Grass | FM1: =$FC$19 -> Grass | FN1: =$FC$19 -> Grass | ... GB1: =$FC$19 -> Grass
B2: =IF(OR($CB$11=TRUE, $CB$12=TRUE), "Enemy Defence", "") | K2: Forward Operating base | S2: Location | BD2: Yellow Alerts | BT2: =SUM(Destinations!$BC$2:$BC$3)+SUM(Destinations!$BE$2:$BE$3) -> 1 | BV2: En Route | BY2: FOB | FC2: Leave Blank | FG2: =$FC$19 -> Grass | FH2: =$FC$19 -> Grass | FP2: =$FC$19 -> Grass | FQ2: =$FC$19 -> Grass | FX2: =$FC$19 -> Grass | FY2: =$FC$19 -> Grass | GB2: =$FC$19 -> Grass
B3: =IF(OR($CB$11=TRUE, $CB$12=TRUE), $EP$5, "") | D3: =IF(OR($CB$11=TRUE, $CB$12=TRUE), $EQ$5, "") | F3: =IF(OR($CB$11=TRUE, $CB$12=TRUE), $ER$5, "") | H3: =IF(OR($CB$11=TRUE, $CB$12=TRUE), $ES$5, "") | S3: =IF($BT$5=$BV$2, 'Dev Settings'!$AM$25, IFERROR(INDEX('Dev Settings'!$AM$11:$AM$23, MATCH($BT$5, 'Dev Settings'!$AF$11:$AF$23, 0)), "")) -> #VALUE! | BD3: Red Alerts | BF3: =SUM($BH$14:$BH$33)+SUM($BJ$14:$BJ$33)+SUM($BL$14:$BL$33)+SUM($BN$14:$BN$33) -> 0 | BT3: =Destinations!$AY$3 -> 0 | BY3: ='Mission Codes'!$BF$15 -> FALSE | CE3: =IF('Dev Settings'!$B11="", "", 'Dev Settings'!$B11) -> SBS | FG3: =$FC$19 -> Grass | FH3: =$FC$19 -> Grass | FJ3: =$FC$19 -> Grass | FL3: =$FC$19 -> Grass | FN3: =$FC$19 -> Grass | FP3: =$FC$19 -> Grass | FX3: =$FC$19 -> Grass | FY3: =$FC$19 -> Grass | GB3: =$FC$19 -> Grass
CE4: =IF('Dev Settings'!$B12="", "", 'Dev Settings'!$B12) -> MAR | FG4: =$FC$19 -> Grass | FP4: =$FC$19 -> Grass | FX4: =$FC$19 -> Grass | GB4: =$FC$19 -> Grass
B5: =IF(E5="", "", "Mission") | E5: =IF(OR($BT$3>0, $BY$3=FALSE), "", IFERROR(INDEX('Mission Codes'!$B$6:$D$165, MATCH('Mission Codes'!$ES$3, 'Mission Codes'!$EU$6:$EU$165, 0)), "")) | S5: =$BV$29 | U5: =$BV$30 | BT5: =IF($BT$3=0, IFERROR(INDEX(Destinations!$BG$6:$BG$19, MATCH(Destinations!$AY$25, Destinations!$AY$6:$AY$19, 0)), ""), $BV$2) -> UK | BV5: ✓ | CE5: =IF('Dev Settings'!$B17="", "", 'Dev Settings'!$B17) -> SNI | EP5: =IF(EP$7="", "", IFERROR(INDEX($EX$10:$EX$15, MATCH(EP$7, $EW$10:$EW$15, 0)), "")) | EQ5: =IF(EQ$7="", "", IFERROR(INDEX($EX$10:$EX$15, MATCH(EQ$7, $EW$10:$EW$15, 0)), "")) | ER5: =IF(ER$7="", "", IFERROR(INDEX($EX$10:$EX$15, MATCH(ER$7, $EW$10:$EW$15, 0)), "")) | ES5: =IF(ES$7="", "", IFERROR(INDEX($EX$10:$EX$15, MATCH(ES$7, $EW$10:$EW$15, 0)), "")) | FC5: ✮ | FG5: =$FC$19 -> Grass | FH5: =$FC$19 -> Grass | FK5: =$FC$19 -> Grass | FM5: =$FC$19 -> Grass | FN5: =$FC$19 -> Grass | FO5: =$FC$19 -> Grass | FP5: =$FC$19 -> Grass | FX5: =$FC$19 -> Grass | FY5: =$FC$19 -> Grass | FZ5: =$FC$19 -> Grass | GA5: =$FC$19 -> Grass | GB5: =$FC$19 -> Grass
BV6: ✕ | CA6: 1 | CB6: =IFERROR(INDEX('Mission Codes'!$BU$6:$BU$165, MATCH("X", 'Mission Codes'!$CK$6:$CK$165, 0)), "") | CC6: =IFERROR(INDEX($BY$15:$BY$20, MATCH($CB6, $BX$15:$BX$20, 0)), "") | CE6: =IF('Dev Settings'!$B14="", "", 'Dev Settings'!$B14) -> APA | FC6: ※ | FG6: =$FC$19 -> Grass | FM6: =$FC$19 -> Grass | FN6: =$FC$19 -> Grass | FO6: =$FC$19 -> Grass | FP6: =$FC$19 -> Grass | FQ6: =$FC$19 -> Grass | FR6: =$FC$19 -> Grass | FS6: =$FC$19 -> Grass | FT6: =$FC$19 -> Grass | ... FX6: =$FC$19 -> Grass | FZ6: =$FC$19 -> Grass | GB6: =$FC$19 -> Grass
F7: =$FC$5 -> ✮ | G7: =$FC$6 -> ※ | H7: =$FC$6 -> ※ | I7: =$FC$6 -> ※ | J7: =$FC$6 -> ※ | K7: =$FC$6 -> ※ | L7: =$FC$6 -> ※ | M7: =$FC$6 -> ※ | N7: =$FC$6 -> ※ | ... T7: =$FC$6 -> ※ | U7: =$FC$5 -> ✮ | BT7: MI5 Ins | BY7: =IF(OR($BT$3>0, $BT$2>0, $BY$3=FALSE, $AH$9=TRUE), "", IF('Dev Settings'!$B11="", "", 'Dev Settings'!$B11)) | CA7: 2 | CB7: =IFERROR(INDEX('Mission Codes'!$BV$6:$BV$165, MATCH("X", 'Mission Codes'!$CK$6:$CK$165, 0)), "") | CC7: =IFERROR(INDEX($BY$15:$BY$20, MATCH($CB7, $BX$15:$BX$20, 0)), "") | CE7: =IF('Dev Settings'!$B15="", "", 'Dev Settings'!$B15) -> F35 | CG7: =$EP$7 | CI7: =$EQ$7 | CK7: =$ER$7 | CM7: =$ES$7 | EP7: =IFERROR(INDEX($EW$10:$EW$15, MATCH($CC$6, $EX$10:$EX$15, 0)), "") | EQ7: =IFERROR(INDEX($EW$10:$EW$15, MATCH($CC$7, $EX$10:$EX$15, 0)), "") | ER7: =IFERROR(INDEX($EW$10:$EW$15, MATCH($CC$8, $EX$10:$EX$15, 0)), "") | ES7: =IFERROR(INDEX($EW$10:$EW$15, MATCH($CC$9, $EX$10:$EX$15, 0)), "") | EW7: PB | EX7: =IF(MIN('Mission Codes'!$T$6:$T$165)=0, "", MIN('Mission Codes'!$T$6:$T$165)) | FG7: =$FC$19 -> Grass | FH7: =$FC$19 -> Grass | FI7: =$FC$19 -> Grass | FJ7: =$FC$19 -> Grass | FK7: =$FC$19 -> Grass | GB7: =$FC$19 -> Grass
B8: =IFERROR(INDEX($BD$14:$BD$22, MATCH("X", $BF$14:$BF$22, 0)), "") -> NEW intel from MI6 | F8: =$FC$6 -> ※ | I8: Right Unit & Place | O8: =$BV$13 -> ◼ | Q8: =$FD$19 -> ☁ | U8: =$FC$6 -> ※ | BT8: ='MI6'!$B$6='MI6'!$BD$4 -> TRUE | BV8: ⋱ | BY8: =IF(OR($BT$3>0, $BT$2>0, $BY$3=FALSE, $AH$9=TRUE), "", IF('Dev Settings'!$B12="", "", 'Dev Settings'!$B12)) | CA8: 3 | CB8: =IFERROR(INDEX('Mission Codes'!$BW$6:$BW$165, MATCH("X", 'Mission Codes'!$CK$6:$CK$165, 0)), "") | CC8: =IFERROR(INDEX($BY$15:$BY$20, MATCH($CB8, $BX$15:$BX$20, 0)), "") | CE8: =IF('Dev Settings'!$B18="", "", 'Dev Settings'!$B18) -> SUP | CY8: Actual | DH8: Desired | FC8: BASE PACKED UP | FG8: =$FC$19 -> Grass | FH8: =$FC$19 -> Grass | FK8: =$FC$19 -> Grass | FM8: =$FC$19 -> Grass | FN8: =$FC$19 -> Grass | FO8: =$FC$19 -> Grass | FU8: =$FC$19 -> Grass | FV8: =$FC$19 -> Grass | FW8: =$FC$19 -> Grass | GB8: =$FC$19 -> Grass
F9: =$FC$6 -> ※ | H9: Unit & Place Wrong | O9: =$BV$13 -> ◼ | U9: =$FC$6 -> ※ | AH9: =COUNTIF(AH$14:AH$33, "X")=0 -> FALSE | BV9: ⋰ | BY9: =IF(OR($BT$3>0, $BT$2>0, $BY$3=FALSE, $AH$9=TRUE), "", IF('Dev Settings'!$B17="", "", 'Dev Settings'!$B17)) | CA9: 4 | CB9: =IFERROR(INDEX('Mission Codes'!$BX$6:$BX$165, MATCH("X", 'Mission Codes'!$CK$6:$CK$165, 0)), "") | CC9: =IFERROR(INDEX($BY$15:$BY$20, MATCH($CB9, $BX$15:$BX$20, 0)), "") | EP9: 1 | EQ9: 2 | ER9: 3 | ES9: 4 | FC9: =IF(AND($CB$21=0, OR($BT$5='Mission Codes'!$EM$5, 'MI6'!$BB$27=TRUE)), TRUE, $BT$5=$BV$2) -> TRUE | FG9: =$FC$19 -> Grass | FK9: =$FC$19 -> Grass | FM9: =$FC$19 -> Grass | FN9: =$FC$19 -> Grass | FU9: =$FC$19 -> Grass | FV9: =$FC$19 -> Grass | GB9: =$FC$19 -> Grass
F10: =$FC$5 -> ✮ | G10: Right Unit Wrong place | O10: =$BV$13 -> ◼ | U10: =$FC$6 -> ※ | BV10: ✺ | BY10: =IF(OR($BT$3>0, $BT$2>0, $BY$3=FALSE, $AH$9=TRUE), "", IF('Dev Settings'!$B14="", "", 'Dev Settings'!$B14)) | EW10: =$BY7 | EX10: =$BY15 -> HVT | FG10: =$FC$19 -> Grass | FK10: =$FC$19 -> Grass | FM10: =$FC$19 -> Grass | FU10: =$FC$19 -> Grass | FV10: =$FC$19 -> Grass | GB10: =$FC$19 -> Grass
F11: =$FC$5 -> ✮ | H11: =$CA$33 | R11: =IF('Dev Settings'!$B$11="", "", 'Dev Settings'!$B$11) -> SBS | U11: =$FC$6 -> ※ | BV11: ⛔ | BY11: =IF(OR($BT$3>0, $BT$2>0, $BY$3=FALSE, $AH$9=TRUE), "", IF('Dev Settings'!$B15="", "", 'Dev Settings'!$B15)) | CA11: FAILURE | CB11: =IF(AND($AH$9=TRUE, COUNTIF($CE$14:$CE$33, 8)=0), TRUE, FALSE) -> FALSE | EW11: =$BY8 | EX11: =$BY16 -> ISC | FG11: =$FC$19 -> Grass | FK11: =$FC$19 -> Grass | FM11: =$FC$19 -> Grass | FN11: =$FC$19 -> Grass | FU11: =$FC$19 -> Grass | FV11: =$FC$19 -> Grass | FW11: =$FC$19 -> Grass | FX11: =$FC$19 -> Grass | FZ11: =$FC$19 -> Grass | GB11: =$FC$19 -> Grass
F12: =$FC$6 -> ※ | G12: =$CB$33 | H12: =IF(OR($CB$11=TRUE, $CB$12=TRUE), $EP$7, "") | J12: =IF(OR($CB$11=TRUE, $CB$12=TRUE), $EQ$7, "") | L12: =IF(OR($CB$11=TRUE, $CB$12=TRUE), $ER$7, "") | N12: =IF(OR($CB$11=TRUE, $CB$12=TRUE), $ES$7, "") | P12: =$CB$33 | R12: =IF($FC$9=TRUE, "", IF('Dev Settings'!$L$11="", "", 'Dev Settings'!$L$11)) | U12: =$FC$6 -> ※ | BV12: ▲ | BY12: =IF(OR($BT$3>0, $BT$2>0, $BY$3=FALSE, $AH$9=TRUE), "", IF('Dev Settings'!$B18="", "", 'Dev Settings'!$B18)) | CA12: SUCCESS | CB12: =IF(COUNTIF($CE$14:$CE$33, 8)>0, TRUE, FALSE) -> FALSE | EI12: =DZ14 | EJ12: =EB14 | EK12: =ED14 | EL12: =EF14 | EW12: =$BY9 | EX12: =$BY17 -> PAT | FC12: Snow | FD12: ☃ | FG12: =$FC$19 -> Grass | FK12: =$FC$19 -> Grass | FM12: =$FC$19 -> Grass | FV12: =$FC$19 -> Grass | FW12: =$FC$19 -> Grass | FZ12: =$FC$19 -> Grass | GB12: =$FC$19 -> Grass
F13: =$FC$6 -> ※ | U13: =$FC$6 -> ※ | BV13: ◼ | EI13: =DZ16 | EJ13: =EB16 | EK13: =ED16 | EL13: =EF16 | EW13: =$BY10 | EX13: =$BY18 -> TNK | FC13: Grass | FD13: ☁ | FG13: =$FC$19 -> Grass | FK13: =$FC$19 -> Grass | FW13: =$FC$19 -> Grass | FZ13: =$FC$19 -> Grass | GB13: =$FC$19 -> Grass
F14: =$FC$6 -> ※ | G14: =IF($EZ14=$EW$7, $BV$14, "") | P14: =IF(BQ14="", "", $BV$13) | Q14: =IF(BR14="", "", $BV$13) | U14: =$FC$6 -> ※ | AC14: =IF(AF14="", "", "T") -> T | AE14: =AJ14 -> X | AF14: =AJ14 -> X | AH14: =IF($AJ14="", "", IF($AR14="X", "", $AJ14)) -> X | AJ14: =IF($AL14<=$BF$33, "X", "") -> X | AL14: 10 | AO14: =IF(AND($AR16="X", $BV$17=TRUE, $CB$11=FALSE, $CB$12=FALSE), "X", "") | AR14: =IF(AND(NOT($H14=""), NOT($J14=""), NOT($L14=""), NOT($N14="")), "X", "") | AU14: =IF($AO14="", "", IF(H14="", "X", "")) | AW14: =IF($AO14="", "", IF(J14="", "X", "")) | AY14: =IF($AO14="", "", IF(L14="", "X", "")) | BA14: =IF($AO14="", "", IF(N14="", "X", "")) | BD14: =Bridge!$B10 | BF14: =Bridge!$BD10 | BH14: =IF(AND(NOT(H14=""), COUNTIF($BY$7:$BY$12, H14)=0), "X", "") | BJ14: =IF(AND(NOT(J14=""), COUNTIF($BY$7:$BY$12, J14)=0), "X", "") | BL14: =IF(AND(NOT(L14=""), COUNTIF($BY$7:$BY$12, L14)=0), "X", "") | BN14: =IF(AND(NOT(N14=""), COUNTIF($BY$7:$BY$12, N14)=0), "X", "") | BQ14: =IF($EP14="", "", IFERROR(INDEX($CC$25:$CC$27, MATCH($EP14, $CB$25:$CB$27, 0)), "")) | BR14: =IF($EQ14="", "", IFERROR(INDEX($CC$25:$CC$27, MATCH($EQ14, $CB$25:$CB$27, 0)), "")) | BT14: 10 | BV14: ● | CA14: Score | CB14: =IF($CB$12=FALSE, 0, COUNTIF($EU$14:$EU$32, "X")) -> 0 | CE14: =SUM($EP14:$ES14) -> 0 | CG14: =IF(OR($H14="", $J14="", $L14="", $N14=""), "", H14) | CI14: =IF(OR($H14="", $J14="", $L14="", $N14=""), "", J14) | CK14: =IF(OR($H14="", $J14="", $L14="", $N14=""), "", L14) | CM14: =IF(OR($H14="", $J14="", $L14="", $N14=""), "", N14) | CP14: =IF(CG14="", "", IF(CG14=CG$7, $CC$27, "")) | CR14: =IF(CI14="", "", IF(CI14=CI$7, $CC$27, "")) | CT14: =IF(CK14="", "", IF(CK14=CK$7, $CC$27, "")) | CV14: =IF(CM14="", "", IF(CM14=CM$7, $CC$27, "")) | CY14: =IF(CG14="", "", IF(CP14=$CC$27, "", CG14)) | DA14: =IF(CI14="", "", IF(CR14=$CC$27, "", CI14)) | DC14: =IF(CK14="", "", IF(CT14=$CC$27, "", CK14)) | DE14: =IF(CM14="", "", IF(CV14=$CC$27, "", CM14)) | DH14: =IF(CG14="", "", IF(CP14=$CC$27, "", CG$7)) | DJ14: =IF(CI14="", "", IF(CR14=$CC$27, "", CI$7)) | DL14: =IF(CK14="", "", IF(CT14=$CC$27, "", CK$7)) | DN14: =IF(CM14="", "", IF(CV14=$CC$27, "", CM$7)) | DQ14: =IF(CP14=$CC$27, $CC$27, IF(CY14="", "", IF(COUNTIF($CY14:CY14, CY14)>COUNTIF($DH14:$DO15, CY14), $CC$25, $CC$26))) | DS14: =IF(CR14=$CC$27, $CC$27, IF(DA14="", "", IF(COUNTIF($CY14:DA14, DA14)>COUNTIF($DH14:$DO15, DA14), $CC$25, $CC$26))) | DU14: =IF(CT14=$CC$27, $CC$27, IF(DC14="", "", IF(COUNTIF($CY14:DC14, DC14)>COUNTIF($DH14:$DO15, DC14), $CC$25, $CC$26))) | DW14: =IF(CV14=$CC$27, $CC$27, IF(DE14="", "", IF(COUNTIF($CY14:DE14, DE14)>COUNTIF($DH14:$DO15, DE14), $CC$25, $CC$26))) | DZ14: =IFERROR(INDEX($CB$25:$CB$27, MATCH(DQ14, $CC$25:$CC$27, 0)), "") | EB14: =IFERROR(INDEX($CB$25:$CB$27, MATCH(DS14, $CC$25:$CC$27, 0)), "") | ED14: =IFERROR(INDEX($CB$25:$CB$27, MATCH(DU14, $CC$25:$CC$27, 0)), "") | EF14: =IFERROR(INDEX($CB$25:$CB$27, MATCH(DW14, $CC$25:$CC$27, 0)), "") | EI14: =DZ18 | EJ14: =EB18 | EK14: =ED18 | EL14: =EF18 | EN14: 10 | EP14: =IFERROR(INDEX($EI$39:$EL$48, MATCH($EN14, $EG$39:$EG$48, 0), MATCH(EP$9, $EI$35:$EL$35, 0)), "") | EQ14: =IFERROR(INDEX($EI$39:$EL$48, MATCH($EN14, $EG$39:$EG$48, 0), MATCH(EQ$9, $EI$35:$EL$35, 0)), "") | ER14: =IFERROR(INDEX($EI$39:$EL$48, MATCH($EN14, $EG$39:$EG$48, 0), MATCH(ER$9, $EI$35:$EL$35, 0)), "") | ES14: =IFERROR(INDEX($EI$39:$EL$48, MATCH($EN14, $EG$39:$EG$48, 0), MATCH(ES$9, $EI$35:$EL$35, 0)), "") | EU14: =IF(COUNTIF($EP14:$ES14, "")=4, "", "X") | EW14: =$BY11 | EX14: =$BY19 -> AIR | EZ14: =IF($BT14=$EX$7, $EW$7, "") | FC14: Sand | FD14: ☀ | FG14: =$FC$19 -> Grass | FK14: =$FC$19 -> Grass | FM14: =$FC$19 -> Grass | FN14: =$FC$19 -> Grass | FP14: =$FC$19 -> Grass | FR14: =$FC$19 -> Grass | FT14: =$FC$19 -> Grass | FV14: =$FC$19 -> Grass | FW14: =$FC$19 -> Grass | FX14: =$FC$19 -> Grass | FY14: =$FC$19 -> Grass | FZ14: =$FC$19 -> Grass | GB14: =$FC$19 -> Grass
F15: =$FC$6 -> ※ | P15: =IF(BQ15="", "", $BV$13) | Q15: =IF(BR15="", "", $BV$13) | R15: =IF('Dev Settings'!$B$12="", "", 'Dev Settings'!$B$12) -> MAR | U15: =$FC$6 -> ※ | AC15: =IF(AF15="", "", "B") -> B | AE15: =AJ14 -> X | AF15: =AJ14 -> X | BD15: Carrier currently en route | BF15: =IF($BT$3=0, "", "X") | BQ15: =IF($ER14="", "", IFERROR(INDEX($CC$25:$CC$27, MATCH($ER14, $CB$25:$CB$27, 0)), "")) | BR15: =IF($ES14="", "", IFERROR(INDEX($CC$25:$CC$27, MATCH($ES14, $CB$25:$CB$27, 0)), "")) | BX15: 1 | BY15: =IF('Dev Settings'!$Q11="", "", 'Dev Settings'!$Q11) -> HVT | EI15: =DZ20 | EJ15: =EB20 | EK15: =ED20 | EL15: =EF20 | EW15: =$BY12 | EX15: =$BY20 -> MOR | FC15: Rocks | FD15: ❄ | FG15: =$FC$19 -> Grass | FK15: =$FC$19 -> Grass | FV15: =$FC$19 -> Grass | FW15: =$FC$19 -> Grass | FX15: =$FC$19 -> Grass | FZ15: =$FC$19 -> Grass | GB15: =$FC$19 -> Grass
F16: =$FC$6 -> ※ | G16: =IF($EZ16=$EW$7, $BV$14, "") | P16: =IF(BQ16="", "", $BV$13) | Q16: =IF(BR16="", "", $BV$13) | R16: =IF($FC$9=TRUE, "", IF('Dev Settings'!$L$12="", "", 'Dev Settings'!$L$12)) | U16: =$FC$6 -> ※ | AC16: =IF(AF16="", "", "T") -> T | AE16: =AJ16 -> X | AF16: =AJ16 -> X | AH16: =IF($AJ16="", "", IF($AR16="X", "", $AJ16)) -> X | AJ16: =IF($AL16<=$BF$33, "X", "") -> X | AL16: 9 | AO16: =IF(AND($AR18="X", $BV$17=TRUE, $CB$11=FALSE, $CB$12=FALSE), "X", "") | AR16: =IF(AND(NOT($H16=""), NOT($J16=""), NOT($L16=""), NOT($N16="")), "X", "") | AU16: =IF($AO16="", "", IF(H16="", "X", "")) | AW16: =IF($AO16="", "", IF(J16="", "X", "")) | AY16: =IF($AO16="", "", IF(L16="", "X", "")) | BA16: =IF($AO16="", "", IF(N16="", "X", "")) | BD16: =Bridge!$B11 -> NEW intel from MI6 | BF16: =Bridge!$BD11 -> X | BH16: =IF(AND(NOT(H16=""), COUNTIF($BY$7:$BY$12, H16)=0), "X", "") | BJ16: =IF(AND(NOT(J16=""), COUNTIF($BY$7:$BY$12, J16)=0), "X", "") | BL16: =IF(AND(NOT(L16=""), COUNTIF($BY$7:$BY$12, L16)=0), "X", "") | BN16: =IF(AND(NOT(N16=""), COUNTIF($BY$7:$BY$12, N16)=0), "X", "") | BQ16: =IF($EP16="", "", IFERROR(INDEX($CC$25:$CC$27, MATCH($EP16, $CB$25:$CB$27, 0)), "")) | BR16: =IF($EQ16="", "", IFERROR(INDEX($CC$25:$CC$27, MATCH($EQ16, $CB$25:$CB$27, 0)), "")) | BT16: 9 | BV16: Play | BX16: 2 | BY16: =IF('Dev Settings'!$Q12="", "", 'Dev Settings'!$Q12) -> ISC | CA16: Mission Failed | CB16: =$BV$11 -> ⛔ | CE16: =SUM($EP16:$ES16) -> 0 | CG16: =IF(OR($H16="", $J16="", $L16="", $N16=""), "", H16) | CI16: =IF(OR($H16="", $J16="", $L16="", $N16=""), "", J16) | CK16: =IF(OR($H16="", $J16="", $L16="", $N16=""), "", L16) | CM16: =IF(OR($H16="", $J16="", $L16="", $N16=""), "", N16) | CP16: =IF(CG16="", "", IF(CG16=CG$7, $CC$27, "")) | CR16: =IF(CI16="", "", IF(CI16=CI$7, $CC$27, "")) | CT16: =IF(CK16="", "", IF(CK16=CK$7, $CC$27, "")) | CV16: =IF(CM16="", "", IF(CM16=CM$7, $CC$27, "")) | CY16: =IF(CG16="", "", IF(CP16=$CC$27, "", CG16)) | DA16: =IF(CI16="", "", IF(CR16=$CC$27, "", CI16)) | DC16: =IF(CK16="", "", IF(CT16=$CC$27, "", CK16)) | DE16: =IF(CM16="", "", IF(CV16=$CC$27, "", CM16)) | DH16: =IF(CG16="", "", IF(CP16=$CC$27, "", CG$7)) | DJ16: =IF(CI16="", "", IF(CR16=$CC$27, "", CI$7)) | DL16: =IF(CK16="", "", IF(CT16=$CC$27, "", CK$7)) | DN16: =IF(CM16="", "", IF(CV16=$CC$27, "", CM$7)) | DQ16: =IF(CP16=$CC$27, $CC$27, IF(CY16="", "", IF(COUNTIF($CY16:CY16, CY16)>COUNTIF($DH16:$DO17, CY16), $CC$25, $CC$26))) | DS16: =IF(CR16=$CC$27, $CC$27, IF(DA16="", "", IF(COUNTIF($CY16:DA16, DA16)>COUNTIF($DH16:$DO17, DA16), $CC$25, $CC$26))) | DU16: =IF(CT16=$CC$27, $CC$27, IF(DC16="", "", IF(COUNTIF($CY16:DC16, DC16)>COUNTIF($DH16:$DO17, DC16), $CC$25, $CC$26))) | DW16: =IF(CV16=$CC$27, $CC$27, IF(DE16="", "", IF(COUNTIF($CY16:DE16, DE16)>COUNTIF($DH16:$DO17, DE16), $CC$25, $CC$26))) | DZ16: =IFERROR(INDEX($CB$25:$CB$27, MATCH(DQ16, $CC$25:$CC$27, 0)), "") | EB16: =IFERROR(INDEX($CB$25:$CB$27, MATCH(DS16, $CC$25:$CC$27, 0)), "") | ED16: =IFERROR(INDEX($CB$25:$CB$27, MATCH(DU16, $CC$25:$CC$27, 0)), "") | EF16: =IFERROR(INDEX($CB$25:$CB$27, MATCH(DW16, $CC$25:$CC$27, 0)), "") | EI16: =DZ22 | EJ16: =EB22 | EK16: =ED22 | EL16: =EF22 | EN16: 9 | EP16: =IFERROR(INDEX($EI$39:$EL$48, MATCH($EN16, $EG$39:$EG$48, 0), MATCH(EP$9, $EI$35:$EL$35, 0)), "") | EQ16: =IFERROR(INDEX($EI$39:$EL$48, MATCH($EN16, $EG$39:$EG$48, 0), MATCH(EQ$9, $EI$35:$EL$35, 0)), "") | ER16: =IFERROR(INDEX($EI$39:$EL$48, MATCH($EN16, $EG$39:$EG$48, 0), MATCH(ER$9, $EI$35:$EL$35, 0)), "") | ES16: =IFERROR(INDEX($EI$39:$EL$48, MATCH($EN16, $EG$39:$EG$48, 0), MATCH(ES$9, $EI$35:$EL$35, 0)), "") | EU16: =IF(COUNTIF($EP16:$ES16, "")=4, "", "X") | EZ16: =IF($BT16=$EX$7, $EW$7, "") | FC16: Ocean | FD16: ⚓ | FG16: =$FC$19 -> Grass | FK16: =$FC$19 -> Grass | FM16: =$FC$19 -> Grass | FN16: =$FC$19 -> Grass | FP16: =$FC$19 -> Grass | FR16: =$FC$19 -> Grass | FT16: =$FC$19 -> Grass | FV16: =$FC$19 -> Grass | FW16: =$FC$19 -> Grass | FZ16: =$FC$19 -> Grass | GB16: =$FC$19 -> Grass
F17: =$FC$6 -> ※ | P17: =IF(BQ17="", "", $BV$13) | Q17: =IF(BR17="", "", $BV$13) | U17: =$FC$6 -> ※ | AC17: =IF(AF17="", "", "B") -> B | AE17: =AJ16 -> X | AF17: =AJ16 -> X | BD17: =Bridge!$B12 | BF17: =Bridge!$BD12 | BQ17: =IF($ER16="", "", IFERROR(INDEX($CC$25:$CC$27, MATCH($ER16, $CB$25:$CB$27, 0)), "")) | BR17: =IF($ES16="", "", IFERROR(INDEX($CC$25:$CC$27, MATCH($ES16, $CB$25:$CB$27, 0)), "")) | BV17: =$BF$14="X" -> FALSE | BX17: 3 | BY17: =IF('Dev Settings'!$Q17="", "", 'Dev Settings'!$Q17) -> PAT | CA17: Mission Success | CB17: =$BV$12 -> ▲ | EI17: =DZ24 | EJ17: =EB24 | EK17: =ED24 | EL17: =EF24 | FG17: =$FC$19 -> Grass | FK17: =$FC$19 -> Grass | FV17: =$FC$19 -> Grass | FW17: =$FC$19 -> Grass | FZ17: =$FC$19 -> Grass | GB17: =$FC$19 -> Grass
F18: =$FC$6 -> ※ | G18: =IF($EZ18=$EW$7, $BV$14, "") | P18: =IF(BQ18="", "", $BV$13) | Q18: =IF(BR18="", "", $BV$13) | U18: =$FC$6 -> ※ | AC18: =IF(AF18="", "", "T") -> T | AE18: =AJ18 -> X | AF18: =AJ18 -> X | AH18: =IF($AJ18="", "", IF($AR18="X", "", $AJ18)) -> X | AJ18: =IF($AL18<=$BF$33, "X", "") -> X | AL18: 8 | AO18: =IF(AND($AR20="X", $BV$17=TRUE, $CB$11=FALSE, $CB$12=FALSE), "X", "") | AR18: =IF(AND(NOT($H18=""), NOT($J18=""), NOT($L18=""), NOT($N18="")), "X", "") | AU18: =IF($AO18="", "", IF(H18="", "X", "")) | AW18: =IF($AO18="", "", IF(J18="", "X", "")) | AY18: =IF($AO18="", "", IF(L18="", "X", "")) | BA18: =IF($AO18="", "", IF(N18="", "X", "")) | BD18: =Bridge!$B13 | BF18: =Bridge!$BD13 | BH18: =IF(AND(NOT(H18=""), COUNTIF($BY$7:$BY$12, H18)=0), "X", "") | BJ18: =IF(AND(NOT(J18=""), COUNTIF($BY$7:$BY$12, J18)=0), "X", "") | BL18: =IF(AND(NOT(L18=""), COUNTIF($BY$7:$BY$12, L18)=0), "X", "") | BN18: =IF(AND(NOT(N18=""), COUNTIF($BY$7:$BY$12, N18)=0), "X", "") | BQ18: =IF($EP18="", "", IFERROR(INDEX($CC$25:$CC$27, MATCH($EP18, $CB$25:$CB$27, 0)), "")) | BR18: =IF($EQ18="", "", IFERROR(INDEX($CC$25:$CC$27, MATCH($EQ18, $CB$25:$CB$27, 0)), "")) | BT18: 8 | BX18: 4 | BY18: =IF('Dev Settings'!$Q14="", "", 'Dev Settings'!$Q14) -> TNK | CA18: CONGRATULATIONS | CE18: =SUM($EP18:$ES18) -> 0 | CG18: =IF(OR($H18="", $J18="", $L18="", $N18=""), "", H18) | CI18: =IF(OR($H18="", $J18="", $L18="", $N18=""), "", J18) | CK18: =IF(OR($H18="", $J18="", $L18="", $N18=""), "", L18) | CM18: =IF(OR($H18="", $J18="", $L18="", $N18=""), "", N18) | CP18: =IF(CG18="", "", IF(CG18=CG$7, $CC$27, "")) | CR18: =IF(CI18="", "", IF(CI18=CI$7, $CC$27, "")) | CT18: =IF(CK18="", "", IF(CK18=CK$7, $CC$27, "")) | CV18: =IF(CM18="", "", IF(CM18=CM$7, $CC$27, "")) | CY18: =IF(CG18="", "", IF(CP18=$CC$27, "", CG18)) | DA18: =IF(CI18="", "", IF(CR18=$CC$27, "", CI18)) | DC18: =IF(CK18="", "", IF(CT18=$CC$27, "", CK18)) | DE18: =IF(CM18="", "", IF(CV18=$CC$27, "", CM18)) | DH18: =IF(CG18="", "", IF(CP18=$CC$27, "", CG$7)) | DJ18: =IF(CI18="", "", IF(CR18=$CC$27, "", CI$7)) | DL18: =IF(CK18="", "", IF(CT18=$CC$27, "", CK$7)) | DN18: =IF(CM18="", "", IF(CV18=$CC$27, "", CM$7)) | DQ18: =IF(CP18=$CC$27, $CC$27, IF(CY18="", "", IF(COUNTIF($CY18:CY18, CY18)>COUNTIF($DH18:$DO19, CY18), $CC$25, $CC$26))) | DS18: =IF(CR18=$CC$27, $CC$27, IF(DA18="", "", IF(COUNTIF($CY18:DA18, DA18)>COUNTIF($DH18:$DO19, DA18), $CC$25, $CC$26))) | DU18: =IF(CT18=$CC$27, $CC$27, IF(DC18="", "", IF(COUNTIF($CY18:DC18, DC18)>COUNTIF($DH18:$DO19, DC18), $CC$25, $CC$26))) | DW18: =IF(CV18=$CC$27, $CC$27, IF(DE18="", "", IF(COUNTIF($CY18:DE18, DE18)>COUNTIF($DH18:$DO19, DE18), $CC$25, $CC$26))) | DZ18: =IFERROR(INDEX($CB$25:$CB$27, MATCH(DQ18, $CC$25:$CC$27, 0)), "") | EB18: =IFERROR(INDEX($CB$25:$CB$27, MATCH(DS18, $CC$25:$CC$27, 0)), "") | ED18: =IFERROR(INDEX($CB$25:$CB$27, MATCH(DU18, $CC$25:$CC$27, 0)), "") | EF18: =IFERROR(INDEX($CB$25:$CB$27, MATCH(DW18, $CC$25:$CC$27, 0)), "") | EI18: =DZ26 | EJ18: =EB26 | EK18: =ED26 | EL18: =EF26 | EN18: 8 | EP18: =IFERROR(INDEX($EI$39:$EL$48, MATCH($EN18, $EG$39:$EG$48, 0), MATCH(EP$9, $EI$35:$EL$35, 0)), "") | EQ18: =IFERROR(INDEX($EI$39:$EL$48, MATCH($EN18, $EG$39:$EG$48, 0), MATCH(EQ$9, $EI$35:$EL$35, 0)), "") | ER18: =IFERROR(INDEX($EI$39:$EL$48, MATCH($EN18, $EG$39:$EG$48, 0), MATCH(ER$9, $EI$35:$EL$35, 0)), "") | ES18: =IFERROR(INDEX($EI$39:$EL$48, MATCH($EN18, $EG$39:$EG$48, 0), MATCH(ES$9, $EI$35:$EL$35, 0)), "") | EU18: =IF(COUNTIF($EP18:$ES18, "")=4, "", "X") | EZ18: =IF($BT18=$EX$7, $EW$7, "") | FG18: =$FC$19 -> Grass | FH18: =$FC$19 -> Grass | FI18: =$FC$19 -> Grass | FJ18: =$FC$19 -> Grass | FK18: =$FC$19 -> Grass | FM18: =$FC$19 -> Grass | FN18: =$FC$19 -> Grass | FP18: =$FC$19 -> Grass | FR18: =$FC$19 -> Grass | FT18: =$FC$19 -> Grass | FV18: =$FC$19 -> Grass | FW18: =$FC$19 -> Grass | FX18: =$FC$19 -> Grass | FY18: =$FC$19 -> Grass | FZ18: =$FC$19 -> Grass | GB18: =$FC$19 -> Grass
B19: =IF(B20="", "", "Loc") -> Loc | F19: =$FC$6 -> ※ | P19: =IF(BQ19="", "", $BV$13) | Q19: =IF(BR19="", "", $BV$13) | R19: =IF('Dev Settings'!$B$17="", "", 'Dev Settings'!$B$17) -> SNI | U19: =$FC$6 -> ※ | AC19: =IF(AF19="", "", "B") -> B | AE19: =AJ18 -> X | AF19: =AJ18 -> X | BD19: =Bridge!$B14 -> Depart for new destination | BF19: =Bridge!$BD14 -> X | BQ19: =IF($ER18="", "", IFERROR(INDEX($CC$25:$CC$27, MATCH($ER18, $CB$25:$CB$27, 0)), "")) | BR19: =IF($ES18="", "", IFERROR(INDEX($CC$25:$CC$27, MATCH($ES18, $CB$25:$CB$27, 0)), "")) | BX19: 5 | BY19: =IF('Dev Settings'!$Q15="", "", 'Dev Settings'!$Q15) -> AIR | EI19: =DZ28 | EJ19: =EB28 | EK19: =ED28 | EL19: =EF28 | FC19: =IF($BT$5=$BV$2, $FC$16, IFERROR(INDEX(Destinations!$CH$6:$CH$19, MATCH($BT$5, Destinations!$BN$6:$BN$19, 0)), $FC$16)) -> Grass | FD19: =IFERROR(INDEX($FD$12:$FD$16, MATCH($FC$19, $FC$12:$FC$16, 0)), "") -> ☁ | FG19: =$FC$19 -> Grass | FH19: =$FC$19 -> Grass | FK19: =$FC$19 -> Grass | FV19: =$FC$19 -> Grass | FW19: =$FC$19 -> Grass | FX19: =$FC$19 -> Grass | FZ19: =$FC$19 -> Grass | GB19: =$FC$19 -> Grass
B20: =IFERROR(INDEX('Mission Codes'!$EI$7:$EI$19, MATCH($BT$5, 'Mission Codes'!$EF$7:$EF$19, 0)), "") -> 0 | F20: =$FC$6 -> ※ | G20: =IF($EZ20=$EW$7, $BV$14, "") | P20: =IF(BQ20="", "", $BV$13) | Q20: =IF(BR20="", "", $BV$13) | R20: =IF($FC$9=TRUE, "", IF('Dev Settings'!$L$17="", "", 'Dev Settings'!$L$17)) | U20: =$FC$6 -> ※ | AC20: =IF(AF20="", "", "T") -> T | AE20: =AJ20 -> X | AF20: =AJ20 -> X | AH20: =IF($AJ20="", "", IF($AR20="X", "", $AJ20)) -> X | AJ20: =IF($AL20<=$BF$33, "X", "") -> X | AL20: 7 | AO20: =IF(AND($AR22="X", $BV$17=TRUE, $CB$11=FALSE, $CB$12=FALSE), "X", "") | AR20: =IF(AND(NOT($H20=""), NOT($J20=""), NOT($L20=""), NOT($N20="")), "X", "") | AU20: =IF($AO20="", "", IF(H20="", "X", "")) | AW20: =IF($AO20="", "", IF(J20="", "X", "")) | AY20: =IF($AO20="", "", IF(L20="", "X", "")) | BA20: =IF($AO20="", "", IF(N20="", "X", "")) | BD20: =CONCATENATE(Bridge!$BF$23, " ", Bridge!$BF$24) -> Mission complete! What a succesful career! You've earned your retirement! | BF20: =Bridge!$BD$23 | BH20: =IF(AND(NOT(H20=""), COUNTIF($BY$7:$BY$12, H20)=0), "X", "") | BJ20: =IF(AND(NOT(J20=""), COUNTIF($BY$7:$BY$12, J20)=0), "X", "") | BL20: =IF(AND(NOT(L20=""), COUNTIF($BY$7:$BY$12, L20)=0), "X", "") | BN20: =IF(AND(NOT(N20=""), COUNTIF($BY$7:$BY$12, N20)=0), "X", "") | BQ20: =IF($EP20="", "", IFERROR(INDEX($CC$25:$CC$27, MATCH($EP20, $CB$25:$CB$27, 0)), "")) | BR20: =IF($EQ20="", "", IFERROR(INDEX($CC$25:$CC$27, MATCH($EQ20, $CB$25:$CB$27, 0)), "")) | BT20: 7 | BX20: 6 | BY20: =IF('Dev Settings'!$Q18="", "", 'Dev Settings'!$Q18) -> MOR | CB20: 40 | CE20: =SUM($EP20:$ES20) -> 0 | CG20: =IF(OR($H20="", $J20="", $L20="", $N20=""), "", H20) | CI20: =IF(OR($H20="", $J20="", $L20="", $N20=""), "", J20) | CK20: =IF(OR($H20="", $J20="", $L20="", $N20=""), "", L20) | CM20: =IF(OR($H20="", $J20="", $L20="", $N20=""), "", N20) | CP20: =IF(CG20="", "", IF(CG20=CG$7, $CC$27, "")) | CR20: =IF(CI20="", "", IF(CI20=CI$7, $CC$27, "")) | CT20: =IF(CK20="", "", IF(CK20=CK$7, $CC$27, "")) | CV20: =IF(CM20="", "", IF(CM20=CM$7, $CC$27, "")) | CY20: =IF(CG20="", "", IF(CP20=$CC$27, "", CG20)) | DA20: =IF(CI20="", "", IF(CR20=$CC$27, "", CI20)) | DC20: =IF(CK20="", "", IF(CT20=$CC$27, "", CK20)) | DE20: =IF(CM20="", "", IF(CV20=$CC$27, "", CM20)) | DH20: =IF(CG20="", "", IF(CP20=$CC$27, "", CG$7)) | DJ20: =IF(CI20="", "", IF(CR20=$CC$27, "", CI$7)) | DL20: =IF(CK20="", "", IF(CT20=$CC$27, "", CK$7)) | DN20: =IF(CM20="", "", IF(CV20=$CC$27, "", CM$7)) | DQ20: =IF(CP20=$CC$27, $CC$27, IF(CY20="", "", IF(COUNTIF($CY20:CY20, CY20)>COUNTIF($DH20:$DO21, CY20), $CC$25, $CC$26))) | DS20: =IF(CR20=$CC$27, $CC$27, IF(DA20="", "", IF(COUNTIF($CY20:DA20, DA20)>COUNTIF($DH20:$DO21, DA20), $CC$25, $CC$26))) | DU20: =IF(CT20=$CC$27, $CC$27, IF(DC20="", "", IF(COUNTIF($CY20:DC20, DC20)>COUNTIF($DH20:$DO21, DC20), $CC$25, $CC$26))) | DW20: =IF(CV20=$CC$27, $CC$27, IF(DE20="", "", IF(COUNTIF($CY20:DE20, DE20)>COUNTIF($DH20:$DO21, DE20), $CC$25, $CC$26))) | DZ20: =IFERROR(INDEX($CB$25:$CB$27, MATCH(DQ20, $CC$25:$CC$27, 0)), "") | EB20: =IFERROR(INDEX($CB$25:$CB$27, MATCH(DS20, $CC$25:$CC$27, 0)), "") | ED20: =IFERROR(INDEX($CB$25:$CB$27, MATCH(DU20, $CC$25:$CC$27, 0)), "") | EF20: =IFERROR(INDEX($CB$25:$CB$27, MATCH(DW20, $CC$25:$CC$27, 0)), "") | EI20: =DZ30 | EJ20: =EB30 | EK20: =ED30 | EL20: =EF30 | EN20: 7 | EP20: =IFERROR(INDEX($EI$39:$EL$48, MATCH($EN20, $EG$39:$EG$48, 0), MATCH(EP$9, $EI$35:$EL$35, 0)), "") | EQ20: =IFERROR(INDEX($EI$39:$EL$48, MATCH($EN20, $EG$39:$EG$48, 0), MATCH(EQ$9, $EI$35:$EL$35, 0)), "") | ER20: =IFERROR(INDEX($EI$39:$EL$48, MATCH($EN20, $EG$39:$EG$48, 0), MATCH(ER$9, $EI$35:$EL$35, 0)), "") | ES20: =IFERROR(INDEX($EI$39:$EL$48, MATCH($EN20, $EG$39:$EG$48, 0), MATCH(ES$9, $EI$35:$EL$35, 0)), "") | EU20: =IF(COUNTIF($EP20:$ES20, "")=4, "", "X") | EZ20: =IF($BT20=$EX$7, $EW$7, "") | FG20: =$FC$19 -> Grass | FH20: =$FC$19 -> Grass | FK20: =$FC$19 -> Grass | FM20: =$FC$19 -> Grass | FN20: =$FC$19 -> Grass | FP20: =$FC$19 -> Grass | FR20: =$FC$19 -> Grass | FT20: =$FC$19 -> Grass | FV20: =$FC$19 -> Grass | FW20: =$FC$19 -> Grass | FZ20: =$FC$19 -> Grass | GB20: =$FC$19 -> Grass
F21: =$FC$6 -> ※ | P21: =IF(BQ21="", "", $BV$13) | Q21: =IF(BR21="", "", $BV$13) | U21: =$FC$6 -> ※ | AC21: =IF(AF21="", "", "B") -> B | AE21: =AJ20 -> X | AF21: =AJ20 -> X | BD21: =CONCATENATE(Bridge!$BF$26, " ", Bridge!$BF$27) -> Mission failed! What a waste of a career! You're forced into retirement! | BF21: =Bridge!$BD$26 | BQ21: =IF($ER20="", "", IFERROR(INDEX($CC$25:$CC$27, MATCH($ER20, $CB$25:$CB$27, 0)), "")) | BR21: =IF($ES20="", "", IFERROR(INDEX($CC$25:$CC$27, MATCH($ES20, $CB$25:$CB$27, 0)), "")) | BV21: =MAX('Mission Codes'!$GG$6:$GG$165) -> 0 | CB21: =$BY$25 -> 0 | EI21: =DZ32 | EJ21: =EB32 | EK21: =ED32 | EL21: =EF32 | FG21: =$FC$19 -> Grass | FK21: =$FC$19 -> Grass | FV21: =$FC$19 -> Grass | FW21: =$FC$19 -> Grass | FZ21: =$FC$19 -> Grass | GB21: =$FC$19 -> Grass
F22: =$FC$6 -> ※ | G22: =IF($EZ22=$EW$7, $BV$14, "") | P22: =IF(BQ22="", "", $BV$13) | Q22: =IF(BR22="", "", $BV$13) | U22: =$FC$6 -> ※ | AC22: =IF(AF22="", "", "T") -> T | AE22: =AJ22 -> X | AF22: =AJ22 -> X | AH22: =IF($AJ22="", "", IF($AR22="X", "", $AJ22)) -> X | AJ22: =IF($AL22<=$BF$33, "X", "") -> X | AL22: 6 | AO22: =IF(AND($AR24="X", $BV$17=TRUE, $CB$11=FALSE, $CB$12=FALSE), "X", "") | AR22: =IF(AND(NOT($H22=""), NOT($J22=""), NOT($L22=""), NOT($N22="")), "X", "") | AU22: =IF($AO22="", "", IF(H22="", "X", "")) | AW22: =IF($AO22="", "", IF(J22="", "X", "")) | AY22: =IF($AO22="", "", IF(L22="", "X", "")) | BA22: =IF($AO22="", "", IF(N22="", "X", "")) | BD22: Please consult HQ | BF22: =IF(COUNTIF(Bridge!$BD$5:$BD$9, "X")+COUNTIF(Bridge!$BD$17:$BD$19, "X")=0, "", "X") | BH22: =IF(AND(NOT(H22=""), COUNTIF($BY$7:$BY$12, H22)=0), "X", "") | BJ22: =IF(AND(NOT(J22=""), COUNTIF($BY$7:$BY$12, J22)=0), "X", "") | BL22: =IF(AND(NOT(L22=""), COUNTIF($BY$7:$BY$12, L22)=0), "X", "") | BN22: =IF(AND(NOT(N22=""), COUNTIF($BY$7:$BY$12, N22)=0), "X", "") | BQ22: =IF($EP22="", "", IFERROR(INDEX($CC$25:$CC$27, MATCH($EP22, $CB$25:$CB$27, 0)), "")) | BR22: =IF($EQ22="", "", IFERROR(INDEX($CC$25:$CC$27, MATCH($EQ22, $CB$25:$CB$27, 0)), "")) | BT22: 6 | CB22: =CB20-CB21 -> 40 | CE22: =SUM($EP22:$ES22) -> 0 | CG22: =IF(OR($H22="", $J22="", $L22="", $N22=""), "", H22) | CI22: =IF(OR($H22="", $J22="", $L22="", $N22=""), "", J22) | CK22: =IF(OR($H22="", $J22="", $L22="", $N22=""), "", L22) | CM22: =IF(OR($H22="", $J22="", $L22="", $N22=""), "", N22) | CP22: =IF(CG22="", "", IF(CG22=CG$7, $CC$27, "")) | CR22: =IF(CI22="", "", IF(CI22=CI$7, $CC$27, "")) | CT22: =IF(CK22="", "", IF(CK22=CK$7, $CC$27, "")) | CV22: =IF(CM22="", "", IF(CM22=CM$7, $CC$27, "")) | CY22: =IF(CG22="", "", IF(CP22=$CC$27, "", CG22)) | DA22: =IF(CI22="", "", IF(CR22=$CC$27, "", CI22)) | DC22: =IF(CK22="", "", IF(CT22=$CC$27, "", CK22)) | DE22: =IF(CM22="", "", IF(CV22=$CC$27, "", CM22)) | DH22: =IF(CG22="", "", IF(CP22=$CC$27, "", CG$7)) | DJ22: =IF(CI22="", "", IF(CR22=$CC$27, "", CI$7)) | DL22: =IF(CK22="", "", IF(CT22=$CC$27, "", CK$7)) | DN22: =IF(CM22="", "", IF(CV22=$CC$27, "", CM$7)) | DQ22: =IF(CP22=$CC$27, $CC$27, IF(CY22="", "", IF(COUNTIF($CY22:CY22, CY22)>COUNTIF($DH22:$DO23, CY22), $CC$25, $CC$26))) | DS22: =IF(CR22=$CC$27, $CC$27, IF(DA22="", "", IF(COUNTIF($CY22:DA22, DA22)>COUNTIF($DH22:$DO23, DA22), $CC$25, $CC$26))) | DU22: =IF(CT22=$CC$27, $CC$27, IF(DC22="", "", IF(COUNTIF($CY22:DC22, DC22)>COUNTIF($DH22:$DO23, DC22), $CC$25, $CC$26))) | DW22: =IF(CV22=$CC$27, $CC$27, IF(DE22="", "", IF(COUNTIF($CY22:DE22, DE22)>COUNTIF($DH22:$DO23, DE22), $CC$25, $CC$26))) | DZ22: =IFERROR(INDEX($CB$25:$CB$27, MATCH(DQ22, $CC$25:$CC$27, 0)), "") | EB22: =IFERROR(INDEX($CB$25:$CB$27, MATCH(DS22, $CC$25:$CC$27, 0)), "") | ED22: =IFERROR(INDEX($CB$25:$CB$27, MATCH(DU22, $CC$25:$CC$27, 0)), "") | EF22: =IFERROR(INDEX($CB$25:$CB$27, MATCH(DW22, $CC$25:$CC$27, 0)), "") | EN22: 6 | EP22: =IFERROR(INDEX($EI$39:$EL$48, MATCH($EN22, $EG$39:$EG$48, 0), MATCH(EP$9, $EI$35:$EL$35, 0)), "") | EQ22: =IFERROR(INDEX($EI$39:$EL$48, MATCH($EN22, $EG$39:$EG$48, 0), MATCH(EQ$9, $EI$35:$EL$35, 0)), "") | ER22: =IFERROR(INDEX($EI$39:$EL$48, MATCH($EN22, $EG$39:$EG$48, 0), MATCH(ER$9, $EI$35:$EL$35, 0)), "") | ES22: =IFERROR(INDEX($EI$39:$EL$48, MATCH($EN22, $EG$39:$EG$48, 0), MATCH(ES$9, $EI$35:$EL$35, 0)), "") | EU22: =IF(COUNTIF($EP22:$ES22, "")=4, "", "X") | EZ22: =IF($BT22=$EX$7, $EW$7, "") | FG22: =$FC$19 -> Grass | FH22: =$FC$19 -> Grass | FI22: =$FC$19 -> Grass | FJ22: =$FC$19 -> Grass | FK22: =$FC$19 -> Grass | FM22: =$FC$19 -> Grass | FN22: =$FC$19 -> Grass | FP22: =$FC$19 -> Grass | FR22: =$FC$19 -> Grass | FT22: =$FC$19 -> Grass | FV22: =$FC$19 -> Grass | FW22: =$FC$19 -> Grass | FX22: =$FC$19 -> Grass | FY22: =$FC$19 -> Grass | FZ22: =$FC$19 -> Grass | GB22: =$FC$19 -> Grass
B23: Career | F23: =$FC$6 -> ※ | P23: =IF(BQ23="", "", $BV$13) | Q23: =IF(BR23="", "", $BV$13) | R23: =IF('Dev Settings'!$B$14="", "", 'Dev Settings'!$B$14) -> APA | U23: =$FC$6 -> ※ | AC23: =IF(AF23="", "", "B") -> B | AE23: =AJ22 -> X | AF23: =AJ22 -> X | BQ23: =IF($ER22="", "", IFERROR(INDEX($CC$25:$CC$27, MATCH($ER22, $CB$25:$CB$27, 0)), "")) | BR23: =IF($ES22="", "", IFERROR(INDEX($CC$25:$CC$27, MATCH($ES22, $CB$25:$CB$27, 0)), "")) | BV23: =IFERROR(INDEX('Mission Codes'!$AY$6:$AY$165, MATCH($BV$21, 'Mission Codes'!$GG$6:$GG$165, 0)), "") | BY23: =40*2 -> 80 | FG23: =$FC$19 -> Grass | FH23: =$FC$19 -> Grass | FK23: =$FC$19 -> Grass | FV23: =$FC$19 -> Grass | FW23: =$FC$19 -> Grass | FX23: =$FC$19 -> Grass | FZ23: =$FC$19 -> Grass | GB23: =$FC$19 -> Grass
B24: ='Mission Codes'!$EI$20 -> 0 | F24: =$FC$6 -> ※ | G24: =IF($EZ24=$EW$7, $BV$14, "") | P24: =IF(BQ24="", "", $BV$13) | Q24: =IF(BR24="", "", $BV$13) | R24: =IF($FC$9=TRUE, "", IF('Dev Settings'!$L$14="", "", 'Dev Settings'!$L$14)) | U24: =$FC$6 -> ※ | AC24: =IF(AF24="", "", "T") -> T | AE24: =AJ24 -> X | AF24: =AJ24 -> X | AH24: =IF($AJ24="", "", IF($AR24="X", "", $AJ24)) -> X | AJ24: =IF($AL24<=$BF$33, "X", "") -> X | AL24: 5 | AO24: =IF(AND($AR26="X", $BV$17=TRUE, $CB$11=FALSE, $CB$12=FALSE), "X", "") | AR24: =IF(AND(NOT($H24=""), NOT($J24=""), NOT($L24=""), NOT($N24="")), "X", "") | AU24: =IF($AO24="", "", IF(H24="", "X", "")) | AW24: =IF($AO24="", "", IF(J24="", "X", "")) | AY24: =IF($AO24="", "", IF(L24="", "X", "")) | BA24: =IF($AO24="", "", IF(N24="", "X", "")) | BH24: =IF(AND(NOT(H24=""), COUNTIF($BY$7:$BY$12, H24)=0), "X", "") | BJ24: =IF(AND(NOT(J24=""), COUNTIF($BY$7:$BY$12, J24)=0), "X", "") | BL24: =IF(AND(NOT(L24=""), COUNTIF($BY$7:$BY$12, L24)=0), "X", "") | BN24: =IF(AND(NOT(N24=""), COUNTIF($BY$7:$BY$12, N24)=0), "X", "") | BQ24: =IF($EP24="", "", IFERROR(INDEX($CC$25:$CC$27, MATCH($EP24, $CB$25:$CB$27, 0)), "")) | BR24: =IF($EQ24="", "", IFERROR(INDEX($CC$25:$CC$27, MATCH($EQ24, $CB$25:$CB$27, 0)), "")) | BT24: 5 | BV24: =IFERROR(INDEX('Mission Codes'!$AZ$6:$AZ$165, MATCH($BV$21, 'Mission Codes'!$GG$6:$GG$165, 0)), "") | BY24: =(COUNTIF($H$14:$H$33, "")+COUNTIF($J$14:$J$33, "")+COUNTIF($L$14:$L$33, "")+COUNTIF($N$14:$N$33, "")) -> 80 | CE24: =SUM($EP24:$ES24) -> 0 | CG24: =IF(OR($H24="", $J24="", $L24="", $N24=""), "", H24) | CI24: =IF(OR($H24="", $J24="", $L24="", $N24=""), "", J24) | CK24: =IF(OR($H24="", $J24="", $L24="", $N24=""), "", L24) | CM24: =IF(OR($H24="", $J24="", $L24="", $N24=""), "", N24) | CP24: =IF(CG24="", "", IF(CG24=CG$7, $CC$27, "")) | CR24: =IF(CI24="", "", IF(CI24=CI$7, $CC$27, "")) | CT24: =IF(CK24="", "", IF(CK24=CK$7, $CC$27, "")) | CV24: =IF(CM24="", "", IF(CM24=CM$7, $CC$27, "")) | CY24: =IF(CG24="", "", IF(CP24=$CC$27, "", CG24)) | DA24: =IF(CI24="", "", IF(CR24=$CC$27, "", CI24)) | DC24: =IF(CK24="", "", IF(CT24=$CC$27, "", CK24)) | DE24: =IF(CM24="", "", IF(CV24=$CC$27, "", CM24)) | DH24: =IF(CG24="", "", IF(CP24=$CC$27, "", CG$7)) | DJ24: =IF(CI24="", "", IF(CR24=$CC$27, "", CI$7)) | DL24: =IF(CK24="", "", IF(CT24=$CC$27, "", CK$7)) | DN24: =IF(CM24="", "", IF(CV24=$CC$27, "", CM$7)) | DQ24: =IF(CP24=$CC$27, $CC$27, IF(CY24="", "", IF(COUNTIF($CY24:CY24, CY24)>COUNTIF($DH24:$DO25, CY24), $CC$25, $CC$26))) | DS24: =IF(CR24=$CC$27, $CC$27, IF(DA24="", "", IF(COUNTIF($CY24:DA24, DA24)>COUNTIF($DH24:$DO25, DA24), $CC$25, $CC$26))) | DU24: =IF(CT24=$CC$27, $CC$27, IF(DC24="", "", IF(COUNTIF($CY24:DC24, DC24)>COUNTIF($DH24:$DO25, DC24), $CC$25, $CC$26))) | DW24: =IF(CV24=$CC$27, $CC$27, IF(DE24="", "", IF(COUNTIF($CY24:DE24, DE24)>COUNTIF($DH24:$DO25, DE24), $CC$25, $CC$26))) | DZ24: =IFERROR(INDEX($CB$25:$CB$27, MATCH(DQ24, $CC$25:$CC$27, 0)), "") | EB24: =IFERROR(INDEX($CB$25:$CB$27, MATCH(DS24, $CC$25:$CC$27, 0)), "") | ED24: =IFERROR(INDEX($CB$25:$CB$27, MATCH(DU24, $CC$25:$CC$27, 0)), "") | EF24: =IFERROR(INDEX($CB$25:$CB$27, MATCH(DW24, $CC$25:$CC$27, 0)), "") | EI24: =IF(EI12="", "", COUNTIF($EI12:$EL12, ">"&EI12)+1+COUNTIF($EI12:EI12, EI12)-1) | EJ24: =IF(EJ12="", "", COUNTIF($EI12:$EL12, ">"&EJ12)+1+COUNTIF($EI12:EJ12, EJ12)-1) | EK24: =IF(EK12="", "", COUNTIF($EI12:$EL12, ">"&EK12)+1+COUNTIF($EI12:EK12, EK12)-1) | EL24: =IF(EL12="", "", COUNTIF($EI12:$EL12, ">"&EL12)+1+COUNTIF($EI12:EL12, EL12)-1) | EN24: 5 | EP24: =IFERROR(INDEX($EI$39:$EL$48, MATCH($EN24, $EG$39:$EG$48, 0), MATCH(EP$9, $EI$35:$EL$35, 0)), "") | EQ24: =IFERROR(INDEX($EI$39:$EL$48, MATCH($EN24, $EG$39:$EG$48, 0), MATCH(EQ$9, $EI$35:$EL$35, 0)), "") | ER24: =IFERROR(INDEX($EI$39:$EL$48, MATCH($EN24, $EG$39:$EG$48, 0), MATCH(ER$9, $EI$35:$EL$35, 0)), "") | ES24: =IFERROR(INDEX($EI$39:$EL$48, MATCH($EN24, $EG$39:$EG$48, 0), MATCH(ES$9, $EI$35:$EL$35, 0)), "") | EU24: =IF(COUNTIF($EP24:$ES24, "")=4, "", "X") | EZ24: =IF($BT24=$EX$7, $EW$7, "") | FG24: =$FC$19 -> Grass | FH24: =$FC$19 -> Grass | FK24: =$FC$19 -> Grass | FM24: =$FC$19 -> Grass | FN24: =$FC$19 -> Grass | FP24: =$FC$19 -> Grass | FR24: =$FC$19 -> Grass | FT24: =$FC$19 -> Grass | FV24: =$FC$19 -> Grass | FW24: =$FC$19 -> Grass | FZ24: =$FC$19 -> Grass | GB24: =$FC$19 -> Grass
F25: =$FC$6 -> ※ | P25: =IF(BQ25="", "", $BV$13) | Q25: =IF(BR25="", "", $BV$13) | U25: =$FC$6 -> ※ | AC25: =IF(AF25="", "", "B") -> B | AE25: =AJ24 -> X | AF25: =AJ24 -> X | BQ25: =IF($ER24="", "", IFERROR(INDEX($CC$25:$CC$27, MATCH($ER24, $CB$25:$CB$27, 0)), "")) | BR25: =IF($ES24="", "", IFERROR(INDEX($CC$25:$CC$27, MATCH($ES24, $CB$25:$CB$27, 0)), "")) | BY25: =BY23-$BY$24 -> 0 | CB25: 0 | CC25: R | EI25: =IF(EI13="", "", COUNTIF($EI13:$EL13, ">"&EI13)+1+COUNTIF($EI13:EI13, EI13)-1) | EJ25: =IF(EJ13="", "", COUNTIF($EI13:$EL13, ">"&EJ13)+1+COUNTIF($EI13:EJ13, EJ13)-1) | EK25: =IF(EK13="", "", COUNTIF($EI13:$EL13, ">"&EK13)+1+COUNTIF($EI13:EK13, EK13)-1) | EL25: =IF(EL13="", "", COUNTIF($EI13:$EL13, ">"&EL13)+1+COUNTIF($EI13:EL13, EL13)-1) | FG25: =$FC$19 -> Grass | FK25: =$FC$19 -> Grass | FV25: =$FC$19 -> Grass | FW25: =$FC$19 -> Grass | FZ25: =$FC$19 -> Grass | GB25: =$FC$19 -> Grass
F26: =$FC$6 -> ※ | G26: =IF($EZ26=$EW$7, $BV$14, "") | P26: =IF(BQ26="", "", $BV$13) | Q26: =IF(BR26="", "", $BV$13) | U26: =$FC$6 -> ※ | AC26: =IF(AF26="", "", "T") -> T | AE26: =AJ26 -> X | AF26: =AJ26 -> X | AH26: =IF($AJ26="", "", IF($AR26="X", "", $AJ26)) -> X | AJ26: =IF($AL26<=$BF$33, "X", "") -> X | AL26: 4 | AO26: =IF(AND($AR28="X", $BV$17=TRUE, $CB$11=FALSE, $CB$12=FALSE), "X", "") | AR26: =IF(AND(NOT($H26=""), NOT($J26=""), NOT($L26=""), NOT($N26="")), "X", "") | AU26: =IF($AO26="", "", IF(H26="", "X", "")) | AW26: =IF($AO26="", "", IF(J26="", "X", "")) | AY26: =IF($AO26="", "", IF(L26="", "X", "")) | BA26: =IF($AO26="", "", IF(N26="", "X", "")) | BH26: =IF(AND(NOT(H26=""), COUNTIF($BY$7:$BY$12, H26)=0), "X", "") | BJ26: =IF(AND(NOT(J26=""), COUNTIF($BY$7:$BY$12, J26)=0), "X", "") | BL26: =IF(AND(NOT(L26=""), COUNTIF($BY$7:$BY$12, L26)=0), "X", "") | BN26: =IF(AND(NOT(N26=""), COUNTIF($BY$7:$BY$12, N26)=0), "X", "") | BQ26: =IF($EP26="", "", IFERROR(INDEX($CC$25:$CC$27, MATCH($EP26, $CB$25:$CB$27, 0)), "")) | BR26: =IF($EQ26="", "", IFERROR(INDEX($CC$25:$CC$27, MATCH($EQ26, $CB$25:$CB$27, 0)), "")) | BT26: 4 | BV26: ▲ | CB26: 1 | CC26: Y | CE26: =SUM($EP26:$ES26) -> 0 | CG26: =IF(OR($H26="", $J26="", $L26="", $N26=""), "", H26) | CI26: =IF(OR($H26="", $J26="", $L26="", $N26=""), "", J26) | CK26: =IF(OR($H26="", $J26="", $L26="", $N26=""), "", L26) | CM26: =IF(OR($H26="", $J26="", $L26="", $N26=""), "", N26) | CP26: =IF(CG26="", "", IF(CG26=CG$7, $CC$27, "")) | CR26: =IF(CI26="", "", IF(CI26=CI$7, $CC$27, "")) | CT26: =IF(CK26="", "", IF(CK26=CK$7, $CC$27, "")) | CV26: =IF(CM26="", "", IF(CM26=CM$7, $CC$27, "")) | CY26: =IF(CG26="", "", IF(CP26=$CC$27, "", CG26)) | DA26: =IF(CI26="", "", IF(CR26=$CC$27, "", CI26)) | DC26: =IF(CK26="", "", IF(CT26=$CC$27, "", CK26)) | DE26: =IF(CM26="", "", IF(CV26=$CC$27, "", CM26)) | DH26: =IF(CG26="", "", IF(CP26=$CC$27, "", CG$7)) | DJ26: =IF(CI26="", "", IF(CR26=$CC$27, "", CI$7)) | DL26: =IF(CK26="", "", IF(CT26=$CC$27, "", CK$7)) | DN26: =IF(CM26="", "", IF(CV26=$CC$27, "", CM$7)) | DQ26: =IF(CP26=$CC$27, $CC$27, IF(CY26="", "", IF(COUNTIF($CY26:CY26, CY26)>COUNTIF($DH26:$DO27, CY26), $CC$25, $CC$26))) | DS26: =IF(CR26=$CC$27, $CC$27, IF(DA26="", "", IF(COUNTIF($CY26:DA26, DA26)>COUNTIF($DH26:$DO27, DA26), $CC$25, $CC$26))) | DU26: =IF(CT26=$CC$27, $CC$27, IF(DC26="", "", IF(COUNTIF($CY26:DC26, DC26)>COUNTIF($DH26:$DO27, DC26), $CC$25, $CC$26))) | DW26: =IF(CV26=$CC$27, $CC$27, IF(DE26="", "", IF(COUNTIF($CY26:DE26, DE26)>COUNTIF($DH26:$DO27, DE26), $CC$25, $CC$26))) | DZ26: =IFERROR(INDEX($CB$25:$CB$27, MATCH(DQ26, $CC$25:$CC$27, 0)), "") | EB26: =IFERROR(INDEX($CB$25:$CB$27, MATCH(DS26, $CC$25:$CC$27, 0)), "") | ED26: =IFERROR(INDEX($CB$25:$CB$27, MATCH(DU26, $CC$25:$CC$27, 0)), "") | EF26: =IFERROR(INDEX($CB$25:$CB$27, MATCH(DW26, $CC$25:$CC$27, 0)), "") | EI26: =IF(EI14="", "", COUNTIF($EI14:$EL14, ">"&EI14)+1+COUNTIF($EI14:EI14, EI14)-1) | EJ26: =IF(EJ14="", "", COUNTIF($EI14:$EL14, ">"&EJ14)+1+COUNTIF($EI14:EJ14, EJ14)-1) | EK26: =IF(EK14="", "", COUNTIF($EI14:$EL14, ">"&EK14)+1+COUNTIF($EI14:EK14, EK14)-1) | EL26: =IF(EL14="", "", COUNTIF($EI14:$EL14, ">"&EL14)+1+COUNTIF($EI14:EL14, EL14)-1) | EN26: 4 | EP26: =IFERROR(INDEX($EI$39:$EL$48, MATCH($EN26, $EG$39:$EG$48, 0), MATCH(EP$9, $EI$35:$EL$35, 0)), "") | EQ26: =IFERROR(INDEX($EI$39:$EL$48, MATCH($EN26, $EG$39:$EG$48, 0), MATCH(EQ$9, $EI$35:$EL$35, 0)), "") | ER26: =IFERROR(INDEX($EI$39:$EL$48, MATCH($EN26, $EG$39:$EG$48, 0), MATCH(ER$9, $EI$35:$EL$35, 0)), "") | ES26: =IFERROR(INDEX($EI$39:$EL$48, MATCH($EN26, $EG$39:$EG$48, 0), MATCH(ES$9, $EI$35:$EL$35, 0)), "") | EU26: =IF(COUNTIF($EP26:$ES26, "")=4, "", "X") | EZ26: =IF($BT26=$EX$7, $EW$7, "") | FG26: =$FC$19 -> Grass | FH26: =$FC$19 -> Grass | FI26: =$FC$19 -> Grass | FJ26: =$FC$19 -> Grass | FK26: =$FC$19 -> Grass | FM26: =$FC$19 -> Grass | FN26: =$FC$19 -> Grass | FP26: =$FC$19 -> Grass | FR26: =$FC$19 -> Grass | FT26: =$FC$19 -> Grass | FV26: =$FC$19 -> Grass | FW26: =$FC$19 -> Grass | FX26: =$FC$19 -> Grass | FY26: =$FC$19 -> Grass | FZ26: =$FC$19 -> Grass | GB26: =$FC$19 -> Grass
B27: SucCess | F27: =$FC$6 -> ※ | P27: =IF(BQ27="", "", $BV$13) | Q27: =IF(BR27="", "", $BV$13) | R27: =IF('Dev Settings'!$B$15="", "", 'Dev Settings'!$B$15) -> F35 | U27: =$FC$6 -> ※ | AC27: =IF(AF27="", "", "B") -> B | AE27: =AJ26 -> X | AF27: =AJ26 -> X | BQ27: =IF($ER26="", "", IFERROR(INDEX($CC$25:$CC$27, MATCH($ER26, $CB$25:$CB$27, 0)), "")) | BR27: =IF($ES26="", "", IFERROR(INDEX($CC$25:$CC$27, MATCH($ES26, $CB$25:$CB$27, 0)), "")) | BV27: ✪ | CB27: 2 | CC27: G | EI27: =IF(EI15="", "", COUNTIF($EI15:$EL15, ">"&EI15)+1+COUNTIF($EI15:EI15, EI15)-1) | EJ27: =IF(EJ15="", "", COUNTIF($EI15:$EL15, ">"&EJ15)+1+COUNTIF($EI15:EJ15, EJ15)-1) | EK27: =IF(EK15="", "", COUNTIF($EI15:$EL15, ">"&EK15)+1+COUNTIF($EI15:EK15, EK15)-1) | EL27: =IF(EL15="", "", COUNTIF($EI15:$EL15, ">"&EL15)+1+COUNTIF($EI15:EL15, EL15)-1) | FG27: =$FC$19 -> Grass | FH27: =$FC$19 -> Grass | FK27: =$FC$19 -> Grass | FV27: =$FC$19 -> Grass | FW27: =$FC$19 -> Grass | FX27: =$FC$19 -> Grass | FZ27: =$FC$19 -> Grass | GB27: =$FC$19 -> Grass
B28: Rate | F28: =$FC$6 -> ※ | G28: =IF($EZ28=$EW$7, $BV$14, "") | P28: =IF(BQ28="", "", $BV$13) | Q28: =IF(BR28="", "", $BV$13) | R28: =IF($FC$9=TRUE, "", IF('Dev Settings'!$L$15="", "", 'Dev Settings'!$L$15)) | U28: =$FC$6 -> ※ | AC28: =IF(AF28="", "", "T") -> T | AE28: =AJ28 -> X | AF28: =AJ28 -> X | AH28: =IF($AJ28="", "", IF($AR28="X", "", $AJ28)) -> X | AJ28: =IF($AL28<=$BF$33, "X", "") -> X | AL28: 3 | AO28: =IF(AND($AR30="X", $BV$17=TRUE, $CB$11=FALSE, $CB$12=FALSE), "X", "") | AR28: =IF(AND(NOT($H28=""), NOT($J28=""), NOT($L28=""), NOT($N28="")), "X", "") | AU28: =IF($AO28="", "", IF(H28="", "X", "")) | AW28: =IF($AO28="", "", IF(J28="", "X", "")) | AY28: =IF($AO28="", "", IF(L28="", "X", "")) | BA28: =IF($AO28="", "", IF(N28="", "X", "")) | BH28: =IF(AND(NOT(H28=""), COUNTIF($BY$7:$BY$12, H28)=0), "X", "") | BJ28: =IF(AND(NOT(J28=""), COUNTIF($BY$7:$BY$12, J28)=0), "X", "") | BL28: =IF(AND(NOT(L28=""), COUNTIF($BY$7:$BY$12, L28)=0), "X", "") | BN28: =IF(AND(NOT(N28=""), COUNTIF($BY$7:$BY$12, N28)=0), "X", "") | BQ28: =IF($EP28="", "", IFERROR(INDEX($CC$25:$CC$27, MATCH($EP28, $CB$25:$CB$27, 0)), "")) | BR28: =IF($EQ28="", "", IFERROR(INDEX($CC$25:$CC$27, MATCH($EQ28, $CB$25:$CB$27, 0)), "")) | BT28: 3 | CE28: =SUM($EP28:$ES28) -> 0 | CG28: =IF(OR($H28="", $J28="", $L28="", $N28=""), "", H28) | CI28: =IF(OR($H28="", $J28="", $L28="", $N28=""), "", J28) | CK28: =IF(OR($H28="", $J28="", $L28="", $N28=""), "", L28) | CM28: =IF(OR($H28="", $J28="", $L28="", $N28=""), "", N28) | CP28: =IF(CG28="", "", IF(CG28=CG$7, $CC$27, "")) | CR28: =IF(CI28="", "", IF(CI28=CI$7, $CC$27, "")) | CT28: =IF(CK28="", "", IF(CK28=CK$7, $CC$27, "")) | CV28: =IF(CM28="", "", IF(CM28=CM$7, $CC$27, "")) | CY28: =IF(CG28="", "", IF(CP28=$CC$27, "", CG28)) | DA28: =IF(CI28="", "", IF(CR28=$CC$27, "", CI28)) | DC28: =IF(CK28="", "", IF(CT28=$CC$27, "", CK28)) | DE28: =IF(CM28="", "", IF(CV28=$CC$27, "", CM28)) | DH28: =IF(CG28="", "", IF(CP28=$CC$27, "", CG$7)) | DJ28: =IF(CI28="", "", IF(CR28=$CC$27, "", CI$7)) | DL28: =IF(CK28="", "", IF(CT28=$CC$27, "", CK$7)) | DN28: =IF(CM28="", "", IF(CV28=$CC$27, "", CM$7)) | DQ28: =IF(CP28=$CC$27, $CC$27, IF(CY28="", "", IF(COUNTIF($CY28:CY28, CY28)>COUNTIF($DH28:$DO29, CY28), $CC$25, $CC$26))) | DS28: =IF(CR28=$CC$27, $CC$27, IF(DA28="", "", IF(COUNTIF($CY28:DA28, DA28)>COUNTIF($DH28:$DO29, DA28), $CC$25, $CC$26))) | DU28: =IF(CT28=$CC$27, $CC$27, IF(DC28="", "", IF(COUNTIF($CY28:DC28, DC28)>COUNTIF($DH28:$DO29, DC28), $CC$25, $CC$26))) | DW28: =IF(CV28=$CC$27, $CC$27, IF(DE28="", "", IF(COUNTIF($CY28:DE28, DE28)>COUNTIF($DH28:$DO29, DE28), $CC$25, $CC$26))) | DZ28: =IFERROR(INDEX($CB$25:$CB$27, MATCH(DQ28, $CC$25:$CC$27, 0)), "") | EB28: =IFERROR(INDEX($CB$25:$CB$27, MATCH(DS28, $CC$25:$CC$27, 0)), "") | ED28: =IFERROR(INDEX($CB$25:$CB$27, MATCH(DU28, $CC$25:$CC$27, 0)), "") | EF28: =IFERROR(INDEX($CB$25:$CB$27, MATCH(DW28, $CC$25:$CC$27, 0)), "") | EI28: =IF(EI16="", "", COUNTIF($EI16:$EL16, ">"&EI16)+1+COUNTIF($EI16:EI16, EI16)-1) | EJ28: =IF(EJ16="", "", COUNTIF($EI16:$EL16, ">"&EJ16)+1+COUNTIF($EI16:EJ16, EJ16)-1) | EK28: =IF(EK16="", "", COUNTIF($EI16:$EL16, ">"&EK16)+1+COUNTIF($EI16:EK16, EK16)-1) | EL28: =IF(EL16="", "", COUNTIF($EI16:$EL16, ">"&EL16)+1+COUNTIF($EI16:EL16, EL16)-1) | EN28: 3 | EP28: =IFERROR(INDEX($EI$39:$EL$48, MATCH($EN28, $EG$39:$EG$48, 0), MATCH(EP$9, $EI$35:$EL$35, 0)), "") | EQ28: =IFERROR(INDEX($EI$39:$EL$48, MATCH($EN28, $EG$39:$EG$48, 0), MATCH(EQ$9, $EI$35:$EL$35, 0)), "") | ER28: =IFERROR(INDEX($EI$39:$EL$48, MATCH($EN28, $EG$39:$EG$48, 0), MATCH(ER$9, $EI$35:$EL$35, 0)), "") | ES28: =IFERROR(INDEX($EI$39:$EL$48, MATCH($EN28, $EG$39:$EG$48, 0), MATCH(ES$9, $EI$35:$EL$35, 0)), "") | EU28: =IF(COUNTIF($EP28:$ES28, "")=4, "", "X") | EZ28: =IF($BT28=$EX$7, $EW$7, "") | FG28: =$FC$19 -> Grass | FH28: =$FC$19 -> Grass | FK28: =$FC$19 -> Grass | FM28: =$FC$19 -> Grass | FN28: =$FC$19 -> Grass | FP28: =$FC$19 -> Grass | FR28: =$FC$19 -> Grass | FT28: =$FC$19 -> Grass | FV28: =$FC$19 -> Grass | FW28: =$FC$19 -> Grass | FZ28: =$FC$19 -> Grass | GB28: =$FC$19 -> Grass
B29: ='Mission Codes'!$BQ$2 | F29: =$FC$6 -> ※ | P29: =IF(BQ29="", "", $BV$13) | Q29: =IF(BR29="", "", $BV$13) | U29: =$FC$6 -> ※ | AC29: =IF(AF29="", "", "B") -> B | AE29: =AJ28 -> X | AF29: =AJ28 -> X | BQ29: =IF($ER28="", "", IFERROR(INDEX($CC$25:$CC$27, MATCH($ER28, $CB$25:$CB$27, 0)), "")) | BR29: =IF($ES28="", "", IFERROR(INDEX($CC$25:$CC$27, MATCH($ES28, $CB$25:$CB$27, 0)), "")) | BV29: =IF(BV23="", "", BV26) | CA29: Game Over | CB29: =Destinations!$BL$24 -> FALSE | EI29: =IF(EI17="", "", COUNTIF($EI17:$EL17, ">"&EI17)+1+COUNTIF($EI17:EI17, EI17)-1) | EJ29: =IF(EJ17="", "", COUNTIF($EI17:$EL17, ">"&EJ17)+1+COUNTIF($EI17:EJ17, EJ17)-1) | EK29: =IF(EK17="", "", COUNTIF($EI17:$EL17, ">"&EK17)+1+COUNTIF($EI17:EK17, EK17)-1) | EL29: =IF(EL17="", "", COUNTIF($EI17:$EL17, ">"&EL17)+1+COUNTIF($EI17:EL17, EL17)-1) | FG29: =$FC$19 -> Grass | FH29: =$FC$19 -> Grass | FK29: =$FC$19 -> Grass | FV29: =$FC$19 -> Grass | FW29: =$FC$19 -> Grass | FZ29: =$FC$19 -> Grass | GB29: =$FC$19 -> Grass
F30: =$FC$6 -> ※ | G30: =IF($EZ30=$EW$7, $BV$14, "") | P30: =IF(BQ30="", "", $BV$13) | Q30: =IF(BR30="", "", $BV$13) | U30: =$FC$6 -> ※ | AC30: =IF(AF30="", "", "T") -> T | AE30: =AJ30 -> X | AF30: =AJ30 -> X | AH30: =IF($AJ30="", "", IF($AR30="X", "", $AJ30)) -> X | AJ30: =IF($AL30<=$BF$33, "X", "") -> X | AL30: 2 | AO30: =IF(AND($AR32="X", $BV$17=TRUE, $CB$11=FALSE, $CB$12=FALSE), "X", "") | AR30: =IF(AND(NOT($H30=""), NOT($J30=""), NOT($L30=""), NOT($N30="")), "X", "") | AU30: =IF($AO30="", "", IF(H30="", "X", "")) | AW30: =IF($AO30="", "", IF(J30="", "X", "")) | AY30: =IF($AO30="", "", IF(L30="", "X", "")) | BA30: =IF($AO30="", "", IF(N30="", "X", "")) | BH30: =IF(AND(NOT(H30=""), COUNTIF($BY$7:$BY$12, H30)=0), "X", "") | BJ30: =IF(AND(NOT(J30=""), COUNTIF($BY$7:$BY$12, J30)=0), "X", "") | BL30: =IF(AND(NOT(L30=""), COUNTIF($BY$7:$BY$12, L30)=0), "X", "") | BN30: =IF(AND(NOT(N30=""), COUNTIF($BY$7:$BY$12, N30)=0), "X", "") | BQ30: =IF($EP30="", "", IFERROR(INDEX($CC$25:$CC$27, MATCH($EP30, $CB$25:$CB$27, 0)), "")) | BR30: =IF($EQ30="", "", IFERROR(INDEX($CC$25:$CC$27, MATCH($EQ30, $CB$25:$CB$27, 0)), "")) | BT30: 2 | BV30: =IF(BV24="", "", BV27) | CE30: =SUM($EP30:$ES30) -> 0 | CG30: =IF(OR($H30="", $J30="", $L30="", $N30=""), "", H30) | CI30: =IF(OR($H30="", $J30="", $L30="", $N30=""), "", J30) | CK30: =IF(OR($H30="", $J30="", $L30="", $N30=""), "", L30) | CM30: =IF(OR($H30="", $J30="", $L30="", $N30=""), "", N30) | CP30: =IF(CG30="", "", IF(CG30=CG$7, $CC$27, "")) | CR30: =IF(CI30="", "", IF(CI30=CI$7, $CC$27, "")) | CT30: =IF(CK30="", "", IF(CK30=CK$7, $CC$27, "")) | CV30: =IF(CM30="", "", IF(CM30=CM$7, $CC$27, "")) | CY30: =IF(CG30="", "", IF(CP30=$CC$27, "", CG30)) | DA30: =IF(CI30="", "", IF(CR30=$CC$27, "", CI30)) | DC30: =IF(CK30="", "", IF(CT30=$CC$27, "", CK30)) | DE30: =IF(CM30="", "", IF(CV30=$CC$27, "", CM30)) | DH30: =IF(CG30="", "", IF(CP30=$CC$27, "", CG$7)) | DJ30: =IF(CI30="", "", IF(CR30=$CC$27, "", CI$7)) | DL30: =IF(CK30="", "", IF(CT30=$CC$27, "", CK$7)) | DN30: =IF(CM30="", "", IF(CV30=$CC$27, "", CM$7)) | DQ30: =IF(CP30=$CC$27, $CC$27, IF(CY30="", "", IF(COUNTIF($CY30:CY30, CY30)>COUNTIF($DH30:$DO31, CY30), $CC$25, $CC$26))) | DS30: =IF(CR30=$CC$27, $CC$27, IF(DA30="", "", IF(COUNTIF($CY30:DA30, DA30)>COUNTIF($DH30:$DO31, DA30), $CC$25, $CC$26))) | DU30: =IF(CT30=$CC$27, $CC$27, IF(DC30="", "", IF(COUNTIF($CY30:DC30, DC30)>COUNTIF($DH30:$DO31, DC30), $CC$25, $CC$26))) | DW30: =IF(CV30=$CC$27, $CC$27, IF(DE30="", "", IF(COUNTIF($CY30:DE30, DE30)>COUNTIF($DH30:$DO31, DE30), $CC$25, $CC$26))) | DZ30: =IFERROR(INDEX($CB$25:$CB$27, MATCH(DQ30, $CC$25:$CC$27, 0)), "") | EB30: =IFERROR(INDEX($CB$25:$CB$27, MATCH(DS30, $CC$25:$CC$27, 0)), "") | ED30: =IFERROR(INDEX($CB$25:$CB$27, MATCH(DU30, $CC$25:$CC$27, 0)), "") | EF30: =IFERROR(INDEX($CB$25:$CB$27, MATCH(DW30, $CC$25:$CC$27, 0)), "") | EI30: =IF(EI18="", "", COUNTIF($EI18:$EL18, ">"&EI18)+1+COUNTIF($EI18:EI18, EI18)-1) | EJ30: =IF(EJ18="", "", COUNTIF($EI18:$EL18, ">"&EJ18)+1+COUNTIF($EI18:EJ18, EJ18)-1) | EK30: =IF(EK18="", "", COUNTIF($EI18:$EL18, ">"&EK18)+1+COUNTIF($EI18:EK18, EK18)-1) | EL30: =IF(EL18="", "", COUNTIF($EI18:$EL18, ">"&EL18)+1+COUNTIF($EI18:EL18, EL18)-1) | EN30: 2 | EP30: =IFERROR(INDEX($EI$39:$EL$48, MATCH($EN30, $EG$39:$EG$48, 0), MATCH(EP$9, $EI$35:$EL$35, 0)), "") | EQ30: =IFERROR(INDEX($EI$39:$EL$48, MATCH($EN30, $EG$39:$EG$48, 0), MATCH(EQ$9, $EI$35:$EL$35, 0)), "") | ER30: =IFERROR(INDEX($EI$39:$EL$48, MATCH($EN30, $EG$39:$EG$48, 0), MATCH(ER$9, $EI$35:$EL$35, 0)), "") | ES30: =IFERROR(INDEX($EI$39:$EL$48, MATCH($EN30, $EG$39:$EG$48, 0), MATCH(ES$9, $EI$35:$EL$35, 0)), "") | EU30: =IF(COUNTIF($EP30:$ES30, "")=4, "", "X") | EZ30: =IF($BT30=$EX$7, $EW$7, "") | FG30: =$FC$19 -> Grass | FK30: =$FC$19 -> Grass | FM30: =$FC$19 -> Grass | FN30: =$FC$19 -> Grass | FP30: =$FC$19 -> Grass | FR30: =$FC$19 -> Grass | FT30: =$FC$19 -> Grass | FV30: =$FC$19 -> Grass | FW30: =$FC$19 -> Grass | FX30: =$FC$19 -> Grass | FY30: =$FC$19 -> Grass | FZ30: =$FC$19 -> Grass | GB30: =$FC$19 -> Grass
F31: =$FC$6 -> ※ | P31: =IF(BQ31="", "", $BV$13) | Q31: =IF(BR31="", "", $BV$13) | R31: =IF('Dev Settings'!$B$18="", "", 'Dev Settings'!$B$18) -> SUP | U31: =$FC$6 -> ※ | AC31: =IF(AF31="", "", "B") -> B | AE31: =AJ30 -> X | AF31: =AJ30 -> X | BQ31: =IF($ER30="", "", IFERROR(INDEX($CC$25:$CC$27, MATCH($ER30, $CB$25:$CB$27, 0)), "")) | BR31: =IF($ES30="", "", IFERROR(INDEX($CC$25:$CC$27, MATCH($ES30, $CB$25:$CB$27, 0)), "")) | EI31: =IF(EI19="", "", COUNTIF($EI19:$EL19, ">"&EI19)+1+COUNTIF($EI19:EI19, EI19)-1) | EJ31: =IF(EJ19="", "", COUNTIF($EI19:$EL19, ">"&EJ19)+1+COUNTIF($EI19:EJ19, EJ19)-1) | EK31: =IF(EK19="", "", COUNTIF($EI19:$EL19, ">"&EK19)+1+COUNTIF($EI19:EK19, EK19)-1) | EL31: =IF(EL19="", "", COUNTIF($EI19:$EL19, ">"&EL19)+1+COUNTIF($EI19:EL19, EL19)-1) | FG31: =$FC$19 -> Grass | FH31: =$FC$19 -> Grass | FI31: =$FC$19 -> Grass | FJ31: =$FC$19 -> Grass | FK31: =$FC$19 -> Grass | FV31: =$FC$19 -> Grass | FW31: =$FC$19 -> Grass | FX31: =$FC$19 -> Grass | FZ31: =$FC$19 -> Grass | GB31: =$FC$19 -> Grass
B32: Ave | F32: =$FC$6 -> ※ | G32: =IF($EZ32=$EW$7, $BV$14, "") | P32: =IF(BQ32="", "", $BV$13) | Q32: =IF(BR32="", "", $BV$13) | R32: =IF($FC$9=TRUE, "", IF('Dev Settings'!$L$18="", "", 'Dev Settings'!$L$18)) | U32: =$FC$6 -> ※ | AC32: =IF(AF32="", "", "T") -> T | AE32: =AJ32 -> X | AF32: =AJ32 -> X | AH32: =IF($AJ32="", "", IF($AR32="X", "", $AJ32)) -> X | AJ32: =IF($AL32<=$BF$33, "X", "") -> X | AL32: 1 | AO32: =IF(AND($BV$17=TRUE, $CB$11=FALSE, $CB$12=FALSE, $BY$3=TRUE), "X", "") | AR32: =IF(AND(NOT($H32=""), NOT($J32=""), NOT($L32=""), NOT($N32="")), "X", "") | AU32: =IF($AO32="", "", IF(H32="", "X", "")) | AW32: =IF($AO32="", "", IF(J32="", "X", "")) | AY32: =IF($AO32="", "", IF(L32="", "X", "")) | BA32: =IF($AO32="", "", IF(N32="", "X", "")) | BH32: =IF(AND(NOT(H32=""), COUNTIF($BY$7:$BY$12, H32)=0), "X", "") | BJ32: =IF(AND(NOT(J32=""), COUNTIF($BY$7:$BY$12, J32)=0), "X", "") | BL32: =IF(AND(NOT(L32=""), COUNTIF($BY$7:$BY$12, L32)=0), "X", "") | BN32: =IF(AND(NOT(N32=""), COUNTIF($BY$7:$BY$12, N32)=0), "X", "") | BQ32: =IF($EP32="", "", IFERROR(INDEX($CC$25:$CC$27, MATCH($EP32, $CB$25:$CB$27, 0)), "")) | BR32: =IF($EQ32="", "", IFERROR(INDEX($CC$25:$CC$27, MATCH($EQ32, $CB$25:$CB$27, 0)), "")) | BT32: 1 | CE32: =SUM($EP32:$ES32) -> 0 | CG32: =IF(OR($H32="", $J32="", $L32="", $N32=""), "", H32) | CI32: =IF(OR($H32="", $J32="", $L32="", $N32=""), "", J32) | CK32: =IF(OR($H32="", $J32="", $L32="", $N32=""), "", L32) | CM32: =IF(OR($H32="", $J32="", $L32="", $N32=""), "", N32) | CP32: =IF(CG32="", "", IF(CG32=CG$7, $CC$27, "")) | CR32: =IF(CI32="", "", IF(CI32=CI$7, $CC$27, "")) | CT32: =IF(CK32="", "", IF(CK32=CK$7, $CC$27, "")) | CV32: =IF(CM32="", "", IF(CM32=CM$7, $CC$27, "")) | CY32: =IF(CG32="", "", IF(CP32=$CC$27, "", CG32)) | DA32: =IF(CI32="", "", IF(CR32=$CC$27, "", CI32)) | DC32: =IF(CK32="", "", IF(CT32=$CC$27, "", CK32)) | DE32: =IF(CM32="", "", IF(CV32=$CC$27, "", CM32)) | DH32: =IF(CG32="", "", IF(CP32=$CC$27, "", CG$7)) | DJ32: =IF(CI32="", "", IF(CR32=$CC$27, "", CI$7)) | DL32: =IF(CK32="", "", IF(CT32=$CC$27, "", CK$7)) | DN32: =IF(CM32="", "", IF(CV32=$CC$27, "", CM$7)) | DQ32: =IF(CP32=$CC$27, $CC$27, IF(CY32="", "", IF(COUNTIF($CY32:CY32, CY32)>COUNTIF($DH32:$DO33, CY32), $CC$25, $CC$26))) | DS32: =IF(CR32=$CC$27, $CC$27, IF(DA32="", "", IF(COUNTIF($CY32:DA32, DA32)>COUNTIF($DH32:$DO33, DA32), $CC$25, $CC$26))) | DU32: =IF(CT32=$CC$27, $CC$27, IF(DC32="", "", IF(COUNTIF($CY32:DC32, DC32)>COUNTIF($DH32:$DO33, DC32), $CC$25, $CC$26))) | DW32: =IF(CV32=$CC$27, $CC$27, IF(DE32="", "", IF(COUNTIF($CY32:DE32, DE32)>COUNTIF($DH32:$DO33, DE32), $CC$25, $CC$26))) | DZ32: =IFERROR(INDEX($CB$25:$CB$27, MATCH(DQ32, $CC$25:$CC$27, 0)), "") | EB32: =IFERROR(INDEX($CB$25:$CB$27, MATCH(DS32, $CC$25:$CC$27, 0)), "") | ED32: =IFERROR(INDEX($CB$25:$CB$27, MATCH(DU32, $CC$25:$CC$27, 0)), "") | EF32: =IFERROR(INDEX($CB$25:$CB$27, MATCH(DW32, $CC$25:$CC$27, 0)), "") | EI32: =IF(EI20="", "", COUNTIF($EI20:$EL20, ">"&EI20)+1+COUNTIF($EI20:EI20, EI20)-1) | EJ32: =IF(EJ20="", "", COUNTIF($EI20:$EL20, ">"&EJ20)+1+COUNTIF($EI20:EJ20, EJ20)-1) | EK32: =IF(EK20="", "", COUNTIF($EI20:$EL20, ">"&EK20)+1+COUNTIF($EI20:EK20, EK20)-1) | EL32: =IF(EL20="", "", COUNTIF($EI20:$EL20, ">"&EL20)+1+COUNTIF($EI20:EL20, EL20)-1) | EN32: 1 | EP32: =IFERROR(INDEX($EI$39:$EL$48, MATCH($EN32, $EG$39:$EG$48, 0), MATCH(EP$9, $EI$35:$EL$35, 0)), "") | EQ32: =IFERROR(INDEX($EI$39:$EL$48, MATCH($EN32, $EG$39:$EG$48, 0), MATCH(EQ$9, $EI$35:$EL$35, 0)), "") | ER32: =IFERROR(INDEX($EI$39:$EL$48, MATCH($EN32, $EG$39:$EG$48, 0), MATCH(ER$9, $EI$35:$EL$35, 0)), "") | ES32: =IFERROR(INDEX($EI$39:$EL$48, MATCH($EN32, $EG$39:$EG$48, 0), MATCH(ES$9, $EI$35:$EL$35, 0)), "") | EU32: =IF(COUNTIF($EP32:$ES32, "")=4, "", "X") | EZ32: =IF($BT32=$EX$7, $EW$7, "") | FG32: =$FC$19 -> Grass | FH32: =$FC$19 -> Grass | FK32: =$FC$19 -> Grass | FM32: =$FC$19 -> Grass | FN32: =$FC$19 -> Grass | FP32: =$FC$19 -> Grass | FR32: =$FC$19 -> Grass | FT32: =$FC$19 -> Grass | FV32: =$FC$19 -> Grass | FW32: =$FC$19 -> Grass | FZ32: =$FC$19 -> Grass | GB32: =$FC$19 -> Grass
B33: Turns | F33: =$FC$6 -> ※ | P33: =IF(BQ33="", "", $BV$13) | Q33: =IF(BR33="", "", $BV$13) | U33: =$FC$6 -> ※ | AC33: =IF(AF33="", "", "B") -> B | AE33: =AJ32 -> X | AF33: =AJ32 -> X | BD33: Row Numbers | BF33: =Settings!$AX$33 -> 10 | BQ33: =IF($ER32="", "", IFERROR(INDEX($CC$25:$CC$27, MATCH($ER32, $CB$25:$CB$27, 0)), "")) | BR33: =IF($ES32="", "", IFERROR(INDEX($CC$25:$CC$27, MATCH($ES32, $CB$25:$CB$27, 0)), "")) | CA33: =IF($CB$11=TRUE, CA$16, IF($CB$12=TRUE, CA$17, "")) | CB33: =IF($CB$11=TRUE, CB$16, IF($CB$12=TRUE, CB$17, "")) | EI33: =IF(EI21="", "", COUNTIF($EI21:$EL21, ">"&EI21)+1+COUNTIF($EI21:EI21, EI21)-1) | EJ33: =IF(EJ21="", "", COUNTIF($EI21:$EL21, ">"&EJ21)+1+COUNTIF($EI21:EJ21, EJ21)-1) | EK33: =IF(EK21="", "", COUNTIF($EI21:$EL21, ">"&EK21)+1+COUNTIF($EI21:EK21, EK21)-1) | EL33: =IF(EL21="", "", COUNTIF($EI21:$EL21, ">"&EL21)+1+COUNTIF($EI21:EL21, EL21)-1) | FG33: =$FC$19 -> Grass | FH33: =$FC$19 -> Grass | FK33: =$FC$19 -> Grass | FV33: =$FC$19 -> Grass | FW33: =$FC$19 -> Grass | FZ33: =$FC$19 -> Grass | GB33: =$FC$19 -> Grass
B34: ='Mission Codes'!$BL$2 | F34: =$FC$6 -> ※ | H34: Personal best | U34: =$FC$6 -> ※ | FG34: =$FC$19 -> Grass | FH34: =$FC$19 -> Grass | FK34: =$FC$19 -> Grass | FM34: =$FC$19 -> Grass | FN34: =$FC$19 -> Grass | FV34: =$FC$19 -> Grass | FW34: =$FC$19 -> Grass | FX34: =$FC$19 -> Grass | FY34: =$FC$19 -> Grass | FZ34: =$FC$19 -> Grass | GB34: =$FC$19 -> Grass
F35: =$FC$5 -> ✮ | G35: =$FC$6 -> ※ | H35: =$FC$6 -> ※ | I35: =$FC$6 -> ※ | J35: =$FC$6 -> ※ | K35: =$FC$6 -> ※ | L35: =$FC$6 -> ※ | M35: =$FC$6 -> ※ | N35: =$FC$6 -> ※ | ... T35: =$FC$6 -> ※ | U35: =$FC$5 -> ✮ | EI35: 1 | EJ35: 2 | EK35: 3 | EL35: 4 | FG35: =$FC$19 -> Grass | FK35: =$FC$19 -> Grass | GB35: =$FC$19 -> Grass
A36: =Bridge!$BF$21 | FG36: =$FC$19 -> Grass
EG39: 10 | EI39: =IFERROR(INDEX($EI12:$EL12, MATCH(EI$35, $EI24:$EL24, 0)), "") | EJ39: =IFERROR(INDEX($EI12:$EL12, MATCH(EJ$35, $EI24:$EL24, 0)), "") | EK39: =IFERROR(INDEX($EI12:$EL12, MATCH(EK$35, $EI24:$EL24, 0)), "") | EL39: =IFERROR(INDEX($EI12:$EL12, MATCH(EL$35, $EI24:$EL24, 0)), "")
EG40: 9 | EI40: =IFERROR(INDEX($EI13:$EL13, MATCH(EI$35, $EI25:$EL25, 0)), "") | EJ40: =IFERROR(INDEX($EI13:$EL13, MATCH(EJ$35, $EI25:$EL25, 0)), "") | EK40: =IFERROR(INDEX($EI13:$EL13, MATCH(EK$35, $EI25:$EL25, 0)), "") | EL40: =IFERROR(INDEX($EI13:$EL13, MATCH(EL$35, $EI25:$EL25, 0)), "")
EG41: 8 | EI41: =IFERROR(INDEX($EI14:$EL14, MATCH(EI$35, $EI26:$EL26, 0)), "") | EJ41: =IFERROR(INDEX($EI14:$EL14, MATCH(EJ$35, $EI26:$EL26, 0)), "") | EK41: =IFERROR(INDEX($EI14:$EL14, MATCH(EK$35, $EI26:$EL26, 0)), "") | EL41: =IFERROR(INDEX($EI14:$EL14, MATCH(EL$35, $EI26:$EL26, 0)), "")
EG42: 7 | EI42: =IFERROR(INDEX($EI15:$EL15, MATCH(EI$35, $EI27:$EL27, 0)), "") | EJ42: =IFERROR(INDEX($EI15:$EL15, MATCH(EJ$35, $EI27:$EL27, 0)), "") | EK42: =IFERROR(INDEX($EI15:$EL15, MATCH(EK$35, $EI27:$EL27, 0)), "") | EL42: =IFERROR(INDEX($EI15:$EL15, MATCH(EL$35, $EI27:$EL27, 0)), "")
EG43: 6 | EI43: =IFERROR(INDEX($EI16:$EL16, MATCH(EI$35, $EI28:$EL28, 0)), "") | EJ43: =IFERROR(INDEX($EI16:$EL16, MATCH(EJ$35, $EI28:$EL28, 0)), "") | EK43: =IFERROR(INDEX($EI16:$EL16, MATCH(EK$35, $EI28:$EL28, 0)), "") | EL43: =IFERROR(INDEX($EI16:$EL16, MATCH(EL$35, $EI28:$EL28, 0)), "")
EG44: 5 | EI44: =IFERROR(INDEX($EI17:$EL17, MATCH(EI$35, $EI29:$EL29, 0)), "") | EJ44: =IFERROR(INDEX($EI17:$EL17, MATCH(EJ$35, $EI29:$EL29, 0)), "") | EK44: =IFERROR(INDEX($EI17:$EL17, MATCH(EK$35, $EI29:$EL29, 0)), "") | EL44: =IFERROR(INDEX($EI17:$EL17, MATCH(EL$35, $EI29:$EL29, 0)), "")
EG45: 4 | EI45: =IFERROR(INDEX($EI18:$EL18, MATCH(EI$35, $EI30:$EL30, 0)), "") | EJ45: =IFERROR(INDEX($EI18:$EL18, MATCH(EJ$35, $EI30:$EL30, 0)), "") | EK45: =IFERROR(INDEX($EI18:$EL18, MATCH(EK$35, $EI30:$EL30, 0)), "") | EL45: =IFERROR(INDEX($EI18:$EL18, MATCH(EL$35, $EI30:$EL30, 0)), "")
EG46: 3 | EI46: =IFERROR(INDEX($EI19:$EL19, MATCH(EI$35, $EI31:$EL31, 0)), "") | EJ46: =IFERROR(INDEX($EI19:$EL19, MATCH(EJ$35, $EI31:$EL31, 0)), "") | EK46: =IFERROR(INDEX($EI19:$EL19, MATCH(EK$35, $EI31:$EL31, 0)), "") | EL46: =IFERROR(INDEX($EI19:$EL19, MATCH(EL$35, $EI31:$EL31, 0)), "")
EG47: 2 | EI47: =IFERROR(INDEX($EI20:$EL20, MATCH(EI$35, $EI32:$EL32, 0)), "") | EJ47: =IFERROR(INDEX($EI20:$EL20, MATCH(EJ$35, $EI32:$EL32, 0)), "") | EK47: =IFERROR(INDEX($EI20:$EL20, MATCH(EK$35, $EI32:$EL32, 0)), "") | EL47: =IFERROR(INDEX($EI20:$EL20, MATCH(EL$35, $EI32:$EL32, 0)), "")
EG48: 1 | EI48: =IFERROR(INDEX($EI21:$EL21, MATCH(EI$35, $EI33:$EL33, 0)), "") | EJ48: =IFERROR(INDEX($EI21:$EL21, MATCH(EJ$35, $EI33:$EL33, 0)), "") | EK48: =IFERROR(INDEX($EI21:$EL21, MATCH(EK$35, $EI33:$EL33, 0)), "") | EL48: =IFERROR(INDEX($EI21:$EL21, MATCH(EL$35, $EI33:$EL33, 0)), "")

Sheet Mission Codes
B1: Mission Codes
AU2: =COUNTIF(AU$6:AU$165, $AX2) -> 0 | AV2: =COUNTIF(AV$6:AV$165, $AX2) -> 0 | AX2: Red | BA2: See below | BE2: =CONCATENATE($BH$9, BH3, BH4, BH5, BH6, BH7, BH8) -> CAR523146 | BG2: =Carrier!$CB$21+FOB!$CB$21+UK!$CB$21 -> 0 | BH2: =IF($BG$2=0, $BE$2, "") -> CAR523146 | BL2: =IFERROR(AVERAGE($T$6:$T$165), "") | BO2: Clear | BQ2: =IFERROR(BU2/SUM($BU$2:$BU$3), "") | BU2: =COUNTIF($P$6:$P$165, $BW2) -> 0 | BW2: Success | BX2: W | BZ2: Result | CA2: Turns | CC2: =COUNTIF(Destinations!$AY$7:$AY$19, Destinations!$AY$24) -> 0 | CE2: =SUM($CE$3:$CF$3) -> 1680 | CF2: =SUM($CC$2:$CC$3) -> 1 | CH2: Select Mission Briefing Code | CK2: =IF(IFERROR(INDEX($E$6:$E$165, MATCH("X", $CV$6:$CV$104, 0)), "")="", "", IFERROR(INDEX($E$6:$E$165, MATCH("X", $CV$6:$CV$104, 0)), "")) | CO2: Retired - Failed | CS2: =IFERROR(IF($CS$3/$CQ$17>1, 1, $CS$3/$CQ$17), "") -> 0 | CZ2: ✪ | DB2: =COUNTIF($P$6:$P$165, $BW$2) -> 0 | DD2: Medal | DW2: Medal/s | DY2: Promotion | ES2: Last | EW2: Current Country | GE2: =IFERROR(INDEX($B$6:$B$165, MATCH("X", GE$6:GE$165, 0)), "") | GI2: =Carrier!$BT$5 -> UK | GK2: =COUNTIF(GK$6:GK$165, "X") -> 0 | GM2: =MAX($B$6:$B$165) -> 160 | GY2: Active | HI2: =$BH15 -> FOB | HY2: =IFERROR(COUNTIF(HY$6:HY$165, TRUE)/(COUNTIF(HY$6:HY$165, TRUE)+COUNTIF(HY$6:HY$165, FALSE)), "") | HZ2: =IFERROR(COUNTIF(HZ$6:HZ$165, TRUE)/(COUNTIF(HZ$6:HZ$165, TRUE)+COUNTIF(HZ$6:HZ$165, FALSE)), "") | IA2: =IFERROR(COUNTIF(IA$6:IA$165, TRUE)/(COUNTIF(IA$6:IA$165, TRUE)+COUNTIF(IA$6:IA$165, FALSE)), "") | IB2: =IFERROR(COUNTIF(IB$6:IB$165, TRUE)/(COUNTIF(IB$6:IB$165, TRUE)+COUNTIF(IB$6:IB$165, FALSE)), "") | IC2: =IFERROR(COUNTIF(IC$6:IC$165, TRUE)/(COUNTIF(IC$6:IC$165, TRUE)+COUNTIF(IC$6:IC$165, FALSE)), "") | ID2: =IFERROR(COUNTIF(ID$6:ID$165, TRUE)/(COUNTIF(ID$6:ID$165, TRUE)+COUNTIF(ID$6:ID$165, FALSE)), "") | IF2: =IFERROR(COUNTIF(IF$6:IF$165, TRUE)/(COUNTIF(IF$6:IF$165, TRUE)+COUNTIF(IF$6:IF$165, FALSE)), "") | IG2: =IFERROR(COUNTIF(IG$6:IG$165, TRUE)/(COUNTIF(IG$6:IG$165, TRUE)+COUNTIF(IG$6:IG$165, FALSE)), "") | IH2: =IFERROR(COUNTIF(IH$6:IH$165, TRUE)/(COUNTIF(IH$6:IH$165, TRUE)+COUNTIF(IH$6:IH$165, FALSE)), "") | II2: =IFERROR(COUNTIF(II$6:II$165, TRUE)/(COUNTIF(II$6:II$165, TRUE)+COUNTIF(II$6:II$165, FALSE)), "") | IJ2: =IFERROR(COUNTIF(IJ$6:IJ$165, TRUE)/(COUNTIF(IJ$6:IJ$165, TRUE)+COUNTIF(IJ$6:IJ$165, FALSE)), "") | IK2: =IFERROR(COUNTIF(IK$6:IK$165, TRUE)/(COUNTIF(IK$6:IK$165, TRUE)+COUNTIF(IK$6:IK$165, FALSE)), "") | IM2: =IFERROR(COUNTIF(IM$6:IM$165, TRUE)/(COUNTIF(IM$6:IM$165, TRUE)+COUNTIF(IM$6:IM$165, FALSE)), "") | IN2: =IFERROR(COUNTIF(IN$6:IN$165, TRUE)/(COUNTIF(IN$6:IN$165, TRUE)+COUNTIF(IN$6:IN$165, FALSE)), "") | IO2: =IFERROR(COUNTIF(IO$6:IO$165, TRUE)/(COUNTIF(IO$6:IO$165, TRUE)+COUNTIF(IO$6:IO$165, FALSE)), "") | IP2: =IFERROR(COUNTIF(IP$6:IP$165, TRUE)/(COUNTIF(IP$6:IP$165, TRUE)+COUNTIF(IP$6:IP$165, FALSE)), "") | IQ2: =IFERROR(COUNTIF(IQ$6:IQ$165, TRUE)/(COUNTIF(IQ$6:IQ$165, TRUE)+COUNTIF(IQ$6:IQ$165, FALSE)), "") | IS2: =SUM(IS$6:IS$165) -> 0 | IT2: =SUM(IT$6:IT$165) -> 0 | IU2: =SUM(IU$6:IU$165) -> 0 | IV2: =SUM(IV$6:IV$165) -> 0 | IW2: =SUM(IW$6:IW$165) -> 0 | IX2: =SUM(IX$6:IX$165) -> 0 | IZ2: =SUM(IZ$6:IZ$165) -> 0 | JA2: =SUM(JA$6:JA$165) -> 0 | JB2: =SUM(JB$6:JB$165) -> 0 | JC2: =SUM(JC$6:JC$165) -> 0 | JD2: =SUM(JD$6:JD$165) -> 0 | JE2: =SUM(JE$6:JE$165) -> 0 | JG2: =SUM(JG$6:JG$165) -> 0 | JH2: =SUM(JH$6:JH$165) -> 0 | JI2: =SUM(JI$6:JI$165) -> 0 | JJ2: =SUM(JJ$6:JJ$165) -> 0 | JK2: =SUM(JK$6:JK$165) -> 0
B3: =IF(AND(NOT($BG$2=0), $CE$2=0), "Clear Carrier Units", IF(SUM($AU$3:$AV$3)>0, "Complete Codes Below", "")) | AU3: =COUNTIF(AU$6:AU$165, $AX3) -> 0 | AV3: =COUNTIF(AV$6:AV$165, $AX3) -> 0 | AX3: Yellow | BE3: 1 | BF3: =RANDBETWEEN(1, 1000) -> 334 | BG3: =COUNTIF($BF$3:$BF$8, "<"&$BF3)+1+COUNTIF($BF$3:$BF3, $BF3)-1 -> 4 | BH3: =IFERROR(INDEX($BE$3:$BE$8, MATCH($BE3, $BG$3:$BG$8, 0)), "") -> 5 | BO3: =SUM($BU$2:$BU$3)=0 -> TRUE | BU3: =COUNTIF($P$6:$P$165, $BW3) -> 0 | BW3: Failure | BX3: L | BZ3: =IF($BH$19=$BH$16, IF(Carrier!$CB$12=TRUE, $BX$2, IF(Carrier!$CB$11=TRUE, $BX$3, "")), IF($BH$19=$BH$15, IF(FOB!$CB$12=TRUE, $BX$2, IF(FOB!$CB$11=TRUE, $BX$3, "")), IF($BH$19=$BH$17, IF(UK!$CB$12=TRUE, $BX$2, IF(UK!$CB$11=TRUE, $BX$3, "")), ""))) | CA3: =IF($BH$19=$BH$16, IF(AND(Carrier!$CB$11=FALSE, Carrier!$CB$12=FALSE), "", IF($BZ$3=$BX$3, 0, Carrier!$CB$14)), IF($BH$19=$BH$15, IF(AND(FOB!$CB$11=FALSE, FOB!$CB$12=FALSE), "", IF($BZ$3=$BX$3, 0, FOB!$CB$14)), IF($BH$19=$BH$17, IF(AND(UK!$CB$11=FALSE, UK!$CB$12=FALSE), "", IF($BZ$3=$BX$3, 0, UK!$CB$14)), ""))) | CC3: =SUM(Destinations!$BC$2:$BE$2) -> 1 | CE3: =1000-COUNTIF($CE$6:$CE$165, "") -> 840 | CF3: =1000-COUNTIF($CF$6:$CF$165, "") -> 840 | CH3: Select Mission Debriefing Code | CK3: =IF(IFERROR(INDEX($J$6:$J$165, MATCH("X", $CV$6:$CV$104, 0)), "")="", "", IFERROR(INDEX($J$6:$J$165, MATCH("X", $CV$6:$CV$104, 0)), "")) | CO3: =IF(COUNTIF($P$6:$P$165, "")>0, FALSE, TRUE) -> FALSE | CS3: =COUNTIF($P$6:$P$165, $BW$2) -> 0 | DB3: =MAX($DB$6:$DB$165) -> 0 | DD3: Medals | DW3: Earned | DY3: Promoted | EA3: =1000-COUNTIF($EA$6:$EA$104, "") -> 901 | ES3: Current | EW3: =Carrier!$BT$5 -> UK | FK3: =COUNTIF($FK$6:$FK$165, "X") -> 0 | FM3: =IF($FK$3=0, "", IFERROR(INDEX($FM$6:$FM$165, MATCH("X", $FK$6:$FK$165, 0)), "")) | GM3: =COUNTIF($GM$6:$GM$165, "X") -> 0 | GY3: =IF(Settings!$P$15=Settings!$BD$5, FALSE, TRUE) -> TRUE | HC3: =COUNTIF(HC$6:HC$165, "X") -> 0 | HE3: =COUNTIF(HE$6:HE$165, "X") -> 0 | HI3: =$BH16 -> CAR | HY3: =$HI$3 -> CAR | HZ3: =$HI$3 -> CAR | IA3: =$HI$3 -> CAR | IB3: =$HI$3 -> CAR | IC3: =$HI$3 -> CAR | ID3: =$HI$3 -> CAR | IF3: =$HI$2 -> FOB | IG3: =$HI$2 -> FOB | IH3: =$HI$2 -> FOB | II3: =$HI$2 -> FOB | IJ3: =$HI$2 -> FOB | IK3: =$HI$2 -> FOB | IM3: =$HI$4 -> UK | IN3: =$HI$4 -> UK | IO3: =$HI$4 -> UK | IP3: =$HI$4 -> UK | IQ3: =$HI$4 -> UK | IS3: =$HI$3 -> CAR | IT3: =$HI$3 -> CAR | IU3: =$HI$3 -> CAR | IV3: =$HI$3 -> CAR | IW3: =$HI$3 -> CAR | IX3: =$HI$3 -> CAR | IZ3: =$HI$2 -> FOB | JA3: =$HI$2 -> FOB | JB3: =$HI$2 -> FOB | JC3: =$HI$2 -> FOB | JD3: =$HI$2 -> FOB | JE3: =$HI$2 -> FOB | JG3: =$HI$4 -> UK | JH3: =$HI$4 -> UK | JI3: =$HI$4 -> UK | JJ3: =$HI$4 -> UK | JK3: =$HI$4 -> UK
B4: Mission | E4: Code | J4: Code | BE4: 2 | BF4: =RANDBETWEEN(1, 1000) -> 194 | BG4: =COUNTIF($BF$3:$BF$8, "<"&$BF4)+1+COUNTIF($BF$3:$BF4, $BF4)-1 -> 2 | BH4: =IFERROR(INDEX($BE$3:$BE$8, MATCH($BE4, $BG$3:$BG$8, 0)), "") -> 2 | CE4: =Destinations!$AY$3 -> 0 | CF4: =IF(OR(Supplies!$BJ$4=TRUE, Bridge!$BD$23="X", Bridge!$BD$26="X"), TRUE, FALSE) -> FALSE | CH4: =IF(AND(OR(Carrier!$CB$11=TRUE, Carrier!$CB$12=TRUE), $CK$3=""), $CH$3,IF($BG$2>0, "", IF(OR(AND($CK$2="", $CK$3=""), AND(NOT($CK$2=""), NOT($CK$3=""))), $CH$2, ""))) -> Select Mission Briefing Code | CS4: Promotion | CZ4: =SUM($CZ$6:$CZ$16) -> 0 | DF4: =IFERROR(INDEX($B$6:$B$165, MATCH(1, DF$6:DF$165, 0)), "") | DG4: =IFERROR(INDEX($B$6:$B$165, MATCH(1, DG$6:DG$165, 0)), "") | DH4: =IFERROR(INDEX($B$6:$B$165, MATCH(1, DH$6:DH$165, 0)), "") | DI4: =IFERROR(INDEX($B$6:$B$165, MATCH(1, DI$6:DI$165, 0)), "") | DJ4: =IFERROR(INDEX($B$6:$B$165, MATCH(1, DJ$6:DJ$165, 0)), "") | DK4: =IFERROR(INDEX($B$6:$B$165, MATCH(1, DK$6:DK$165, 0)), "") | DL4: =IFERROR(INDEX($B$6:$B$165, MATCH(1, DL$6:DL$165, 0)), "") | DM4: =IFERROR(INDEX($B$6:$B$165, MATCH(1, DM$6:DM$165, 0)), "") | ... DP4: =IFERROR(INDEX($B$6:$B$165, MATCH(1, DP$6:DP$165, 0)), "") | ES4: Next | FK4: G Over | FO4: Game Over | FQ4: Move On | FS4: En Route | FU4: Welcome | FW4: Usual | GC4: MI6 Text | GE4: Last MC | GM4: =IFERROR(GM3/GM2, "") -> 0 | HE4: Complete | HG4: Complete | HI4: =$BH17 -> UK | HY4: =IF(OR(HY$5="", HY$3=""), "", CONCATENATE(HY$3, " - ", HY$5)) -> CAR - SBS | HZ4: =IF(OR(HZ$5="", HZ$3=""), "", CONCATENATE(HZ$3, " - ", HZ$5)) -> CAR - MAR | IA4: =IF(OR(IA$5="", IA$3=""), "", CONCATENATE(IA$3, " - ", IA$5)) -> CAR - HM2 | IB4: =IF(OR(IB$5="", IB$3=""), "", CONCATENATE(IB$3, " - ", IB$5)) -> CAR - APA | IC4: =IF(OR(IC$5="", IC$3=""), "", CONCATENATE(IC$3, " - ", IC$5)) -> CAR - F35 | ID4: =IF(OR(ID$5="", ID$3=""), "", CONCATENATE(ID$3, " - ", ID$5)) -> CAR - RAM | IF4: =IF(OR(IF$5="", IF$3=""), "", CONCATENATE(IF$3, " - ", IF$5)) -> FOB - SBS | IG4: =IF(OR(IG$5="", IG$3=""), "", CONCATENATE(IG$3, " - ", IG$5)) -> FOB - MAR | IH4: =IF(OR(IH$5="", IH$3=""), "", CONCATENATE(IH$3, " - ", IH$5)) -> FOB - SNI | II4: =IF(OR(II$5="", II$3=""), "", CONCATENATE(II$3, " - ", II$5)) -> FOB - APA | IJ4: =IF(OR(IJ$5="", IJ$3=""), "", CONCATENATE(IJ$3, " - ", IJ$5)) -> FOB - F35 | IK4: =IF(OR(IK$5="", IK$3=""), "", CONCATENATE(IK$3, " - ", IK$5)) -> FOB - SUP | IM4: =IF(OR(IM$5="", IM$3=""), "", CONCATENATE(IM$3, " - ", IM$5)) -> UK - SBS | IN4: =IF(OR(IN$5="", IN$3=""), "", CONCATENATE(IN$3, " - ", IN$5)) -> UK - SAS | IO4: =IF(OR(IO$5="", IO$3=""), "", CONCATENATE(IO$3, " - ", IO$5)) -> UK - SNI | IP4: =IF(OR(IP$5="", IP$3=""), "", CONCATENATE(IP$3, " - ", IP$5)) -> UK - MAR | IQ4: =IF(OR(IQ$5="", IQ$3=""), "", CONCATENATE(IQ$3, " - ", IQ$5)) -> UK - SPY | IS4: =IF(OR(IS$5="", IS$3=""), "", CONCATENATE(IS$3, " - ", IS$5)) -> CAR - SBS | IT4: =IF(OR(IT$5="", IT$3=""), "", CONCATENATE(IT$3, " - ", IT$5)) -> CAR - MAR | IU4: =IF(OR(IU$5="", IU$3=""), "", CONCATENATE(IU$3, " - ", IU$5)) -> CAR - HM2 | IV4: =IF(OR(IV$5="", IV$3=""), "", CONCATENATE(IV$3, " - ", IV$5)) -> CAR - APA | IW4: =IF(OR(IW$5="", IW$3=""), "", CONCATENATE(IW$3, " - ", IW$5)) -> CAR - F35 | IX4: =IF(OR(IX$5="", IX$3=""), "", CONCATENATE(IX$3, " - ", IX$5)) -> CAR - RAM | IZ4: =IF(OR(IZ$5="", IZ$3=""), "", CONCATENATE(IZ$3, " - ", IZ$5)) -> FOB - SBS | JA4: =IF(OR(JA$5="", JA$3=""), "", CONCATENATE(JA$3, " - ", JA$5)) -> FOB - MAR | JB4: =IF(OR(JB$5="", JB$3=""), "", CONCATENATE(JB$3, " - ", JB$5)) -> FOB - SNI | JC4: =IF(OR(JC$5="", JC$3=""), "", CONCATENATE(JC$3, " - ", JC$5)) -> FOB - APA | JD4: =IF(OR(JD$5="", JD$3=""), "", CONCATENATE(JD$3, " - ", JD$5)) -> FOB - F35 | JE4: =IF(OR(JE$5="", JE$3=""), "", CONCATENATE(JE$3, " - ", JE$5)) -> FOB - SUP | JG4: =IF(OR(JG$5="", JG$3=""), "", CONCATENATE(JG$3, " - ", JG$5)) -> UK - SBS | JH4: =IF(OR(JH$5="", JH$3=""), "", CONCATENATE(JH$3, " - ", JH$5)) -> UK - SAS | JI4: =IF(OR(JI$5="", JI$3=""), "", CONCATENATE(JI$3, " - ", JI$5)) -> UK - SNI | JJ4: =IF(OR(JJ$5="", JJ$3=""), "", CONCATENATE(JJ$3, " - ", JJ$5)) -> UK - MAR | JK4: =IF(OR(JK$5="", JK$3=""), "", CONCATENATE(JK$3, " - ", JK$5)) -> UK - SPY
B5: No | E5: Briefing | J5: Debriefing | P5: Outcome | T5: Scr | AU5: Alerts | AV5: Alerts | AX5: =Carrier!$EW$7 -> PB | AY5: =$CS$4 -> Promotion | AZ5: =$DD$3 -> Medals | BA5: Full Medal | BC5: Promotion | BE5: 3 | BF5: =RANDBETWEEN(1, 1000) -> 258 | BG5: =COUNTIF($BF$3:$BF$8, "<"&$BF5)+1+COUNTIF($BF$3:$BF5, $BF5)-1 -> 3 | BH5: =IFERROR(INDEX($BE$3:$BE$8, MATCH($BE5, $BG$3:$BG$8, 0)), "") -> 3 | BS5: No Only | BZ5: Result | CA5: Turns | CC5: Code | CM5: Wins | CS5: Officer Cadet | CU5: Done | CV5: Last | DB5: 0 | DF5: 1 | DG5: 2 | DH5: 3 | DI5: 4 | DJ5: 5 | DK5: 6 | DL5: 7 | DM5: 8 | DN5: 9 | DO5: 10 | DP5: 11 | DU5: Medals | EC5: 1 | EK5: 1 | EM5: =$EF$6 -> UK | EO5: 1 | EQ5: =IF($EO5="", "", IFERROR(INDEX($EG$6:$EG$19, MATCH($EK5, $EE$6:$EE$19, 0)), "")) -> 1 | ES5: =IF(AND(E6="", J6=""), $ES$3, "") -> Current | EU5: =IF(NOT($ES5=""), $ES5, IF(AND($E6="", $J6=""), $ES$4, "")) -> Current | EW5: New | EY5: Edited Country | FA5: Continue | FC5: Next Loc | FE5: 1 | FQ5: =$FI$19 -> There has been a major terror attack in the UK! You've been tasked with bringing this criminal to justice. Intelligence has pointed to unidentified bases on an island just off the east coast of the USA. Set sail immediately. | FS5: =IF($FQ5="", "", "You are currenly en route to your new destination. You can't conduct missions while travelling, but you can currently do training (which is only available while travelling) if you wish.") -> You are currenly en route to your new destination. You can't conduct missions while travelling, but you can currently do training (which is only available while travelling) if you wish. | FU5: =IF($EW6=$EM$5, $FI$25, IF($FE5=1, CONCATENATE($FI$12, $EY6, $FI$13, $EY6, $FI$14), "")) -> Welcome to the USA. The enemy bases have been identified on a few islands just off the coast of the USA. The head of state has given us permission to engage. Launch some missions and let's gather some intelligence. | FW5: =IF($EM5=$EM$5, "", IF(AND($FO5="", $FQ5="", $FU5=""), $FI$17, "")) | FY5: =IF($FK5="X", $FO$4, IF($FE5=1, IF(COUNTIF(Destinations!$AP$7:$AP$19, $EW6)+COUNTIF(Destinations!$AQ$7:$AQ$19, $EW6)=0, $FQ$4, IF(COUNTIF(Destinations!$AQ$7:$AQ$19, $EW6)>0, $FS$4, IF(COUNTIF(Destinations!$AP$7:$AP$19, $EW6)>0, $FU$4, ""))), $FW$4)) -> Move On | GC5: =IF($FY5="", "", IF($FY5=$FO$4, $FO5, IF($FY5=$FQ$4, $FQ5, IF($FY5=$FS$4, $FS5, IF($FY5=$FU$4, $FU5, IF($FY5=$FW$4, $FW5, "")))))) -> There has been a major terror attack in the UK! You've been tasked with bringing this criminal to justice. Intelligence has pointed to unidentified bases on an island just off the east coast of the USA. Set sail immediately. | GK5: MIP | GY5: 500 | HA5: Percent | HC5: UK No | HE5: UK No | HG5: UK No | HI5: Type | HK5: Unit 1 | HL5: Unit 2 | HM5: Unit 3 | HN5: Unit 4 | HU5: Failed | HW5: Score | HY5: =Carrier!$CE$3 -> SBS | HZ5: =Carrier!$CE$4 -> MAR | IA5: =Carrier!$CE$5 -> HM2 | IB5: =Carrier!$CE$6 -> APA | IC5: =Carrier!$CE$7 -> F35 | ID5: =Carrier!$CE$8 -> RAM | IF5: =FOB!$CE$3 -> SBS | IG5: =FOB!$CE$4 -> MAR | IH5: =FOB!$CE$5 -> SNI | II5: =FOB!$CE$6 -> APA | IJ5: =FOB!$CE$7 -> F35 | IK5: =FOB!$CE$8 -> SUP | IM5: =UK!$CE$3 -> SBS | IN5: =UK!$CE$4 -> SAS | IO5: =UK!$CE$5 -> SNI | IP5: =UK!$CE$6 -> MAR | IQ5: =UK!$CE$7 -> SPY | IS5: =Carrier!$CE$3 -> SBS | IT5: =Carrier!$CE$4 -> MAR | IU5: =Carrier!$CE$5 -> HM2 | IV5: =Carrier!$CE$6 -> APA | IW5: =Carrier!$CE$7 -> F35 | IX5: =Carrier!$CE$8 -> RAM | IZ5: =FOB!$CE$3 -> SBS | JA5: =FOB!$CE$4 -> MAR | JB5: =FOB!$CE$5 -> SNI | JC5: =FOB!$CE$6 -> APA | JD5: =FOB!$CE$7 -> F35 | JE5: =FOB!$CE$8 -> SUP | JG5: =UK!$CE$3 -> SBS | JH5: =UK!$CE$4 -> SAS | JI5: =UK!$CE$5 -> SNI | JJ5: =UK!$CE$6 -> MAR | JK5: =UK!$CE$7 -> SPY | JM5: =$BW$2 -> Success | JN5: =$BW$3 -> Failure
B6: 1 | O6: =IF(AND($AX6="", $AY6="", $AZ6=""), "", $BH$11) | P6: =IF($J6="", "", IF(VALUE(LEFT($J6, 1))=$BP6, $BW$2, IF(VALUE(LEFT($J6, 1))=$BQ6, $BW$3, ""))) | T6: =IF($J6="", "", IF(VALUE(RIGHT($J6, 2))=0, "", VALUE(RIGHT($J6, 2))/$BM6)) | U6: =IF($E6="", "", IF(VALUE(RIGHT($E6, 2))=0, "", VALUE(RIGHT($E6, 2))/$S6)) | AU6: =IF(AND($E6="", NOT($CH6="")), $AX$3, IF(AND(NOT($E6=""), NOT($E6=$CH6)), $AX$2, "")) | AV6: =IF(AND($J6="", NOT($CI6="")), $AX$3, IF(AND(NOT($J6=""), NOT($J6=$CI6)), $AX$2, "")) | AX6: =IF($T6="", "", IF(COUNTIF($T$6:$T6, $T6)>1, "", IF(COUNTIF($T$6:$T6, "<"&$T6)=0, Carrier!$EW$7, ""))) | AY6: =IF($CS6="", "", IF(NOT($CS6=$CS5), $CS$4, "")) | AZ6: =$DS6 | BA6: =IF($AZ6="", "", CONCATENATE($AZ6, " - ", $BA$2)) | BC6: =IF($AY6="", "", CONCATENATE($AY6, ": ", $CS6)) | BE6: 4 | BF6: =RANDBETWEEN(1, 1000) -> 742 | BG6: =COUNTIF($BF$3:$BF$8, "<"&$BF6)+1+COUNTIF($BF$3:$BF6, $BF6)-1 -> 5 | BH6: =IFERROR(INDEX($BE$3:$BE$8, MATCH($BE6, $BG$3:$BG$8, 0)), "") -> 1 | BJ6: =IF($E6="", "", IF(LEFT($E6, 2)=$BH$17, $BH$17, LEFT($E6, 3))) | BL6: 1 | BM6: 6 | BN6: 5 | BO6: 4 | BP6: 2 | BQ6: 7 | BS6: =IF($BJ6="", "", REPLACE($E6, 1, LEN($BJ6), "")) | BU6: =IF($BS6="", "", IFERROR(VALUE(MID($BS6, BL6, 1)), "")) | BV6: =IF($BS6="", "", IFERROR(VALUE(MID($BS6, BM6, 1)), "")) | BW6: =IF($BS6="", "", IFERROR(VALUE(MID($BS6, BN6, 1)), "")) | BX6: =IF($BS6="", "", IFERROR(VALUE(MID($BS6, BO6, 1)), "")) | BZ6: =IF(AND($J6="", NOT($E6="")), IF($BZ$3=$BX$2, $BP6, IF($BZ$3=$BX$3, $BQ6, "")), "") | CA6: =IFERROR(IF(AND($J6="", NOT($E6="")), $CA$3*$BM6, ""), "") | CC6: =IF(OR($BZ6="", $CA6=""), "", CONCATENATE($BZ6, " - ", TEXT($CA6, "00"))) | CE6: =IF(NOT($E6=""), "", IF(OR($CE$4>0, $CF$2>0, $CF$4=TRUE), "", $BH$2)) | CF6: =IF(AND($J6="", NOT($E6="")), $CC6, "") | CH6: =IF($E6="", CE6, $E6) | CI6: =IF($J6="", CF6, $J6) | CK6: =IF(AND($J6="", NOT($E6="")), "X", "") | CM6: =IF($P6="", "", COUNTIF($P$6:$P6, $BW$2)) | CO6: Officer Cadet | CP6: ⚊ | CS6: =IF($CM6="", $CS5, IF($CM6<$CQ$7, $CO$6, IFERROR(INDEX($CO$7:$CO$17, MATCH($CM6, $CQ$7:$CQ$17, 1)), ""))) -> Officer Cadet | CU6: =IF(AND($E6="", $J6=""), "", "X") | CV6: =IF(AND($CU6="X", $CU7=""), "X", "") | CX6: Beat a Personal Best (PB) | CZ6: =IF(COUNTIF($AX$6:$AX$165, Carrier!$EW$7)>1, 1, 0) -> 0 | DA6: 1 | DB6: =IF($P6=$BW$2, DB5+1, 0) -> 0 | DF6: =IF(OR($E6="", $J6=""), 0, IF(COUNTIF($AX$6:$AX6, Carrier!$EW$7)>1, 1, 0)) -> 0 | DG6: =IF(OR($E6="", $J6=""), 0, IF(COUNTIF($T$6:$T6, "<"&$CY$7)>0, 1, 0)) -> 0 | DH6: =IF(OR($E6="", $J6=""), 0, IF(COUNTIF($T$6:$T6, 1)>0, 1, 0)) -> 0 | DI6: =IF(OR($E6="", $J6=""), 0, IF($DB6>=$CY$9, 1, 0)) -> 0 | DJ6: =IF(OR($E6="", $J6=""), 0, IF($DB6>=$CY$10, 1, 0)) -> 0 | DK6: =IF(OR($E6="", $J6=""), 0, IF($DB6>=$CY$11, 1, 0)) -> 0 | DL6: =IF(OR($E6="", $J6=""), 0, IF($DB6>=$CY$12, 1, 0)) -> 0 | DM6: =IF(OR($E6="", $J6=""), 0, IF(COUNTIF($P$6:$P6, $BW$2)>=$CY$13, 1, 0)) -> 0 | DN6: =IF(OR($E6="", $J6=""), 0, IF(COUNTIF($P$6:$P6, $BW$2)>=$CY$14, 1, 0)) -> 0 | DO6: =IF(OR($E6="", $J6=""), 0, IF(COUNTIF($P$6:$P6, $BW$2)>=$CY$15, 1, 0)) -> 0 | DP6: =IF(OR($E6="", $J6=""), 0, IF(COUNTIF($P$6:$P6, $BW$2)>=$CY$16, 1, 0)) -> 0 | DR6: =SUM($DF6:$DP6) -> 0 | DS6: =IF($DR6=0, "", IF($DR6=1, $DD$2, IF($DR6>1, $DD$3, ""))) | DU6: =$DR$6 -> 0 | DW6: =IF($DS6="", "", CONCATENATE($DS6, " ", $DW$3)) | DY6: =IF($AY6="", "", $DY$3) | EA6: =IF($P6=$BW$3, $BW$3, $T6) | EC6: =IF($P6="", "", IF($P6=$BW$3, 0, IF($BJ6=$BH$17, 0, IF($BJ6=$BH$16, COUNTIF($BU6:$BX6, 1)+COUNTIF($BU6:$BX6, 2), IF($BJ6=$BH$15, COUNTIF($BU6:$BX6, 1)+COUNTIF($BU6:$BX6, 2)+COUNTIF($BU6:$BX6, 3), 0))))) | EE6: 1 | EF6: =IF(Destinations!$BN6="", "", Destinations!$BN6) -> UK | EG6: 1 | EH6: 1 | EI6: =IFERROR($EH6/$EG6, "") -> 1 | EK6: =IF($P5="", "", IF(EK5="", "", IF($EQ5="", "", IF($EQ5<=$EO5, $EK5+1, $EK5)))) -> 2 | EM6: =IF($EK6="", "", IFERROR(INDEX($EF$6:$EF$19, MATCH($EK6, $EE$6:$EE$19, 0)), "")) -> USA | EO6: =IF($EM6="", "", SUMIF($EM$5:$EM6, $EM6, $EC$5:$EC6)) -> 0 | EQ6: =IF($EO6="", "", IFERROR(INDEX($EG$6:$EG$19, MATCH($EK6, $EE$6:$EE$19, 0)), "")) -> 12 | ES6: =IF(AND(NOT($E6=""), $J6=""), $ES$3, IF(AND($E6="", $J6=""), $ES$2, "")) -> Last | EU6: =IF(NOT($ES6=""), $ES6, IF($ES5=$ES$3, $ES$4, IF($ES5=$ES$2, $ES$3, IF($ES7=$ES$3, $ES$2, IF($ES7=$ES$4, $ES$3, IF($ES8=$ES$4, $ES$2, "")))))) -> Last | EW6: =$EM6 -> USA | EY6: =IF($EW6="USA", "the USA", IF($EM6="UK", "the UK", $EW6)) -> the USA | FA6: =IF($EW6="", "", IF(AND($EU6=$ES$4, NOT($EW6=$EW$3)), $BE$12, $BE$11)) -> ✓ | FC6: =IF($FA6=$BE$12, "X", "") | FE6: =IF(OR($EQ6="", $EO6=""), "", IF($EO6>=$EQ6, 1, IFERROR($EO6/$EQ6, ""))) -> 0 | FG6: =IF(AND($FE7="", NOT($FE6="")), 1, IF(AND($FE8="", NOT($FE7="")), 2, IF(AND($FE9="", NOT($FE8="")), 3, ""))) -> 1 | FI6: It appears that you've destroyed their operation here in | FK6: =IF($HG6="", "", IF($HG6>=5, "X", "")) | FM6: =IF($FK6="X", $BW$2, "") | FO6: =IF($FK6="", "", IF($FM6=$BW$2, $FI$21, IF($FM6=$BW$3, $FI$23, ""))) | FQ6: =IF($FE6=1, CONCATENATE($FI$6, $EY6, $FI$7, $EY7, $FI$8, $EY7, $FI$9), "") | FS6: =IF($FQ6="", "", "You are currenly en route to your new destination. You can't conduct missions while travelling, but you can currently do training (which is only available while travelling) if you wish.") | FU6: =IF($EW7=$EM$5, $FI$25, IF($FE6=1, CONCATENATE($FI$12, $EY7, $FI$13, $EY7, $FI$14), "")) | FW6: =IF($EM6=$EM$5, $FI$25, IF(AND($FO6="", $FQ6="", $FU6=""), $FI$17, "")) -> Good job so far. Let's keep going, the more intelligence the better. Launch some more missions and let's gather as much as we can. Get the progress bar to 100% and we should have a clearer picture. | FY6: =IF(AND($E6="", $J6="", $ES6=""), "", IF($FK6="X", $FO$4, IF($FE6=1, IF(COUNTIF(Destinations!$AP$7:$AP$19, $EW7)+COUNTIF(Destinations!$AQ$7:$AQ$19, $EW7)=0, $FQ$4, IF(COUNTIF(Destinations!$AQ$7:$AQ$19, $EW7)>0, $FS$4, IF(COUNTIF(Destinations!$AP$7:$AP$19, $EW7)>0, $FU$4, ""))), $FW$4))) -> Usual | GC6: =IF($FY6="", "", IF($FY6=$FO$4, $FO6, IF($FY6=$FQ$4, $FQ6, IF($FY6=$FS$4, $FS6, IF($FY6=$FU$4, $FU6, IF($FY6=$FW$4, $FW6, "")))))) -> Good job so far. Let's keep going, the more intelligence the better. Launch some more missions and let's gather as much as we can. Get the progress bar to 100% and we should have a clearer picture. | GE6: =IF(AND(NOT($E6=""), NOT($J6=""), $E7="", $J7=""), "X", "") | GG6: =IF(OR(E6="", J6=""), "", $B6) | GI6: =IF($GI$2="", "", IF($EW6=$GI$2, $P6, "")) | GK6: =IF(AND(NOT($E6=""), $J6="", $CF6=""), "X", "") | GM6: =IF(OR(E6="", J6=""), "", "X") | GO6: =IF(BU6="", "", IF($P6=$BW$3, 0, IF($BJ6='Dev Settings'!$CA$10, IFERROR(INDEX('Dev Settings'!$BX$11:$BX$18, MATCH(BU6, 'Dev Settings'!$CA$11:$CA$18, 0)), ""), IF($BJ6='Dev Settings'!$CB$10, IFERROR(INDEX('Dev Settings'!$BX$11:$BX$18, MATCH(BU6, 'Dev Settings'!$CB$11:$CB$18, 0)), ""), "")))) | GP6: =IF(BV6="", "", IF($P6=$BW$3, 0, IF($BJ6='Dev Settings'!$CA$10, IFERROR(INDEX('Dev Settings'!$BX$11:$BX$18, MATCH(BV6, 'Dev Settings'!$CA$11:$CA$18, 0)), ""), IF($BJ6='Dev Settings'!$CB$10, IFERROR(INDEX('Dev Settings'!$BX$11:$BX$18, MATCH(BV6, 'Dev Settings'!$CB$11:$CB$18, 0)), ""), "")))) | GQ6: =IF(BW6="", "", IF($P6=$BW$3, 0, IF($BJ6='Dev Settings'!$CA$10, IFERROR(INDEX('Dev Settings'!$BX$11:$BX$18, MATCH(BW6, 'Dev Settings'!$CA$11:$CA$18, 0)), ""), IF($BJ6='Dev Settings'!$CB$10, IFERROR(INDEX('Dev Settings'!$BX$11:$BX$18, MATCH(BW6, 'Dev Settings'!$CB$11:$CB$18, 0)), ""), "")))) | GR6: =IF(BX6="", "", IF($P6=$BW$3, 0, IF($BJ6='Dev Settings'!$CA$10, IFERROR(INDEX('Dev Settings'!$BX$11:$BX$18, MATCH(BX6, 'Dev Settings'!$CA$11:$CA$18, 0)), ""), IF($BJ6='Dev Settings'!$CB$10, IFERROR(INDEX('Dev Settings'!$BX$11:$BX$18, MATCH(BX6, 'Dev Settings'!$CB$11:$CB$18, 0)), ""), "")))) | GT6: =IF(GO6="", "", IFERROR(INDEX('Dev Settings'!$BY$11:$BY$18, MATCH(GO6, 'Dev Settings'!$BX$11:$BX$18, 0)), "")) | GU6: =IF(GP6="", "", IFERROR(INDEX('Dev Settings'!$BY$11:$BY$18, MATCH(GP6, 'Dev Settings'!$BX$11:$BX$18, 0)), "")) | GV6: =IF(GQ6="", "", IFERROR(INDEX('Dev Settings'!$BY$11:$BY$18, MATCH(GQ6, 'Dev Settings'!$BX$11:$BX$18, 0)), "")) | GW6: =IF(GR6="", "", IFERROR(INDEX('Dev Settings'!$BY$11:$BY$18, MATCH(GR6, 'Dev Settings'!$BX$11:$BX$18, 0)), "")) | GY6: =IF($P6="", "", IF($BJ6=$BH$17, $GY$5, IF($GY$3=FALSE, $GY5, IF(Supplies!$N$4=$B6, $GY$5, IF($GY5-SUM($GT6:$GW6)<0, 0, $GY5-SUM($GT6:$GW6)))))) | HA6: =IFERROR(GY6/$GY$5, "") | HC6: =IF(NOT($EM6=$EM$5), "", "X") | HE6: =IF($HC6="", "", IF($P6=$BW$2, "X", "")) | HG6: =IF(HE6="", "", COUNTIF($HE$6:HE6, HE6)) | HI6: =$BJ6 | HK6: =IF(OR($HI6="", BU6=""), "", IF($HI6=$HI$2, IFERROR(INDEX(FOB!$CE$3:$CE$8, MATCH(BU6, FOB!$BX$15:$BX$20, 0)), ""), IF($HI6=$HI$3, IFERROR(INDEX(Carrier!$CE$3:$CE$8, MATCH(BU6, Carrier!$BX$15:$BX$20, 0)), ""), IF($HI6=$HI$4, IFERROR(INDEX(UK!$CE$3:$CE$8, MATCH(BU6, UK!$BX$15:$BX$20, 0)), ""), "")))) | HL6: =IF(OR($HI6="", BV6=""), "", IF($HI6=$HI$2, IFERROR(INDEX(FOB!$CE$3:$CE$8, MATCH(BV6, FOB!$BX$15:$BX$20, 0)), ""), IF($HI6=$HI$3, IFERROR(INDEX(Carrier!$CE$3:$CE$8, MATCH(BV6, Carrier!$BX$15:$BX$20, 0)), ""), IF($HI6=$HI$4, IFERROR(INDEX(UK!$CE$3:$CE$8, MATCH(BV6, UK!$BX$15:$BX$20, 0)), ""), "")))) | HM6: =IF(OR($HI6="", BW6=""), "", IF($HI6=$HI$2, IFERROR(INDEX(FOB!$CE$3:$CE$8, MATCH(BW6, FOB!$BX$15:$BX$20, 0)), ""), IF($HI6=$HI$3, IFERROR(INDEX(Carrier!$CE$3:$CE$8, MATCH(BW6, Carrier!$BX$15:$BX$20, 0)), ""), IF($HI6=$HI$4, IFERROR(INDEX(UK!$CE$3:$CE$8, MATCH(BW6, UK!$BX$15:$BX$20, 0)), ""), "")))) | HN6: =IF(OR($HI6="", BX6=""), "", IF($HI6=$HI$2, IFERROR(INDEX(FOB!$CE$3:$CE$8, MATCH(BX6, FOB!$BX$15:$BX$20, 0)), ""), IF($HI6=$HI$3, IFERROR(INDEX(Carrier!$CE$3:$CE$8, MATCH(BX6, Carrier!$BX$15:$BX$20, 0)), ""), IF($HI6=$HI$4, IFERROR(INDEX(UK!$CE$3:$CE$8, MATCH(BX6, UK!$BX$15:$BX$20, 0)), ""), "")))) | HP6: =IF(OR($HI6="", HK6=""), "", CONCATENATE($HI6, " - ", HK6)) | HQ6: =IF(OR($HI6="", HL6=""), "", CONCATENATE($HI6, " - ", HL6)) | HR6: =IF(OR($HI6="", HM6=""), "", CONCATENATE($HI6, " - ", HM6)) | HS6: =IF(OR($HI6="", HN6=""), "", CONCATENATE($HI6, " - ", HN6)) | HU6: =IF($P6=$BW$3, $HI6, "") | HW6: =IF(OR($HI6="", $T6="", NOT($P6=$BW$2)), "", CONCATENATE($HI6, " - ", $T6)) | HY6: =IF(NOT($HI6=HY$3), "", COUNTIF($HK6:$HN6, HY$5)>0) | HZ6: =IF(NOT($HI6=HZ$3), "", COUNTIF($HK6:$HN6, HZ$5)>0) | IA6: =IF(NOT($HI6=IA$3), "", COUNTIF($HK6:$HN6, IA$5)>0) | IB6: =IF(NOT($HI6=IB$3), "", COUNTIF($HK6:$HN6, IB$5)>0) | IC6: =IF(NOT($HI6=IC$3), "", COUNTIF($HK6:$HN6, IC$5)>0) | ID6: =IF(NOT($HI6=ID$3), "", COUNTIF($HK6:$HN6, ID$5)>0) | IF6: =IF(NOT($HI6=IF$3), "", COUNTIF($HK6:$HN6, IF$5)>0) | IG6: =IF(NOT($HI6=IG$3), "", COUNTIF($HK6:$HN6, IG$5)>0) | IH6: =IF(NOT($HI6=IH$3), "", COUNTIF($HK6:$HN6, IH$5)>0) | II6: =IF(NOT($HI6=II$3), "", COUNTIF($HK6:$HN6, II$5)>0) | IJ6: =IF(NOT($HI6=IJ$3), "", COUNTIF($HK6:$HN6, IJ$5)>0) | IK6: =IF(NOT($HI6=IK$3), "", COUNTIF($HK6:$HN6, IK$5)>0) | IM6: =IF(NOT($HI6=IM$3), "", COUNTIF($HK6:$HN6, IM$5)>0) | IN6: =IF(NOT($HI6=IN$3), "", COUNTIF($HK6:$HN6, IN$5)>0) | IO6: =IF(NOT($HI6=IO$3), "", COUNTIF($HK6:$HN6, IO$5)>0) | IP6: =IF(NOT($HI6=IP$3), "", COUNTIF($HK6:$HN6, IP$5)>0) | IQ6: =IF(NOT($HI6=IQ$3), "", COUNTIF($HK6:$HN6, IQ$5)>0) | IS6: =IF(NOT($HI6=IS$3), "", COUNTIF($HK6:$HN6, IS$5)) | IT6: =IF(NOT($HI6=IT$3), "", COUNTIF($HK6:$HN6, IT$5)) | IU6: =IF(NOT($HI6=IU$3), "", COUNTIF($HK6:$HN6, IU$5)) | IV6: =IF(NOT($HI6=IV$3), "", COUNTIF($HK6:$HN6, IV$5)) | IW6: =IF(NOT($HI6=IW$3), "", COUNTIF($HK6:$HN6, IW$5)) | IX6: =IF(NOT($HI6=IX$3), "", COUNTIF($HK6:$HN6, IX$5)) | IZ6: =IF(NOT($HI6=IZ$3), "", COUNTIF($HK6:$HN6, IZ$5)) | JA6: =IF(NOT($HI6=JA$3), "", COUNTIF($HK6:$HN6, JA$5)) | JB6: =IF(NOT($HI6=JB$3), "", COUNTIF($HK6:$HN6, JB$5)) | JC6: =IF(NOT($HI6=JC$3), "", COUNTIF($HK6:$HN6, JC$5)) | JD6: =IF(NOT($HI6=JD$3), "", COUNTIF($HK6:$HN6, JD$5)) | JE6: =IF(NOT($HI6=JE$3), "", COUNTIF($HK6:$HN6, JE$5)) | JG6: =IF(NOT($HI6=JG$3), "", COUNTIF($HK6:$HN6, JG$5)) | JH6: =IF(NOT($HI6=JH$3), "", COUNTIF($HK6:$HN6, JH$5)) | JI6: =IF(NOT($HI6=JI$3), "", COUNTIF($HK6:$HN6, JI$5)) | JJ6: =IF(NOT($HI6=JJ$3), "", COUNTIF($HK6:$HN6, JJ$5)) | JK6: =IF(NOT($HI6=JK$3), "", COUNTIF($HK6:$HN6, JK$5)) | JM6: =IF($P6=JM$5, $HI6, "") | JN6: =IF($P6=JN$5, $HI6, "")
B7: 2 | O7: =IF(AND($AX7="", $AY7="", $AZ7=""), "", $BH$11) | P7: =IF($J7="", "", IF(VALUE(LEFT($J7, 1))=$BP7, $BW$2, IF(VALUE(LEFT($J7, 1))=$BQ7, $BW$3, ""))) | T7: =IF($J7="", "", IF(VALUE(RIGHT($J7, 2))=0, "", VALUE(RIGHT($J7, 2))/$BM7)) | U7: =IF($E7="", "", IF(VALUE(RIGHT($E7, 2))=0, "", VALUE(RIGHT($E7, 2))/$S7)) | AU7: =IF(AND($E7="", NOT($CH7="")), $AX$3, IF(AND(NOT($E7=""), NOT($E7=$CH7)), $AX$2, "")) | AV7: =IF(AND($J7="", NOT($CI7="")), $AX$3, IF(AND(NOT($J7=""), NOT($J7=$CI7)), $AX$2, "")) | AX7: =IF($T7="", "", IF(COUNTIF($T$6:$T7, $T7)>1, "", IF(COUNTIF($T$6:$T7, "<"&$T7)=0, Carrier!$EW$7, ""))) | AY7: =IF($CS7="", "", IF(NOT($CS7=$CS6), $CS$4, "")) | AZ7: =$DS7 | BA7: =IF($AZ7="", "", CONCATENATE($AZ7, " - ", $BA$2)) | BC7: =IF($AY7="", "", CONCATENATE($AY7, ": ", $CS7)) | BE7: 5 | BF7: =RANDBETWEEN(1, 1000) -> 51 | BG7: =COUNTIF($BF$3:$BF$8, "<"&$BF7)+1+COUNTIF($BF$3:$BF7, $BF7)-1 -> 1 | BH7: =IFERROR(INDEX($BE$3:$BE$8, MATCH($BE7, $BG$3:$BG$8, 0)), "") -> 4 | BJ7: =IF($E7="", "", IF(LEFT($E7, 2)=$BH$17, $BH$17, LEFT($E7, 3))) | BL7: 5 | BM7: 3 | BN7: 4 | BO7: 6 | BP7: 5 | BQ7: 6 | BS7: =IF($BJ7="", "", REPLACE($E7, 1, LEN($BJ7), "")) | BU7: =IF($BS7="", "", IFERROR(VALUE(MID($BS7, BL7, 1)), "")) | BV7: =IF($BS7="", "", IFERROR(VALUE(MID($BS7, BM7, 1)), "")) | BW7: =IF($BS7="", "", IFERROR(VALUE(MID($BS7, BN7, 1)), "")) | BX7: =IF($BS7="", "", IFERROR(VALUE(MID($BS7, BO7, 1)), "")) | BZ7: =IF(AND($J7="", NOT($E7="")), IF($BZ$3=$BX$2, $BP7, IF($BZ$3=$BX$3, $BQ7, "")), "") | CA7: =IFERROR(IF(AND($J7="", NOT($E7="")), $CA$3*$BM7, ""), "") | CC7: =IF(OR($BZ7="", $CA7=""), "", CONCATENATE($BZ7, " - ", TEXT($CA7, "00"))) | CE7: =IF(NOT($E7=""), "", IF($J6="", "", IF(OR($CE$4>0, $CF$2>0, $CF$4=TRUE), "", $BH$2))) | CF7: =IF(AND($J7="", NOT($E7="")), $CC7, "") | CH7: =IF($E7="", CE7, $E7) | CI7: =IF($J7="", CF7, $J7) | CK7: =IF(AND($J7="", NOT($E7="")), "X", "") | CM7: =IF($P7="", "", COUNTIF($P$6:$P7, $BW$2)) | CO7: Second Lieutenant | CP7: ❁ | CQ7: 5 | CS7: =IF($CM7="", $CS6, IF($CM7<$CQ$7, $CO$6, IFERROR(INDEX($CO$7:$CO$17, MATCH($CM7, $CQ$7:$CQ$17, 1)), ""))) -> Officer Cadet | CU7: =IF(AND($E7="", $J7=""), "", "X") | CV7: =IF(AND($CU7="X", $CU8=""), "X", "") | CX7: Won in 5 or fewer turns | CY7: 6 | CZ7: =IF(COUNTIF($T$6:$T$165, "<"&$CY$7)>0, 1, 0) -> 0 | DA7: 2 | DB7: =IF($P7=$BW$2, DB6+1, 0) -> 0 | DF7: =IF(OR($E7="", $J7=""), 0, IF(COUNTIF(DF$6:DF6, 1)>0, 0, IF(COUNTIF($AX$6:$AX7, Carrier!$EW$7)>1, 1, 0))) -> 0 | DG7: =IF(OR($E7="", $J7=""), 0, IF(COUNTIF(DG$6:DG6, 1)>0, 0, IF(COUNTIF($T$6:$T7, "<"&$CY$7)>0, 1, 0))) -> 0 | DH7: =IF(OR($E7="", $J7=""), 0, IF(COUNTIF(DH$6:DH6, 1)>0, 0, IF(COUNTIF($T$6:$T7, 1)>0, 1, 0))) -> 0 | DI7: =IF(OR($E7="", $J7=""), 0, IF(COUNTIF(DI$6:DI6, 1)>0, 0, IF($DB7>=$CY$9, 1, 0))) -> 0 | DJ7: =IF(OR($E7="", $J7=""), 0, IF(COUNTIF(DJ$6:DJ6, 1)>0, 0, IF($DB7>=$CY$10, 1, 0))) -> 0 | DK7: =IF(OR($E7="", $J7=""), 0, IF(COUNTIF(DK$6:DK6, 1)>0, 0, IF($DB7>=$CY$11, 1, 0))) -> 0 | DL7: =IF(OR($E7="", $J7=""), 0, IF(COUNTIF(DL$6:DL6, 1)>0, 0, IF($DB7>=$CY$12, 1, 0))) -> 0 | DM7: =IF(OR($E7="", $J7=""), 0, IF(COUNTIF(DM$6:DM6, 1)>0, 0, IF(COUNTIF($P$6:$P7, $BW$2)>=$CY$13, 1, 0))) -> 0 | DN7: =IF(OR($E7="", $J7=""), 0, IF(COUNTIF(DN$6:DN6, 1)>0, 0, IF(COUNTIF($P$6:$P7, $BW$2)>=$CY$14, 1, 0))) -> 0 | DO7: =IF(OR($E7="", $J7=""), 0, IF(COUNTIF(DO$6:DO6, 1)>0, 0, IF(COUNTIF($P$6:$P7, $BW$2)>=$CY$15, 1, 0))) -> 0 | DP7: =IF(OR($E7="", $J7=""), 0, IF(COUNTIF(DP$6:DP6, 1)>0, 0, IF(COUNTIF($P$6:$P7, $BW$2)>=$CY$16, 1, 0))) -> 0 | DR7: =SUM($DF7:$DP7) -> 0 | DS7: =IF($DR7=0, "", IF($DR7=1, $DD$2, IF($DR7>1, $DD$3, ""))) | DU7: =$DU6+$DR7 -> 0 | DW7: =IF($DS7="", "", CONCATENATE($DS7, " ", $DW$3)) | DY7: =IF($AY7="", "", $DY$3) | EA7: =IF($P7=$BW$3, $BW$3, $T7) | EC7: =IF($P7="", "", IF($P7=$BW$3, 0, IF($BJ7=$BH$17, 0, IF($BJ7=$BH$16, COUNTIF($BU7:$BX7, 1)+COUNTIF($BU7:$BX7, 2), IF($BJ7=$BH$15, COUNTIF($BU7:$BX7, 1)+COUNTIF($BU7:$BX7, 2)+COUNTIF($BU7:$BX7, 3), 0))))) | EE7: 2 | EF7: =IF(Destinations!$BN7="", "", Destinations!$BN7) -> USA | EG7: 12 | EH7: =IF(SUMIF($EM$5:$EM$165, $EF7, $EC$5:$EC$165)>$EG7, $EG7, SUMIF($EM$5:$EM$165, $EF7, $EC$5:$EC$165)) -> 0 | EI7: =IFERROR($EH7/$EG7, "") -> 0 | EK7: =IF($P6="", "", IF(EK6="", "", IF($EQ6="", "", IF($EQ6<=$EO6, $EK6+1, $EK6)))) | EM7: =IF($EK7="", "", IFERROR(INDEX($EF$6:$EF$19, MATCH($EK7, $EE$6:$EE$19, 0)), "")) | EO7: =IF($EM7="", "", SUMIF($EM$5:$EM7, $EM7, $EC$5:$EC7)) | EQ7: =IF($EO7="", "", IFERROR(INDEX($EG$6:$EG$19, MATCH($EK7, $EE$6:$EE$19, 0)), "")) | ES7: =IF(AND(NOT($E7=""), $J7=""), $ES$3, IF(AND($E7="", $J7="", NOT($E6=""), NOT($J6="")), $ES$4, "")) | EU7: =IF(NOT($ES7=""), $ES7, IF($ES6=$ES$3, $ES$4, IF($ES6=$ES$2, $ES$3, IF($ES8=$ES$3, $ES$2, IF($ES8=$ES$4, $ES$3, IF($ES9=$ES$4, $ES$2, "")))))) -> Current | EW7: =$EM7 | EY7: =IF($EW7="USA", "the USA", IF($EM7="UK", "the UK", $EW7)) | FA7: =IF($EW7="", "", IF(AND($EU7=$ES$4, NOT($EW7=$EW$3)), $BE$12, $BE$11)) | FC7: =IF($FA7=$BE$12, "X", "") | FE7: =IF(OR($EQ7="", $EO7=""), "", IF($EO7>=$EQ7, 1, IFERROR($EO7/$EQ7, ""))) | FG7: =IF(AND($FE8="", NOT($FE7="")), 1, IF(AND($FE9="", NOT($FE8="")), 2, IF(AND($FE10="", NOT($FE9="")), 3, ""))) | FI7: . The intelligence we've gathered, now points to | FK7: =IF($HG7="", "", IF($HG7>=5, "X", "")) | FM7: =IF($FK7="X", $BW$2, "") | FO7: =IF($FK7="", "", IF($FM7=$BW$2, $FI$21, IF($FM7=$BW$3, $FI$23, ""))) | FQ7: =IF($FE7=1, CONCATENATE($FI$6, $EY7, $FI$7, $EY8, $FI$8, $EY8, $FI$9), "") | FS7: =IF($FQ7="", "", "You are currenly en route to your new destination. You can't conduct missions while travelling, but you can currently do training (which is only available while travelling) if you wish.") | FU7: =IF($EW8=$EM$5, $FI$25, IF($FE7=1, CONCATENATE($FI$12, $EY8, $FI$13, $EY8, $FI$14), "")) | FW7: =IF($EM7=$EM$5, $FI$25, IF(AND($FO7="", $FQ7="", $FU7=""), $FI$17, "")) -> Good job so far. Let's keep going, the more intelligence the better. Launch some more missions and let's gather as much as we can. Get the progress bar to 100% and we should have a clearer picture. | FY7: =IF(AND($E7="", $J7="", $ES7=""), "", IF($FK7="X", $FO$4, IF($FE7=1, IF(COUNTIF(Destinations!$AP$7:$AP$19, $EW8)+COUNTIF(Destinations!$AQ$7:$AQ$19, $EW8)=0, $FQ$4, IF(COUNTIF(Destinations!$AQ$7:$AQ$19, $EW8)>0, $FS$4, IF(COUNTIF(Destinations!$AP$7:$AP$19, $EW8)>0, $FU$4, ""))), $FW$4))) | GC7: =IF($FY7="", "", IF($FY7=$FO$4, $FO7, IF($FY7=$FQ$4, $FQ7, IF($FY7=$FS$4, $FS7, IF($FY7=$FU$4, $FU7, IF($FY7=$FW$4, $FW7, "")))))) | GE7: =IF(AND(NOT($E7=""), NOT($J7=""), $E8="", $J8=""), "X", "") | GG7: =IF(OR(E7="", J7=""), "", $B7) | GI7: =IF($GI$2="", "", IF($EW7=$GI$2, $P7, "")) | GK7: =IF(AND(NOT($E7=""), $J7="", $CF7=""), "X", "") | GM7: =IF(OR(E7="", J7=""), "", "X") | GO7: =IF(BU7="", "", IF($P7=$BW$3, 0, IF($BJ7='Dev Settings'!$CA$10, IFERROR(INDEX('Dev Settings'!$BX$11:$BX$18, MATCH(BU7, 'Dev Settings'!$CA$11:$CA$18, 0)), ""), IF($BJ7='Dev Settings'!$CB$10, IFERROR(INDEX('Dev Settings'!$BX$11:$BX$18, MATCH(BU7, 'Dev Settings'!$CB$11:$CB$18, 0)), ""), "")))) | GP7: =IF(BV7="", "", IF($P7=$BW$3, 0, IF($BJ7='Dev Settings'!$CA$10, IFERROR(INDEX('Dev Settings'!$BX$11:$BX$18, MATCH(BV7, 'Dev Settings'!$CA$11:$CA$18, 0)), ""), IF($BJ7='Dev Settings'!$CB$10, IFERROR(INDEX('Dev Settings'!$BX$11:$BX$18, MATCH(BV7, 'Dev Settings'!$CB$11:$CB$18, 0)), ""), "")))) | GQ7: =IF(BW7="", "", IF($P7=$BW$3, 0, IF($BJ7='Dev Settings'!$CA$10, IFERROR(INDEX('Dev Settings'!$BX$11:$BX$18, MATCH(BW7, 'Dev Settings'!$CA$11:$CA$18, 0)), ""), IF($BJ7='Dev Settings'!$CB$10, IFERROR(INDEX('Dev Settings'!$BX$11:$BX$18, MATCH(BW7, 'Dev Settings'!$CB$11:$CB$18, 0)), ""), "")))) | GR7: =IF(BX7="", "", IF($P7=$BW$3, 0, IF($BJ7='Dev Settings'!$CA$10, IFERROR(INDEX('Dev Settings'!$BX$11:$BX$18, MATCH(BX7, 'Dev Settings'!$CA$11:$CA$18, 0)), ""), IF($BJ7='Dev Settings'!$CB$10, IFERROR(INDEX('Dev Settings'!$BX$11:$BX$18, MATCH(BX7, 'Dev Settings'!$CB$11:$CB$18, 0)), ""), "")))) | GT7: =IF(GO7="", "", IFERROR(INDEX('Dev Settings'!$BY$11:$BY$18, MATCH(GO7, 'Dev Settings'!$BX$11:$BX$18, 0)), "")) | GU7: =IF(GP7="", "", IFERROR(INDEX('Dev Settings'!$BY$11:$BY$18, MATCH(GP7, 'Dev Settings'!$BX$11:$BX$18, 0)), "")) | GV7: =IF(GQ7="", "", IFERROR(INDEX('Dev Settings'!$BY$11:$BY$18, MATCH(GQ7, 'Dev Settings'!$BX$11:$BX$18, 0)), "")) | GW7: =IF(GR7="", "", IFERROR(INDEX('Dev Settings'!$BY$11:$BY$18, MATCH(GR7, 'Dev Settings'!$BX$11:$BX$18, 0)), "")) | GY7: =IF($P7="", "", IF($BJ7=$BH$17, $GY$5, IF($GY$3=FALSE, $GY6, IF(Supplies!$N$4=$B7, $GY$5, IF($GY6-SUM($GT7:$GW7)<0, 0, $GY6-SUM($GT7:$GW7)))))) | HA7: =IFERROR(GY7/$GY$5, "") | HC7: =IF(NOT($EM7=$EM$5), "", "X") | HE7: =IF($HC7="", "", IF($P7=$BW$2, "X", "")) | HG7: =IF(HE7="", "", COUNTIF($HE$6:HE7, HE7)) | HI7: =$BJ7 | HK7: =IF(OR($HI7="", BU7=""), "", IF($HI7=$HI$2, IFERROR(INDEX(FOB!$CE$3:$CE$8, MATCH(BU7, FOB!$BX$15:$BX$20, 0)), ""), IF($HI7=$HI$3, IFERROR(INDEX(Carrier!$CE$3:$CE$8, MATCH(BU7, Carrier!$BX$15:$BX$20, 0)), ""), IF($HI7=$HI$4, IFERROR(INDEX(UK!$CE$3:$CE$8, MATCH(BU7, UK!$BX$15:$BX$20, 0)), ""), "")))) | HL7: =IF(OR($HI7="", BV7=""), "", IF($HI7=$HI$2, IFERROR(INDEX(FOB!$CE$3:$CE$8, MATCH(BV7, FOB!$BX$15:$BX$20, 0)), ""), IF($HI7=$HI$3, IFERROR(INDEX(Carrier!$CE$3:$CE$8, MATCH(BV7, Carrier!$BX$15:$BX$20, 0)), ""), IF($HI7=$HI$4, IFERROR(INDEX(UK!$CE$3:$CE$8, MATCH(BV7, UK!$BX$15:$BX$20, 0)), ""), "")))) | HM7: =IF(OR($HI7="", BW7=""), "", IF($HI7=$HI$2, IFERROR(INDEX(FOB!$CE$3:$CE$8, MATCH(BW7, FOB!$BX$15:$BX$20, 0)), ""), IF($HI7=$HI$3, IFERROR(INDEX(Carrier!$CE$3:$CE$8, MATCH(BW7, Carrier!$BX$15:$BX$20, 0)), ""), IF($HI7=$HI$4, IFERROR(INDEX(UK!$CE$3:$CE$8, MATCH(BW7, UK!$BX$15:$BX$20, 0)), ""), "")))) | HN7: =IF(OR($HI7="", BX7=""), "", IF($HI7=$HI$2, IFERROR(INDEX(FOB!$CE$3:$CE$8, MATCH(BX7, FOB!$BX$15:$BX$20, 0)), ""), IF($HI7=$HI$3, IFERROR(INDEX(Carrier!$CE$3:$CE$8, MATCH(BX7, Carrier!$BX$15:$BX$20, 0)), ""), IF($HI7=$HI$4, IFERROR(INDEX(UK!$CE$3:$CE$8, MATCH(BX7, UK!$BX$15:$BX$20, 0)), ""), "")))) | HP7: =IF(OR($HI7="", HK7=""), "", CONCATENATE($HI7, " - ", HK7)) | HQ7: =IF(OR($HI7="", HL7=""), "", CONCATENATE($HI7, " - ", HL7)) | HR7: =IF(OR($HI7="", HM7=""), "", CONCATENATE($HI7, " - ", HM7)) | HS7: =IF(OR($HI7="", HN7=""), "", CONCATENATE($HI7, " - ", HN7)) | HU7: =IF($P7=$BW$3, $HI7, "") | HW7: =IF(OR($HI7="", $T7="", NOT($P7=$BW$2)), "", CONCATENATE($HI7, " - ", $T7)) | HY7: =IF(NOT($HI7=HY$3), "", COUNTIF($HK7:$HN7, HY$5)>0) | HZ7: =IF(NOT($HI7=HZ$3), "", COUNTIF($HK7:$HN7, HZ$5)>0) | IA7: =IF(NOT($HI7=IA$3), "", COUNTIF($HK7:$HN7, IA$5)>0) | IB7: =IF(NOT($HI7=IB$3), "", COUNTIF($HK7:$HN7, IB$5)>0) | IC7: =IF(NOT($HI7=IC$3), "", COUNTIF($HK7:$HN7, IC$5)>0) | ID7: =IF(NOT($HI7=ID$3), "", COUNTIF($HK7:$HN7, ID$5)>0) | IF7: =IF(NOT($HI7=IF$3), "", COUNTIF($HK7:$HN7, IF$5)>0) | IG7: =IF(NOT($HI7=IG$3), "", COUNTIF($HK7:$HN7, IG$5)>0) | IH7: =IF(NOT($HI7=IH$3), "", COUNTIF($HK7:$HN7, IH$5)>0) | II7: =IF(NOT($HI7=II$3), "", COUNTIF($HK7:$HN7, II$5)>0) | IJ7: =IF(NOT($HI7=IJ$3), "", COUNTIF($HK7:$HN7, IJ$5)>0) | IK7: =IF(NOT($HI7=IK$3), "", COUNTIF($HK7:$HN7, IK$5)>0) | IM7: =IF(NOT($HI7=IM$3), "", COUNTIF($HK7:$HN7, IM$5)>0) | IN7: =IF(NOT($HI7=IN$3), "", COUNTIF($HK7:$HN7, IN$5)>0) | IO7: =IF(NOT($HI7=IO$3), "", COUNTIF($HK7:$HN7, IO$5)>0) | IP7: =IF(NOT($HI7=IP$3), "", COUNTIF($HK7:$HN7, IP$5)>0) | IQ7: =IF(NOT($HI7=IQ$3), "", COUNTIF($HK7:$HN7, IQ$5)>0) | IS7: =IF(NOT($HI7=IS$3), "", COUNTIF($HK7:$HN7, IS$5)) | IT7: =IF(NOT($HI7=IT$3), "", COUNTIF($HK7:$HN7, IT$5)) | IU7: =IF(NOT($HI7=IU$3), "", COUNTIF($HK7:$HN7, IU$5)) | IV7: =IF(NOT($HI7=IV$3), "", COUNTIF($HK7:$HN7, IV$5)) | IW7: =IF(NOT($HI7=IW$3), "", COUNTIF($HK7:$HN7, IW$5)) | IX7: =IF(NOT($HI7=IX$3), "", COUNTIF($HK7:$HN7, IX$5)) | IZ7: =IF(NOT($HI7=IZ$3), "", COUNTIF($HK7:$HN7, IZ$5)) | JA7: =IF(NOT($HI7=JA$3), "", COUNTIF($HK7:$HN7, JA$5)) | JB7: =IF(NOT($HI7=JB$3), "", COUNTIF($HK7:$HN7, JB$5)) | JC7: =IF(NOT($HI7=JC$3), "", COUNTIF($HK7:$HN7, JC$5)) | JD7: =IF(NOT($HI7=JD$3), "", COUNTIF($HK7:$HN7, JD$5)) | JE7: =IF(NOT($HI7=JE$3), "", COUNTIF($HK7:$HN7, JE$5)) | JG7: =IF(NOT($HI7=JG$3), "", COUNTIF($HK7:$HN7, JG$5)) | JH7: =IF(NOT($HI7=JH$3), "", COUNTIF($HK7:$HN7, JH$5)) | JI7: =IF(NOT($HI7=JI$3), "", COUNTIF($HK7:$HN7, JI$5)) | JJ7: =IF(NOT($HI7=JJ$3), "", COUNTIF($HK7:$HN7, JJ$5)) | JK7: =IF(NOT($HI7=JK$3), "", COUNTIF($HK7:$HN7, JK$5)) | JM7: =IF($P7=JM$5, $HI7, "") | JN7: =IF($P7=JN$5, $HI7, "")
B8: 3 | O8: =IF(AND($AX8="", $AY8="", $AZ8=""), "", $BH$11) | P8: =IF($J8="", "", IF(VALUE(LEFT($J8, 1))=$BP8, $BW$2, IF(VALUE(LEFT($J8, 1))=$BQ8, $BW$3, ""))) | T8: =IF($J8="", "", IF(VALUE(RIGHT($J8, 2))=0, "", VALUE(RIGHT($J8, 2))/$BM8)) | U8: =IF($E8="", "", IF(VALUE(RIGHT($E8, 2))=0, "", VALUE(RIGHT($E8, 2))/$S8)) | AU8: =IF(AND($E8="", NOT($CH8="")), $AX$3, IF(AND(NOT($E8=""), NOT($E8=$CH8)), $AX$2, "")) | AV8: =IF(AND($J8="", NOT($CI8="")), $AX$3, IF(AND(NOT($J8=""), NOT($J8=$CI8)), $AX$2, "")) | AX8: =IF($T8="", "", IF(COUNTIF($T$6:$T8, $T8)>1, "", IF(COUNTIF($T$6:$T8, "<"&$T8)=0, Carrier!$EW$7, ""))) | AY8: =IF($CS8="", "", IF(NOT($CS8=$CS7), $CS$4, "")) | AZ8: =$DS8 | BA8: =IF($AZ8="", "", CONCATENATE($AZ8, " - ", $BA$2)) | BC8: =IF($AY8="", "", CONCATENATE($AY8, ": ", $CS8)) | BE8: 6 | BF8: =RANDBETWEEN(1, 1000) -> 766 | BG8: =COUNTIF($BF$3:$BF$8, "<"&$BF8)+1+COUNTIF($BF$3:$BF8, $BF8)-1 -> 6 | BH8: =IFERROR(INDEX($BE$3:$BE$8, MATCH($BE8, $BG$3:$BG$8, 0)), "") -> 6 | BJ8: =IF($E8="", "", IF(LEFT($E8, 2)=$BH$17, $BH$17, LEFT($E8, 3))) | BL8: 5 | BM8: 6 | BN8: 2 | BO8: 3 | BP8: 7 | BQ8: 5 | BS8: =IF($BJ8="", "", REPLACE($E8, 1, LEN($BJ8), "")) | BU8: =IF($BS8="", "", IFERROR(VALUE(MID($BS8, BL8, 1)), "")) | BV8: =IF($BS8="", "", IFERROR(VALUE(MID($BS8, BM8, 1)), "")) | BW8: =IF($BS8="", "", IFERROR(VALUE(MID($BS8, BN8, 1)), "")) | BX8: =IF($BS8="", "", IFERROR(VALUE(MID($BS8, BO8, 1)), "")) | BZ8: =IF(AND($J8="", NOT($E8="")), IF($BZ$3=$BX$2, $BP8, IF($BZ$3=$BX$3, $BQ8, "")), "") | CA8: =IFERROR(IF(AND($J8="", NOT($E8="")), $CA$3*$BM8, ""), "") | CC8: =IF(OR($BZ8="", $CA8=""), "", CONCATENATE($BZ8, " - ", TEXT($CA8, "00"))) | CE8: =IF(NOT($E8=""), "", IF($J7="", "", IF(OR($CE$4>0, $CF$2>0, $CF$4=TRUE), "", $BH$2))) | CF8: =IF(AND($J8="", NOT($E8="")), $CC8, "") | CH8: =IF($E8="", CE8, $E8) | CI8: =IF($J8="", CF8, $J8) | CK8: =IF(AND($J8="", NOT($E8="")), "X", "") | CM8: =IF($P8="", "", COUNTIF($P$6:$P8, $BW$2)) | CO8: Lieutenant | CP8: ❁❁ | CQ8: 10 | CS8: =IF($CM8="", $CS7, IF($CM8<$CQ$7, $CO$6, IFERROR(INDEX($CO$7:$CO$17, MATCH($CM8, $CQ$7:$CQ$17, 1)), ""))) -> Officer Cadet | CU8: =IF(AND($E8="", $J8=""), "", "X") | CV8: =IF(AND($CU8="X", $CU9=""), "X", "") | CX8: Won on the first turn | CZ8: =IF(COUNTIF($T$6:$T$165, 1)>0, 1, 0) -> 0 | DA8: 3 | DB8: =IF($P8=$BW$2, DB7+1, 0) -> 0 | DF8: =IF(OR($E8="", $J8=""), 0, IF(COUNTIF(DF$6:DF7, 1)>0, 0, IF(COUNTIF($AX$6:$AX8, Carrier!$EW$7)>1, 1, 0))) -> 0 | DG8: =IF(OR($E8="", $J8=""), 0, IF(COUNTIF(DG$6:DG7, 1)>0, 0, IF(COUNTIF($T$6:$T8, "<"&$CY$7)>0, 1, 0))) -> 0 | DH8: =IF(OR($E8="", $J8=""), 0, IF(COUNTIF(DH$6:DH7, 1)>0, 0, IF(COUNTIF($T$6:$T8, 1)>0, 1, 0))) -> 0 | DI8: =IF(OR($E8="", $J8=""), 0, IF(COUNTIF(DI$6:DI7, 1)>0, 0, IF($DB8>=$CY$9, 1, 0))) -> 0 | DJ8: =IF(OR($E8="", $J8=""), 0, IF(COUNTIF(DJ$6:DJ7, 1)>0, 0, IF($DB8>=$CY$10, 1, 0))) -> 0 | DK8: =IF(OR($E8="", $J8=""), 0, IF(COUNTIF(DK$6:DK7, 1)>0, 0, IF($DB8>=$CY$11, 1, 0))) -> 0 | DL8: =IF(OR($E8="", $J8=""), 0, IF(COUNTIF(DL$6:DL7, 1)>0, 0, IF($DB8>=$CY$12, 1, 0))) -> 0 | DM8: =IF(OR($E8="", $J8=""), 0, IF(COUNTIF(DM$6:DM7, 1)>0, 0, IF(COUNTIF($P$6:$P8, $BW$2)>=$CY$13, 1, 0))) -> 0 | DN8: =IF(OR($E8="", $J8=""), 0, IF(COUNTIF(DN$6:DN7, 1)>0, 0, IF(COUNTIF($P$6:$P8, $BW$2)>=$CY$14, 1, 0))) -> 0 | DO8: =IF(OR($E8="", $J8=""), 0, IF(COUNTIF(DO$6:DO7, 1)>0, 0, IF(COUNTIF($P$6:$P8, $BW$2)>=$CY$15, 1, 0))) -> 0 | DP8: =IF(OR($E8="", $J8=""), 0, IF(COUNTIF(DP$6:DP7, 1)>0, 0, IF(COUNTIF($P$6:$P8, $BW$2)>=$CY$16, 1, 0))) -> 0 | DR8: =SUM($DF8:$DP8) -> 0 | DS8: =IF($DR8=0, "", IF($DR8=1, $DD$2, IF($DR8>1, $DD$3, ""))) | DU8: =$DU7+$DR8 -> 0 | DW8: =IF($DS8="", "", CONCATENATE($DS8, " ", $DW$3)) | DY8: =IF($AY8="", "", $DY$3) | EA8: =IF($P8=$BW$3, $BW$3, $T8) | EC8: =IF($P8="", "", IF($P8=$BW$3, 0, IF($BJ8=$BH$17, 0, IF($BJ8=$BH$16, COUNTIF($BU8:$BX8, 1)+COUNTIF($BU8:$BX8, 2), IF($BJ8=$BH$15, COUNTIF($BU8:$BX8, 1)+COUNTIF($BU8:$BX8, 2)+COUNTIF($BU8:$BX8, 3), 0))))) | EE8: 3 | EF8: =IF(Destinations!$BN8="", "", Destinations!$BN8) -> Brazil | EG8: 12 | EH8: =IF(SUMIF($EM$5:$EM$165, $EF8, $EC$5:$EC$165)>$EG8, $EG8, SUMIF($EM$5:$EM$165, $EF8, $EC$5:$EC$165)) -> 0 | EI8: =IFERROR($EH8/$EG8, "") -> 0 | EK8: =IF($P7="", "", IF(EK7="", "", IF($EQ7="", "", IF($EQ7<=$EO7, $EK7+1, $EK7)))) | EM8: =IF($EK8="", "", IFERROR(INDEX($EF$6:$EF$19, MATCH($EK8, $EE$6:$EE$19, 0)), "")) | EO8: =IF($EM8="", "", SUMIF($EM$5:$EM8, $EM8, $EC$5:$EC8)) | EQ8: =IF($EO8="", "", IFERROR(INDEX($EG$6:$EG$19, MATCH($EK8, $EE$6:$EE$19, 0)), "")) | ES8: =IF(AND(NOT($E8=""), $J8=""), $ES$3, IF(AND($E8="", $J8="", NOT($E7=""), NOT($J7="")), $ES$4, "")) | EU8: =IF(NOT($ES8=""), $ES8, IF($ES7=$ES$3, $ES$4, IF($ES7=$ES$2, $ES$3, IF($ES9=$ES$3, $ES$2, IF($ES9=$ES$4, $ES$3, IF($ES10=$ES$4, $ES$2, "")))))) | EW8: =$EM8 | EY8: =IF($EW8="USA", "the USA", IF($EM8="UK", "the UK", $EW8)) | FA8: =IF($EW8="", "", IF(AND($EU8=$ES$4, NOT($EW8=$EW$3)), $BE$12, $BE$11)) | FC8: =IF($FA8=$BE$12, "X", "") | FE8: =IF(OR($EQ8="", $EO8=""), "", IF($EO8>=$EQ8, 1, IFERROR($EO8/$EQ8, ""))) | FG8: =IF(AND($FE9="", NOT($FE8="")), 1, IF(AND($FE10="", NOT($FE9="")), 2, IF(AND($FE11="", NOT($FE10="")), 3, ""))) | FI8: . We believe he has a military presence there too. Please set sail for | FK8: =IF($HG8="", "", IF($HG8>=5, "X", "")) | FM8: =IF($FK8="X", $BW$2, "") | FO8: =IF($FK8="", "", IF($FM8=$BW$2, $FI$21, IF($FM8=$BW$3, $FI$23, ""))) | FQ8: =IF($FE8=1, CONCATENATE($FI$6, $EY8, $FI$7, $EY9, $FI$8, $EY9, $FI$9), "") | FS8: =IF($FQ8="", "", "You are currenly en route to your new destination. You can't conduct missions while travelling, but you can currently do training (which is only available while travelling) if you wish.") | FU8: =IF($EW9=$EM$5, $FI$25, IF($FE8=1, CONCATENATE($FI$12, $EY9, $FI$13, $EY9, $FI$14), "")) | FW8: =IF($EM8=$EM$5, $FI$25, IF(AND($FO8="", $FQ8="", $FU8=""), $FI$17, "")) -> Good job so far. Let's keep going, the more intelligence the better. Launch some more missions and let's gather as much as we can. Get the progress bar to 100% and we should have a clearer picture. | FY8: =IF(AND($E8="", $J8="", $ES8=""), "", IF($FK8="X", $FO$4, IF($FE8=1, IF(COUNTIF(Destinations!$AP$7:$AP$19, $EW9)+COUNTIF(Destinations!$AQ$7:$AQ$19, $EW9)=0, $FQ$4, IF(COUNTIF(Destinations!$AQ$7:$AQ$19, $EW9)>0, $FS$4, IF(COUNTIF(Destinations!$AP$7:$AP$19, $EW9)>0, $FU$4, ""))), $FW$4))) | GC8: =IF($FY8="", "", IF($FY8=$FO$4, $FO8, IF($FY8=$FQ$4, $FQ8, IF($FY8=$FS$4, $FS8, IF($FY8=$FU$4, $FU8, IF($FY8=$FW$4, $FW8, "")))))) | GE8: =IF(AND(NOT($E8=""), NOT($J8=""), $E9="", $J9=""), "X", "") | GG8: =IF(OR(E8="", J8=""), "", $B8) | GI8: =IF($GI$2="", "", IF($EW8=$GI$2, $P8, "")) | GK8: =IF(AND(NOT($E8=""), $J8="", $CF8=""), "X", "") | GM8: =IF(OR(E8="", J8=""), "", "X") | GO8: =IF(BU8="", "", IF($P8=$BW$3, 0, IF($BJ8='Dev Settings'!$CA$10, IFERROR(INDEX('Dev Settings'!$BX$11:$BX$18, MATCH(BU8, 'Dev Settings'!$CA$11:$CA$18, 0)), ""), IF($BJ8='Dev Settings'!$CB$10, IFERROR(INDEX('Dev Settings'!$BX$11:$BX$18, MATCH(BU8, 'Dev Settings'!$CB$11:$CB$18, 0)), ""), "")))) | GP8: =IF(BV8="", "", IF($P8=$BW$3, 0, IF($BJ8='Dev Settings'!$CA$10, IFERROR(INDEX('Dev Settings'!$BX$11:$BX$18, MATCH(BV8, 'Dev Settings'!$CA$11:$CA$18, 0)), ""), IF($BJ8='Dev Settings'!$CB$10, IFERROR(INDEX('Dev Settings'!$BX$11:$BX$18, MATCH(BV8, 'Dev Settings'!$CB$11:$CB$18, 0)), ""), "")))) | GQ8: =IF(BW8="", "", IF($P8=$BW$3, 0, IF($BJ8='Dev Settings'!$CA$10, IFERROR(INDEX('Dev Settings'!$BX$11:$BX$18, MATCH(BW8, 'Dev Settings'!$CA$11:$CA$18, 0)), ""), IF($BJ8='Dev Settings'!$CB$10, IFERROR(INDEX('Dev Settings'!$BX$11:$BX$18, MATCH(BW8, 'Dev Settings'!$CB$11:$CB$18, 0)), ""), "")))) | GR8: =IF(BX8="", "", IF($P8=$BW$3, 0, IF($BJ8='Dev Settings'!$CA$10, IFERROR(INDEX('Dev Settings'!$BX$11:$BX$18, MATCH(BX8, 'Dev Settings'!$CA$11:$CA$18, 0)), ""), IF($BJ8='Dev Settings'!$CB$10, IFERROR(INDEX('Dev Settings'!$BX$11:$BX$18, MATCH(BX8, 'Dev Settings'!$CB$11:$CB$18, 0)), ""), "")))) | GT8: =IF(GO8="", "", IFERROR(INDEX('Dev Settings'!$BY$11:$BY$18, MATCH(GO8, 'Dev Settings'!$BX$11:$BX$18, 0)), "")) | GU8: =IF(GP8="", "", IFERROR(INDEX('Dev Settings'!$BY$11:$BY$18, MATCH(GP8, 'Dev Settings'!$BX$11:$BX$18, 0)), "")) | GV8: =IF(GQ8="", "", IFERROR(INDEX('Dev Settings'!$BY$11:$BY$18, MATCH(GQ8, 'Dev Settings'!$BX$11:$BX$18, 0)), "")) | GW8: =IF(GR8="", "", IFERROR(INDEX('Dev Settings'!$BY$11:$BY$18, MATCH(GR8, 'Dev Settings'!$BX$11:$BX$18, 0)), "")) | GY8: =IF($P8="", "", IF($BJ8=$BH$17, $GY$5, IF($GY$3=FALSE, $GY7, IF(Supplies!$N$4=$B8, $GY$5, IF($GY7-SUM($GT8:$GW8)<0, 0, $GY7-SUM($GT8:$GW8)))))) | HA8: =IFERROR(GY8/$GY$5, "") | HC8: =IF(NOT($EM8=$EM$5), "", "X") | HE8: =IF($HC8="", "", IF($P8=$BW$2, "X", "")) | HG8: =IF(HE8="", "", COUNTIF($HE$6:HE8, HE8)) | HI8: =$BJ8 | HK8: =IF(OR($HI8="", BU8=""), "", IF($HI8=$HI$2, IFERROR(INDEX(FOB!$CE$3:$CE$8, MATCH(BU8, FOB!$BX$15:$BX$20, 0)), ""), IF($HI8=$HI$3, IFERROR(INDEX(Carrier!$CE$3:$CE$8, MATCH(BU8, Carrier!$BX$15:$BX$20, 0)), ""), IF($HI8=$HI$4, IFERROR(INDEX(UK!$CE$3:$CE$8, MATCH(BU8, UK!$BX$15:$BX$20, 0)), ""), "")))) | HL8: =IF(OR($HI8="", BV8=""), "", IF($HI8=$HI$2, IFERROR(INDEX(FOB!$CE$3:$CE$8, MATCH(BV8, FOB!$BX$15:$BX$20, 0)), ""), IF($HI8=$HI$3, IFERROR(INDEX(Carrier!$CE$3:$CE$8, MATCH(BV8, Carrier!$BX$15:$BX$20, 0)), ""), IF($HI8=$HI$4, IFERROR(INDEX(UK!$CE$3:$CE$8, MATCH(BV8, UK!$BX$15:$BX$20, 0)), ""), "")))) | HM8: =IF(OR($HI8="", BW8=""), "", IF($HI8=$HI$2, IFERROR(INDEX(FOB!$CE$3:$CE$8, MATCH(BW8, FOB!$BX$15:$BX$20, 0)), ""), IF($HI8=$HI$3, IFERROR(INDEX(Carrier!$CE$3:$CE$8, MATCH(BW8, Carrier!$BX$15:$BX$20, 0)), ""), IF($HI8=$HI$4, IFERROR(INDEX(UK!$CE$3:$CE$8, MATCH(BW8, UK!$BX$15:$BX$20, 0)), ""), "")))) | HN8: =IF(OR($HI8="", BX8=""), "", IF($HI8=$HI$2, IFERROR(INDEX(FOB!$CE$3:$CE$8, MATCH(BX8, FOB!$BX$15:$BX$20, 0)), ""), IF($HI8=$HI$3, IFERROR(INDEX(Carrier!$CE$3:$CE$8, MATCH(BX8, Carrier!$BX$15:$BX$20, 0)), ""), IF($HI8=$HI$4, IFERROR(INDEX(UK!$CE$3:$CE$8, MATCH(BX8, UK!$BX$15:$BX$20, 0)), ""), "")))) | HP8: =IF(OR($HI8="", HK8=""), "", CONCATENATE($HI8, " - ", HK8)) | HQ8: =IF(OR($HI8="", HL8=""), "", CONCATENATE($HI8, " - ", HL8)) | HR8: =IF(OR($HI8="", HM8=""), "", CONCATENATE($HI8, " - ", HM8)) | HS8: =IF(OR($HI8="", HN8=""), "", CONCATENATE($HI8, " - ", HN8)) | HU8: =IF($P8=$BW$3, $HI8, "") | HW8: =IF(OR($HI8="", $T8="", NOT($P8=$BW$2)), "", CONCATENATE($HI8, " - ", $T8)) | HY8: =IF(NOT($HI8=HY$3), "", COUNTIF($HK8:$HN8, HY$5)>0) | HZ8: =IF(NOT($HI8=HZ$3), "", COUNTIF($HK8:$HN8, HZ$5)>0) | IA8: =IF(NOT($HI8=IA$3), "", COUNTIF($HK8:$HN8, IA$5)>0) | IB8: =IF(NOT($HI8=IB$3), "", COUNTIF($HK8:$HN8, IB$5)>0) | IC8: =IF(NOT($HI8=IC$3), "", COUNTIF($HK8:$HN8, IC$5)>0) | ID8: =IF(NOT($HI8=ID$3), "", COUNTIF($HK8:$HN8, ID$5)>0) | IF8: =IF(NOT($HI8=IF$3), "", COUNTIF($HK8:$HN8, IF$5)>0) | IG8: =IF(NOT($HI8=IG$3), "", COUNTIF($HK8:$HN8, IG$5)>0) | IH8: =IF(NOT($HI8=IH$3), "", COUNTIF($HK8:$HN8, IH$5)>0) | II8: =IF(NOT($HI8=II$3), "", COUNTIF($HK8:$HN8, II$5)>0) | IJ8: =IF(NOT($HI8=IJ$3), "", COUNTIF($HK8:$HN8, IJ$5)>0) | IK8: =IF(NOT($HI8=IK$3), "", COUNTIF($HK8:$HN8, IK$5)>0) | IM8: =IF(NOT($HI8=IM$3), "", COUNTIF($HK8:$HN8, IM$5)>0) | IN8: =IF(NOT($HI8=IN$3), "", COUNTIF($HK8:$HN8, IN$5)>0) | IO8: =IF(NOT($HI8=IO$3), "", COUNTIF($HK8:$HN8, IO$5)>0) | IP8: =IF(NOT($HI8=IP$3), "", COUNTIF($HK8:$HN8, IP$5)>0) | IQ8: =IF(NOT($HI8=IQ$3), "", COUNTIF($HK8:$HN8, IQ$5)>0) | IS8: =IF(NOT($HI8=IS$3), "", COUNTIF($HK8:$HN8, IS$5)) | IT8: =IF(NOT($HI8=IT$3), "", COUNTIF($HK8:$HN8, IT$5)) | IU8: =IF(NOT($HI8=IU$3), "", COUNTIF($HK8:$HN8, IU$5)) | IV8: =IF(NOT($HI8=IV$3), "", COUNTIF($HK8:$HN8, IV$5)) | IW8: =IF(NOT($HI8=IW$3), "", COUNTIF($HK8:$HN8, IW$5)) | IX8: =IF(NOT($HI8=IX$3), "", COUNTIF($HK8:$HN8, IX$5)) | IZ8: =IF(NOT($HI8=IZ$3), "", COUNTIF($HK8:$HN8, IZ$5)) | JA8: =IF(NOT($HI8=JA$3), "", COUNTIF($HK8:$HN8, JA$5)) | JB8: =IF(NOT($HI8=JB$3), "", COUNTIF($HK8:$HN8, JB$5)) | JC8: =IF(NOT($HI8=JC$3), "", COUNTIF($HK8:$HN8, JC$5)) | JD8: =IF(NOT($HI8=JD$3), "", COUNTIF($HK8:$HN8, JD$5)) | JE8: =IF(NOT($HI8=JE$3), "", COUNTIF($HK8:$HN8, JE$5)) | JG8: =IF(NOT($HI8=JG$3), "", COUNTIF($HK8:$HN8, JG$5)) | JH8: =IF(NOT($HI8=JH$3), "", COUNTIF($HK8:$HN8, JH$5)) | JI8: =IF(NOT($HI8=JI$3), "", COUNTIF($HK8:$HN8, JI$5)) | JJ8: =IF(NOT($HI8=JJ$3), "", COUNTIF($HK8:$HN8, JJ$5)) | JK8: =IF(NOT($HI8=JK$3), "", COUNTIF($HK8:$HN8, JK$5)) | JM8: =IF($P8=JM$5, $HI8, "") | JN8: =IF($P8=JN$5, $HI8, "")
B9: 4 | O9: =IF(AND($AX9="", $AY9="", $AZ9=""), "", $BH$11) | P9: =IF($J9="", "", IF(VALUE(LEFT($J9, 1))=$BP9, $BW$2, IF(VALUE(LEFT($J9, 1))=$BQ9, $BW$3, ""))) | T9: =IF($J9="", "", IF(VALUE(RIGHT($J9, 2))=0, "", VALUE(RIGHT($J9, 2))/$BM9)) | U9: =IF($E9="", "", IF(VALUE(RIGHT($E9, 2))=0, "", VALUE(RIGHT($E9, 2))/$S9)) | AU9: =IF(AND($E9="", NOT($CH9="")), $AX$3, IF(AND(NOT($E9=""), NOT($E9=$CH9)), $AX$2, "")) | AV9: =IF(AND($J9="", NOT($CI9="")), $AX$3, IF(AND(NOT($J9=""), NOT($J9=$CI9)), $AX$2, "")) | AX9: =IF($T9="", "", IF(COUNTIF($T$6:$T9, $T9)>1, "", IF(COUNTIF($T$6:$T9, "<"&$T9)=0, Carrier!$EW$7, ""))) | AY9: =IF($CS9="", "", IF(NOT($CS9=$CS8), $CS$4, "")) | AZ9: =$DS9 | BA9: =IF($AZ9="", "", CONCATENATE($AZ9, " - ", $BA$2)) | BC9: =IF($AY9="", "", CONCATENATE($AY9, ": ", $CS9)) | BG9: =RANDBETWEEN(1, 100) -> 54 | BH9: =IF($HC$3>0, $BH$17, IF($BG$9<=$BH$24, $BH$15, $BH$16)) -> CAR | BJ9: =IF($E9="", "", IF(LEFT($E9, 2)=$BH$17, $BH$17, LEFT($E9, 3))) | BL9: 3 | BM9: 3 | BN9: 3 | BO9: 6 | BP9: 1 | BQ9: 6 | BS9: =IF($BJ9="", "", REPLACE($E9, 1, LEN($BJ9), "")) | BU9: =IF($BS9="", "", IFERROR(VALUE(MID($BS9, BL9, 1)), "")) | BV9: =IF($BS9="", "", IFERROR(VALUE(MID($BS9, BM9, 1)), "")) | BW9: =IF($BS9="", "", IFERROR(VALUE(MID($BS9, BN9, 1)), "")) | BX9: =IF($BS9="", "", IFERROR(VALUE(MID($BS9, BO9, 1)), "")) | BZ9: =IF(AND($J9="", NOT($E9="")), IF($BZ$3=$BX$2, $BP9, IF($BZ$3=$BX$3, $BQ9, "")), "") | CA9: =IFERROR(IF(AND($J9="", NOT($E9="")), $CA$3*$BM9, ""), "") | CC9: =IF(OR($BZ9="", $CA9=""), "", CONCATENATE($BZ9, " - ", TEXT($CA9, "00"))) | CE9: =IF(NOT($E9=""), "", IF($J8="", "", IF(OR($CE$4>0, $CF$2>0, $CF$4=TRUE), "", $BH$2))) | CF9: =IF(AND($J9="", NOT($E9="")), $CC9, "") | CH9: =IF($E9="", CE9, $E9) | CI9: =IF($J9="", CF9, $J9) | CK9: =IF(AND($J9="", NOT($E9="")), "X", "") | CM9: =IF($P9="", "", COUNTIF($P$6:$P9, $BW$2)) | CO9: Captain | CP9: ❁❁❁ | CQ9: 15 | CS9: =IF($CM9="", $CS8, IF($CM9<$CQ$7, $CO$6, IFERROR(INDEX($CO$7:$CO$17, MATCH($CM9, $CQ$7:$CQ$17, 1)), ""))) -> Officer Cadet | CU9: =IF(AND($E9="", $J9=""), "", "X") | CV9: =IF(AND($CU9="X", $CU10=""), "X", "") | CX9: Won 5 battles in a row | CY9: 5 | CZ9: =IF($DB$3>=$CY9, 1, 0) -> 0 | DA9: 4 | DB9: =IF($P9=$BW$2, DB8+1, 0) -> 0 | DF9: =IF(OR($E9="", $J9=""), 0, IF(COUNTIF(DF$6:DF8, 1)>0, 0, IF(COUNTIF($AX$6:$AX9, Carrier!$EW$7)>1, 1, 0))) -> 0 | DG9: =IF(OR($E9="", $J9=""), 0, IF(COUNTIF(DG$6:DG8, 1)>0, 0, IF(COUNTIF($T$6:$T9, "<"&$CY$7)>0, 1, 0))) -> 0 | DH9: =IF(OR($E9="", $J9=""), 0, IF(COUNTIF(DH$6:DH8, 1)>0, 0, IF(COUNTIF($T$6:$T9, 1)>0, 1, 0))) -> 0 | DI9: =IF(OR($E9="", $J9=""), 0, IF(COUNTIF(DI$6:DI8, 1)>0, 0, IF($DB9>=$CY$9, 1, 0))) -> 0 | DJ9: =IF(OR($E9="", $J9=""), 0, IF(COUNTIF(DJ$6:DJ8, 1)>0, 0, IF($DB9>=$CY$10, 1, 0))) -> 0 | DK9: =IF(OR($E9="", $J9=""), 0, IF(COUNTIF(DK$6:DK8, 1)>0, 0, IF($DB9>=$CY$11, 1, 0))) -> 0 | DL9: =IF(OR($E9="", $J9=""), 0, IF(COUNTIF(DL$6:DL8, 1)>0, 0, IF($DB9>=$CY$12, 1, 0))) -> 0 | DM9: =IF(OR($E9="", $J9=""), 0, IF(COUNTIF(DM$6:DM8, 1)>0, 0, IF(COUNTIF($P$6:$P9, $BW$2)>=$CY$13, 1, 0))) -> 0 | DN9: =IF(OR($E9="", $J9=""), 0, IF(COUNTIF(DN$6:DN8, 1)>0, 0, IF(COUNTIF($P$6:$P9, $BW$2)>=$CY$14, 1, 0))) -> 0 | DO9: =IF(OR($E9="", $J9=""), 0, IF(COUNTIF(DO$6:DO8, 1)>0, 0, IF(COUNTIF($P$6:$P9, $BW$2)>=$CY$15, 1, 0))) -> 0 | DP9: =IF(OR($E9="", $J9=""), 0, IF(COUNTIF(DP$6:DP8, 1)>0, 0, IF(COUNTIF($P$6:$P9, $BW$2)>=$CY$16, 1, 0))) -> 0 | DR9: =SUM($DF9:$DP9) -> 0 | DS9: =IF($DR9=0, "", IF($DR9=1, $DD$2, IF($DR9>1, $DD$3, ""))) | DU9: =$DU8+$DR9 -> 0 | DW9: =IF($DS9="", "", CONCATENATE($DS9, " ", $DW$3)) | DY9: =IF($AY9="", "", $DY$3) | EA9: =IF($P9=$BW$3, $BW$3, $T9) | EC9: =IF($P9="", "", IF($P9=$BW$3, 0, IF($BJ9=$BH$17, 0, IF($BJ9=$BH$16, COUNTIF($BU9:$BX9, 1)+COUNTIF($BU9:$BX9, 2), IF($BJ9=$BH$15, COUNTIF($BU9:$BX9, 1)+COUNTIF($BU9:$BX9, 2)+COUNTIF($BU9:$BX9, 3), 0))))) | EE9: 4 | EF9: =IF(Destinations!$BN9="", "", Destinations!$BN9) -> Guinea | EG9: 12 | EH9: =IF(SUMIF($EM$5:$EM$165, $EF9, $EC$5:$EC$165)>$EG9, $EG9, SUMIF($EM$5:$EM$165, $EF9, $EC$5:$EC$165)) -> 0 | EI9: =IFERROR($EH9/$EG9, "") -> 0 | EK9: =IF($P8="", "", IF(EK8="", "", IF($EQ8="", "", IF($EQ8<=$EO8, $EK8+1, $EK8)))) | EM9: =IF($EK9="", "", IFERROR(INDEX($EF$6:$EF$19, MATCH($EK9, $EE$6:$EE$19, 0)), "")) | EO9: =IF($EM9="", "", SUMIF($EM$5:$EM9, $EM9, $EC$5:$EC9)) | EQ9: =IF($EO9="", "", IFERROR(INDEX($EG$6:$EG$19, MATCH($EK9, $EE$6:$EE$19, 0)), "")) | ES9: =IF(AND(NOT($E9=""), $J9=""), $ES$3, IF(AND($E9="", $J9="", NOT($E8=""), NOT($J8="")), $ES$4, "")) | EU9: =IF(NOT($ES9=""), $ES9, IF($ES8=$ES$3, $ES$4, IF($ES8=$ES$2, $ES$3, IF($ES10=$ES$3, $ES$2, IF($ES10=$ES$4, $ES$3, IF($ES11=$ES$4, $ES$2, "")))))) | EW9: =$EM9 | EY9: =IF($EW9="USA", "the USA", IF($EM9="UK", "the UK", $EW9)) | FA9: =IF($EW9="", "", IF(AND($EU9=$ES$4, NOT($EW9=$EW$3)), $BE$12, $BE$11)) | FC9: =IF($FA9=$BE$12, "X", "") | FE9: =IF(OR($EQ9="", $EO9=""), "", IF($EO9>=$EQ9, 1, IFERROR($EO9/$EQ9, ""))) | FG9: =IF(AND($FE10="", NOT($FE9="")), 1, IF(AND($FE11="", NOT($FE10="")), 2, IF(AND($FE12="", NOT($FE11="")), 3, ""))) | FI9: immediately. | FK9: =IF($HG9="", "", IF($HG9>=5, "X", "")) | FM9: =IF($FK9="X", $BW$2, "") | FO9: =IF($FK9="", "", IF($FM9=$BW$2, $FI$21, IF($FM9=$BW$3, $FI$23, ""))) | FQ9: =IF($FE9=1, CONCATENATE($FI$6, $EY9, $FI$7, $EY10, $FI$8, $EY10, $FI$9), "") | FS9: =IF($FQ9="", "", "You are currenly en route to your new destination. You can't conduct missions while travelling, but you can currently do training (which is only available while travelling) if you wish.") | FU9: =IF($EW10=$EM$5, $FI$25, IF($FE9=1, CONCATENATE($FI$12, $EY10, $FI$13, $EY10, $FI$14), "")) | FW9: =IF($EM9=$EM$5, $FI$25, IF(AND($FO9="", $FQ9="", $FU9=""), $FI$17, "")) -> Good job so far. Let's keep going, the more intelligence the better. Launch some more missions and let's gather as much as we can. Get the progress bar to 100% and we should have a clearer picture. | FY9: =IF(AND($E9="", $J9="", $ES9=""), "", IF($FK9="X", $FO$4, IF($FE9=1, IF(COUNTIF(Destinations!$AP$7:$AP$19, $EW10)+COUNTIF(Destinations!$AQ$7:$AQ$19, $EW10)=0, $FQ$4, IF(COUNTIF(Destinations!$AQ$7:$AQ$19, $EW10)>0, $FS$4, IF(COUNTIF(Destinations!$AP$7:$AP$19, $EW10)>0, $FU$4, ""))), $FW$4))) | GC9: =IF($FY9="", "", IF($FY9=$FO$4, $FO9, IF($FY9=$FQ$4, $FQ9, IF($FY9=$FS$4, $FS9, IF($FY9=$FU$4, $FU9, IF($FY9=$FW$4, $FW9, "")))))) | GE9: =IF(AND(NOT($E9=""), NOT($J9=""), $E10="", $J10=""), "X", "") | GG9: =IF(OR(E9="", J9=""), "", $B9) | GI9: =IF($GI$2="", "", IF($EW9=$GI$2, $P9, "")) | GK9: =IF(AND(NOT($E9=""), $J9="", $CF9=""), "X", "") | GM9: =IF(OR(E9="", J9=""), "", "X") | GO9: =IF(BU9="", "", IF($P9=$BW$3, 0, IF($BJ9='Dev Settings'!$CA$10, IFERROR(INDEX('Dev Settings'!$BX$11:$BX$18, MATCH(BU9, 'Dev Settings'!$CA$11:$CA$18, 0)), ""), IF($BJ9='Dev Settings'!$CB$10, IFERROR(INDEX('Dev Settings'!$BX$11:$BX$18, MATCH(BU9, 'Dev Settings'!$CB$11:$CB$18, 0)), ""), "")))) | GP9: =IF(BV9="", "", IF($P9=$BW$3, 0, IF($BJ9='Dev Settings'!$CA$10, IFERROR(INDEX('Dev Settings'!$BX$11:$BX$18, MATCH(BV9, 'Dev Settings'!$CA$11:$CA$18, 0)), ""), IF($BJ9='Dev Settings'!$CB$10, IFERROR(INDEX('Dev Settings'!$BX$11:$BX$18, MATCH(BV9, 'Dev Settings'!$CB$11:$CB$18, 0)), ""), "")))) | GQ9: =IF(BW9="", "", IF($P9=$BW$3, 0, IF($BJ9='Dev Settings'!$CA$10, IFERROR(INDEX('Dev Settings'!$BX$11:$BX$18, MATCH(BW9, 'Dev Settings'!$CA$11:$CA$18, 0)), ""), IF($BJ9='Dev Settings'!$CB$10, IFERROR(INDEX('Dev Settings'!$BX$11:$BX$18, MATCH(BW9, 'Dev Settings'!$CB$11:$CB$18, 0)), ""), "")))) | GR9: =IF(BX9="", "", IF($P9=$BW$3, 0, IF($BJ9='Dev Settings'!$CA$10, IFERROR(INDEX('Dev Settings'!$BX$11:$BX$18, MATCH(BX9, 'Dev Settings'!$CA$11:$CA$18, 0)), ""), IF($BJ9='Dev Settings'!$CB$10, IFERROR(INDEX('Dev Settings'!$BX$11:$BX$18, MATCH(BX9, 'Dev Settings'!$CB$11:$CB$18, 0)), ""), "")))) | GT9: =IF(GO9="", "", IFERROR(INDEX('Dev Settings'!$BY$11:$BY$18, MATCH(GO9, 'Dev Settings'!$BX$11:$BX$18, 0)), "")) | GU9: =IF(GP9="", "", IFERROR(INDEX('Dev Settings'!$BY$11:$BY$18, MATCH(GP9, 'Dev Settings'!$BX$11:$BX$18, 0)), "")) | GV9: =IF(GQ9="", "", IFERROR(INDEX('Dev Settings'!$BY$11:$BY$18, MATCH(GQ9, 'Dev Settings'!$BX$11:$BX$18, 0)), "")) | GW9: =IF(GR9="", "", IFERROR(INDEX('Dev Settings'!$BY$11:$BY$18, MATCH(GR9, 'Dev Settings'!$BX$11:$BX$18, 0)), "")) | GY9: =IF($P9="", "", IF($BJ9=$BH$17, $GY$5, IF($GY$3=FALSE, $GY8, IF(Supplies!$N$4=$B9, $GY$5, IF($GY8-SUM($GT9:$GW9)<0, 0, $GY8-SUM($GT9:$GW9)))))) | HA9: =IFERROR(GY9/$GY$5, "") | HC9: =IF(NOT($EM9=$EM$5), "", "X") | HE9: =IF($HC9="", "", IF($P9=$BW$2, "X", "")) | HG9: =IF(HE9="", "", COUNTIF($HE$6:HE9, HE9)) | HI9: =$BJ9 | HK9: =IF(OR($HI9="", BU9=""), "", IF($HI9=$HI$2, IFERROR(INDEX(FOB!$CE$3:$CE$8, MATCH(BU9, FOB!$BX$15:$BX$20, 0)), ""), IF($HI9=$HI$3, IFERROR(INDEX(Carrier!$CE$3:$CE$8, MATCH(BU9, Carrier!$BX$15:$BX$20, 0)), ""), IF($HI9=$HI$4, IFERROR(INDEX(UK!$CE$3:$CE$8, MATCH(BU9, UK!$BX$15:$BX$20, 0)), ""), "")))) | HL9: =IF(OR($HI9="", BV9=""), "", IF($HI9=$HI$2, IFERROR(INDEX(FOB!$CE$3:$CE$8, MATCH(BV9, FOB!$BX$15:$BX$20, 0)), ""), IF($HI9=$HI$3, IFERROR(INDEX(Carrier!$CE$3:$CE$8, MATCH(BV9, Carrier!$BX$15:$BX$20, 0)), ""), IF($HI9=$HI$4, IFERROR(INDEX(UK!$CE$3:$CE$8, MATCH(BV9, UK!$BX$15:$BX$20, 0)), ""), "")))) | HM9: =IF(OR($HI9="", BW9=""), "", IF($HI9=$HI$2, IFERROR(INDEX(FOB!$CE$3:$CE$8, MATCH(BW9, FOB!$BX$15:$BX$20, 0)), ""), IF($HI9=$HI$3, IFERROR(INDEX(Carrier!$CE$3:$CE$8, MATCH(BW9, Carrier!$BX$15:$BX$20, 0)), ""), IF($HI9=$HI$4, IFERROR(INDEX(UK!$CE$3:$CE$8, MATCH(BW9, UK!$BX$15:$BX$20, 0)), ""), "")))) | HN9: =IF(OR($HI9="", BX9=""), "", IF($HI9=$HI$2, IFERROR(INDEX(FOB!$CE$3:$CE$8, MATCH(BX9, FOB!$BX$15:$BX$20, 0)), ""), IF($HI9=$HI$3, IFERROR(INDEX(Carrier!$CE$3:$CE$8, MATCH(BX9, Carrier!$BX$15:$BX$20, 0)), ""), IF($HI9=$HI$4, IFERROR(INDEX(UK!$CE$3:$CE$8, MATCH(BX9, UK!$BX$15:$BX$20, 0)), ""), "")))) | HP9: =IF(OR($HI9="", HK9=""), "", CONCATENATE($HI9, " - ", HK9)) | HQ9: =IF(OR($HI9="", HL9=""), "", CONCATENATE($HI9, " - ", HL9)) | HR9: =IF(OR($HI9="", HM9=""), "", CONCATENATE($HI9, " - ", HM9)) | HS9: =IF(OR($HI9="", HN9=""), "", CONCATENATE($HI9, " - ", HN9)) | HU9: =IF($P9=$BW$3, $HI9, "") | HW9: =IF(OR($HI9="", $T9="", NOT($P9=$BW$2)), "", CONCATENATE($HI9, " - ", $T9)) | HY9: =IF(NOT($HI9=HY$3), "", COUNTIF($HK9:$HN9, HY$5)>0) | HZ9: =IF(NOT($HI9=HZ$3), "", COUNTIF($HK9:$HN9, HZ$5)>0) | IA9: =IF(NOT($HI9=IA$3), "", COUNTIF($HK9:$HN9, IA$5)>0) | IB9: =IF(NOT($HI9=IB$3), "", COUNTIF($HK9:$HN9, IB$5)>0) | IC9: =IF(NOT($HI9=IC$3), "", COUNTIF($HK9:$HN9, IC$5)>0) | ID9: =IF(NOT($HI9=ID$3), "", COUNTIF($HK9:$HN9, ID$5)>0) | IF9: =IF(NOT($HI9=IF$3), "", COUNTIF($HK9:$HN9, IF$5)>0) | IG9: =IF(NOT($HI9=IG$3), "", COUNTIF($HK9:$HN9, IG$5)>0) | IH9: =IF(NOT($HI9=IH$3), "", COUNTIF($HK9:$HN9, IH$5)>0) | II9: =IF(NOT($HI9=II$3), "", COUNTIF($HK9:$HN9, II$5)>0) | IJ9: =IF(NOT($HI9=IJ$3), "", COUNTIF($HK9:$HN9, IJ$5)>0) | IK9: =IF(NOT($HI9=IK$3), "", COUNTIF($HK9:$HN9, IK$5)>0) | IM9: =IF(NOT($HI9=IM$3), "", COUNTIF($HK9:$HN9, IM$5)>0) | IN9: =IF(NOT($HI9=IN$3), "", COUNTIF($HK9:$HN9, IN$5)>0) | IO9: =IF(NOT($HI9=IO$3), "", COUNTIF($HK9:$HN9, IO$5)>0) | IP9: =IF(NOT($HI9=IP$3), "", COUNTIF($HK9:$HN9, IP$5)>0) | IQ9: =IF(NOT($HI9=IQ$3), "", COUNTIF($HK9:$HN9, IQ$5)>0) | IS9: =IF(NOT($HI9=IS$3), "", COUNTIF($HK9:$HN9, IS$5)) | IT9: =IF(NOT($HI9=IT$3), "", COUNTIF($HK9:$HN9, IT$5)) | IU9: =IF(NOT($HI9=IU$3), "", COUNTIF($HK9:$HN9, IU$5)) | IV9: =IF(NOT($HI9=IV$3), "", COUNTIF($HK9:$HN9, IV$5)) | IW9: =IF(NOT($HI9=IW$3), "", COUNTIF($HK9:$HN9, IW$5)) | IX9: =IF(NOT($HI9=IX$3), "", COUNTIF($HK9:$HN9, IX$5)) | IZ9: =IF(NOT($HI9=IZ$3), "", COUNTIF($HK9:$HN9, IZ$5)) | JA9: =IF(NOT($HI9=JA$3), "", COUNTIF($HK9:$HN9, JA$5)) | JB9: =IF(NOT($HI9=JB$3), "", COUNTIF($HK9:$HN9, JB$5)) | JC9: =IF(NOT($HI9=JC$3), "", COUNTIF($HK9:$HN9, JC$5)) | JD9: =IF(NOT($HI9=JD$3), "", COUNTIF($HK9:$HN9, JD$5)) | JE9: =IF(NOT($HI9=JE$3), "", COUNTIF($HK9:$HN9, JE$5)) | JG9: =IF(NOT($HI9=JG$3), "", COUNTIF($HK9:$HN9, JG$5)) | JH9: =IF(NOT($HI9=JH$3), "", COUNTIF($HK9:$HN9, JH$5)) | JI9: =IF(NOT($HI9=JI$3), "", COUNTIF($HK9:$HN9, JI$5)) | JJ9: =IF(NOT($HI9=JJ$3), "", COUNTIF($HK9:$HN9, JJ$5)) | JK9: =IF(NOT($HI9=JK$3), "", COUNTIF($HK9:$HN9, JK$5)) | JM9: =IF($P9=JM$5, $HI9, "") | JN9: =IF($P9=JN$5, $HI9, "")
