Workbook

Sheet Bridge
B1: The Bridge
BB3: ✓
B4: Alerts or Instructions | BB4: ✕
B5: =IF($BD5="", "", $BF5) | BD5: =IF(AND(Settings!$BB$7=0, 'Dev Settings'!$BX$6=0), "", "X") | BF5: Incomplete or incorrect settings | BH5: Carrier | BI5: =Carrier!$CB$21 -> 0
B6: =IF($BD6="", "", $BF6) | BD6: =IF(Carrier!$BF$3=0, "", "X") | BF6: Mission error on the carrier | BH6: Codes | BI6: =2000-(COUNTIF('Mission Codes'!$E$6:$E$165, "")+COUNTIF('Mission Codes'!$J$6:$J$165, "")) -> 1680
B7: =IF($BD7="", "", $BF7) | BD7: =IF(FOB!$BF$3=0, "", "X") | BF7: Mission error on the forward operating base
B8: =IF($BD8="", "", $BF8) | BD8: =IF(SUM('Mission Codes'!$AU$2:$AV$2)=0, "", "X") | BF8: mission code error | BH8: Dest | BI8: =24-(COUNTIF(Destinations!$D$7:$D$19, "")+COUNTIF(Destinations!$L$7:$L$19, "")) -> -2
B9: =IF($BD9="", "", $BF9) | BD9: =IF(SUM(Destinations!$BC$3:$BE$3)=0, "", "X") | BF9: destination error
B10: =IF($BD10="", "", $BF10) | BD10: =IF('Mission Codes'!$GK$2=0, "", "X") | BF10: =CONCATENATE("Mission in progress - ", $BK10) -> Mission in progress - | BH10: Total | BI10: =SUM($BI$5:$BI$8) -> 1678 | BK10: =IF('Mission Codes'!$BH$19='Mission Codes'!$BH$15, 'Mission Codes'!$BH$15, IF('Mission Codes'!$BH$19='Mission Codes'!$BH$16, "Carrier", IF('Mission Codes'!$BH$19='Mission Codes'!$BH$17, 'Mission Codes'!$BH$17, "")))
B11: =IF($BD11="", "", $BF11) -> NEW intel from MI6 | BD11: =IF($BD$13="X", "", IF('MI6'!$B$6='MI6'!$BD$4, "X", "")) -> X | BF11: NEW intel from MI6
B12: =IF($BD12="", "", $BF12) | BD12: =IF($BH12="", "", "X") | BF12: =CONCATENATE("Mission ", $BH12, " code required") -> Mission code required | BH12: =IF('Mission Codes'!$AV$3>0, "Debriefing", IF('Mission Codes'!$AU$3>0, "Briefing", "")) | BL12: =IF(AND(NOT(BK13=""), NOT(BL13="")), " & ", "") | BM12: =IF(AND(OR(NOT(BL13=""), NOT(BK13="")), NOT(BM13="")), " & ", "")
B13: =IF($BD13="", "", $BF13) | BD13: =IF(BD12="X", "", IF(AND('Mission Codes'!$GK$2=0, COUNTIF($BK13:$BM13, "")<3), "X", "")) | BF13: =CONCATENATE("Clear ", $BH13, " for next mission") -> Clear for next mission | BH13: =IF(AND($BK13="", $BL13="", $BM$13=""), "", $BO13) | BK13: =IF(Carrier!$CB$21>0, "The carrier", "") | BL13: =IF(FOB!$CB$21>0, 'Mission Codes'!$BH$15, "") | BM13: =IF(UK!$CB$21>0, 'Mission Codes'!$BH$17, "") | BO13: =CONCATENATE($BK$13, $BL$12, $BL$13, $BM$12, $BM$13)
B14: =IF($BD14="", "", $BF14) -> Depart for new destination | BD14: =IF($BD$13="X", "", IF(OR('MI6'!$BB$8=$BD$29, 'MI6'!$BB$8=$BD$30), "X", "")) -> X | BF14: =IF($BD14="", "", IF('MI6'!$BB$8=$BD$29, $BF$29, IF('MI6'!$BB$8=$BD$30, $BF$30, ""))) -> Depart for new destination
B15: =IF($BD15="", "", $BF15) | BD15: =IF(OR($BD$23="X", $BD$26="X"), "X", "") | BF15: =IF($BD$23="X", $BF23, IF($BD$26="X", $BF26, ""))
B16: =IF($BD16="", "", $BF16) | BD16: =BD15 | BF16: =IF($BD$23="X", $BF24, IF($BD$26="X", $BF27, ""))
B17: =IF($BD17="", "", $BF17) | BD17: =IF(OR($BD$15="X", $BD$9="X", $BD$8="X", $BD$6="X"), "X", "") | BF17: =CONCATENATE("To start a new career, clear the following: ", $BO$18) -> To start a new career, clear the following: | BK17: =BK13 | BL17: =BL13 | BM17: =BM13
BK18: =IF('Mission Codes'!$BO$3=FALSE, "Mission Codes", "") | BL18: =IF(Destinations!$BE$26=FALSE, "Destinations", "") | BM18: =IF(Supplies!$BB$74=FALSE, "Supply Stock Code", "") | BO18: =CONCATENATE(BQ18, BR18, BS18, BT18, BU18, BV18, BW18, BX18, BY18, BZ18, CA18) | BQ18: =$BK$17 | BR18: =IF(BQ18="", "", IF(BS18="", "", " | ")) | BS18: =$BL$17 | BT18: =IF(AND(BQ18="", BS18=""), "", IF(BU18="", "", " | ")) | BU18: =$BM$17 | BV18: =IF(AND(BQ18="", BS18="", BU18=""), "", IF(BW18="", "", " | ")) | BW18: =$BM$18 | BX18: =IF(AND(BQ18="", BS18="", BU18="", BW18=""), "", IF(BY18="", "", " | ")) | BY18: =$BK$18 | BZ18: =IF(AND(BQ18="", BS18="", BU18="", BW18="", BY18=""), "", IF(CA18="", "", " | ")) | CA18: =$BL$18
BI19: ='Dev Settings'!$AF$12 -> USA
B20: =IF($BD20="", "", $BF20) | BD20: =IF(BF20="", "", "X") | BF20: =IF(OR($BH20="", $BI20=""), "", CONCATENATE("En Route to ", IF($BI20=$BI$19, "The ", ""), $BI20, " - Arriving: ", TEXT($BH20, "dd/mm/yy hh:mm"))) | BH20: =IFERROR(INDEX(Destinations!$O$7:$O$19, MATCH(Destinations!$AY$24, Destinations!$AY$7:$AY$19, 0)), "") | BI20: =IFERROR(INDEX(Destinations!$AQ$7:$AQ$19, MATCH(Destinations!$AY$24, Destinations!$AY$7:$AY$19, 0)), "")
B21: =IF($BD21="", "", $BF21) | BD21: =IF(BF21="", "", "X") | BF21: =Supplies!$BD$70 | BH21: =IF(OR(Supplies!$BD$70=Supplies!$BD$51, Supplies!$BD$70=Supplies!$BD$64), Supplies!$BB$50, IF(OR(Supplies!$BD$70=Supplies!$BD$58, Supplies!$BD$70=Supplies!$BD$61), Supplies!$BB$57, "")) | BK21: =Supplies!$BB$50 -> Red | BL21: =Supplies!$BB$57 -> Yellow
B22: =IF($BD22="", "", $BF22) | BD22: =IF($BF$22="", "", "X") | BF22: =IF(Careers!$F$3="", "", "Please Select Career Code")
B23: Current Situation | BD23: =IF(AND(Destinations!$BL$24=TRUE, 'Mission Codes'!$EI$20>=1), "X", "") | BF23: Mission complete! What a succesful career!
BF24: You've earned your retirement!
B25: Current | F25: Won | J25: Failed | O25: Won | S25: Failed
B26: Carrier | F26: Location | J26: Location | O26: Career | S26: Career | BD26: =IF(AND(Destinations!$BL$24=TRUE, 'Mission Codes'!$EI$20<1), "X", "") | BF26: Mission failed! What a waste of a career!
B27: Location | F27: Missions | J27: Missions | O27: Missions | S27: Missions | BF27: You're forced into retirement!
B28: =Carrier!$S$3 -> #VALUE! | F28: =COUNTIF('Mission Codes'!$GI$6:$GI$165, 'Mission Codes'!$BW$2) -> 0 | J28: =COUNTIF('Mission Codes'!$GI$6:$GI$165, 'Mission Codes'!$BW$3) -> 0 | O28: =COUNTIF('Mission Codes'!$P$6:$P$165, 'Mission Codes'!$BW$2) -> 0 | S28: =COUNTIF('Mission Codes'!$P$6:$P$165, 'Mission Codes'!$BW$3) -> 0
BD29: ='MI6'!$BB$16 -> Move On | BF29: Depart for new destination
BD30: ='MI6'!$BB$17 -> En Route | BF30: Training is now available while sailing
B31: This is the allowance of your missions used
B32: Missions Used | I32: ='Mission Codes'!$GM$4 -> 0
B33: This is the percentage of your overall mission completed
B34: Career | I34: ='Mission Codes'!$EI$20 -> 0 | BH34: =IFERROR(INDEX('Mission Codes'!$CS$5:$CS$165, MATCH('Mission Codes'!$ES$3, 'Mission Codes'!$EU$5:$EU$165, 0)), "") -> Officer Cadet
B35: This is the percentage of your quest to reach the highest rank
B36: Rank Progress | I36: =$BH$40 -> 0
BH37: =IFERROR(INDEX('Mission Codes'!$CP$6:$CP$17, MATCH($BH$34, 'Mission Codes'!$CO$6:$CO$17, 0)), "") -> ⚊
B38: =IF($BD38="", "", $BF38) -> It looks like you are on track in all areas | BD38: =IF(AND($BD$40="", $BD$42="", $BD$44=""), "X", "") -> X | BF38: It looks like you are on track in all areas
B39: =IF($BD39="", "", $BF39) -> This is the best case scenario, keep on going | BD39: =BD38 -> X | BF39: This is the best case scenario, keep on going
B40: =IF($BD40="", "", $BF40) | BD40: =IF($I$32>$I$36, "X", "") | BF40: Your used missions % outweighs your rank % | BH40: ='Mission Codes'!$CS$2 -> 0
B41: =IF($BD41="", "", $BF41) | BD41: =BD40 | BF41: This just means that you may not reach the top rank
...

Sheet Carrier
B2: =IF(OR($CB$11=TRUE, $CB$12=TRUE), "Enemy Defence", "") | L2: =IF($BV$33=TRUE, 'Dev Settings'!$AM$11, "") | M2: =IF($BV$33=TRUE, 'Dev Settings'!$AM$11, "") | P2: =IF($BV$33=TRUE, 'Dev Settings'!$AM$11, "") | Q2: =IF($BV$33=TRUE, 'Dev Settings'!$AM$11, "") | S2: Location | BD2: Yellow Alerts | BT2: =SUM(Destinations!$BC$2:$BC$3)+SUM(Destinations!$BE$2:$BE$3) -> 1 | BV2: En Route | BY2: Carrier
B3: =IF(OR($CB$11=TRUE, $CB$12=TRUE), $EP$5, "") | D3: =IF(OR($CB$11=TRUE, $CB$12=TRUE), $EQ$5, "") | F3: =IF(OR($CB$11=TRUE, $CB$12=TRUE), $ER$5, "") | H3: =IF(OR($CB$11=TRUE, $CB$12=TRUE), $ES$5, "") | K3: Right Unit & Place | Q3: =$BV$13 -> ◼ | S3: =IF($BT$5=$BV$2, 'Dev Settings'!$AM$25, IFERROR(INDEX('Dev Settings'!$AM$11:$AM$23, MATCH($BT$5, 'Dev Settings'!$AF$11:$AF$23, 0)), "")) -> #VALUE! | BD3: Red Alerts | BF3: =SUM($BH$10:$BH$33)+SUM($BJ$10:$BJ$33)+SUM($BL$10:$BL$33)+SUM($BN$10:$BN$33) -> 0 | BT3: =Destinations!$AY$3 -> 0 | BY3: ='Mission Codes'!$BF$16 -> FALSE | CE3: =IF('Dev Settings'!$B11="", "", 'Dev Settings'!$B11) -> SBS
J4: Unit & Place Wrong | Q4: =$BV$13 -> ◼ | CE4: =IF('Dev Settings'!$B12="", "", 'Dev Settings'!$B12) -> MAR
B5: =IF(E5="", "", "Mission") | E5: =IF(OR($BT$3>0, $BY$3=FALSE), "", IFERROR(INDEX('Mission Codes'!$B$6:$D$165, MATCH('Mission Codes'!$ES$3, 'Mission Codes'!$EU$6:$EU$165, 0)), "")) | I5: Right Unit Wrong place | Q5: =$BV$13 -> ◼ | S5: =$BV$29 | U5: =$BV$30 | BT5: =IF($BT$3=0, IFERROR(INDEX(Destinations!$BG$6:$BG$19, MATCH(Destinations!$AY$25, Destinations!$AY$6:$AY$19, 0)), ""), $BV$2) -> UK | BV5: ✓ | CE5: =IF('Dev Settings'!$B13="", "", 'Dev Settings'!$B13) -> HM2 | EP5: =IF(EP$7="", "", IFERROR(INDEX($EX$10:$EX$15, MATCH(EP$7, $EW$10:$EW$15, 0)), "")) | EQ5: =IF(EQ$7="", "", IFERROR(INDEX($EX$10:$EX$15, MATCH(EQ$7, $EW$10:$EW$15, 0)), "")) | ER5: =IF(ER$7="", "", IFERROR(INDEX($EX$10:$EX$15, MATCH(ER$7, $EW$10:$EW$15, 0)), "")) | ES5: =IF(ES$7="", "", IFERROR(INDEX($EX$10:$EX$15, MATCH(ES$7, $EW$10:$EW$15, 0)), ""))
R6: =IF($BV$33=TRUE, $BV$10, "") | BV6: ✕ | CA6: 1 | CB6: =IFERROR(INDEX('Mission Codes'!$BU$6:$BU$165, MATCH("X", 'Mission Codes'!$CK$6:$CK$165, 0)), "") | CC6: =IFERROR(INDEX($BY$15:$BY$20, MATCH($CB6, $BX$15:$BX$20, 0)), "") | CE6: =IF('Dev Settings'!$B14="", "", 'Dev Settings'!$B14) -> APA
G7: =$CA$33 | S7: =IF($BV$33=TRUE, $BV$8, "") | BT7: MI5 Ins | BY7: =IF(OR($BT$3>0, $BT$2>0, $BY$3=FALSE, $AH$9=TRUE), "", IF('Dev Settings'!$B11="", "", 'Dev Settings'!$B11)) | CA7: 2 | CB7: =IFERROR(INDEX('Mission Codes'!$BV$6:$BV$165, MATCH("X", 'Mission Codes'!$CK$6:$CK$165, 0)), "") | CC7: =IFERROR(INDEX($BY$15:$BY$20, MATCH($CB7, $BX$15:$BX$20, 0)), "") | CE7: =IF('Dev Settings'!$B15="", "", 'Dev Settings'!$B15) -> F35 | CG7: =$EP$7 | CI7: =$EQ$7 | CK7: =$ER$7 | CM7: =$ES$7 | EP7: =IFERROR(INDEX($EW$10:$EW$15, MATCH($CC$6, $EX$10:$EX$15, 0)), "") | EQ7: =IFERROR(INDEX($EW$10:$EW$15, MATCH($CC$7, $EX$10:$EX$15, 0)), "") | ER7: =IFERROR(INDEX($EW$10:$EW$15, MATCH($CC$8, $EX$10:$EX$15, 0)), "") | ES7: =IFERROR(INDEX($EW$10:$EW$15, MATCH($CC$9, $EX$10:$EX$15, 0)), "") | EW7: PB | EX7: =IF(MIN('Mission Codes'!$T$6:$T$165)=0, "", MIN('Mission Codes'!$T$6:$T$165))
B8: =IFERROR(INDEX($BD$14:$BD$22, MATCH("X", $BF$14:$BF$22, 0)), "") -> NEW intel from MI6 | F8: =$CB$33 | G8: =IF(OR($CB$11=TRUE, $CB$12=TRUE), $EP$7, "") | I8: =IF(OR($CB$11=TRUE, $CB$12=TRUE), $EQ$7, "") | K8: =IF(OR($CB$11=TRUE, $CB$12=TRUE), $ER$7, "") | M8: =IF(OR($CB$11=TRUE, $CB$12=TRUE), $ES$7, "") | O8: =$CB$33 | T8: =IF($BV$33=TRUE, $BV$10, "") | BT8: ='MI6'!$B$6='MI6'!$BD$4 -> TRUE | BV8: ⋱ | BY8: =IF(OR($BT$3>0, $BT$2>0, $BY$3=FALSE, $AH$9=TRUE), "", IF('Dev Settings'!$B12="", "", 'Dev Settings'!$B12)) | CA8: 3 | CB8: =IFERROR(INDEX('Mission Codes'!$BW$6:$BW$165, MATCH("X", 'Mission Codes'!$CK$6:$CK$165, 0)), "") | CC8: =IFERROR(INDEX($BY$15:$BY$20, MATCH($CB8, $BX$15:$BX$20, 0)), "") | CE8: =IF('Dev Settings'!$B16="", "", 'Dev Settings'!$B16) -> RAM | CY8: Actual | DH8: Desired
U9: =IF($BV$33=TRUE, $BV$8, "") | AH9: =COUNTIF(AH$14:AH$33, "X")=0 -> FALSE | BV9: ⋰ | BY9: =IF(OR($BT$3>0, $BT$2>0, $BY$3=FALSE, $AH$9=TRUE), "", IF('Dev Settings'!$B13="", "", 'Dev Settings'!$B13)) | CA9: 4 | CB9: =IFERROR(INDEX('Mission Codes'!$BX$6:$BX$165, MATCH("X", 'Mission Codes'!$CK$6:$CK$165, 0)), "") | CC9: =IFERROR(INDEX($BY$15:$BY$20, MATCH($CB9, $BX$15:$BX$20, 0)), "") | EP9: 1 | EQ9: 2 | ER9: 3 | ES9: 4
F10: =IF($EZ10=$EW$7, $BV$14, "") | P10: =IF($BV$33=TRUE, $BV$10, "") | Q10: =IF(BQ10="", "", $BV$13) | R10: =IF(BR10="", "", $BV$13) | U10: =IF($BV$33=TRUE, 'Dev Settings'!$AM$11, "") | AC10: =IF(AF10="", "", "T") -> T | AE10: =AJ10 -> X | AF10: =AJ10 -> X | AH10: =IF($AJ10="", "", IF($AR10="X", "", $AJ10)) -> X | AJ10: =IF($AL10<=$BF$33, "X", "") -> X | AL10: 12 | AO10: =IF(AND($AR12="X", $BV$17=TRUE, $CB$11=FALSE, $CB$12=FALSE), "X", "") | AR10: =IF(AND(NOT($G10=""), NOT($I10=""), NOT($K10=""), NOT($M10="")), "X", "") | AU10: =IF($AO10="", "", IF(G10="", "X", "")) | AW10: =IF($AO10="", "", IF(I10="", "X", "")) | AY10: =IF($AO10="", "", IF(K10="", "X", "")) | BA10: =IF($AO10="", "", IF(M10="", "X", "")) | BH10: =IF(AND(NOT(G10=""), COUNTIF($BY$7:$BY$12, G10)=0), "X", "") | BJ10: =IF(AND(NOT(I10=""), COUNTIF($BY$7:$BY$12, I10)=0), "X", "") | BL10: =IF(AND(NOT(K10=""), COUNTIF($BY$7:$BY$12, K10)=0), "X", "") | BN10: =IF(AND(NOT(M10=""), COUNTIF($BY$7:$BY$12, M10)=0), "X", "") | BQ10: =IF($EP10="", "", IFERROR(INDEX($CC$25:$CC$27, MATCH($EP10, $CB$25:$CB$27, 0)), "")) | BR10: =IF($EQ10="", "", IFERROR(INDEX($CC$25:$CC$27, MATCH($EQ10, $CB$25:$CB$27, 0)), "")) | BT10: 12 | BV10: ✺ | BY10: =IF(OR($BT$3>0, $BT$2>0, $BY$3=FALSE, $AH$9=TRUE), "", IF('Dev Settings'!$B14="", "", 'Dev Settings'!$B14)) | CE10: =SUM($EP10:$ES10) -> 0 | CG10: =IF(OR($G10="", $I10="", $K10="", $M10=""), "", G10) | CI10: =IF(OR($G10="", $I10="", $K10="", $M10=""), "", I10) | CK10: =IF(OR($G10="", $I10="", $K10="", $M10=""), "", K10) | CM10: =IF(OR($G10="", $I10="", $K10="", $M10=""), "", M10) | CP10: =IF(CG10="", "", IF(CG10=CG$7, $CC$27, "")) | CR10: =IF(CI10="", "", IF(CI10=CI$7, $CC$27, "")) | CT10: =IF(CK10="", "", IF(CK10=CK$7, $CC$27, "")) | CV10: =IF(CM10="", "", IF(CM10=CM$7, $CC$27, "")) | CY10: =IF(CG10="", "", IF(CP10=$CC$27, "", CG10)) | DA10: =IF(CI10="", "", IF(CR10=$CC$27, "", CI10)) | DC10: =IF(CK10="", "", IF(CT10=$CC$27, "", CK10)) | DE10: =IF(CM10="", "", IF(CV10=$CC$27, "", CM10)) | DH10: =IF(CG10="", "", IF(CP10=$CC$27, "", CG$7)) | DJ10: =IF(CI10="", "", IF(CR10=$CC$27, "", CI$7)) | DL10: =IF(CK10="", "", IF(CT10=$CC$27, "", CK$7)) | DN10: =IF(CM10="", "", IF(CV10=$CC$27, "", CM$7)) | DQ10: =IF(CP10=$CC$27, $CC$27, IF(CY10="", "", IF(COUNTIF($CY10:CY10, CY10)>COUNTIF($DH10:$DO11, CY10), $CC$25, $CC$26))) | DS10: =IF(CR10=$CC$27, $CC$27, IF(DA10="", "", IF(COUNTIF($CY10:DA10, DA10)>COUNTIF($DH10:$DO11, DA10), $CC$25, $CC$26))) | DU10: =IF(CT10=$CC$27, $CC$27, IF(DC10="", "", IF(COUNTIF($CY10:DC10, DC10)>COUNTIF($DH10:$DO11, DC10), $CC$25, $CC$26))) | DW10: =IF(CV10=$CC$27, $CC$27, IF(DE10="", "", IF(COUNTIF($CY10:DE10, DE10)>COUNTIF($DH10:$DO11, DE10), $CC$25, $CC$26))) | DZ10: =IFERROR(INDEX($CB$25:$CB$27, MATCH(DQ10, $CC$25:$CC$27, 0)), "") | EB10: =IFERROR(INDEX($CB$25:$CB$27, MATCH(DS10, $CC$25:$CC$27, 0)), "") | ED10: =IFERROR(INDEX($CB$25:$CB$27, MATCH(DU10, $CC$25:$CC$27, 0)), "") | EF10: =IFERROR(INDEX($CB$25:$CB$27, MATCH(DW10, $CC$25:$CC$27, 0)), "") | EI10: =DZ10 | EJ10: =EB10 | EK10: =ED10 | EL10: =EF10 | EN10: 12 | EP10: =IFERROR(INDEX($EI$37:$EL$48, MATCH($EN10, $EG$37:$EG$48, 0), MATCH(EP$9, $EI$35:$EL$35, 0)), "") | EQ10: =IFERROR(INDEX($EI$37:$EL$48, MATCH($EN10, $EG$37:$EG$48, 0), MATCH(EQ$9, $EI$35:$EL$35, 0)), "") | ER10: =IFERROR(INDEX($EI$37:$EL$48, MATCH($EN10, $EG$37:$EG$48, 0), MATCH(ER$9, $EI$35:$EL$35, 0)), "") | ES10: =IFERROR(INDEX($EI$37:$EL$48, MATCH($EN10, $EG$37:$EG$48, 0), MATCH(ES$9, $EI$35:$EL$35, 0)), "") | EU10: =IF(COUNTIF($EP10:$ES10, "")=4, "", "X") | EW10: =$BY7 | EX10: =$BY15 -> HVT | EZ10: =IF($BT10=$EX$7, $EW$7, "")
O11: =IF($BV$33=TRUE, $BV$9, "") | Q11: =IF(BQ11="", "", $BV$13) | R11: =IF(BR11="", "", $BV$13) | S11: =IF('Dev Settings'!$B$11="", "", 'Dev Settings'!$B$11) -> SBS | AC11: =IF(AF11="", "", "B") -> B | AE11: =AJ10 -> X | AF11: =AJ10 -> X | BQ11: =IF($ER10="", "", IFERROR(INDEX($CC$25:$CC$27, MATCH($ER10, $CB$25:$CB$27, 0)), "")) | BR11: =IF($ES10="", "", IFERROR(INDEX($CC$25:$CC$27, MATCH($ES10, $CB$25:$CB$27, 0)), "")) | BV11: ⛔ | BY11: =IF(OR($BT$3>0, $BT$2>0, $BY$3=FALSE, $AH$9=TRUE), "", IF('Dev Settings'!$B15="", "", 'Dev Settings'!$B15)) | CA11: FAILURE | CB11: =IF(AND($AH$9=TRUE, COUNTIF($CE$10:$CE$33, 8)=0), TRUE, FALSE) -> FALSE | EI11: =DZ12 | EJ11: =EB12 | EK11: =ED12 | EL11: =EF12 | EW11: =$BY8 | EX11: =$BY16 -> ISC
F12: =IF($EZ12=$EW$7, $BV$14, "") | O12: =IF($BV$33=TRUE, $BV$10, "") | Q12: =IF(BQ12="", "", $BV$13) | R12: =IF(BR12="", "", $BV$13) | S12: =IF('Dev Settings'!$L$11="", "", 'Dev Settings'!$L$11) -> #VALUE! | U12: =IF($BV$33=TRUE, 'Dev Settings'!$AM$11, "") | AC12: =IF(AF12="", "", "T") -> T | AE12: =AJ12 -> X | AF12: =AJ12 -> X | AH12: =IF($AJ12="", "", IF($AR12="X", "", $AJ12)) -> X | AJ12: =IF($AL12<=$BF$33, "X", "") -> X | AL12: 11 | AO12: =IF(AND($AR14="X", $BV$17=TRUE, $CB$11=FALSE, $CB$12=FALSE), "X", "") | AR12: =IF(AND(NOT($G12=""), NOT($I12=""), NOT($K12=""), NOT($M12="")), "X", "") | AU12: =IF($AO12="", "", IF(G12="", "X", "")) | AW12: =IF($AO12="", "", IF(I12="", "X", "")) | AY12: =IF($AO12="", "", IF(K12="", "X", "")) | BA12: =IF($AO12="", "", IF(M12="", "X", "")) | BH12: =IF(AND(NOT(G12=""), COUNTIF($BY$7:$BY$12, G12)=0), "X", "") | BJ12: =IF(AND(NOT(I12=""), COUNTIF($BY$7:$BY$12, I12)=0), "X", "") | BL12: =IF(AND(NOT(K12=""), COUNTIF($BY$7:$BY$12, K12)=0), "X", "") | BN12: =IF(AND(NOT(M12=""), COUNTIF($BY$7:$BY$12, M12)=0), "X", "") | BQ12: =IF($EP12="", "", IFERROR(INDEX($CC$25:$CC$27, MATCH($EP12, $CB$25:$CB$27, 0)), "")) | BR12: =IF($EQ12="", "", IFERROR(INDEX($CC$25:$CC$27, MATCH($EQ12, $CB$25:$CB$27, 0)), "")) | BT12: 11 | BV12: ▲ | BY12: =IF(OR($BT$3>0, $BT$2>0, $BY$3=FALSE, $AH$9=TRUE), "", IF('Dev Settings'!$B16="", "", 'Dev Settings'!$B16)) | CA12: SUCCESS | CB12: =IF(COUNTIF($CE$10:$CE$33, 8)>0, TRUE, FALSE) -> FALSE | CE12: =SUM($EP12:$ES12) -> 0 | CG12: =IF(OR($G12="", $I12="", $K12="", $M12=""), "", G12) | CI12: =IF(OR($G12="", $I12="", $K12="", $M12=""), "", I12) | CK12: =IF(OR($G12="", $I12="", $K12="", $M12=""), "", K12) | CM12: =IF(OR($G12="", $I12="", $K12="", $M12=""), "", M12) | CP12: =IF(CG12="", "", IF(CG12=CG$7, $CC$27, "")) | CR12: =IF(CI12="", "", IF(CI12=CI$7, $CC$27, "")) | CT12: =IF(CK12="", "", IF(CK12=CK$7, $CC$27, "")) | CV12: =IF(CM12="", "", IF(CM12=CM$7, $CC$27, "")) | CY12: =IF(CG12="", "", IF(CP12=$CC$27, "", CG12)) | DA12: =IF(CI12="", "", IF(CR12=$CC$27, "", CI12)) | DC12: =IF(CK12="", "", IF(CT12=$CC$27, "", CK12)) | DE12: =IF(CM12="", "", IF(CV12=$CC$27, "", CM12)) | DH12: =IF(CG12="", "", IF(CP12=$CC$27, "", CG$7)) | DJ12: =IF(CI12="", "", IF(CR12=$CC$27, "", CI$7)) | DL12: =IF(CK12="", "", IF(CT12=$CC$27, "", CK$7)) | DN12: =IF(CM12="", "", IF(CV12=$CC$27, "", CM$7)) | DQ12: =IF(CP12=$CC$27, $CC$27, IF(CY12="", "", IF(COUNTIF($CY12:CY12, CY12)>COUNTIF($DH12:$DO13, CY12), $CC$25, $CC$26))) | DS12: =IF(CR12=$CC$27, $CC$27, IF(DA12="", "", IF(COUNTIF($CY12:DA12, DA12)>COUNTIF($DH12:$DO13, DA12), $CC$25, $CC$26))) | DU12: =IF(CT12=$CC$27, $CC$27, IF(DC12="", "", IF(COUNTIF($CY12:DC12, DC12)>COUNTIF($DH12:$DO13, DC12), $CC$25, $CC$26))) | DW12: =IF(CV12=$CC$27, $CC$27, IF(DE12="", "", IF(COUNTIF($CY12:DE12, DE12)>COUNTIF($DH12:$DO13, DE12), $CC$25, $CC$26))) | DZ12: =IFERROR(INDEX($CB$25:$CB$27, MATCH(DQ12, $CC$25:$CC$27, 0)), "") | EB12: =IFERROR(INDEX($CB$25:$CB$27, MATCH(DS12, $CC$25:$CC$27, 0)), "") | ED12: =IFERROR(INDEX($CB$25:$CB$27, MATCH(DU12, $CC$25:$CC$27, 0)), "") | EF12: =IFERROR(INDEX($CB$25:$CB$27, MATCH(DW12, $CC$25:$CC$27, 0)), "") | EI12: =DZ14 | EJ12: =EB14 | EK12: =ED14 | EL12: =EF14 | EN12: 11 | EP12: =IFERROR(INDEX($EI$37:$EL$48, MATCH($EN12, $EG$37:$EG$48, 0), MATCH(EP$9, $EI$35:$EL$35, 0)), "") | EQ12: =IFERROR(INDEX($EI$37:$EL$48, MATCH($EN12, $EG$37:$EG$48, 0), MATCH(EQ$9, $EI$35:$EL$35, 0)), "") | ER12: =IFERROR(INDEX($EI$37:$EL$48, MATCH($EN12, $EG$37:$EG$48, 0), MATCH(ER$9, $EI$35:$EL$35, 0)), "") | ES12: =IFERROR(INDEX($EI$37:$EL$48, MATCH($EN12, $EG$37:$EG$48, 0), MATCH(ES$9, $EI$35:$EL$35, 0)), "") | EU12: =IF(COUNTIF($EP12:$ES12, "")=4, "", "X") | EW12: =$BY9 | EX12: =$BY17 -> SUB | EZ12: =IF($BT12=$EX$7, $EW$7, "")
P13: =IF($BV$33=TRUE, $BV$8, "") | Q13: =IF(BQ13="", "", $BV$13) | R13: =IF(BR13="", "", $BV$13) | AC13: =IF(AF13="", "", "B") -> B | AE13: =AJ12 -> X | AF13: =AJ12 -> X | BQ13: =IF($ER12="", "", IFERROR(INDEX($CC$25:$CC$27, MATCH($ER12, $CB$25:$CB$27, 0)), "")) | BR13: =IF($ES12="", "", IFERROR(INDEX($CC$25:$CC$27, MATCH($ES12, $CB$25:$CB$27, 0)), "")) | BV13: ◼ | EI13: =DZ16 | EJ13: =EB16 | EK13: =ED16 | EL13: =EF16 | EW13: =$BY10 | EX13: =$BY18 -> TNK
F14: =IF($EZ14=$EW$7, $BV$14, "") | P14: =IF($BV$33=TRUE, $BV$10, "") | Q14: =IF(BQ14="", "", $BV$13) | R14: =IF(BR14="", "", $BV$13) | U14: =IF($BV$33=TRUE, 'Dev Settings'!$AM$11, "") | AC14: =IF(AF14="", "", "T") -> T | AE14: =AJ14 -> X | AF14: =AJ14 -> X | AH14: =IF($AJ14="", "", IF($AR14="X", "", $AJ14)) -> X | AJ14: =IF($AL14<=$BF$33, "X", "") -> X | AL14: 10 | AO14: =IF(AND($AR16="X", $BV$17=TRUE, $CB$11=FALSE, $CB$12=FALSE), "X", "") | AR14: =IF(AND(NOT($G14=""), NOT($I14=""), NOT($K14=""), NOT($M14="")), "X", "") | AU14: =IF($AO14="", "", IF(G14="", "X", "")) | AW14: =IF($AO14="", "", IF(I14="", "X", "")) | AY14: =IF($AO14="", "", IF(K14="", "X", "")) | BA14: =IF($AO14="", "", IF(M14="", "X", "")) | BD14: =Bridge!$B10 | BF14: =Bridge!$BD10 | BH14: =IF(AND(NOT(G14=""), COUNTIF($BY$7:$BY$12, G14)=0), "X", "") | BJ14: =IF(AND(NOT(I14=""), COUNTIF($BY$7:$BY$12, I14)=0), "X", "") | BL14: =IF(AND(NOT(K14=""), COUNTIF($BY$7:$BY$12, K14)=0), "X", "") | BN14: =IF(AND(NOT(M14=""), COUNTIF($BY$7:$BY$12, M14)=0), "X", "") | BQ14: =IF($EP14="", "", IFERROR(INDEX($CC$25:$CC$27, MATCH($EP14, $CB$25:$CB$27, 0)), "")) | BR14: =IF($EQ14="", "", IFERROR(INDEX($CC$25:$CC$27, MATCH($EQ14, $CB$25:$CB$27, 0)), "")) | BT14: 10 | BV14: ● | CA14: Score | CB14: =IF($CB$12=FALSE, 0, COUNTIF($EU$10:$EU$32, "X")) -> 0 | CE14: =SUM($EP14:$ES14) -> 0 | CG14: =IF(OR($G14="", $I14="", $K14="", $M14=""), "", G14) | CI14: =IF(OR($G14="", $I14="", $K14="", $M14=""), "", I14) | CK14: =IF(OR($G14="", $I14="", $K14="", $M14=""), "", K14) | CM14: =IF(OR($G14="", $I14="", $K14="", $M14=""), "", M14) | CP14: =IF(CG14="", "", IF(CG14=CG$7, $CC$27, "")) | CR14: =IF(CI14="", "", IF(CI14=CI$7, $CC$27, "")) | CT14: =IF(CK14="", "", IF(CK14=CK$7, $CC$27, "")) | CV14: =IF(CM14="", "", IF(CM14=CM$7, $CC$27, "")) | CY14: =IF(CG14="", "", IF(CP14=$CC$27, "", CG14)) | DA14: =IF(CI14="", "", IF(CR14=$CC$27, "", CI14)) | DC14: =IF(CK14="", "", IF(CT14=$CC$27, "", CK14)) | DE14: =IF(CM14="", "", IF(CV14=$CC$27, "", CM14)) | DH14: =IF(CG14="", "", IF(CP14=$CC$27, "", CG$7)) | DJ14: =IF(CI14="", "", IF(CR14=$CC$27, "", CI$7)) | DL14: =IF(CK14="", "", IF(CT14=$CC$27, "", CK$7)) | DN14: =IF(CM14="", "", IF(CV14=$CC$27, "", CM$7)) | DQ14: =IF(CP14=$CC$27, $CC$27, IF(CY14="", "", IF(COUNTIF($CY14:CY14, CY14)>COUNTIF($DH14:$DO15, CY14), $CC$25, $CC$26))) | DS14: =IF(CR14=$CC$27, $CC$27, IF(DA14="", "", IF(COUNTIF($CY14:DA14, DA14)>COUNTIF($DH14:$DO15, DA14), $CC$25, $CC$26))) | DU14: =IF(CT14=$CC$27, $CC$27, IF(DC14="", "", IF(COUNTIF($CY14:DC14, DC14)>COUNTIF($DH14:$DO15, DC14), $CC$25, $CC$26))) | DW14: =IF(CV14=$CC$27, $CC$27, IF(DE14="", "", IF(COUNTIF($CY14:DE14, DE14)>COUNTIF($DH14:$DO15, DE14), $CC$25, $CC$26))) | DZ14: =IFERROR(INDEX($CB$25:$CB$27, MATCH(DQ14, $CC$25:$CC$27, 0)), "") | EB14: =IFERROR(INDEX($CB$25:$CB$27, MATCH(DS14, $CC$25:$CC$27, 0)), "") | ED14: =IFERROR(INDEX($CB$25:$CB$27, MATCH(DU14, $CC$25:$CC$27, 0)), "") | EF14: =IFERROR(INDEX($CB$25:$CB$27, MATCH(DW14, $CC$25:$CC$27, 0)), "") | EI14: =DZ18 | EJ14: =EB18 | EK14: =ED18 | EL14: =EF18 | EN14: 10 | EP14: =IFERROR(INDEX($EI$37:$EL$48, MATCH($EN14, $EG$37:$EG$48, 0), MATCH(EP$9, $EI$35:$EL$35, 0)), "") | EQ14: =IFERROR(INDEX($EI$37:$EL$48, MATCH($EN14, $EG$37:$EG$48, 0), MATCH(EQ$9, $EI$35:$EL$35, 0)), "") | ER14: =IFERROR(INDEX($EI$37:$EL$48, MATCH($EN14, $EG$37:$EG$48, 0), MATCH(ER$9, $EI$35:$EL$35, 0)), "") | ES14: =IFERROR(INDEX($EI$37:$EL$48, MATCH($EN14, $EG$37:$EG$48, 0), MATCH(ES$9, $EI$35:$EL$35, 0)), "") | EU14: =IF(COUNTIF($EP14:$ES14, "")=4, "", "X") | EW14: =$BY11 | EX14: =$BY19 -> AIR | EZ14: =IF($BT14=$EX$7, $EW$7, "")
O15: =IF($BV$33=TRUE, $BV$9, "") | Q15: =IF(BQ15="", "", $BV$13) | R15: =IF(BR15="", "", $BV$13) | S15: =IF('Dev Settings'!$B$12="", "", 'Dev Settings'!$B$12) -> MAR | AC15: =IF(AF15="", "", "B") -> B | AE15: =AJ14 -> X | AF15: =AJ14 -> X | BD15: Carrier currently en route | BF15: =IF($BT$3=0, "", "X") | BQ15: =IF($ER14="", "", IFERROR(INDEX($CC$25:$CC$27, MATCH($ER14, $CB$25:$CB$27, 0)), "")) | BR15: =IF($ES14="", "", IFERROR(INDEX($CC$25:$CC$27, MATCH($ES14, $CB$25:$CB$27, 0)), "")) | BX15: 1 | BY15: =IF('Dev Settings'!$Q11="", "", 'Dev Settings'!$Q11) -> HVT | EI15: =DZ20 | EJ15: =EB20 | EK15: =ED20 | EL15: =EF20 | EW15: =$BY12 | EX15: =$BY20 -> MSL
F16: =IF($EZ16=$EW$7, $BV$14, "") | O16: =IF($BV$33=TRUE, $BV$10, "") | Q16: =IF(BQ16="", "", $BV$13) | R16: =IF(BR16="", "", $BV$13) | S16: =IF('Dev Settings'!$L$12="", "", 'Dev Settings'!$L$12) -> #VALUE! | U16: =IF($BV$33=TRUE, 'Dev Settings'!$AM$11, "") | AC16: =IF(AF16="", "", "T") -> T | AE16: =AJ16 -> X | AF16: =AJ16 -> X | AH16: =IF($AJ16="", "", IF($AR16="X", "", $AJ16)) -> X | AJ16: =IF($AL16<=$BF$33, "X", "") -> X | AL16: 9 | AO16: =IF(AND($AR18="X", $BV$17=TRUE, $CB$11=FALSE, $CB$12=FALSE), "X", "") | AR16: =IF(AND(NOT($G16=""), NOT($I16=""), NOT($K16=""), NOT($M16="")), "X", "") | AU16: =IF($AO16="", "", IF(G16="", "X", "")) | AW16: =IF($AO16="", "", IF(I16="", "X", "")) | AY16: =IF($AO16="", "", IF(K16="", "X", "")) | BA16: =IF($AO16="", "", IF(M16="", "X", "")) | BD16: =Bridge!$B11 -> NEW intel from MI6 | BF16: =Bridge!$BD11 -> X | BH16: =IF(AND(NOT(G16=""), COUNTIF($BY$7:$BY$12, G16)=0), "X", "") | BJ16: =IF(AND(NOT(I16=""), COUNTIF($BY$7:$BY$12, I16)=0), "X", "") | BL16: =IF(AND(NOT(K16=""), COUNTIF($BY$7:$BY$12, K16)=0), "X", "") | BN16: =IF(AND(NOT(M16=""), COUNTIF($BY$7:$BY$12, M16)=0), "X", "") | BQ16: =IF($EP16="", "", IFERROR(INDEX($CC$25:$CC$27, MATCH($EP16, $CB$25:$CB$27, 0)), "")) | BR16: =IF($EQ16="", "", IFERROR(INDEX($CC$25:$CC$27, MATCH($EQ16, $CB$25:$CB$27, 0)), "")) | BT16: 9 | BV16: Play | BX16: 2 | BY16: =IF('Dev Settings'!$Q12="", "", 'Dev Settings'!$Q12) -> ISC | CA16: Mission Failed | CB16: =$BV$11 -> ⛔ | CE16: =SUM($EP16:$ES16) -> 0 | CG16: =IF(OR($G16="", $I16="", $K16="", $M16=""), "", G16) | CI16: =IF(OR($G16="", $I16="", $K16="", $M16=""), "", I16) | CK16: =IF(OR($G16="", $I16="", $K16="", $M16=""), "", K16) | CM16: =IF(OR($G16="", $I16="", $K16="", $M16=""), "", M16) | CP16: =IF(CG16="", "", IF(CG16=CG$7, $CC$27, "")) | CR16: =IF(CI16="", "", IF(CI16=CI$7, $CC$27, "")) | CT16: =IF(CK16="", "", IF(CK16=CK$7, $CC$27, "")) | CV16: =IF(CM16="", "", IF(CM16=CM$7, $CC$27, "")) | CY16: =IF(CG16="", "", IF(CP16=$CC$27, "", CG16)) | DA16: =IF(CI16="", "", IF(CR16=$CC$27, "", CI16)) | DC16: =IF(CK16="", "", IF(CT16=$CC$27, "", CK16)) | DE16: =IF(CM16="", "", IF(CV16=$CC$27, "", CM16)) | DH16: =IF(CG16="", "", IF(CP16=$CC$27, "", CG$7)) | DJ16: =IF(CI16="", "", IF(CR16=$CC$27, "", CI$7)) | DL16: =IF(CK16="", "", IF(CT16=$CC$27, "", CK$7)) | DN16: =IF(CM16="", "", IF(CV16=$CC$27, "", CM$7)) | DQ16: =IF(CP16=$CC$27, $CC$27, IF(CY16="", "", IF(COUNTIF($CY16:CY16, CY16)>COUNTIF($DH16:$DO17, CY16), $CC$25, $CC$26))) | DS16: =IF(CR16=$CC$27, $CC$27, IF(DA16="", "", IF(COUNTIF($CY16:DA16, DA16)>COUNTIF($DH16:$DO17, DA16), $CC$25, $CC$26))) | DU16: =IF(CT16=$CC$27, $CC$27, IF(DC16="", "", IF(COUNTIF($CY16:DC16, DC16)>COUNTIF($DH16:$DO17, DC16), $CC$25, $CC$26))) | DW16: =IF(CV16=$CC$27, $CC$27, IF(DE16="", "", IF(COUNTIF($CY16:DE16, DE16)>COUNTIF($DH16:$DO17, DE16), $CC$25, $CC$26))) | DZ16: =IFERROR(INDEX($CB$25:$CB$27, MATCH(DQ16, $CC$25:$CC$27, 0)), "") | EB16: =IFERROR(INDEX($CB$25:$CB$27, MATCH(DS16, $CC$25:$CC$27, 0)), "") | ED16: =IFERROR(INDEX($CB$25:$CB$27, MATCH(DU16, $CC$25:$CC$27, 0)), "") | EF16: =IFERROR(INDEX($CB$25:$CB$27, MATCH(DW16, $CC$25:$CC$27, 0)), "") | EI16: =DZ22 | EJ16: =EB22 | EK16: =ED22 | EL16: =EF22 | EN16: 9 | EP16: =IFERROR(INDEX($EI$37:$EL$48, MATCH($EN16, $EG$37:$EG$48, 0), MATCH(EP$9, $EI$35:$EL$35, 0)), "") | EQ16: =IFERROR(INDEX($EI$37:$EL$48, MATCH($EN16, $EG$37:$EG$48, 0), MATCH(EQ$9, $EI$35:$EL$35, 0)), "") | ER16: =IFERROR(INDEX($EI$37:$EL$48, MATCH($EN16, $EG$37:$EG$48, 0), MATCH(ER$9, $EI$35:$EL$35, 0)), "") | ES16: =IFERROR(INDEX($EI$37:$EL$48, MATCH($EN16, $EG$37:$EG$48, 0), MATCH(ES$9, $EI$35:$EL$35, 0)), "") | EU16: =IF(COUNTIF($EP16:$ES16, "")=4, "", "X") | EZ16: =IF($BT16=$EX$7, $EW$7, "")
P17: =IF($BV$33=TRUE, $BV$8, "") | Q17: =IF(BQ17="", "", $BV$13) | R17: =IF(BR17="", "", $BV$13) | AC17: =IF(AF17="", "", "B") -> B | AE17: =AJ16 -> X | AF17: =AJ16 -> X | BD17: =Bridge!$B12 | BF17: =Bridge!$BD12 | BQ17: =IF($ER16="", "", IFERROR(INDEX($CC$25:$CC$27, MATCH($ER16, $CB$25:$CB$27, 0)), "")) | BR17: =IF($ES16="", "", IFERROR(INDEX($CC$25:$CC$27, MATCH($ES16, $CB$25:$CB$27, 0)), "")) | BV17: =$BF$14="X" -> FALSE | BX17: 3 | BY17: =IF('Dev Settings'!$Q13="", "", 'Dev Settings'!$Q13) -> SUB | CA17: Mission Success | CB17: =$BV$12 -> ▲ | EI17: =DZ24 | EJ17: =EB24 | EK17: =ED24 | EL17: =EF24
F18: =IF($EZ18=$EW$7, $BV$14, "") | P18: =IF($BV$33=TRUE, $BV$10, "") | Q18: =IF(BQ18="", "", $BV$13) | R18: =IF(BR18="", "", $BV$13) | U18: =IF($BV$33=TRUE, 'Dev Settings'!$AM$11, "") | AC18: =IF(AF18="", "", "T") -> T | AE18: =AJ18 -> X | AF18: =AJ18 -> X | AH18: =IF($AJ18="", "", IF($AR18="X", "", $AJ18)) -> X | AJ18: =IF($AL18<=$BF$33, "X", "") -> X | AL18: 8 | AO18: =IF(AND($AR20="X", $BV$17=TRUE, $CB$11=FALSE, $CB$12=FALSE), "X", "") | AR18: =IF(AND(NOT($G18=""), NOT($I18=""), NOT($K18=""), NOT($M18="")), "X", "") | AU18: =IF($AO18="", "", IF(G18="", "X", "")) | AW18: =IF($AO18="", "", IF(I18="", "X", "")) | AY18: =IF($AO18="", "", IF(K18="", "X", "")) | BA18: =IF($AO18="", "", IF(M18="", "X", "")) | BD18: =Bridge!$B13 | BF18: =Bridge!$BD13 | BH18: =IF(AND(NOT(G18=""), COUNTIF($BY$7:$BY$12, G18)=0), "X", "") | BJ18: =IF(AND(NOT(I18=""), COUNTIF($BY$7:$BY$12, I18)=0), "X", "") | BL18: =IF(AND(NOT(K18=""), COUNTIF($BY$7:$BY$12, K18)=0), "X", "") | BN18: =IF(AND(NOT(M18=""), COUNTIF($BY$7:$BY$12, M18)=0), "X", "") | BQ18: =IF($EP18="", "", IFERROR(INDEX($CC$25:$CC$27, MATCH($EP18, $CB$25:$CB$27, 0)), "")) | BR18: =IF($EQ18="", "", IFERROR(INDEX($CC$25:$CC$27, MATCH($EQ18, $CB$25:$CB$27, 0)), "")) | BT18: 8 | BX18: 4 | BY18: =IF('Dev Settings'!$Q14="", "", 'Dev Settings'!$Q14) -> TNK | CA18: CONGRATULATIONS | CE18: =SUM($EP18:$ES18) -> 0 | CG18: =IF(OR($G18="", $I18="", $K18="", $M18=""), "", G18) | CI18: =IF(OR($G18="", $I18="", $K18="", $M18=""), "", I18) | CK18: =IF(OR($G18="", $I18="", $K18="", $M18=""), "", K18) | CM18: =IF(OR($G18="", $I18="", $K18="", $M18=""), "", M18) | CP18: =IF(CG18="", "", IF(CG18=CG$7, $CC$27, "")) | CR18: =IF(CI18="", "", IF(CI18=CI$7, $CC$27, "")) | CT18: =IF(CK18="", "", IF(CK18=CK$7, $CC$27, "")) | CV18: =IF(CM18="", "", IF(CM18=CM$7, $CC$27, "")) | CY18: =IF(CG18="", "", IF(CP18=$CC$27, "", CG18)) | DA18: =IF(CI18="", "", IF(CR18=$CC$27, "", CI18)) | DC18: =IF(CK18="", "", IF(CT18=$CC$27, "", CK18)) | DE18: =IF(CM18="", "", IF(CV18=$CC$27, "", CM18)) | DH18: =IF(CG18="", "", IF(CP18=$CC$27, "", CG$7)) | DJ18: =IF(CI18="", "", IF(CR18=$CC$27, "", CI$7)) | DL18: =IF(CK18="", "", IF(CT18=$CC$27, "", CK$7)) | DN18: =IF(CM18="", "", IF(CV18=$CC$27, "", CM$7)) | DQ18: =IF(CP18=$CC$27, $CC$27, IF(CY18="", "", IF(COUNTIF($CY18:CY18, CY18)>COUNTIF($DH18:$DO19, CY18), $CC$25, $CC$26))) | DS18: =IF(CR18=$CC$27, $CC$27, IF(DA18="", "", IF(COUNTIF($CY18:DA18, DA18)>COUNTIF($DH18:$DO19, DA18), $CC$25, $CC$26))) | DU18: =IF(CT18=$CC$27, $CC$27, IF(DC18="", "", IF(COUNTIF($CY18:DC18, DC18)>COUNTIF($DH18:$DO19, DC18), $CC$25, $CC$26))) | DW18: =IF(CV18=$CC$27, $CC$27, IF(DE18="", "", IF(COUNTIF($CY18:DE18, DE18)>COUNTIF($DH18:$DO19, DE18), $CC$25, $CC$26))) | DZ18: =IFERROR(INDEX($CB$25:$CB$27, MATCH(DQ18, $CC$25:$CC$27, 0)), "") | EB18: =IFERROR(INDEX($CB$25:$CB$27, MATCH(DS18, $CC$25:$CC$27, 0)), "") | ED18: =IFERROR(INDEX($CB$25:$CB$27, MATCH(DU18, $CC$25:$CC$27, 0)), "") | EF18: =IFERROR(INDEX($CB$25:$CB$27, MATCH(DW18, $CC$25:$CC$27, 0)), "") | EI18: =DZ26 | EJ18: =EB26 | EK18: =ED26 | EL18: =EF26 | EN18: 8 | EP18: =IFERROR(INDEX($EI$37:$EL$48, MATCH($EN18, $EG$37:$EG$48, 0), MATCH(EP$9, $EI$35:$EL$35, 0)), "") | EQ18: =IFERROR(INDEX($EI$37:$EL$48, MATCH($EN18, $EG$37:$EG$48, 0), MATCH(EQ$9, $EI$35:$EL$35, 0)), "") | ER18: =IFERROR(INDEX($EI$37:$EL$48, MATCH($EN18, $EG$37:$EG$48, 0), MATCH(ER$9, $EI$35:$EL$35, 0)), "") | ES18: =IFERROR(INDEX($EI$37:$EL$48, MATCH($EN18, $EG$37:$EG$48, 0), MATCH(ES$9, $EI$35:$EL$35, 0)), "") | EU18: =IF(COUNTIF($EP18:$ES18, "")=4, "", "X") | EZ18: =IF($BT18=$EX$7, $EW$7, "")
B19: =IF(B20="", "", "Loc") -> Loc | O19: =IF($BV$33=TRUE, $BV$9, "") | Q19: =IF(BQ19="", "", $BV$13) | R19: =IF(BR19="", "", $BV$13) | S19: =IF('Dev Settings'!$B$13="", "", 'Dev Settings'!$B$13) -> HM2 | AC19: =IF(AF19="", "", "B") -> B | AE19: =AJ18 -> X | AF19: =AJ18 -> X | BD19: =Bridge!$B14 -> Depart for new destination | BF19: =Bridge!$BD14 -> X | BQ19: =IF($ER18="", "", IFERROR(INDEX($CC$25:$CC$27, MATCH($ER18, $CB$25:$CB$27, 0)), "")) | BR19: =IF($ES18="", "", IFERROR(INDEX($CC$25:$CC$27, MATCH($ES18, $CB$25:$CB$27, 0)), "")) | BX19: 5 | BY19: =IF('Dev Settings'!$Q15="", "", 'Dev Settings'!$Q15) -> AIR | EI19: =DZ28 | EJ19: =EB28 | EK19: =ED28 | EL19: =EF28
B20: =IFERROR(INDEX('Mission Codes'!$EI$7:$EI$19, MATCH($BT$5, 'Mission Codes'!$EF$7:$EF$19, 0)), "") -> 0 | F20: =IF($EZ20=$EW$7, $BV$14, "") | O20: =IF($BV$33=TRUE, $BV$10, "") | Q20: =IF(BQ20="", "", $BV$13) | R20: =IF(BR20="", "", $BV$13) | S20: =IF('Dev Settings'!$L$13="", "", 'Dev Settings'!$L$13) -> #VALUE! | U20: =IF($BV$33=TRUE, 'Dev Settings'!$AM$11, "") | AC20: =IF(AF20="", "", "T") -> T | AE20: =AJ20 -> X | AF20: =AJ20 -> X | AH20: =IF($AJ20="", "", IF($AR20="X", "", $AJ20)) -> X | AJ20: =IF($AL20<=$BF$33, "X", "") -> X | AL20: 7 | AO20: =IF(AND($AR22="X", $BV$17=TRUE, $CB$11=FALSE, $CB$12=FALSE), "X", "") | AR20: =IF(AND(NOT($G20=""), NOT($I20=""), NOT($K20=""), NOT($M20="")), "X", "") | AU20: =IF($AO20="", "", IF(G20="", "X", "")) | AW20: =IF($AO20="", "", IF(I20="", "X", "")) | AY20: =IF($AO20="", "", IF(K20="", "X", "")) | BA20: =IF($AO20="", "", IF(M20="", "X", "")) | BD20: =CONCATENATE(Bridge!$BF$23, " ", Bridge!$BF$24) -> Mission complete! What a succesful career! You've earned your retirement! | BF20: =Bridge!$BD$23 | BH20: =IF(AND(NOT(G20=""), COUNTIF($BY$7:$BY$12, G20)=0), "X", "") | BJ20: =IF(AND(NOT(I20=""), COUNTIF($BY$7:$BY$12, I20)=0), "X", "") | BL20: =IF(AND(NOT(K20=""), COUNTIF($BY$7:$BY$12, K20)=0), "X", "") | BN20: =IF(AND(NOT(M20=""), COUNTIF($BY$7:$BY$12, M20)=0), "X", "") | BQ20: =IF($EP20="", "", IFERROR(INDEX($CC$25:$CC$27, MATCH($EP20, $CB$25:$CB$27, 0)), "")) | BR20: =IF($EQ20="", "", IFERROR(INDEX($CC$25:$CC$27, MATCH($EQ20, $CB$25:$CB$27, 0)), "")) | BT20: 7 | BX20: 6 | BY20: =IF('Dev Settings'!$Q16="", "", 'Dev Settings'!$Q16) -> MSL | CB20: 48 | CE20: =SUM($EP20:$ES20) -> 0 | CG20: =IF(OR($G20="", $I20="", $K20="", $M20=""), "", G20) | CI20: =IF(OR($G20="", $I20="", $K20="", $M20=""), "", I20) | CK20: =IF(OR($G20="", $I20="", $K20="", $M20=""), "", K20) | CM20: =IF(OR($G20="", $I20="", $K20="", $M20=""), "", M20) | CP20: =IF(CG20="", "", IF(CG20=CG$7, $CC$27, "")) | CR20: =IF(CI20="", "", IF(CI20=CI$7, $CC$27, "")) | CT20: =IF(CK20="", "", IF(CK20=CK$7, $CC$27, "")) | CV20: =IF(CM20="", "", IF(CM20=CM$7, $CC$27, "")) | CY20: =IF(CG20="", "", IF(CP20=$CC$27, "", CG20)) | DA20: =IF(CI20="", "", IF(CR20=$CC$27, "", CI20)) | DC20: =IF(CK20="", "", IF(CT20=$CC$27, "", CK20)) | DE20: =IF(CM20="", "", IF(CV20=$CC$27, "", CM20)) | DH20: =IF(CG20="", "", IF(CP20=$CC$27, "", CG$7)) | DJ20: =IF(CI20="", "", IF(CR20=$CC$27, "", CI$7)) | DL20: =IF(CK20="", "", IF(CT20=$CC$27, "", CK$7)) | DN20: =IF(CM20="", "", IF(CV20=$CC$27, "", CM$7)) | DQ20: =IF(CP20=$CC$27, $CC$27, IF(CY20="", "", IF(COUNTIF($CY20:CY20, CY20)>COUNTIF($DH20:$DO21, CY20), $CC$25, $CC$26))) | DS20: =IF(CR20=$CC$27, $CC$27, IF(DA20="", "", IF(COUNTIF($CY20:DA20, DA20)>COUNTIF($DH20:$DO21, DA20), $CC$25, $CC$26))) | DU20: =IF(CT20=$CC$27, $CC$27, IF(DC20="", "", IF(COUNTIF($CY20:DC20, DC20)>COUNTIF($DH20:$DO21, DC20), $CC$25, $CC$26))) | DW20: =IF(CV20=$CC$27, $CC$27, IF(DE20="", "", IF(COUNTIF($CY20:DE20, DE20)>COUNTIF($DH20:$DO21, DE20), $CC$25, $CC$26))) | DZ20: =IFERROR(INDEX($CB$25:$CB$27, MATCH(DQ20, $CC$25:$CC$27, 0)), "") | EB20: =IFERROR(INDEX($CB$25:$CB$27, MATCH(DS20, $CC$25:$CC$27, 0)), "") | ED20: =IFERROR(INDEX($CB$25:$CB$27, MATCH(DU20, $CC$25:$CC$27, 0)), "") | EF20: =IFERROR(INDEX($CB$25:$CB$27, MATCH(DW20, $CC$25:$CC$27, 0)), "") | EI20: =DZ30 | EJ20: =EB30 | EK20: =ED30 | EL20: =EF30 | EN20: 7 | EP20: =IFERROR(INDEX($EI$37:$EL$48, MATCH($EN20, $EG$37:$EG$48, 0), MATCH(EP$9, $EI$35:$EL$35, 0)), "") | EQ20: =IFERROR(INDEX($EI$37:$EL$48, MATCH($EN20, $EG$37:$EG$48, 0), MATCH(EQ$9, $EI$35:$EL$35, 0)), "") | ER20: =IFERROR(INDEX($EI$37:$EL$48, MATCH($EN20, $EG$37:$EG$48, 0), MATCH(ER$9, $EI$35:$EL$35, 0)), "") | ES20: =IFERROR(INDEX($EI$37:$EL$48, MATCH($EN20, $EG$37:$EG$48, 0), MATCH(ES$9, $EI$35:$EL$35, 0)), "") | EU20: =IF(COUNTIF($EP20:$ES20, "")=4, "", "X") | EZ20: =IF($BT20=$EX$7, $EW$7, "")
P21: =IF($BV$33=TRUE, $BV$8, "") | Q21: =IF(BQ21="", "", $BV$13) | R21: =IF(BR21="", "", $BV$13) | AC21: =IF(AF21="", "", "B") -> B | AE21: =AJ20 -> X | AF21: =AJ20 -> X | BD21: =CONCATENATE(Bridge!$BF$26, " ", Bridge!$BF$27) -> Mission failed! What a waste of a career! You're forced into retirement! | BF21: =Bridge!$BD$26 | BQ21: =IF($ER20="", "", IFERROR(INDEX($CC$25:$CC$27, MATCH($ER20, $CB$25:$CB$27, 0)), "")) | BR21: =IF($ES20="", "", IFERROR(INDEX($CC$25:$CC$27, MATCH($ES20, $CB$25:$CB$27, 0)), "")) | BV21: =MAX('Mission Codes'!$GG$6:$GG$165) -> 0 | CB21: =$BY$25 -> 0 | EI21: =DZ32 | EJ21: =EB32 | EK21: =ED32 | EL21: =EF32
F22: =IF($EZ22=$EW$7, $BV$14, "") | P22: =IF($BV$33=TRUE, $BV$10, "") | Q22: =IF(BQ22="", "", $BV$13) | R22: =IF(BR22="", "", $BV$13) | U22: =IF($BV$33=TRUE, 'Dev Settings'!$AM$11, "") | AC22: =IF(AF22="", "", "T") -> T | AE22: =AJ22 -> X | AF22: =AJ22 -> X | AH22: =IF($AJ22="", "", IF($AR22="X", "", $AJ22)) -> X | AJ22: =IF($AL22<=$BF$33, "X", "") -> X | AL22: 6 | AO22: =IF(AND($AR24="X", $BV$17=TRUE, $CB$11=FALSE, $CB$12=FALSE), "X", "") | AR22: =IF(AND(NOT($G22=""), NOT($I22=""), NOT($K22=""), NOT($M22="")), "X", "") | AU22: =IF($AO22="", "", IF(G22="", "X", "")) | AW22: =IF($AO22="", "", IF(I22="", "X", "")) | AY22: =IF($AO22="", "", IF(K22="", "X", "")) | BA22: =IF($AO22="", "", IF(M22="", "X", "")) | BD22: Please consult HQ | BF22: =IF(COUNTIF(Bridge!$BD$5:$BD$9, "X")+COUNTIF(Bridge!$BD$17:$BD$19, "X")=0, "", "X") | BH22: =IF(AND(NOT(G22=""), COUNTIF($BY$7:$BY$12, G22)=0), "X", "") | BJ22: =IF(AND(NOT(I22=""), COUNTIF($BY$7:$BY$12, I22)=0), "X", "") | BL22: =IF(AND(NOT(K22=""), COUNTIF($BY$7:$BY$12, K22)=0), "X", "") | BN22: =IF(AND(NOT(M22=""), COUNTIF($BY$7:$BY$12, M22)=0), "X", "") | BQ22: =IF($EP22="", "", IFERROR(INDEX($CC$25:$CC$27, MATCH($EP22, $CB$25:$CB$27, 0)), "")) | BR22: =IF($EQ22="", "", IFERROR(INDEX($CC$25:$CC$27, MATCH($EQ22, $CB$25:$CB$27, 0)), "")) | BT22: 6 | CB22: =CB20-CB21 -> 48 | CE22: =SUM($EP22:$ES22) -> 0 | CG22: =IF(OR($G22="", $I22="", $K22="", $M22=""), "", G22) | CI22: =IF(OR($G22="", $I22="", $K22="", $M22=""), "", I22) | CK22: =IF(OR($G22="", $I22="", $K22="", $M22=""), "", K22) | CM22: =IF(OR($G22="", $I22="", $K22="", $M22=""), "", M22) | CP22: =IF(CG22="", "", IF(CG22=CG$7, $CC$27, "")) | CR22: =IF(CI22="", "", IF(CI22=CI$7, $CC$27, "")) | CT22: =IF(CK22="", "", IF(CK22=CK$7, $CC$27, "")) | CV22: =IF(CM22="", "", IF(CM22=CM$7, $CC$27, "")) | CY22: =IF(CG22="", "", IF(CP22=$CC$27, "", CG22)) | DA22: =IF(CI22="", "", IF(CR22=$CC$27, "", CI22)) | DC22: =IF(CK22="", "", IF(CT22=$CC$27, "", CK22)) | DE22: =IF(CM22="", "", IF(CV22=$CC$27, "", CM22)) | DH22: =IF(CG22="", "", IF(CP22=$CC$27, "", CG$7)) | DJ22: =IF(CI22="", "", IF(CR22=$CC$27, "", CI$7)) | DL22: =IF(CK22="", "", IF(CT22=$CC$27, "", CK$7)) | DN22: =IF(CM22="", "", IF(CV22=$CC$27, "", CM$7)) | DQ22: =IF(CP22=$CC$27, $CC$27, IF(CY22="", "", IF(COUNTIF($CY22:CY22, CY22)>COUNTIF($DH22:$DO23, CY22), $CC$25, $CC$26))) | DS22: =IF(CR22=$CC$27, $CC$27, IF(DA22="", "", IF(COUNTIF($CY22:DA22, DA22)>COUNTIF($DH22:$DO23, DA22), $CC$25, $CC$26))) | DU22: =IF(CT22=$CC$27, $CC$27, IF(DC22="", "", IF(COUNTIF($CY22:DC22, DC22)>COUNTIF($DH22:$DO23, DC22), $CC$25, $CC$26))) | DW22: =IF(CV22=$CC$27, $CC$27, IF(DE22="", "", IF(COUNTIF($CY22:DE22, DE22)>COUNTIF($DH22:$DO23, DE22), $CC$25, $CC$26))) | DZ22: =IFERROR(INDEX($CB$25:$CB$27, MATCH(DQ22, $CC$25:$CC$27, 0)), "") | EB22: =IFERROR(INDEX($CB$25:$CB$27, MATCH(DS22, $CC$25:$CC$27, 0)), "") | ED22: =IFERROR(INDEX($CB$25:$CB$27, MATCH(DU22, $CC$25:$CC$27, 0)), "") | EF22: =IFERROR(INDEX($CB$25:$CB$27, MATCH(DW22, $CC$25:$CC$27, 0)), "") | EI22: =IF(EI10="", "", COUNTIF($EI10:$EL10, ">"&EI10)+1+COUNTIF($EI10:EI10, EI10)-1) | EJ22: =IF(EJ10="", "", COUNTIF($EI10:$EL10, ">"&EJ10)+1+COUNTIF($EI10:EJ10, EJ10)-1) | EK22: =IF(EK10="", "", COUNTIF($EI10:$EL10, ">"&EK10)+1+COUNTIF($EI10:EK10, EK10)-1) | EL22: =IF(EL10="", "", COUNTIF($EI10:$EL10, ">"&EL10)+1+COUNTIF($EI10:EL10, EL10)-1) | EN22: 6 | EP22: =IFERROR(INDEX($EI$37:$EL$48, MATCH($EN22, $EG$37:$EG$48, 0), MATCH(EP$9, $EI$35:$EL$35, 0)), "") | EQ22: =IFERROR(INDEX($EI$37:$EL$48, MATCH($EN22, $EG$37:$EG$48, 0), MATCH(EQ$9, $EI$35:$EL$35, 0)), "") | ER22: =IFERROR(INDEX($EI$37:$EL$48, MATCH($EN22, $EG$37:$EG$48, 0), MATCH(ER$9, $EI$35:$EL$35, 0)), "") | ES22: =IFERROR(INDEX($EI$37:$EL$48, MATCH($EN22, $EG$37:$EG$48, 0), MATCH(ES$9, $EI$35:$EL$35, 0)), "") | EU22: =IF(COUNTIF($EP22:$ES22, "")=4, "", "X") | EZ22: =IF($BT22=$EX$7, $EW$7, "")
B23: Career | O23: =IF($BV$33=TRUE, $BV$9, "") | Q23: =IF(BQ23="", "", $BV$13) | R23: =IF(BR23="", "", $BV$13) | S23: =IF('Dev Settings'!$B$14="", "", 'Dev Settings'!$B$14) -> APA | AC23: =IF(AF23="", "", "B") -> B | AE23: =AJ22 -> X | AF23: =AJ22 -> X | BQ23: =IF($ER22="", "", IFERROR(INDEX($CC$25:$CC$27, MATCH($ER22, $CB$25:$CB$27, 0)), "")) | BR23: =IF($ES22="", "", IFERROR(INDEX($CC$25:$CC$27, MATCH($ES22, $CB$25:$CB$27, 0)), "")) | BV23: =IFERROR(INDEX('Mission Codes'!$AY$6:$AY$165, MATCH($BV$21, 'Mission Codes'!$GG$6:$GG$165, 0)), "") | BY23: =48*2 -> 96 | EI23: =IF(EI11="", "", COUNTIF($EI11:$EL11, ">"&EI11)+1+COUNTIF($EI11:EI11, EI11)-1) | EJ23: =IF(EJ11="", "", COUNTIF($EI11:$EL11, ">"&EJ11)+1+COUNTIF($EI11:EJ11, EJ11)-1) | EK23: =IF(EK11="", "", COUNTIF($EI11:$EL11, ">"&EK11)+1+COUNTIF($EI11:EK11, EK11)-1) | EL23: =IF(EL11="", "", COUNTIF($EI11:$EL11, ">"&EL11)+1+COUNTIF($EI11:EL11, EL11)-1)
B24: ='Mission Codes'!$EI$20 -> 0 | F24: =IF($EZ24=$EW$7, $BV$14, "") | O24: =IF($BV$33=TRUE, $BV$10, "") | Q24: =IF(BQ24="", "", $BV$13) | R24: =IF(BR24="", "", $BV$13) | S24: =IF('Dev Settings'!$L$14="", "", 'Dev Settings'!$L$14) -> #VALUE! | U24: =IF($BV$33=TRUE, 'Dev Settings'!$AM$11, "") | AC24: =IF(AF24="", "", "T") -> T | AE24: =AJ24 -> X | AF24: =AJ24 -> X | AH24: =IF($AJ24="", "", IF($AR24="X", "", $AJ24)) -> X | AJ24: =IF($AL24<=$BF$33, "X", "") -> X | AL24: 5 | AO24: =IF(AND($AR26="X", $BV$17=TRUE, $CB$11=FALSE, $CB$12=FALSE), "X", "") | AR24: =IF(AND(NOT($G24=""), NOT($I24=""), NOT($K24=""), NOT($M24="")), "X", "") | AU24: =IF($AO24="", "", IF(G24="", "X", "")) | AW24: =IF($AO24="", "", IF(I24="", "X", "")) | AY24: =IF($AO24="", "", IF(K24="", "X", "")) | BA24: =IF($AO24="", "", IF(M24="", "X", "")) | BH24: =IF(AND(NOT(G24=""), COUNTIF($BY$7:$BY$12, G24)=0), "X", "") | BJ24: =IF(AND(NOT(I24=""), COUNTIF($BY$7:$BY$12, I24)=0), "X", "") | BL24: =IF(AND(NOT(K24=""), COUNTIF($BY$7:$BY$12, K24)=0), "X", "") | BN24: =IF(AND(NOT(M24=""), COUNTIF($BY$7:$BY$12, M24)=0), "X", "") | BQ24: =IF($EP24="", "", IFERROR(INDEX($CC$25:$CC$27, MATCH($EP24, $CB$25:$CB$27, 0)), "")) | BR24: =IF($EQ24="", "", IFERROR(INDEX($CC$25:$CC$27, MATCH($EQ24, $CB$25:$CB$27, 0)), "")) | BT24: 5 | BV24: =IFERROR(INDEX('Mission Codes'!$AZ$6:$AZ$165, MATCH($BV$21, 'Mission Codes'!$GG$6:$GG$165, 0)), "") | BY24: =(COUNTIF($G$10:$G$33, "")+COUNTIF($I$10:$I$33, "")+COUNTIF($K$10:$K$33, "")+COUNTIF($M$10:$M$33, "")) -> 96 | CE24: =SUM($EP24:$ES24) -> 0 | CG24: =IF(OR($G24="", $I24="", $K24="", $M24=""), "", G24) | CI24: =IF(OR($G24="", $I24="", $K24="", $M24=""), "", I24) | CK24: =IF(OR($G24="", $I24="", $K24="", $M24=""), "", K24) | CM24: =IF(OR($G24="", $I24="", $K24="", $M24=""), "", M24) | CP24: =IF(CG24="", "", IF(CG24=CG$7, $CC$27, "")) | CR24: =IF(CI24="", "", IF(CI24=CI$7, $CC$27, "")) | CT24: =IF(CK24="", "", IF(CK24=CK$7, $CC$27, "")) | CV24: =IF(CM24="", "", IF(CM24=CM$7, $CC$27, "")) | CY24: =IF(CG24="", "", IF(CP24=$CC$27, "", CG24)) | DA24: =IF(CI24="", "", IF(CR24=$CC$27, "", CI24)) | DC24: =IF(CK24="", "", IF(CT24=$CC$27, "", CK24)) | DE24: =IF(CM24="", "", IF(CV24=$CC$27, "", CM24)) | DH24: =IF(CG24="", "", IF(CP24=$CC$27, "", CG$7)) | DJ24: =IF(CI24="", "", IF(CR24=$CC$27, "", CI$7)) | DL24: =IF(CK24="", "", IF(CT24=$CC$27, "", CK$7)) | DN24: =IF(CM24="", "", IF(CV24=$CC$27, "", CM$7)) | DQ24: =IF(CP24=$CC$27, $CC$27, IF(CY24="", "", IF(COUNTIF($CY24:CY24, CY24)>COUNTIF($DH24:$DO25, CY24), $CC$25, $CC$26))) | DS24: =IF(CR24=$CC$27, $CC$27, IF(DA24="", "", IF(COUNTIF($CY24:DA24, DA24)>COUNTIF($DH24:$DO25, DA24), $CC$25, $CC$26))) | DU24: =IF(CT24=$CC$27, $CC$27, IF(DC24="", "", IF(COUNTIF($CY24:DC24, DC24)>COUNTIF($DH24:$DO25, DC24), $CC$25, $CC$26))) | DW24: =IF(CV24=$CC$27, $CC$27, IF(DE24="", "", IF(COUNTIF($CY24:DE24, DE24)>COUNTIF($DH24:$DO25, DE24), $CC$25, $CC$26))) | DZ24: =IFERROR(INDEX($CB$25:$CB$27, MATCH(DQ24, $CC$25:$CC$27, 0)), "") | EB24: =IFERROR(INDEX($CB$25:$CB$27, MATCH(DS24, $CC$25:$CC$27, 0)), "") | ED24: =IFERROR(INDEX($CB$25:$CB$27, MATCH(DU24, $CC$25:$CC$27, 0)), "") | EF24: =IFERROR(INDEX($CB$25:$CB$27, MATCH(DW24, $CC$25:$CC$27, 0)), "") | EI24: =IF(EI12="", "", COUNTIF($EI12:$EL12, ">"&EI12)+1+COUNTIF($EI12:EI12, EI12)-1) | EJ24: =IF(EJ12="", "", COUNTIF($EI12:$EL12, ">"&EJ12)+1+COUNTIF($EI12:EJ12, EJ12)-1) | EK24: =IF(EK12="", "", COUNTIF($EI12:$EL12, ">"&EK12)+1+COUNTIF($EI12:EK12, EK12)-1) | EL24: =IF(EL12="", "", COUNTIF($EI12:$EL12, ">"&EL12)+1+COUNTIF($EI12:EL12, EL12)-1) | EN24: 5 | EP24: =IFERROR(INDEX($EI$37:$EL$48, MATCH($EN24, $EG$37:$EG$48, 0), MATCH(EP$9, $EI$35:$EL$35, 0)), "") | EQ24: =IFERROR(INDEX($EI$37:$EL$48, MATCH($EN24, $EG$37:$EG$48, 0), MATCH(EQ$9, $EI$35:$EL$35, 0)), "") | ER24: =IFERROR(INDEX($EI$37:$EL$48, MATCH($EN24, $EG$37:$EG$48, 0), MATCH(ER$9, $EI$35:$EL$35, 0)), "") | ES24: =IFERROR(INDEX($EI$37:$EL$48, MATCH($EN24, $EG$37:$EG$48, 0), MATCH(ES$9, $EI$35:$EL$35, 0)), "") | EU24: =IF(COUNTIF($EP24:$ES24, "")=4, "", "X") | EZ24: =IF($BT24=$EX$7, $EW$7, "")
P25: =IF($BV$33=TRUE, $BV$8, "") | Q25: =IF(BQ25="", "", $BV$13) | R25: =IF(BR25="", "", $BV$13) | AC25: =IF(AF25="", "", "B") -> B | AE25: =AJ24 -> X | AF25: =AJ24 -> X | BQ25: =IF($ER24="", "", IFERROR(INDEX($CC$25:$CC$27, MATCH($ER24, $CB$25:$CB$27, 0)), "")) | BR25: =IF($ES24="", "", IFERROR(INDEX($CC$25:$CC$27, MATCH($ES24, $CB$25:$CB$27, 0)), "")) | BY25: =BY23-$BY$24 -> 0 | CB25: 0 | CC25: R | EI25: =IF(EI13="", "", COUNTIF($EI13:$EL13, ">"&EI13)+1+COUNTIF($EI13:EI13, EI13)-1) | EJ25: =IF(EJ13="", "", COUNTIF($EI13:$EL13, ">"&EJ13)+1+COUNTIF($EI13:EJ13, EJ13)-1) | EK25: =IF(EK13="", "", COUNTIF($EI13:$EL13, ">"&EK13)+1+COUNTIF($EI13:EK13, EK13)-1) | EL25: =IF(EL13="", "", COUNTIF($EI13:$EL13, ">"&EL13)+1+COUNTIF($EI13:EL13, EL13)-1)
F26: =IF($EZ26=$EW$7, $BV$14, "") | P26: =IF($BV$33=TRUE, $BV$10, "") | Q26: =IF(BQ26="", "", $BV$13) | R26: =IF(BR26="", "", $BV$13) | U26: =IF($BV$33=TRUE, 'Dev Settings'!$AM$11, "") | AC26: =IF(AF26="", "", "T") -> T | AE26: =AJ26 -> X | AF26: =AJ26 -> X | AH26: =IF($AJ26="", "", IF($AR26="X", "", $AJ26)) -> X | AJ26: =IF($AL26<=$BF$33, "X", "") -> X | AL26: 4 | AO26: =IF(AND($AR28="X", $BV$17=TRUE, $CB$11=FALSE, $CB$12=FALSE), "X", "") | AR26: =IF(AND(NOT($G26=""), NOT($I26=""), NOT($K26=""), NOT($M26="")), "X", "") | AU26: =IF($AO26="", "", IF(G26="", "X", "")) | AW26: =IF($AO26="", "", IF(I26="", "X", "")) | AY26: =IF($AO26="", "", IF(K26="", "X", "")) | BA26: =IF($AO26="", "", IF(M26="", "X", "")) | BH26: =IF(AND(NOT(G26=""), COUNTIF($BY$7:$BY$12, G26)=0), "X", "") | BJ26: =IF(AND(NOT(I26=""), COUNTIF($BY$7:$BY$12, I26)=0), "X", "") | BL26: =IF(AND(NOT(K26=""), COUNTIF($BY$7:$BY$12, K26)=0), "X", "") | BN26: =IF(AND(NOT(M26=""), COUNTIF($BY$7:$BY$12, M26)=0), "X", "") | BQ26: =IF($EP26="", "", IFERROR(INDEX($CC$25:$CC$27, MATCH($EP26, $CB$25:$CB$27, 0)), "")) | BR26: =IF($EQ26="", "", IFERROR(INDEX($CC$25:$CC$27, MATCH($EQ26, $CB$25:$CB$27, 0)), "")) | BT26: 4 | BV26: ▲ | CB26: 1 | CC26: Y | CE26: =SUM($EP26:$ES26) -> 0 | CG26: =IF(OR($G26="", $I26="", $K26="", $M26=""), "", G26) | CI26: =IF(OR($G26="", $I26="", $K26="", $M26=""), "", I26) | CK26: =IF(OR($G26="", $I26="", $K26="", $M26=""), "", K26) | CM26: =IF(OR($G26="", $I26="", $K26="", $M26=""), "", M26) | CP26: =IF(CG26="", "", IF(CG26=CG$7, $CC$27, "")) | CR26: =IF(CI26="", "", IF(CI26=CI$7, $CC$27, "")) | CT26: =IF(CK26="", "", IF(CK26=CK$7, $CC$27, "")) | CV26: =IF(CM26="", "", IF(CM26=CM$7, $CC$27, "")) | CY26: =IF(CG26="", "", IF(CP26=$CC$27, "", CG26)) | DA26: =IF(CI26="", "", IF(CR26=$CC$27, "", CI26)) | DC26: =IF(CK26="", "", IF(CT26=$CC$27, "", CK26)) | DE26: =IF(CM26="", "", IF(CV26=$CC$27, "", CM26)) | DH26: =IF(CG26="", "", IF(CP26=$CC$27, "", CG$7)) | DJ26: =IF(CI26="", "", IF(CR26=$CC$27, "", CI$7)) | DL26: =IF(CK26="", "", IF(CT26=$CC$27, "", CK$7)) | DN26: =IF(CM26="", "", IF(CV26=$CC$27, "", CM$7)) | DQ26: =IF(CP26=$CC$27, $CC$27, IF(CY26="", "", IF(COUNTIF($CY26:CY26, CY26)>COUNTIF($DH26:$DO27, CY26), $CC$25, $CC$26))) | DS26: =IF(CR26=$CC$27, $CC$27, IF(DA26="", "", IF(COUNTIF($CY26:DA26, DA26)>COUNTIF($DH26:$DO27, DA26), $CC$25, $CC$26))) | DU26: =IF(CT26=$CC$27, $CC$27, IF(DC26="", "", IF(COUNTIF($CY26:DC26, DC26)>COUNTIF($DH26:$DO27, DC26), $CC$25, $CC$26))) | DW26: =IF(CV26=$CC$27, $CC$27, IF(DE26="", "", IF(COUNTIF($CY26:DE26, DE26)>COUNTIF($DH26:$DO27, DE26), $CC$25, $CC$26))) | DZ26: =IFERROR(INDEX($CB$25:$CB$27, MATCH(DQ26, $CC$25:$CC$27, 0)), "") | EB26: =IFERROR(INDEX($CB$25:$CB$27, MATCH(DS26, $CC$25:$CC$27, 0)), "") | ED26: =IFERROR(INDEX($CB$25:$CB$27, MATCH(DU26, $CC$25:$CC$27, 0)), "") | EF26: =IFERROR(INDEX($CB$25:$CB$27, MATCH(DW26, $CC$25:$CC$27, 0)), "") | EI26: =IF(EI14="", "", COUNTIF($EI14:$EL14, ">"&EI14)+1+COUNTIF($EI14:EI14, EI14)-1) | EJ26: =IF(EJ14="", "", COUNTIF($EI14:$EL14, ">"&EJ14)+1+COUNTIF($EI14:EJ14, EJ14)-1) | EK26: =IF(EK14="", "", COUNTIF($EI14:$EL14, ">"&EK14)+1+COUNTIF($EI14:EK14, EK14)-1) | EL26: =IF(EL14="", "", COUNTIF($EI14:$EL14, ">"&EL14)+1+COUNTIF($EI14:EL14, EL14)-1) | EN26: 4 | EP26: =IFERROR(INDEX($EI$37:$EL$48, MATCH($EN26, $EG$37:$EG$48, 0), MATCH(EP$9, $EI$35:$EL$35, 0)), "") | EQ26: =IFERROR(INDEX($EI$37:$EL$48, MATCH($EN26, $EG$37:$EG$48, 0), MATCH(EQ$9, $EI$35:$EL$35, 0)), "") | ER26: =IFERROR(INDEX($EI$37:$EL$48, MATCH($EN26, $EG$37:$EG$48, 0), MATCH(ER$9, $EI$35:$EL$35, 0)), "") | ES26: =IFERROR(INDEX($EI$37:$EL$48, MATCH($EN26, $EG$37:$EG$48, 0), MATCH(ES$9, $EI$35:$EL$35, 0)), "") | EU26: =IF(COUNTIF($EP26:$ES26, "")=4, "", "X") | EZ26: =IF($BT26=$EX$7, $EW$7, "")
B27: SucCess | O27: =IF($BV$33=TRUE, $BV$9, "") | Q27: =IF(BQ27="", "", $BV$13) | R27: =IF(BR27="", "", $BV$13) | S27: =IF('Dev Settings'!$B$15="", "", 'Dev Settings'!$B$15) -> F35 | AC27: =IF(AF27="", "", "B") -> B | AE27: =AJ26 -> X | AF27: =AJ26 -> X | BQ27: =IF($ER26="", "", IFERROR(INDEX($CC$25:$CC$27, MATCH($ER26, $CB$25:$CB$27, 0)), "")) | BR27: =IF($ES26="", "", IFERROR(INDEX($CC$25:$CC$27, MATCH($ES26, $CB$25:$CB$27, 0)), "")) | BV27: ✪ | CB27: 2 | CC27: G | EI27: =IF(EI15="", "", COUNTIF($EI15:$EL15, ">"&EI15)+1+COUNTIF($EI15:EI15, EI15)-1) | EJ27: =IF(EJ15="", "", COUNTIF($EI15:$EL15, ">"&EJ15)+1+COUNTIF($EI15:EJ15, EJ15)-1) | EK27: =IF(EK15="", "", COUNTIF($EI15:$EL15, ">"&EK15)+1+COUNTIF($EI15:EK15, EK15)-1) | EL27: =IF(EL15="", "", COUNTIF($EI15:$EL15, ">"&EL15)+1+COUNTIF($EI15:EL15, EL15)-1)
B28: Rate | F28: =IF($EZ28=$EW$7, $BV$14, "") | O28: =IF($BV$33=TRUE, $BV$10, "") | Q28: =IF(BQ28="", "", $BV$13) | R28: =IF(BR28="", "", $BV$13) | S28: =IF('Dev Settings'!$L$15="", "", 'Dev Settings'!$L$15) -> #VALUE! | U28: =IF($BV$33=TRUE, 'Dev Settings'!$AM$11, "") | AC28: =IF(AF28="", "", "T") -> T | AE28: =AJ28 -> X | AF28: =AJ28 -> X | AH28: =IF($AJ28="", "", IF($AR28="X", "", $AJ28)) -> X | AJ28: =IF($AL28<=$BF$33, "X", "") -> X | AL28: 3 | AO28: =IF(AND($AR30="X", $BV$17=TRUE, $CB$11=FALSE, $CB$12=FALSE), "X", "") | AR28: =IF(AND(NOT($G28=""), NOT($I28=""), NOT($K28=""), NOT($M28="")), "X", "") | AU28: =IF($AO28="", "", IF(G28="", "X", "")) | AW28: =IF($AO28="", "", IF(I28="", "X", "")) | AY28: =IF($AO28="", "", IF(K28="", "X", "")) | BA28: =IF($AO28="", "", IF(M28="", "X", "")) | BH28: =IF(AND(NOT(G28=""), COUNTIF($BY$7:$BY$12, G28)=0), "X", "") | BJ28: =IF(AND(NOT(I28=""), COUNTIF($BY$7:$BY$12, I28)=0), "X", "") | BL28: =IF(AND(NOT(K28=""), COUNTIF($BY$7:$BY$12, K28)=0), "X", "") | BN28: =IF(AND(NOT(M28=""), COUNTIF($BY$7:$BY$12, M28)=0), "X", "") | BQ28: =IF($EP28="", "", IFERROR(INDEX($CC$25:$CC$27, MATCH($EP28, $CB$25:$CB$27, 0)), "")) | BR28: =IF($EQ28="", "", IFERROR(INDEX($CC$25:$CC$27, MATCH($EQ28, $CB$25:$CB$27, 0)), "")) | BT28: 3 | CE28: =SUM($EP28:$ES28) -> 0 | CG28: =IF(OR($G28="", $I28="", $K28="", $M28=""), "", G28) | CI28: =IF(OR($G28="", $I28="", $K28="", $M28=""), "", I28) | CK28: =IF(OR($G28="", $I28="", $K28="", $M28=""), "", K28) | CM28: =IF(OR($G28="", $I28="", $K28="", $M28=""), "", M28) | CP28: =IF(CG28="", "", IF(CG28=CG$7, $CC$27, "")) | CR28: =IF(CI28="", "", IF(CI28=CI$7, $CC$27, "")) | CT28: =IF(CK28="", "", IF(CK28=CK$7, $CC$27, "")) | CV28: =IF(CM28="", "", IF(CM28=CM$7, $CC$27, "")) | CY28: =IF(CG28="", "", IF(CP28=$CC$27, "", CG28)) | DA28: =IF(CI28="", "", IF(CR28=$CC$27, "", CI28)) | DC28: =IF(CK28="", "", IF(CT28=$CC$27, "", CK28)) | DE28: =IF(CM28="", "", IF(CV28=$CC$27, "", CM28)) | DH28: =IF(CG28="", "", IF(CP28=$CC$27, "", CG$7)) | DJ28: =IF(CI28="", "", IF(CR28=$CC$27, "", CI$7)) | DL28: =IF(CK28="", "", IF(CT28=$CC$27, "", CK$7)) | DN28: =IF(CM28="", "", IF(CV28=$CC$27, "", CM$7)) | DQ28: =IF(CP28=$CC$27, $CC$27, IF(CY28="", "", IF(COUNTIF($CY28:CY28, CY28)>COUNTIF($DH28:$DO29, CY28), $CC$25, $CC$26))) | DS28: =IF(CR28=$CC$27, $CC$27, IF(DA28="", "", IF(COUNTIF($CY28:DA28, DA28)>COUNTIF($DH28:$DO29, DA28), $CC$25, $CC$26))) | DU28: =IF(CT28=$CC$27, $CC$27, IF(DC28="", "", IF(COUNTIF($CY28:DC28, DC28)>COUNTIF($DH28:$DO29, DC28), $CC$25, $CC$26))) | DW28: =IF(CV28=$CC$27, $CC$27, IF(DE28="", "", IF(COUNTIF($CY28:DE28, DE28)>COUNTIF($DH28:$DO29, DE28), $CC$25, $CC$26))) | DZ28: =IFERROR(INDEX($CB$25:$CB$27, MATCH(DQ28, $CC$25:$CC$27, 0)), "") | EB28: =IFERROR(INDEX($CB$25:$CB$27, MATCH(DS28, $CC$25:$CC$27, 0)), "") | ED28: =IFERROR(INDEX($CB$25:$CB$27, MATCH(DU28, $CC$25:$CC$27, 0)), "") | EF28: =IFERROR(INDEX($CB$25:$CB$27, MATCH(DW28, $CC$25:$CC$27, 0)), "") | EI28: =IF(EI16="", "", COUNTIF($EI16:$EL16, ">"&EI16)+1+COUNTIF($EI16:EI16, EI16)-1) | EJ28: =IF(EJ16="", "", COUNTIF($EI16:$EL16, ">"&EJ16)+1+COUNTIF($EI16:EJ16, EJ16)-1) | EK28: =IF(EK16="", "", COUNTIF($EI16:$EL16, ">"&EK16)+1+COUNTIF($EI16:EK16, EK16)-1) | EL28: =IF(EL16="", "", COUNTIF($EI16:$EL16, ">"&EL16)+1+COUNTIF($EI16:EL16, EL16)-1) | EN28: 3 | EP28: =IFERROR(INDEX($EI$37:$EL$48, MATCH($EN28, $EG$37:$EG$48, 0), MATCH(EP$9, $EI$35:$EL$35, 0)), "") | EQ28: =IFERROR(INDEX($EI$37:$EL$48, MATCH($EN28, $EG$37:$EG$48, 0), MATCH(EQ$9, $EI$35:$EL$35, 0)), "") | ER28: =IFERROR(INDEX($EI$37:$EL$48, MATCH($EN28, $EG$37:$EG$48, 0), MATCH(ER$9, $EI$35:$EL$35, 0)), "") | ES28: =IFERROR(INDEX($EI$37:$EL$48, MATCH($EN28, $EG$37:$EG$48, 0), MATCH(ES$9, $EI$35:$EL$35, 0)), "") | EU28: =IF(COUNTIF($EP28:$ES28, "")=4, "", "X") | EZ28: =IF($BT28=$EX$7, $EW$7, "")
B29: ='Mission Codes'!$BQ$2 | P29: =IF($BV$33=TRUE, $BV$8, "") | Q29: =IF(BQ29="", "", $BV$13) | R29: =IF(BR29="", "", $BV$13) | AC29: =IF(AF29="", "", "B") -> B | AE29: =AJ28 -> X | AF29: =AJ28 -> X | BQ29: =IF($ER28="", "", IFERROR(INDEX($CC$25:$CC$27, MATCH($ER28, $CB$25:$CB$27, 0)), "")) | BR29: =IF($ES28="", "", IFERROR(INDEX($CC$25:$CC$27, MATCH($ES28, $CB$25:$CB$27, 0)), "")) | BV29: =IF(BV23="", "", BV26) | CA29: Game Over | CB29: =Destinations!$BL$24 -> FALSE | EI29: =IF(EI17="", "", COUNTIF($EI17:$EL17, ">"&EI17)+1+COUNTIF($EI17:EI17, EI17)-1) | EJ29: =IF(EJ17="", "", COUNTIF($EI17:$EL17, ">"&EJ17)+1+COUNTIF($EI17:EJ17, EJ17)-1) | EK29: =IF(EK17="", "", COUNTIF($EI17:$EL17, ">"&EK17)+1+COUNTIF($EI17:EK17, EK17)-1) | EL29: =IF(EL17="", "", COUNTIF($EI17:$EL17, ">"&EL17)+1+COUNTIF($EI17:EL17, EL17)-1)
