Workbook

Sheet Intro & Setup
B2: Thanks for trying the Basic Time Allocator
B5: Please read these notes explaining how to use this spreadsheet
B7: Editable Cells | H7: The yellow background and blue writing usually identifies cells where you can enter or edit information.
B8: Calculated Cells | H8: The blue background and yellow writing usually identifies cells which are calculated, and therefore locked.
B9: If you copy and paste data into this spreadsheet (from an internal or external source), ALWAYS use paste VALUES, never normal paste.
B10: Using the drag function is the same as copy and paste, so do not use it.
B11: DO not delete or move data or cells. You can use clear contents, or you can use the sort function where there are filters.
B14: Please complete the following sections before using this spreadsheet
B16: Company Name | H16: Your Business | T16: Year Start Date | Z16: 43586 | AG16: Please enter the first day of the financial year here. This spreadsheet will then be valid for that year, so please keep a blank copy for the following years. Please be aware that if you start mid month, any hours worked in the final part month, will be included in the final full month's figures.
B18: Your company name will be locked. It is like that to ensure protection for this spreadsheet. If it is wrong, please contact us. | T18: If you get stuck, here is a demo video
B22: Watch the demo on YouTube
B25: This spreadsheet is part of our | Y25: This spreadsheet was created by
B33: Click the logo to see the other products in this range | Y33: SSS10090 - Job Breakdown
B38: We do not offer support on Basic Range spreadsheets, but if you find any errors, please let us know.
Y39: © Sumcor Ltd - Trading as Spreadsheet Solutions

Sheet Client List
B2: Client List | I2: On the Time Entries tab, you will be able to access Client Name - Job Description options from a drop down list, to ensure you get the right job for the right client. On the Report, you will be able to select a client, without a job, in order to see al of that client's time. In order for this to work, you need to make sure that you always spell the client's name the same way. If you do not, they will act as different clients when reporting data. The job descriptions are less important, but do make sure that you don't have the same job description for the same client more than once.
B5: To add clients, simply add a client name and job description (that way you can have multiple jobs for each client. Please make sure that you don't have any duplicate Name/Job entries. You can also put down the budget time for each job.
I6: Grand Total | K6: =SUM($I$8:$T$8) -> 2.3159722
D8: [h]:mm | F8: Totals: | I8: =SUM(I$12:I$261) -> 0.56597222 | J8: =SUM(J$12:J$261) -> 0.16666667 | K8: =SUM(K$12:K$261) -> 0.1875 | L8: =SUM(L$12:L$261) -> 0.38541667 | M8: =SUM(M$12:M$261) -> 0.29166667 | N8: =SUM(N$12:N$261) -> 0.16666667 | O8: =SUM(O$12:O$261) -> 0.125 | P8: =SUM(P$12:P$261) -> 0.22916667 | ... T8: =SUM(T$12:T$261) -> 0 | W8: =COUNTIF($W$12:$W$261, "X") -> 0 | AF8: =Report!$B$6 -> Client Name | AG8: =Report!$P$6 -> Job Description | AK8: =IF(Report!$H$6="", "", Report!$H$6)
B9: =IF($W$8=0, "", "Duplicates") | D9: Time | F9: Time | G9: Time | AF9: =IF(Report!$H$6="", "", Report!$H$6) | AG9: =IF(Report!$V$6="", "", Report!$V$6)
B10: Client Name | C10: Job Description | D10: Quoted | F10: Worked | G10: Left | I10: =TEXT($AA$10, "mmm yyyy") -> May 2019 | J10: =TEXT($AA$11, "mmm yyyy") -> Jun 2019 | K10: =TEXT($AA$12, "mmm yyyy") -> Jul 2019 | L10: =TEXT($AA$13, "mmm yyyy") -> Aug 2019 | M10: =TEXT($AA$14, "mmm yyyy") -> Sep 2019 | N10: =TEXT($AA$15, "mmm yyyy") -> Oct 2019 | O10: =TEXT($AA$16, "mmm yyyy") -> Nov 2019 | P10: =TEXT($AA$17, "mmm yyyy") -> Dec 2019 | Q10: =TEXT($AA$18, "mmm yyyy") -> Jan 2020 | R10: =TEXT($AA$19, "mmm yyyy") -> Feb 2020 | S10: =TEXT($AA$20, "mmm yyyy") -> Mar 2020 | T10: =TEXT($AA$21, "mmm yyyy") -> Apr 2020 | AA10: =DATE(YEAR('Time Entries'!$O$6), MONTH('Time Entries'!$O$6), 1) -> 43586 | AB10: =TEXT($AA$10, "mmm yyyy") -> May 2019 | AH10: =COUNTIF($AH$12:$AH$261, "") -> 245 | AK10: =COUNTIF($AK$12:$AK$261, "") -> 250
W11: Duplicates | Y11: Client - Job | AA11: =DATE(YEAR(AA10), MONTH(AA10)+1, 1) -> 43617 | AB11: =TEXT($AA$11, "mmm yyyy") -> Jun 2019 | AD11: Incomplete
B12: Client 1 | C12: Test Job 1 | D12: 0.41666667 | F12: =IF(OR($B12="", $C12=""), "", SUM($I12:$T12)) -> 0.33333333 | G12: =IF($F12="", "", IF($D12-$F12<0, TEXT(($F12-$D12), "-[h]:mm"), $D12-$F12)) -> 0.083333333 | I12: =IF(OR($B12="", $C12=""), "", SUMIF('Time Entries'!$S$12:$S$1011, _xlfn.CONCAT(I$10, " - ", $Y12), 'Time Entries'!$D$12:$D$1011)+SUMIF('Time Entries'!$T$12:$T$1011, _xlfn.CONCAT(I$10, " - ", $Y12), 'Time Entries'!$F$12:$F$1011)+SUMIF('Time Entries'!$U$12:$U$1011, _xlfn.CONCAT(I$10, " - ", $Y12), 'Time Entries'!$H$12:$H$1011)+SUMIF('Time Entries'!$V$12:$V$1011, _xlfn.CONCAT(I$10, " - ", $Y12), 'Time Entries'!$J$12:$J$1011)) -> 0.083333333 | J12: =IF(OR($B12="", $C12=""), "", SUMIF('Time Entries'!$S$12:$S$1011, _xlfn.CONCAT(J$10, " - ", $Y12), 'Time Entries'!$D$12:$D$1011)+SUMIF('Time Entries'!$T$12:$T$1011, _xlfn.CONCAT(J$10, " - ", $Y12), 'Time Entries'!$F$12:$F$1011)+SUMIF('Time Entries'!$U$12:$U$1011, _xlfn.CONCAT(J$10, " - ", $Y12), 'Time Entries'!$H$12:$H$1011)+SUMIF('Time Entries'!$V$12:$V$1011, _xlfn.CONCAT(J$10, " - ", $Y12), 'Time Entries'!$J$12:$J$1011)) -> 0 | K12: =IF(OR($B12="", $C12=""), "", SUMIF('Time Entries'!$S$12:$S$1011, _xlfn.CONCAT(K$10, " - ", $Y12), 'Time Entries'!$D$12:$D$1011)+SUMIF('Time Entries'!$T$12:$T$1011, _xlfn.CONCAT(K$10, " - ", $Y12), 'Time Entries'!$F$12:$F$1011)+SUMIF('Time Entries'!$U$12:$U$1011, _xlfn.CONCAT(K$10, " - ", $Y12), 'Time Entries'!$H$12:$H$1011)+SUMIF('Time Entries'!$V$12:$V$1011, _xlfn.CONCAT(K$10, " - ", $Y12), 'Time Entries'!$J$12:$J$1011)) -> 0 | L12: =IF(OR($B12="", $C12=""), "", SUMIF('Time Entries'!$S$12:$S$1011, _xlfn.CONCAT(L$10, " - ", $Y12), 'Time Entries'!$D$12:$D$1011)+SUMIF('Time Entries'!$T$12:$T$1011, _xlfn.CONCAT(L$10, " - ", $Y12), 'Time Entries'!$F$12:$F$1011)+SUMIF('Time Entries'!$U$12:$U$1011, _xlfn.CONCAT(L$10, " - ", $Y12), 'Time Entries'!$H$12:$H$1011)+SUMIF('Time Entries'!$V$12:$V$1011, _xlfn.CONCAT(L$10, " - ", $Y12), 'Time Entries'!$J$12:$J$1011)) -> 0.25 | M12: =IF(OR($B12="", $C12=""), "", SUMIF('Time Entries'!$S$12:$S$1011, _xlfn.CONCAT(M$10, " - ", $Y12), 'Time Entries'!$D$12:$D$1011)+SUMIF('Time Entries'!$T$12:$T$1011, _xlfn.CONCAT(M$10, " - ", $Y12), 'Time Entries'!$F$12:$F$1011)+SUMIF('Time Entries'!$U$12:$U$1011, _xlfn.CONCAT(M$10, " - ", $Y12), 'Time Entries'!$H$12:$H$1011)+SUMIF('Time Entries'!$V$12:$V$1011, _xlfn.CONCAT(M$10, " - ", $Y12), 'Time Entries'!$J$12:$J$1011)) -> 0 | N12: =IF(OR($B12="", $C12=""), "", SUMIF('Time Entries'!$S$12:$S$1011, _xlfn.CONCAT(N$10, " - ", $Y12), 'Time Entries'!$D$12:$D$1011)+SUMIF('Time Entries'!$T$12:$T$1011, _xlfn.CONCAT(N$10, " - ", $Y12), 'Time Entries'!$F$12:$F$1011)+SUMIF('Time Entries'!$U$12:$U$1011, _xlfn.CONCAT(N$10, " - ", $Y12), 'Time Entries'!$H$12:$H$1011)+SUMIF('Time Entries'!$V$12:$V$1011, _xlfn.CONCAT(N$10, " - ", $Y12), 'Time Entries'!$J$12:$J$1011)) -> 0 | O12: =IF(OR($B12="", $C12=""), "", SUMIF('Time Entries'!$S$12:$S$1011, _xlfn.CONCAT(O$10, " - ", $Y12), 'Time Entries'!$D$12:$D$1011)+SUMIF('Time Entries'!$T$12:$T$1011, _xlfn.CONCAT(O$10, " - ", $Y12), 'Time Entries'!$F$12:$F$1011)+SUMIF('Time Entries'!$U$12:$U$1011, _xlfn.CONCAT(O$10, " - ", $Y12), 'Time Entries'!$H$12:$H$1011)+SUMIF('Time Entries'!$V$12:$V$1011, _xlfn.CONCAT(O$10, " - ", $Y12), 'Time Entries'!$J$12:$J$1011)) -> 0 | P12: =IF(OR($B12="", $C12=""), "", SUMIF('Time Entries'!$S$12:$S$1011, _xlfn.CONCAT(P$10, " - ", $Y12), 'Time Entries'!$D$12:$D$1011)+SUMIF('Time Entries'!$T$12:$T$1011, _xlfn.CONCAT(P$10, " - ", $Y12), 'Time Entries'!$F$12:$F$1011)+SUMIF('Time Entries'!$U$12:$U$1011, _xlfn.CONCAT(P$10, " - ", $Y12), 'Time Entries'!$H$12:$H$1011)+SUMIF('Time Entries'!$V$12:$V$1011, _xlfn.CONCAT(P$10, " - ", $Y12), 'Time Entries'!$J$12:$J$1011)) -> 0 | ... T12: =IF(OR($B12="", $C12=""), "", SUMIF('Time Entries'!$S$12:$S$1011, _xlfn.CONCAT(T$10, " - ", $Y12), 'Time Entries'!$D$12:$D$1011)+SUMIF('Time Entries'!$T$12:$T$1011, _xlfn.CONCAT(T$10, " - ", $Y12), 'Time Entries'!$F$12:$F$1011)+SUMIF('Time Entries'!$U$12:$U$1011, _xlfn.CONCAT(T$10, " - ", $Y12), 'Time Entries'!$H$12:$H$1011)+SUMIF('Time Entries'!$V$12:$V$1011, _xlfn.CONCAT(T$10, " - ", $Y12), 'Time Entries'!$J$12:$J$1011)) -> 0 | W12: =IF($Y12="", "", IF(COUNTIF($Y$12:$Y$261, $Y12)>1, "X", "")) | Y12: =IF(OR($B12="", $C12=""), "", _xlfn.CONCAT($B12, " - ", $C12)) -> Client 1 - Test Job 1 | AA12: =DATE(YEAR(AA11), MONTH(AA11)+1, 1) -> 43647 | AB12: =TEXT($AA$12, "mmm yyyy") -> Jul 2019 | AD12: =IF(COUNTIF($B12:$C12, "")=1, "X", "") | AF12: =IF(OR($B12="", $C12=""), "", IF(AND($AF$9="", $AG$9=""), "X", IF(AND(NOT($AF$9=""), NOT($AG$9="")), IF($Y12=_xlfn.CONCAT($AF$9, " - ", $AG$9), "X", ""), IF($AG$9="", IF($AF$9=$B12, "X", ""), "")))) -> X | AH12: =IF($B12="", "", IF(COUNTIF($B$12:$B12, $B12)>1, "", $B12)) -> Client 1 | AI12: =IF($AH12="", "", COUNTIF($AH$12:$AH$261, "<"&$AH12)+1+COUNTIF($AH$12:$AH12, $AH12)-1-$AH$10) -> 1 | AK12: =IF(OR($AK$8="", $B12=""), "", IF($AK$8=$B12, $C12, "")) | AL12: =IF($AK12="", "", COUNTIF($AK$12:$AK$261, "<"&$AK12)+1+COUNTIF($AK$12:$AK12, $AK12)-1-$AK$10)
B13: Client 2 | C13: Test Job 2 | D13: 0.41666667 | F13: =IF(OR($B13="", $C13=""), "", SUM($I13:$T13)) -> 0.23958333 | G13: =IF($F13="", "", IF($D13-$F13<0, TEXT(($F13-$D13), "-[h]:mm"), $D13-$F13)) -> 0.17708333 | I13: =IF(OR($B13="", $C13=""), "", SUMIF('Time Entries'!$S$12:$S$1011, _xlfn.CONCAT(I$10, " - ", $Y13), 'Time Entries'!$D$12:$D$1011)+SUMIF('Time Entries'!$T$12:$T$1011, _xlfn.CONCAT(I$10, " - ", $Y13), 'Time Entries'!$F$12:$F$1011)+SUMIF('Time Entries'!$U$12:$U$1011, _xlfn.CONCAT(I$10, " - ", $Y13), 'Time Entries'!$H$12:$H$1011)+SUMIF('Time Entries'!$V$12:$V$1011, _xlfn.CONCAT(I$10, " - ", $Y13), 'Time Entries'!$J$12:$J$1011)) -> 0.11458333 | J13: =IF(OR($B13="", $C13=""), "", SUMIF('Time Entries'!$S$12:$S$1011, _xlfn.CONCAT(J$10, " - ", $Y13), 'Time Entries'!$D$12:$D$1011)+SUMIF('Time Entries'!$T$12:$T$1011, _xlfn.CONCAT(J$10, " - ", $Y13), 'Time Entries'!$F$12:$F$1011)+SUMIF('Time Entries'!$U$12:$U$1011, _xlfn.CONCAT(J$10, " - ", $Y13), 'Time Entries'!$H$12:$H$1011)+SUMIF('Time Entries'!$V$12:$V$1011, _xlfn.CONCAT(J$10, " - ", $Y13), 'Time Entries'!$J$12:$J$1011)) -> 0 | K13: =IF(OR($B13="", $C13=""), "", SUMIF('Time Entries'!$S$12:$S$1011, _xlfn.CONCAT(K$10, " - ", $Y13), 'Time Entries'!$D$12:$D$1011)+SUMIF('Time Entries'!$T$12:$T$1011, _xlfn.CONCAT(K$10, " - ", $Y13), 'Time Entries'!$F$12:$F$1011)+SUMIF('Time Entries'!$U$12:$U$1011, _xlfn.CONCAT(K$10, " - ", $Y13), 'Time Entries'!$H$12:$H$1011)+SUMIF('Time Entries'!$V$12:$V$1011, _xlfn.CONCAT(K$10, " - ", $Y13), 'Time Entries'!$J$12:$J$1011)) -> 0.125 | L13: =IF(OR($B13="", $C13=""), "", SUMIF('Time Entries'!$S$12:$S$1011, _xlfn.CONCAT(L$10, " - ", $Y13), 'Time Entries'!$D$12:$D$1011)+SUMIF('Time Entries'!$T$12:$T$1011, _xlfn.CONCAT(L$10, " - ", $Y13), 'Time Entries'!$F$12:$F$1011)+SUMIF('Time Entries'!$U$12:$U$1011, _xlfn.CONCAT(L$10, " - ", $Y13), 'Time Entries'!$H$12:$H$1011)+SUMIF('Time Entries'!$V$12:$V$1011, _xlfn.CONCAT(L$10, " - ", $Y13), 'Time Entries'!$J$12:$J$1011)) -> 0 | M13: =IF(OR($B13="", $C13=""), "", SUMIF('Time Entries'!$S$12:$S$1011, _xlfn.CONCAT(M$10, " - ", $Y13), 'Time Entries'!$D$12:$D$1011)+SUMIF('Time Entries'!$T$12:$T$1011, _xlfn.CONCAT(M$10, " - ", $Y13), 'Time Entries'!$F$12:$F$1011)+SUMIF('Time Entries'!$U$12:$U$1011, _xlfn.CONCAT(M$10, " - ", $Y13), 'Time Entries'!$H$12:$H$1011)+SUMIF('Time Entries'!$V$12:$V$1011, _xlfn.CONCAT(M$10, " - ", $Y13), 'Time Entries'!$J$12:$J$1011)) -> 0 | N13: =IF(OR($B13="", $C13=""), "", SUMIF('Time Entries'!$S$12:$S$1011, _xlfn.CONCAT(N$10, " - ", $Y13), 'Time Entries'!$D$12:$D$1011)+SUMIF('Time Entries'!$T$12:$T$1011, _xlfn.CONCAT(N$10, " - ", $Y13), 'Time Entries'!$F$12:$F$1011)+SUMIF('Time Entries'!$U$12:$U$1011, _xlfn.CONCAT(N$10, " - ", $Y13), 'Time Entries'!$H$12:$H$1011)+SUMIF('Time Entries'!$V$12:$V$1011, _xlfn.CONCAT(N$10, " - ", $Y13), 'Time Entries'!$J$12:$J$1011)) -> 0 | O13: =IF(OR($B13="", $C13=""), "", SUMIF('Time Entries'!$S$12:$S$1011, _xlfn.CONCAT(O$10, " - ", $Y13), 'Time Entries'!$D$12:$D$1011)+SUMIF('Time Entries'!$T$12:$T$1011, _xlfn.CONCAT(O$10, " - ", $Y13), 'Time Entries'!$F$12:$F$1011)+SUMIF('Time Entries'!$U$12:$U$1011, _xlfn.CONCAT(O$10, " - ", $Y13), 'Time Entries'!$H$12:$H$1011)+SUMIF('Time Entries'!$V$12:$V$1011, _xlfn.CONCAT(O$10, " - ", $Y13), 'Time Entries'!$J$12:$J$1011)) -> 0 | P13: =IF(OR($B13="", $C13=""), "", SUMIF('Time Entries'!$S$12:$S$1011, _xlfn.CONCAT(P$10, " - ", $Y13), 'Time Entries'!$D$12:$D$1011)+SUMIF('Time Entries'!$T$12:$T$1011, _xlfn.CONCAT(P$10, " - ", $Y13), 'Time Entries'!$F$12:$F$1011)+SUMIF('Time Entries'!$U$12:$U$1011, _xlfn.CONCAT(P$10, " - ", $Y13), 'Time Entries'!$H$12:$H$1011)+SUMIF('Time Entries'!$V$12:$V$1011, _xlfn.CONCAT(P$10, " - ", $Y13), 'Time Entries'!$J$12:$J$1011)) -> 0 | ... T13: =IF(OR($B13="", $C13=""), "", SUMIF('Time Entries'!$S$12:$S$1011, _xlfn.CONCAT(T$10, " - ", $Y13), 'Time Entries'!$D$12:$D$1011)+SUMIF('Time Entries'!$T$12:$T$1011, _xlfn.CONCAT(T$10, " - ", $Y13), 'Time Entries'!$F$12:$F$1011)+SUMIF('Time Entries'!$U$12:$U$1011, _xlfn.CONCAT(T$10, " - ", $Y13), 'Time Entries'!$H$12:$H$1011)+SUMIF('Time Entries'!$V$12:$V$1011, _xlfn.CONCAT(T$10, " - ", $Y13), 'Time Entries'!$J$12:$J$1011)) -> 0 | W13: =IF($Y13="", "", IF(COUNTIF($Y$12:$Y$261, $Y13)>1, "X", "")) | Y13: =IF(OR($B13="", $C13=""), "", _xlfn.CONCAT($B13, " - ", $C13)) -> Client 2 - Test Job 2 | AA13: =DATE(YEAR(AA12), MONTH(AA12)+1, 1) -> 43678 | AB13: =TEXT($AA$13, "mmm yyyy") -> Aug 2019 | AD13: =IF(COUNTIF($B13:$C13, "")=1, "X", "") | AF13: =IF(OR($B13="", $C13=""), "", IF(AND($AF$9="", $AG$9=""), "X", IF(AND(NOT($AF$9=""), NOT($AG$9="")), IF($Y13=_xlfn.CONCAT($AF$9, " - ", $AG$9), "X", ""), IF($AG$9="", IF($AF$9=$B13, "X", ""), "")))) -> X | AH13: =IF($B13="", "", IF(COUNTIF($B$12:$B13, $B13)>1, "", $B13)) -> Client 2 | AI13: =IF($AH13="", "", COUNTIF($AH$12:$AH$261, "<"&$AH13)+1+COUNTIF($AH$12:$AH13, $AH13)-1-$AH$10) -> 2 | AK13: =IF(OR($AK$8="", $B13=""), "", IF($AK$8=$B13, $C13, "")) | AL13: =IF($AK13="", "", COUNTIF($AK$12:$AK$261, "<"&$AK13)+1+COUNTIF($AK$12:$AK13, $AK13)-1-$AK$10)
B14: Client 3 | C14: Test Job 3 | D14: 0.41666667 | F14: =IF(OR($B14="", $C14=""), "", SUM($I14:$T14)) -> 0.25 | G14: =IF($F14="", "", IF($D14-$F14<0, TEXT(($F14-$D14), "-[h]:mm"), $D14-$F14)) -> 0.16666667 | I14: =IF(OR($B14="", $C14=""), "", SUMIF('Time Entries'!$S$12:$S$1011, _xlfn.CONCAT(I$10, " - ", $Y14), 'Time Entries'!$D$12:$D$1011)+SUMIF('Time Entries'!$T$12:$T$1011, _xlfn.CONCAT(I$10, " - ", $Y14), 'Time Entries'!$F$12:$F$1011)+SUMIF('Time Entries'!$U$12:$U$1011, _xlfn.CONCAT(I$10, " - ", $Y14), 'Time Entries'!$H$12:$H$1011)+SUMIF('Time Entries'!$V$12:$V$1011, _xlfn.CONCAT(I$10, " - ", $Y14), 'Time Entries'!$J$12:$J$1011)) -> 0.125 | J14: =IF(OR($B14="", $C14=""), "", SUMIF('Time Entries'!$S$12:$S$1011, _xlfn.CONCAT(J$10, " - ", $Y14), 'Time Entries'!$D$12:$D$1011)+SUMIF('Time Entries'!$T$12:$T$1011, _xlfn.CONCAT(J$10, " - ", $Y14), 'Time Entries'!$F$12:$F$1011)+SUMIF('Time Entries'!$U$12:$U$1011, _xlfn.CONCAT(J$10, " - ", $Y14), 'Time Entries'!$H$12:$H$1011)+SUMIF('Time Entries'!$V$12:$V$1011, _xlfn.CONCAT(J$10, " - ", $Y14), 'Time Entries'!$J$12:$J$1011)) -> 0 | K14: =IF(OR($B14="", $C14=""), "", SUMIF('Time Entries'!$S$12:$S$1011, _xlfn.CONCAT(K$10, " - ", $Y14), 'Time Entries'!$D$12:$D$1011)+SUMIF('Time Entries'!$T$12:$T$1011, _xlfn.CONCAT(K$10, " - ", $Y14), 'Time Entries'!$F$12:$F$1011)+SUMIF('Time Entries'!$U$12:$U$1011, _xlfn.CONCAT(K$10, " - ", $Y14), 'Time Entries'!$H$12:$H$1011)+SUMIF('Time Entries'!$V$12:$V$1011, _xlfn.CONCAT(K$10, " - ", $Y14), 'Time Entries'!$J$12:$J$1011)) -> 0 | L14: =IF(OR($B14="", $C14=""), "", SUMIF('Time Entries'!$S$12:$S$1011, _xlfn.CONCAT(L$10, " - ", $Y14), 'Time Entries'!$D$12:$D$1011)+SUMIF('Time Entries'!$T$12:$T$1011, _xlfn.CONCAT(L$10, " - ", $Y14), 'Time Entries'!$F$12:$F$1011)+SUMIF('Time Entries'!$U$12:$U$1011, _xlfn.CONCAT(L$10, " - ", $Y14), 'Time Entries'!$H$12:$H$1011)+SUMIF('Time Entries'!$V$12:$V$1011, _xlfn.CONCAT(L$10, " - ", $Y14), 'Time Entries'!$J$12:$J$1011)) -> 0 | M14: =IF(OR($B14="", $C14=""), "", SUMIF('Time Entries'!$S$12:$S$1011, _xlfn.CONCAT(M$10, " - ", $Y14), 'Time Entries'!$D$12:$D$1011)+SUMIF('Time Entries'!$T$12:$T$1011, _xlfn.CONCAT(M$10, " - ", $Y14), 'Time Entries'!$F$12:$F$1011)+SUMIF('Time Entries'!$U$12:$U$1011, _xlfn.CONCAT(M$10, " - ", $Y14), 'Time Entries'!$H$12:$H$1011)+SUMIF('Time Entries'!$V$12:$V$1011, _xlfn.CONCAT(M$10, " - ", $Y14), 'Time Entries'!$J$12:$J$1011)) -> 0 | N14: =IF(OR($B14="", $C14=""), "", SUMIF('Time Entries'!$S$12:$S$1011, _xlfn.CONCAT(N$10, " - ", $Y14), 'Time Entries'!$D$12:$D$1011)+SUMIF('Time Entries'!$T$12:$T$1011, _xlfn.CONCAT(N$10, " - ", $Y14), 'Time Entries'!$F$12:$F$1011)+SUMIF('Time Entries'!$U$12:$U$1011, _xlfn.CONCAT(N$10, " - ", $Y14), 'Time Entries'!$H$12:$H$1011)+SUMIF('Time Entries'!$V$12:$V$1011, _xlfn.CONCAT(N$10, " - ", $Y14), 'Time Entries'!$J$12:$J$1011)) -> 0 | O14: =IF(OR($B14="", $C14=""), "", SUMIF('Time Entries'!$S$12:$S$1011, _xlfn.CONCAT(O$10, " - ", $Y14), 'Time Entries'!$D$12:$D$1011)+SUMIF('Time Entries'!$T$12:$T$1011, _xlfn.CONCAT(O$10, " - ", $Y14), 'Time Entries'!$F$12:$F$1011)+SUMIF('Time Entries'!$U$12:$U$1011, _xlfn.CONCAT(O$10, " - ", $Y14), 'Time Entries'!$H$12:$H$1011)+SUMIF('Time Entries'!$V$12:$V$1011, _xlfn.CONCAT(O$10, " - ", $Y14), 'Time Entries'!$J$12:$J$1011)) -> 0.125 | P14: =IF(OR($B14="", $C14=""), "", SUMIF('Time Entries'!$S$12:$S$1011, _xlfn.CONCAT(P$10, " - ", $Y14), 'Time Entries'!$D$12:$D$1011)+SUMIF('Time Entries'!$T$12:$T$1011, _xlfn.CONCAT(P$10, " - ", $Y14), 'Time Entries'!$F$12:$F$1011)+SUMIF('Time Entries'!$U$12:$U$1011, _xlfn.CONCAT(P$10, " - ", $Y14), 'Time Entries'!$H$12:$H$1011)+SUMIF('Time Entries'!$V$12:$V$1011, _xlfn.CONCAT(P$10, " - ", $Y14), 'Time Entries'!$J$12:$J$1011)) -> 0 | ... T14: =IF(OR($B14="", $C14=""), "", SUMIF('Time Entries'!$S$12:$S$1011, _xlfn.CONCAT(T$10, " - ", $Y14), 'Time Entries'!$D$12:$D$1011)+SUMIF('Time Entries'!$T$12:$T$1011, _xlfn.CONCAT(T$10, " - ", $Y14), 'Time Entries'!$F$12:$F$1011)+SUMIF('Time Entries'!$U$12:$U$1011, _xlfn.CONCAT(T$10, " - ", $Y14), 'Time Entries'!$H$12:$H$1011)+SUMIF('Time Entries'!$V$12:$V$1011, _xlfn.CONCAT(T$10, " - ", $Y14), 'Time Entries'!$J$12:$J$1011)) -> 0 | W14: =IF($Y14="", "", IF(COUNTIF($Y$12:$Y$261, $Y14)>1, "X", "")) | Y14: =IF(OR($B14="", $C14=""), "", _xlfn.CONCAT($B14, " - ", $C14)) -> Client 3 - Test Job 3 | AA14: =DATE(YEAR(AA13), MONTH(AA13)+1, 1) -> 43709 | AB14: =TEXT($AA$14, "mmm yyyy") -> Sep 2019 | AD14: =IF(COUNTIF($B14:$C14, "")=1, "X", "") | AF14: =IF(OR($B14="", $C14=""), "", IF(AND($AF$9="", $AG$9=""), "X", IF(AND(NOT($AF$9=""), NOT($AG$9="")), IF($Y14=_xlfn.CONCAT($AF$9, " - ", $AG$9), "X", ""), IF($AG$9="", IF($AF$9=$B14, "X", ""), "")))) -> X | AH14: =IF($B14="", "", IF(COUNTIF($B$12:$B14, $B14)>1, "", $B14)) -> Client 3 | AI14: =IF($AH14="", "", COUNTIF($AH$12:$AH$261, "<"&$AH14)+1+COUNTIF($AH$12:$AH14, $AH14)-1-$AH$10) -> 3 | AK14: =IF(OR($AK$8="", $B14=""), "", IF($AK$8=$B14, $C14, "")) | AL14: =IF($AK14="", "", COUNTIF($AK$12:$AK$261, "<"&$AK14)+1+COUNTIF($AK$12:$AK14, $AK14)-1-$AK$10)
B15: Client 4 | C15: Test Job 4 | D15: 0.41666667 | F15: =IF(OR($B15="", $C15=""), "", SUM($I15:$T15)) -> 0.75347222 | G15: =IF($F15="", "", IF($D15-$F15<0, TEXT(($F15-$D15), "-[h]:mm"), $D15-$F15)) -> -8:05 | I15: =IF(OR($B15="", $C15=""), "", SUMIF('Time Entries'!$S$12:$S$1011, _xlfn.CONCAT(I$10, " - ", $Y15), 'Time Entries'!$D$12:$D$1011)+SUMIF('Time Entries'!$T$12:$T$1011, _xlfn.CONCAT(I$10, " - ", $Y15), 'Time Entries'!$F$12:$F$1011)+SUMIF('Time Entries'!$U$12:$U$1011, _xlfn.CONCAT(I$10, " - ", $Y15), 'Time Entries'!$H$12:$H$1011)+SUMIF('Time Entries'!$V$12:$V$1011, _xlfn.CONCAT(I$10, " - ", $Y15), 'Time Entries'!$J$12:$J$1011)) -> 0.24305556 | J15: =IF(OR($B15="", $C15=""), "", SUMIF('Time Entries'!$S$12:$S$1011, _xlfn.CONCAT(J$10, " - ", $Y15), 'Time Entries'!$D$12:$D$1011)+SUMIF('Time Entries'!$T$12:$T$1011, _xlfn.CONCAT(J$10, " - ", $Y15), 'Time Entries'!$F$12:$F$1011)+SUMIF('Time Entries'!$U$12:$U$1011, _xlfn.CONCAT(J$10, " - ", $Y15), 'Time Entries'!$H$12:$H$1011)+SUMIF('Time Entries'!$V$12:$V$1011, _xlfn.CONCAT(J$10, " - ", $Y15), 'Time Entries'!$J$12:$J$1011)) -> 0 | K15: =IF(OR($B15="", $C15=""), "", SUMIF('Time Entries'!$S$12:$S$1011, _xlfn.CONCAT(K$10, " - ", $Y15), 'Time Entries'!$D$12:$D$1011)+SUMIF('Time Entries'!$T$12:$T$1011, _xlfn.CONCAT(K$10, " - ", $Y15), 'Time Entries'!$F$12:$F$1011)+SUMIF('Time Entries'!$U$12:$U$1011, _xlfn.CONCAT(K$10, " - ", $Y15), 'Time Entries'!$H$12:$H$1011)+SUMIF('Time Entries'!$V$12:$V$1011, _xlfn.CONCAT(K$10, " - ", $Y15), 'Time Entries'!$J$12:$J$1011)) -> 0.0625 | L15: =IF(OR($B15="", $C15=""), "", SUMIF('Time Entries'!$S$12:$S$1011, _xlfn.CONCAT(L$10, " - ", $Y15), 'Time Entries'!$D$12:$D$1011)+SUMIF('Time Entries'!$T$12:$T$1011, _xlfn.CONCAT(L$10, " - ", $Y15), 'Time Entries'!$F$12:$F$1011)+SUMIF('Time Entries'!$U$12:$U$1011, _xlfn.CONCAT(L$10, " - ", $Y15), 'Time Entries'!$H$12:$H$1011)+SUMIF('Time Entries'!$V$12:$V$1011, _xlfn.CONCAT(L$10, " - ", $Y15), 'Time Entries'!$J$12:$J$1011)) -> 0.083333333 | M15: =IF(OR($B15="", $C15=""), "", SUMIF('Time Entries'!$S$12:$S$1011, _xlfn.CONCAT(M$10, " - ", $Y15), 'Time Entries'!$D$12:$D$1011)+SUMIF('Time Entries'!$T$12:$T$1011, _xlfn.CONCAT(M$10, " - ", $Y15), 'Time Entries'!$F$12:$F$1011)+SUMIF('Time Entries'!$U$12:$U$1011, _xlfn.CONCAT(M$10, " - ", $Y15), 'Time Entries'!$H$12:$H$1011)+SUMIF('Time Entries'!$V$12:$V$1011, _xlfn.CONCAT(M$10, " - ", $Y15), 'Time Entries'!$J$12:$J$1011)) -> 0 | N15: =IF(OR($B15="", $C15=""), "", SUMIF('Time Entries'!$S$12:$S$1011, _xlfn.CONCAT(N$10, " - ", $Y15), 'Time Entries'!$D$12:$D$1011)+SUMIF('Time Entries'!$T$12:$T$1011, _xlfn.CONCAT(N$10, " - ", $Y15), 'Time Entries'!$F$12:$F$1011)+SUMIF('Time Entries'!$U$12:$U$1011, _xlfn.CONCAT(N$10, " - ", $Y15), 'Time Entries'!$H$12:$H$1011)+SUMIF('Time Entries'!$V$12:$V$1011, _xlfn.CONCAT(N$10, " - ", $Y15), 'Time Entries'!$J$12:$J$1011)) -> 0.16666667 | O15: =IF(OR($B15="", $C15=""), "", SUMIF('Time Entries'!$S$12:$S$1011, _xlfn.CONCAT(O$10, " - ", $Y15), 'Time Entries'!$D$12:$D$1011)+SUMIF('Time Entries'!$T$12:$T$1011, _xlfn.CONCAT(O$10, " - ", $Y15), 'Time Entries'!$F$12:$F$1011)+SUMIF('Time Entries'!$U$12:$U$1011, _xlfn.CONCAT(O$10, " - ", $Y15), 'Time Entries'!$H$12:$H$1011)+SUMIF('Time Entries'!$V$12:$V$1011, _xlfn.CONCAT(O$10, " - ", $Y15), 'Time Entries'!$J$12:$J$1011)) -> 0 | P15: =IF(OR($B15="", $C15=""), "", SUMIF('Time Entries'!$S$12:$S$1011, _xlfn.CONCAT(P$10, " - ", $Y15), 'Time Entries'!$D$12:$D$1011)+SUMIF('Time Entries'!$T$12:$T$1011, _xlfn.CONCAT(P$10, " - ", $Y15), 'Time Entries'!$F$12:$F$1011)+SUMIF('Time Entries'!$U$12:$U$1011, _xlfn.CONCAT(P$10, " - ", $Y15), 'Time Entries'!$H$12:$H$1011)+SUMIF('Time Entries'!$V$12:$V$1011, _xlfn.CONCAT(P$10, " - ", $Y15), 'Time Entries'!$J$12:$J$1011)) -> 0 | ... T15: =IF(OR($B15="", $C15=""), "", SUMIF('Time Entries'!$S$12:$S$1011, _xlfn.CONCAT(T$10, " - ", $Y15), 'Time Entries'!$D$12:$D$1011)+SUMIF('Time Entries'!$T$12:$T$1011, _xlfn.CONCAT(T$10, " - ", $Y15), 'Time Entries'!$F$12:$F$1011)+SUMIF('Time Entries'!$U$12:$U$1011, _xlfn.CONCAT(T$10, " - ", $Y15), 'Time Entries'!$H$12:$H$1011)+SUMIF('Time Entries'!$V$12:$V$1011, _xlfn.CONCAT(T$10, " - ", $Y15), 'Time Entries'!$J$12:$J$1011)) -> 0 | W15: =IF($Y15="", "", IF(COUNTIF($Y$12:$Y$261, $Y15)>1, "X", "")) | Y15: =IF(OR($B15="", $C15=""), "", _xlfn.CONCAT($B15, " - ", $C15)) -> Client 4 - Test Job 4 | AA15: =DATE(YEAR(AA14), MONTH(AA14)+1, 1) -> 43739 | AB15: =TEXT($AA$15, "mmm yyyy") -> Oct 2019 | AD15: =IF(COUNTIF($B15:$C15, "")=1, "X", "") | AF15: =IF(OR($B15="", $C15=""), "", IF(AND($AF$9="", $AG$9=""), "X", IF(AND(NOT($AF$9=""), NOT($AG$9="")), IF($Y15=_xlfn.CONCAT($AF$9, " - ", $AG$9), "X", ""), IF($AG$9="", IF($AF$9=$B15, "X", ""), "")))) -> X | AH15: =IF($B15="", "", IF(COUNTIF($B$12:$B15, $B15)>1, "", $B15)) -> Client 4 | AI15: =IF($AH15="", "", COUNTIF($AH$12:$AH$261, "<"&$AH15)+1+COUNTIF($AH$12:$AH15, $AH15)-1-$AH$10) -> 4 | AK15: =IF(OR($AK$8="", $B15=""), "", IF($AK$8=$B15, $C15, "")) | AL15: =IF($AK15="", "", COUNTIF($AK$12:$AK$261, "<"&$AK15)+1+COUNTIF($AK$12:$AK15, $AK15)-1-$AK$10)
B16: Client 5 | C16: Test Job 5 | D16: 0.41666667 | F16: =IF(OR($B16="", $C16=""), "", SUM($I16:$T16)) -> 0.73958333 | G16: =IF($F16="", "", IF($D16-$F16<0, TEXT(($F16-$D16), "-[h]:mm"), $D16-$F16)) -> -7:45 | I16: =IF(OR($B16="", $C16=""), "", SUMIF('Time Entries'!$S$12:$S$1011, _xlfn.CONCAT(I$10, " - ", $Y16), 'Time Entries'!$D$12:$D$1011)+SUMIF('Time Entries'!$T$12:$T$1011, _xlfn.CONCAT(I$10, " - ", $Y16), 'Time Entries'!$F$12:$F$1011)+SUMIF('Time Entries'!$U$12:$U$1011, _xlfn.CONCAT(I$10, " - ", $Y16), 'Time Entries'!$H$12:$H$1011)+SUMIF('Time Entries'!$V$12:$V$1011, _xlfn.CONCAT(I$10, " - ", $Y16), 'Time Entries'!$J$12:$J$1011)) -> 0 | J16: =IF(OR($B16="", $C16=""), "", SUMIF('Time Entries'!$S$12:$S$1011, _xlfn.CONCAT(J$10, " - ", $Y16), 'Time Entries'!$D$12:$D$1011)+SUMIF('Time Entries'!$T$12:$T$1011, _xlfn.CONCAT(J$10, " - ", $Y16), 'Time Entries'!$F$12:$F$1011)+SUMIF('Time Entries'!$U$12:$U$1011, _xlfn.CONCAT(J$10, " - ", $Y16), 'Time Entries'!$H$12:$H$1011)+SUMIF('Time Entries'!$V$12:$V$1011, _xlfn.CONCAT(J$10, " - ", $Y16), 'Time Entries'!$J$12:$J$1011)) -> 0.16666667 | K16: =IF(OR($B16="", $C16=""), "", SUMIF('Time Entries'!$S$12:$S$1011, _xlfn.CONCAT(K$10, " - ", $Y16), 'Time Entries'!$D$12:$D$1011)+SUMIF('Time Entries'!$T$12:$T$1011, _xlfn.CONCAT(K$10, " - ", $Y16), 'Time Entries'!$F$12:$F$1011)+SUMIF('Time Entries'!$U$12:$U$1011, _xlfn.CONCAT(K$10, " - ", $Y16), 'Time Entries'!$H$12:$H$1011)+SUMIF('Time Entries'!$V$12:$V$1011, _xlfn.CONCAT(K$10, " - ", $Y16), 'Time Entries'!$J$12:$J$1011)) -> 0 | L16: =IF(OR($B16="", $C16=""), "", SUMIF('Time Entries'!$S$12:$S$1011, _xlfn.CONCAT(L$10, " - ", $Y16), 'Time Entries'!$D$12:$D$1011)+SUMIF('Time Entries'!$T$12:$T$1011, _xlfn.CONCAT(L$10, " - ", $Y16), 'Time Entries'!$F$12:$F$1011)+SUMIF('Time Entries'!$U$12:$U$1011, _xlfn.CONCAT(L$10, " - ", $Y16), 'Time Entries'!$H$12:$H$1011)+SUMIF('Time Entries'!$V$12:$V$1011, _xlfn.CONCAT(L$10, " - ", $Y16), 'Time Entries'!$J$12:$J$1011)) -> 0.052083333 | M16: =IF(OR($B16="", $C16=""), "", SUMIF('Time Entries'!$S$12:$S$1011, _xlfn.CONCAT(M$10, " - ", $Y16), 'Time Entries'!$D$12:$D$1011)+SUMIF('Time Entries'!$T$12:$T$1011, _xlfn.CONCAT(M$10, " - ", $Y16), 'Time Entries'!$F$12:$F$1011)+SUMIF('Time Entries'!$U$12:$U$1011, _xlfn.CONCAT(M$10, " - ", $Y16), 'Time Entries'!$H$12:$H$1011)+SUMIF('Time Entries'!$V$12:$V$1011, _xlfn.CONCAT(M$10, " - ", $Y16), 'Time Entries'!$J$12:$J$1011)) -> 0.29166667 | N16: =IF(OR($B16="", $C16=""), "", SUMIF('Time Entries'!$S$12:$S$1011, _xlfn.CONCAT(N$10, " - ", $Y16), 'Time Entries'!$D$12:$D$1011)+SUMIF('Time Entries'!$T$12:$T$1011, _xlfn.CONCAT(N$10, " - ", $Y16), 'Time Entries'!$F$12:$F$1011)+SUMIF('Time Entries'!$U$12:$U$1011, _xlfn.CONCAT(N$10, " - ", $Y16), 'Time Entries'!$H$12:$H$1011)+SUMIF('Time Entries'!$V$12:$V$1011, _xlfn.CONCAT(N$10, " - ", $Y16), 'Time Entries'!$J$12:$J$1011)) -> 0 | O16: =IF(OR($B16="", $C16=""), "", SUMIF('Time Entries'!$S$12:$S$1011, _xlfn.CONCAT(O$10, " - ", $Y16), 'Time Entries'!$D$12:$D$1011)+SUMIF('Time Entries'!$T$12:$T$1011, _xlfn.CONCAT(O$10, " - ", $Y16), 'Time Entries'!$F$12:$F$1011)+SUMIF('Time Entries'!$U$12:$U$1011, _xlfn.CONCAT(O$10, " - ", $Y16), 'Time Entries'!$H$12:$H$1011)+SUMIF('Time Entries'!$V$12:$V$1011, _xlfn.CONCAT(O$10, " - ", $Y16), 'Time Entries'!$J$12:$J$1011)) -> 0 | P16: =IF(OR($B16="", $C16=""), "", SUMIF('Time Entries'!$S$12:$S$1011, _xlfn.CONCAT(P$10, " - ", $Y16), 'Time Entries'!$D$12:$D$1011)+SUMIF('Time Entries'!$T$12:$T$1011, _xlfn.CONCAT(P$10, " - ", $Y16), 'Time Entries'!$F$12:$F$1011)+SUMIF('Time Entries'!$U$12:$U$1011, _xlfn.CONCAT(P$10, " - ", $Y16), 'Time Entries'!$H$12:$H$1011)+SUMIF('Time Entries'!$V$12:$V$1011, _xlfn.CONCAT(P$10, " - ", $Y16), 'Time Entries'!$J$12:$J$1011)) -> 0.22916667 | ... T16: =IF(OR($B16="", $C16=""), "", SUMIF('Time Entries'!$S$12:$S$1011, _xlfn.CONCAT(T$10, " - ", $Y16), 'Time Entries'!$D$12:$D$1011)+SUMIF('Time Entries'!$T$12:$T$1011, _xlfn.CONCAT(T$10, " - ", $Y16), 'Time Entries'!$F$12:$F$1011)+SUMIF('Time Entries'!$U$12:$U$1011, _xlfn.CONCAT(T$10, " - ", $Y16), 'Time Entries'!$H$12:$H$1011)+SUMIF('Time Entries'!$V$12:$V$1011, _xlfn.CONCAT(T$10, " - ", $Y16), 'Time Entries'!$J$12:$J$1011)) -> 0 | W16: =IF($Y16="", "", IF(COUNTIF($Y$12:$Y$261, $Y16)>1, "X", "")) | Y16: =IF(OR($B16="", $C16=""), "", _xlfn.CONCAT($B16, " - ", $C16)) -> Client 5 - Test Job 5 | AA16: =DATE(YEAR(AA15), MONTH(AA15)+1, 1) -> 43770 | AB16: =TEXT($AA$16, "mmm yyyy") -> Nov 2019 | AD16: =IF(COUNTIF($B16:$C16, "")=1, "X", "") | AF16: =IF(OR($B16="", $C16=""), "", IF(AND($AF$9="", $AG$9=""), "X", IF(AND(NOT($AF$9=""), NOT($AG$9="")), IF($Y16=_xlfn.CONCAT($AF$9, " - ", $AG$9), "X", ""), IF($AG$9="", IF($AF$9=$B16, "X", ""), "")))) -> X | AH16: =IF($B16="", "", IF(COUNTIF($B$12:$B16, $B16)>1, "", $B16)) -> Client 5 | AI16: =IF($AH16="", "", COUNTIF($AH$12:$AH$261, "<"&$AH16)+1+COUNTIF($AH$12:$AH16, $AH16)-1-$AH$10) -> 5 | AK16: =IF(OR($AK$8="", $B16=""), "", IF($AK$8=$B16, $C16, "")) | AL16: =IF($AK16="", "", COUNTIF($AK$12:$AK$261, "<"&$AK16)+1+COUNTIF($AK$12:$AK16, $AK16)-1-$AK$10)
F17: =IF(OR($B17="", $C17=""), "", SUM($I17:$T17)) | G17: =IF($F17="", "", IF($D17-$F17<0, TEXT(($F17-$D17), "-[h]:mm"), $D17-$F17)) | I17: =IF(OR($B17="", $C17=""), "", SUMIF('Time Entries'!$S$12:$S$1011, _xlfn.CONCAT(I$10, " - ", $Y17), 'Time Entries'!$D$12:$D$1011)+SUMIF('Time Entries'!$T$12:$T$1011, _xlfn.CONCAT(I$10, " - ", $Y17), 'Time Entries'!$F$12:$F$1011)+SUMIF('Time Entries'!$U$12:$U$1011, _xlfn.CONCAT(I$10, " - ", $Y17), 'Time Entries'!$H$12:$H$1011)+SUMIF('Time Entries'!$V$12:$V$1011, _xlfn.CONCAT(I$10, " - ", $Y17), 'Time Entries'!$J$12:$J$1011)) | J17: =IF(OR($B17="", $C17=""), "", SUMIF('Time Entries'!$S$12:$S$1011, _xlfn.CONCAT(J$10, " - ", $Y17), 'Time Entries'!$D$12:$D$1011)+SUMIF('Time Entries'!$T$12:$T$1011, _xlfn.CONCAT(J$10, " - ", $Y17), 'Time Entries'!$F$12:$F$1011)+SUMIF('Time Entries'!$U$12:$U$1011, _xlfn.CONCAT(J$10, " - ", $Y17), 'Time Entries'!$H$12:$H$1011)+SUMIF('Time Entries'!$V$12:$V$1011, _xlfn.CONCAT(J$10, " - ", $Y17), 'Time Entries'!$J$12:$J$1011)) | K17: =IF(OR($B17="", $C17=""), "", SUMIF('Time Entries'!$S$12:$S$1011, _xlfn.CONCAT(K$10, " - ", $Y17), 'Time Entries'!$D$12:$D$1011)+SUMIF('Time Entries'!$T$12:$T$1011, _xlfn.CONCAT(K$10, " - ", $Y17), 'Time Entries'!$F$12:$F$1011)+SUMIF('Time Entries'!$U$12:$U$1011, _xlfn.CONCAT(K$10, " - ", $Y17), 'Time Entries'!$H$12:$H$1011)+SUMIF('Time Entries'!$V$12:$V$1011, _xlfn.CONCAT(K$10, " - ", $Y17), 'Time Entries'!$J$12:$J$1011)) | L17: =IF(OR($B17="", $C17=""), "", SUMIF('Time Entries'!$S$12:$S$1011, _xlfn.CONCAT(L$10, " - ", $Y17), 'Time Entries'!$D$12:$D$1011)+SUMIF('Time Entries'!$T$12:$T$1011, _xlfn.CONCAT(L$10, " - ", $Y17), 'Time Entries'!$F$12:$F$1011)+SUMIF('Time Entries'!$U$12:$U$1011, _xlfn.CONCAT(L$10, " - ", $Y17), 'Time Entries'!$H$12:$H$1011)+SUMIF('Time Entries'!$V$12:$V$1011, _xlfn.CONCAT(L$10, " - ", $Y17), 'Time Entries'!$J$12:$J$1011)) | M17: =IF(OR($B17="", $C17=""), "", SUMIF('Time Entries'!$S$12:$S$1011, _xlfn.CONCAT(M$10, " - ", $Y17), 'Time Entries'!$D$12:$D$1011)+SUMIF('Time Entries'!$T$12:$T$1011, _xlfn.CONCAT(M$10, " - ", $Y17), 'Time Entries'!$F$12:$F$1011)+SUMIF('Time Entries'!$U$12:$U$1011, _xlfn.CONCAT(M$10, " - ", $Y17), 'Time Entries'!$H$12:$H$1011)+SUMIF('Time Entries'!$V$12:$V$1011, _xlfn.CONCAT(M$10, " - ", $Y17), 'Time Entries'!$J$12:$J$1011)) | N17: =IF(OR($B17="", $C17=""), "", SUMIF('Time Entries'!$S$12:$S$1011, _xlfn.CONCAT(N$10, " - ", $Y17), 'Time Entries'!$D$12:$D$1011)+SUMIF('Time Entries'!$T$12:$T$1011, _xlfn.CONCAT(N$10, " - ", $Y17), 'Time Entries'!$F$12:$F$1011)+SUMIF('Time Entries'!$U$12:$U$1011, _xlfn.CONCAT(N$10, " - ", $Y17), 'Time Entries'!$H$12:$H$1011)+SUMIF('Time Entries'!$V$12:$V$1011, _xlfn.CONCAT(N$10, " - ", $Y17), 'Time Entries'!$J$12:$J$1011)) | O17: =IF(OR($B17="", $C17=""), "", SUMIF('Time Entries'!$S$12:$S$1011, _xlfn.CONCAT(O$10, " - ", $Y17), 'Time Entries'!$D$12:$D$1011)+SUMIF('Time Entries'!$T$12:$T$1011, _xlfn.CONCAT(O$10, " - ", $Y17), 'Time Entries'!$F$12:$F$1011)+SUMIF('Time Entries'!$U$12:$U$1011, _xlfn.CONCAT(O$10, " - ", $Y17), 'Time Entries'!$H$12:$H$1011)+SUMIF('Time Entries'!$V$12:$V$1011, _xlfn.CONCAT(O$10, " - ", $Y17), 'Time Entries'!$J$12:$J$1011)) | P17: =IF(OR($B17="", $C17=""), "", SUMIF('Time Entries'!$S$12:$S$1011, _xlfn.CONCAT(P$10, " - ", $Y17), 'Time Entries'!$D$12:$D$1011)+SUMIF('Time Entries'!$T$12:$T$1011, _xlfn.CONCAT(P$10, " - ", $Y17), 'Time Entries'!$F$12:$F$1011)+SUMIF('Time Entries'!$U$12:$U$1011, _xlfn.CONCAT(P$10, " - ", $Y17), 'Time Entries'!$H$12:$H$1011)+SUMIF('Time Entries'!$V$12:$V$1011, _xlfn.CONCAT(P$10, " - ", $Y17), 'Time Entries'!$J$12:$J$1011)) | ... T17: =IF(OR($B17="", $C17=""), "", SUMIF('Time Entries'!$S$12:$S$1011, _xlfn.CONCAT(T$10, " - ", $Y17), 'Time Entries'!$D$12:$D$1011)+SUMIF('Time Entries'!$T$12:$T$1011, _xlfn.CONCAT(T$10, " - ", $Y17), 'Time Entries'!$F$12:$F$1011)+SUMIF('Time Entries'!$U$12:$U$1011, _xlfn.CONCAT(T$10, " - ", $Y17), 'Time Entries'!$H$12:$H$1011)+SUMIF('Time Entries'!$V$12:$V$1011, _xlfn.CONCAT(T$10, " - ", $Y17), 'Time Entries'!$J$12:$J$1011)) | W17: =IF($Y17="", "", IF(COUNTIF($Y$12:$Y$261, $Y17)>1, "X", "")) | Y17: =IF(OR($B17="", $C17=""), "", _xlfn.CONCAT($B17, " - ", $C17)) | AA17: =DATE(YEAR(AA16), MONTH(AA16)+1, 1) -> 43800 | AB17: =TEXT($AA$17, "mmm yyyy") -> Dec 2019 | AD17: =IF(COUNTIF($B17:$C17, "")=1, "X", "") | AF17: =IF(OR($B17="", $C17=""), "", IF(AND($AF$9="", $AG$9=""), "X", IF(AND(NOT($AF$9=""), NOT($AG$9="")), IF($Y17=_xlfn.CONCAT($AF$9, " - ", $AG$9), "X", ""), IF($AG$9="", IF($AF$9=$B17, "X", ""), "")))) | AH17: =IF($B17="", "", IF(COUNTIF($B$12:$B17, $B17)>1, "", $B17)) | AI17: =IF($AH17="", "", COUNTIF($AH$12:$AH$261, "<"&$AH17)+1+COUNTIF($AH$12:$AH17, $AH17)-1-$AH$10) | AK17: =IF(OR($AK$8="", $B17=""), "", IF($AK$8=$B17, $C17, "")) | AL17: =IF($AK17="", "", COUNTIF($AK$12:$AK$261, "<"&$AK17)+1+COUNTIF($AK$12:$AK17, $AK17)-1-$AK$10)
F18: =IF(OR($B18="", $C18=""), "", SUM($I18:$T18)) | G18: =IF($F18="", "", IF($D18-$F18<0, TEXT(($F18-$D18), "-[h]:mm"), $D18-$F18)) | I18: =IF(OR($B18="", $C18=""), "", SUMIF('Time Entries'!$S$12:$S$1011, _xlfn.CONCAT(I$10, " - ", $Y18), 'Time Entries'!$D$12:$D$1011)+SUMIF('Time Entries'!$T$12:$T$1011, _xlfn.CONCAT(I$10, " - ", $Y18), 'Time Entries'!$F$12:$F$1011)+SUMIF('Time Entries'!$U$12:$U$1011, _xlfn.CONCAT(I$10, " - ", $Y18), 'Time Entries'!$H$12:$H$1011)+SUMIF('Time Entries'!$V$12:$V$1011, _xlfn.CONCAT(I$10, " - ", $Y18), 'Time Entries'!$J$12:$J$1011)) | J18: =IF(OR($B18="", $C18=""), "", SUMIF('Time Entries'!$S$12:$S$1011, _xlfn.CONCAT(J$10, " - ", $Y18), 'Time Entries'!$D$12:$D$1011)+SUMIF('Time Entries'!$T$12:$T$1011, _xlfn.CONCAT(J$10, " - ", $Y18), 'Time Entries'!$F$12:$F$1011)+SUMIF('Time Entries'!$U$12:$U$1011, _xlfn.CONCAT(J$10, " - ", $Y18), 'Time Entries'!$H$12:$H$1011)+SUMIF('Time Entries'!$V$12:$V$1011, _xlfn.CONCAT(J$10, " - ", $Y18), 'Time Entries'!$J$12:$J$1011)) | K18: =IF(OR($B18="", $C18=""), "", SUMIF('Time Entries'!$S$12:$S$1011, _xlfn.CONCAT(K$10, " - ", $Y18), 'Time Entries'!$D$12:$D$1011)+SUMIF('Time Entries'!$T$12:$T$1011, _xlfn.CONCAT(K$10, " - ", $Y18), 'Time Entries'!$F$12:$F$1011)+SUMIF('Time Entries'!$U$12:$U$1011, _xlfn.CONCAT(K$10, " - ", $Y18), 'Time Entries'!$H$12:$H$1011)+SUMIF('Time Entries'!$V$12:$V$1011, _xlfn.CONCAT(K$10, " - ", $Y18), 'Time Entries'!$J$12:$J$1011)) | L18: =IF(OR($B18="", $C18=""), "", SUMIF('Time Entries'!$S$12:$S$1011, _xlfn.CONCAT(L$10, " - ", $Y18), 'Time Entries'!$D$12:$D$1011)+SUMIF('Time Entries'!$T$12:$T$1011, _xlfn.CONCAT(L$10, " - ", $Y18), 'Time Entries'!$F$12:$F$1011)+SUMIF('Time Entries'!$U$12:$U$1011, _xlfn.CONCAT(L$10, " - ", $Y18), 'Time Entries'!$H$12:$H$1011)+SUMIF('Time Entries'!$V$12:$V$1011, _xlfn.CONCAT(L$10, " - ", $Y18), 'Time Entries'!$J$12:$J$1011)) | M18: =IF(OR($B18="", $C18=""), "", SUMIF('Time Entries'!$S$12:$S$1011, _xlfn.CONCAT(M$10, " - ", $Y18), 'Time Entries'!$D$12:$D$1011)+SUMIF('Time Entries'!$T$12:$T$1011, _xlfn.CONCAT(M$10, " - ", $Y18), 'Time Entries'!$F$12:$F$1011)+SUMIF('Time Entries'!$U$12:$U$1011, _xlfn.CONCAT(M$10, " - ", $Y18), 'Time Entries'!$H$12:$H$1011)+SUMIF('Time Entries'!$V$12:$V$1011, _xlfn.CONCAT(M$10, " - ", $Y18), 'Time Entries'!$J$12:$J$1011)) | N18: =IF(OR($B18="", $C18=""), "", SUMIF('Time Entries'!$S$12:$S$1011, _xlfn.CONCAT(N$10, " - ", $Y18), 'Time Entries'!$D$12:$D$1011)+SUMIF('Time Entries'!$T$12:$T$1011, _xlfn.CONCAT(N$10, " - ", $Y18), 'Time Entries'!$F$12:$F$1011)+SUMIF('Time Entries'!$U$12:$U$1011, _xlfn.CONCAT(N$10, " - ", $Y18), 'Time Entries'!$H$12:$H$1011)+SUMIF('Time Entries'!$V$12:$V$1011, _xlfn.CONCAT(N$10, " - ", $Y18), 'Time Entries'!$J$12:$J$1011)) | O18: =IF(OR($B18="", $C18=""), "", SUMIF('Time Entries'!$S$12:$S$1011, _xlfn.CONCAT(O$10, " - ", $Y18), 'Time Entries'!$D$12:$D$1011)+SUMIF('Time Entries'!$T$12:$T$1011, _xlfn.CONCAT(O$10, " - ", $Y18), 'Time Entries'!$F$12:$F$1011)+SUMIF('Time Entries'!$U$12:$U$1011, _xlfn.CONCAT(O$10, " - ", $Y18), 'Time Entries'!$H$12:$H$1011)+SUMIF('Time Entries'!$V$12:$V$1011, _xlfn.CONCAT(O$10, " - ", $Y18), 'Time Entries'!$J$12:$J$1011)) | P18: =IF(OR($B18="", $C18=""), "", SUMIF('Time Entries'!$S$12:$S$1011, _xlfn.CONCAT(P$10, " - ", $Y18), 'Time Entries'!$D$12:$D$1011)+SUMIF('Time Entries'!$T$12:$T$1011, _xlfn.CONCAT(P$10, " - ", $Y18), 'Time Entries'!$F$12:$F$1011)+SUMIF('Time Entries'!$U$12:$U$1011, _xlfn.CONCAT(P$10, " - ", $Y18), 'Time Entries'!$H$12:$H$1011)+SUMIF('Time Entries'!$V$12:$V$1011, _xlfn.CONCAT(P$10, " - ", $Y18), 'Time Entries'!$J$12:$J$1011)) | ... T18: =IF(OR($B18="", $C18=""), "", SUMIF('Time Entries'!$S$12:$S$1011, _xlfn.CONCAT(T$10, " - ", $Y18), 'Time Entries'!$D$12:$D$1011)+SUMIF('Time Entries'!$T$12:$T$1011, _xlfn.CONCAT(T$10, " - ", $Y18), 'Time Entries'!$F$12:$F$1011)+SUMIF('Time Entries'!$U$12:$U$1011, _xlfn.CONCAT(T$10, " - ", $Y18), 'Time Entries'!$H$12:$H$1011)+SUMIF('Time Entries'!$V$12:$V$1011, _xlfn.CONCAT(T$10, " - ", $Y18), 'Time Entries'!$J$12:$J$1011)) | W18: =IF($Y18="", "", IF(COUNTIF($Y$12:$Y$261, $Y18)>1, "X", "")) | Y18: =IF(OR($B18="", $C18=""), "", _xlfn.CONCAT($B18, " - ", $C18)) | AA18: =DATE(YEAR(AA17), MONTH(AA17)+1, 1) -> 43831 | AB18: =TEXT($AA$18, "mmm yyyy") -> Jan 2020 | AD18: =IF(COUNTIF($B18:$C18, "")=1, "X", "") | AF18: =IF(OR($B18="", $C18=""), "", IF(AND($AF$9="", $AG$9=""), "X", IF(AND(NOT($AF$9=""), NOT($AG$9="")), IF($Y18=_xlfn.CONCAT($AF$9, " - ", $AG$9), "X", ""), IF($AG$9="", IF($AF$9=$B18, "X", ""), "")))) | AH18: =IF($B18="", "", IF(COUNTIF($B$12:$B18, $B18)>1, "", $B18)) | AI18: =IF($AH18="", "", COUNTIF($AH$12:$AH$261, "<"&$AH18)+1+COUNTIF($AH$12:$AH18, $AH18)-1-$AH$10) | AK18: =IF(OR($AK$8="", $B18=""), "", IF($AK$8=$B18, $C18, "")) | AL18: =IF($AK18="", "", COUNTIF($AK$12:$AK$261, "<"&$AK18)+1+COUNTIF($AK$12:$AK18, $AK18)-1-$AK$10)
F19: =IF(OR($B19="", $C19=""), "", SUM($I19:$T19)) | G19: =IF($F19="", "", IF($D19-$F19<0, TEXT(($F19-$D19), "-[h]:mm"), $D19-$F19)) | I19: =IF(OR($B19="", $C19=""), "", SUMIF('Time Entries'!$S$12:$S$1011, _xlfn.CONCAT(I$10, " - ", $Y19), 'Time Entries'!$D$12:$D$1011)+SUMIF('Time Entries'!$T$12:$T$1011, _xlfn.CONCAT(I$10, " - ", $Y19), 'Time Entries'!$F$12:$F$1011)+SUMIF('Time Entries'!$U$12:$U$1011, _xlfn.CONCAT(I$10, " - ", $Y19), 'Time Entries'!$H$12:$H$1011)+SUMIF('Time Entries'!$V$12:$V$1011, _xlfn.CONCAT(I$10, " - ", $Y19), 'Time Entries'!$J$12:$J$1011)) | J19: =IF(OR($B19="", $C19=""), "", SUMIF('Time Entries'!$S$12:$S$1011, _xlfn.CONCAT(J$10, " - ", $Y19), 'Time Entries'!$D$12:$D$1011)+SUMIF('Time Entries'!$T$12:$T$1011, _xlfn.CONCAT(J$10, " - ", $Y19), 'Time Entries'!$F$12:$F$1011)+SUMIF('Time Entries'!$U$12:$U$1011, _xlfn.CONCAT(J$10, " - ", $Y19), 'Time Entries'!$H$12:$H$1011)+SUMIF('Time Entries'!$V$12:$V$1011, _xlfn.CONCAT(J$10, " - ", $Y19), 'Time Entries'!$J$12:$J$1011)) | K19: =IF(OR($B19="", $C19=""), "", SUMIF('Time Entries'!$S$12:$S$1011, _xlfn.CONCAT(K$10, " - ", $Y19), 'Time Entries'!$D$12:$D$1011)+SUMIF('Time Entries'!$T$12:$T$1011, _xlfn.CONCAT(K$10, " - ", $Y19), 'Time Entries'!$F$12:$F$1011)+SUMIF('Time Entries'!$U$12:$U$1011, _xlfn.CONCAT(K$10, " - ", $Y19), 'Time Entries'!$H$12:$H$1011)+SUMIF('Time Entries'!$V$12:$V$1011, _xlfn.CONCAT(K$10, " - ", $Y19), 'Time Entries'!$J$12:$J$1011)) | L19: =IF(OR($B19="", $C19=""), "", SUMIF('Time Entries'!$S$12:$S$1011, _xlfn.CONCAT(L$10, " - ", $Y19), 'Time Entries'!$D$12:$D$1011)+SUMIF('Time Entries'!$T$12:$T$1011, _xlfn.CONCAT(L$10, " - ", $Y19), 'Time Entries'!$F$12:$F$1011)+SUMIF('Time Entries'!$U$12:$U$1011, _xlfn.CONCAT(L$10, " - ", $Y19), 'Time Entries'!$H$12:$H$1011)+SUMIF('Time Entries'!$V$12:$V$1011, _xlfn.CONCAT(L$10, " - ", $Y19), 'Time Entries'!$J$12:$J$1011)) | M19: =IF(OR($B19="", $C19=""), "", SUMIF('Time Entries'!$S$12:$S$1011, _xlfn.CONCAT(M$10, " - ", $Y19), 'Time Entries'!$D$12:$D$1011)+SUMIF('Time Entries'!$T$12:$T$1011, _xlfn.CONCAT(M$10, " - ", $Y19), 'Time Entries'!$F$12:$F$1011)+SUMIF('Time Entries'!$U$12:$U$1011, _xlfn.CONCAT(M$10, " - ", $Y19), 'Time Entries'!$H$12:$H$1011)+SUMIF('Time Entries'!$V$12:$V$1011, _xlfn.CONCAT(M$10, " - ", $Y19), 'Time Entries'!$J$12:$J$1011)) | N19: =IF(OR($B19="", $C19=""), "", SUMIF('Time Entries'!$S$12:$S$1011, _xlfn.CONCAT(N$10, " - ", $Y19), 'Time Entries'!$D$12:$D$1011)+SUMIF('Time Entries'!$T$12:$T$1011, _xlfn.CONCAT(N$10, " - ", $Y19), 'Time Entries'!$F$12:$F$1011)+SUMIF('Time Entries'!$U$12:$U$1011, _xlfn.CONCAT(N$10, " - ", $Y19), 'Time Entries'!$H$12:$H$1011)+SUMIF('Time Entries'!$V$12:$V$1011, _xlfn.CONCAT(N$10, " - ", $Y19), 'Time Entries'!$J$12:$J$1011)) | O19: =IF(OR($B19="", $C19=""), "", SUMIF('Time Entries'!$S$12:$S$1011, _xlfn.CONCAT(O$10, " - ", $Y19), 'Time Entries'!$D$12:$D$1011)+SUMIF('Time Entries'!$T$12:$T$1011, _xlfn.CONCAT(O$10, " - ", $Y19), 'Time Entries'!$F$12:$F$1011)+SUMIF('Time Entries'!$U$12:$U$1011, _xlfn.CONCAT(O$10, " - ", $Y19), 'Time Entries'!$H$12:$H$1011)+SUMIF('Time Entries'!$V$12:$V$1011, _xlfn.CONCAT(O$10, " - ", $Y19), 'Time Entries'!$J$12:$J$1011)) | P19: =IF(OR($B19="", $C19=""), "", SUMIF('Time Entries'!$S$12:$S$1011, _xlfn.CONCAT(P$10, " - ", $Y19), 'Time Entries'!$D$12:$D$1011)+SUMIF('Time Entries'!$T$12:$T$1011, _xlfn.CONCAT(P$10, " - ", $Y19), 'Time Entries'!$F$12:$F$1011)+SUMIF('Time Entries'!$U$12:$U$1011, _xlfn.CONCAT(P$10, " - ", $Y19), 'Time Entries'!$H$12:$H$1011)+SUMIF('Time Entries'!$V$12:$V$1011, _xlfn.CONCAT(P$10, " - ", $Y19), 'Time Entries'!$J$12:$J$1011)) | ... T19: =IF(OR($B19="", $C19=""), "", SUMIF('Time Entries'!$S$12:$S$1011, _xlfn.CONCAT(T$10, " - ", $Y19), 'Time Entries'!$D$12:$D$1011)+SUMIF('Time Entries'!$T$12:$T$1011, _xlfn.CONCAT(T$10, " - ", $Y19), 'Time Entries'!$F$12:$F$1011)+SUMIF('Time Entries'!$U$12:$U$1011, _xlfn.CONCAT(T$10, " - ", $Y19), 'Time Entries'!$H$12:$H$1011)+SUMIF('Time Entries'!$V$12:$V$1011, _xlfn.CONCAT(T$10, " - ", $Y19), 'Time Entries'!$J$12:$J$1011)) | W19: =IF($Y19="", "", IF(COUNTIF($Y$12:$Y$261, $Y19)>1, "X", "")) | Y19: =IF(OR($B19="", $C19=""), "", _xlfn.CONCAT($B19, " - ", $C19)) | AA19: =DATE(YEAR(AA18), MONTH(AA18)+1, 1) -> 43862 | AB19: =TEXT($AA$19, "mmm yyyy") -> Feb 2020 | AD19: =IF(COUNTIF($B19:$C19, "")=1, "X", "") | AF19: =IF(OR($B19="", $C19=""), "", IF(AND($AF$9="", $AG$9=""), "X", IF(AND(NOT($AF$9=""), NOT($AG$9="")), IF($Y19=_xlfn.CONCAT($AF$9, " - ", $AG$9), "X", ""), IF($AG$9="", IF($AF$9=$B19, "X", ""), "")))) | AH19: =IF($B19="", "", IF(COUNTIF($B$12:$B19, $B19)>1, "", $B19)) | AI19: =IF($AH19="", "", COUNTIF($AH$12:$AH$261, "<"&$AH19)+1+COUNTIF($AH$12:$AH19, $AH19)-1-$AH$10) | AK19: =IF(OR($AK$8="", $B19=""), "", IF($AK$8=$B19, $C19, "")) | AL19: =IF($AK19="", "", COUNTIF($AK$12:$AK$261, "<"&$AK19)+1+COUNTIF($AK$12:$AK19, $AK19)-1-$AK$10)
F20: =IF(OR($B20="", $C20=""), "", SUM($I20:$T20)) | G20: =IF($F20="", "", IF($D20-$F20<0, TEXT(($F20-$D20), "-[h]:mm"), $D20-$F20)) | I20: =IF(OR($B20="", $C20=""), "", SUMIF('Time Entries'!$S$12:$S$1011, _xlfn.CONCAT(I$10, " - ", $Y20), 'Time Entries'!$D$12:$D$1011)+SUMIF('Time Entries'!$T$12:$T$1011, _xlfn.CONCAT(I$10, " - ", $Y20), 'Time Entries'!$F$12:$F$1011)+SUMIF('Time Entries'!$U$12:$U$1011, _xlfn.CONCAT(I$10, " - ", $Y20), 'Time Entries'!$H$12:$H$1011)+SUMIF('Time Entries'!$V$12:$V$1011, _xlfn.CONCAT(I$10, " - ", $Y20), 'Time Entries'!$J$12:$J$1011)) | J20: =IF(OR($B20="", $C20=""), "", SUMIF('Time Entries'!$S$12:$S$1011, _xlfn.CONCAT(J$10, " - ", $Y20), 'Time Entries'!$D$12:$D$1011)+SUMIF('Time Entries'!$T$12:$T$1011, _xlfn.CONCAT(J$10, " - ", $Y20), 'Time Entries'!$F$12:$F$1011)+SUMIF('Time Entries'!$U$12:$U$1011, _xlfn.CONCAT(J$10, " - ", $Y20), 'Time Entries'!$H$12:$H$1011)+SUMIF('Time Entries'!$V$12:$V$1011, _xlfn.CONCAT(J$10, " - ", $Y20), 'Time Entries'!$J$12:$J$1011)) | K20: =IF(OR($B20="", $C20=""), "", SUMIF('Time Entries'!$S$12:$S$1011, _xlfn.CONCAT(K$10, " - ", $Y20), 'Time Entries'!$D$12:$D$1011)+SUMIF('Time Entries'!$T$12:$T$1011, _xlfn.CONCAT(K$10, " - ", $Y20), 'Time Entries'!$F$12:$F$1011)+SUMIF('Time Entries'!$U$12:$U$1011, _xlfn.CONCAT(K$10, " - ", $Y20), 'Time Entries'!$H$12:$H$1011)+SUMIF('Time Entries'!$V$12:$V$1011, _xlfn.CONCAT(K$10, " - ", $Y20), 'Time Entries'!$J$12:$J$1011)) | L20: =IF(OR($B20="", $C20=""), "", SUMIF('Time Entries'!$S$12:$S$1011, _xlfn.CONCAT(L$10, " - ", $Y20), 'Time Entries'!$D$12:$D$1011)+SUMIF('Time Entries'!$T$12:$T$1011, _xlfn.CONCAT(L$10, " - ", $Y20), 'Time Entries'!$F$12:$F$1011)+SUMIF('Time Entries'!$U$12:$U$1011, _xlfn.CONCAT(L$10, " - ", $Y20), 'Time Entries'!$H$12:$H$1011)+SUMIF('Time Entries'!$V$12:$V$1011, _xlfn.CONCAT(L$10, " - ", $Y20), 'Time Entries'!$J$12:$J$1011)) | M20: =IF(OR($B20="", $C20=""), "", SUMIF('Time Entries'!$S$12:$S$1011, _xlfn.CONCAT(M$10, " - ", $Y20), 'Time Entries'!$D$12:$D$1011)+SUMIF('Time Entries'!$T$12:$T$1011, _xlfn.CONCAT(M$10, " - ", $Y20), 'Time Entries'!$F$12:$F$1011)+SUMIF('Time Entries'!$U$12:$U$1011, _xlfn.CONCAT(M$10, " - ", $Y20), 'Time Entries'!$H$12:$H$1011)+SUMIF('Time Entries'!$V$12:$V$1011, _xlfn.CONCAT(M$10, " - ", $Y20), 'Time Entries'!$J$12:$J$1011)) | N20: =IF(OR($B20="", $C20=""), "", SUMIF('Time Entries'!$S$12:$S$1011, _xlfn.CONCAT(N$10, " - ", $Y20), 'Time Entries'!$D$12:$D$1011)+SUMIF('Time Entries'!$T$12:$T$1011, _xlfn.CONCAT(N$10, " - ", $Y20), 'Time Entries'!$F$12:$F$1011)+SUMIF('Time Entries'!$U$12:$U$1011, _xlfn.CONCAT(N$10, " - ", $Y20), 'Time Entries'!$H$12:$H$1011)+SUMIF('Time Entries'!$V$12:$V$1011, _xlfn.CONCAT(N$10, " - ", $Y20), 'Time Entries'!$J$12:$J$1011)) | O20: =IF(OR($B20="", $C20=""), "", SUMIF('Time Entries'!$S$12:$S$1011, _xlfn.CONCAT(O$10, " - ", $Y20), 'Time Entries'!$D$12:$D$1011)+SUMIF('Time Entries'!$T$12:$T$1011, _xlfn.CONCAT(O$10, " - ", $Y20), 'Time Entries'!$F$12:$F$1011)+SUMIF('Time Entries'!$U$12:$U$1011, _xlfn.CONCAT(O$10, " - ", $Y20), 'Time Entries'!$H$12:$H$1011)+SUMIF('Time Entries'!$V$12:$V$1011, _xlfn.CONCAT(O$10, " - ", $Y20), 'Time Entries'!$J$12:$J$1011)) | P20: =IF(OR($B20="", $C20=""), "", SUMIF('Time Entries'!$S$12:$S$1011, _xlfn.CONCAT(P$10, " - ", $Y20), 'Time Entries'!$D$12:$D$1011)+SUMIF('Time Entries'!$T$12:$T$1011, _xlfn.CONCAT(P$10, " - ", $Y20), 'Time Entries'!$F$12:$F$1011)+SUMIF('Time Entries'!$U$12:$U$1011, _xlfn.CONCAT(P$10, " - ", $Y20), 'Time Entries'!$H$12:$H$1011)+SUMIF('Time Entries'!$V$12:$V$1011, _xlfn.CONCAT(P$10, " - ", $Y20), 'Time Entries'!$J$12:$J$1011)) | ... T20: =IF(OR($B20="", $C20=""), "", SUMIF('Time Entries'!$S$12:$S$1011, _xlfn.CONCAT(T$10, " - ", $Y20), 'Time Entries'!$D$12:$D$1011)+SUMIF('Time Entries'!$T$12:$T$1011, _xlfn.CONCAT(T$10, " - ", $Y20), 'Time Entries'!$F$12:$F$1011)+SUMIF('Time Entries'!$U$12:$U$1011, _xlfn.CONCAT(T$10, " - ", $Y20), 'Time Entries'!$H$12:$H$1011)+SUMIF('Time Entries'!$V$12:$V$1011, _xlfn.CONCAT(T$10, " - ", $Y20), 'Time Entries'!$J$12:$J$1011)) | W20: =IF($Y20="", "", IF(COUNTIF($Y$12:$Y$261, $Y20)>1, "X", "")) | Y20: =IF(OR($B20="", $C20=""), "", _xlfn.CONCAT($B20, " - ", $C20)) | AA20: =DATE(YEAR(AA19), MONTH(AA19)+1, 1) -> 43891 | AB20: =TEXT($AA$20, "mmm yyyy") -> Mar 2020 | AD20: =IF(COUNTIF($B20:$C20, "")=1, "X", "") | AF20: =IF(OR($B20="", $C20=""), "", IF(AND($AF$9="", $AG$9=""), "X", IF(AND(NOT($AF$9=""), NOT($AG$9="")), IF($Y20=_xlfn.CONCAT($AF$9, " - ", $AG$9), "X", ""), IF($AG$9="", IF($AF$9=$B20, "X", ""), "")))) | AH20: =IF($B20="", "", IF(COUNTIF($B$12:$B20, $B20)>1, "", $B20)) | AI20: =IF($AH20="", "", COUNTIF($AH$12:$AH$261, "<"&$AH20)+1+COUNTIF($AH$12:$AH20, $AH20)-1-$AH$10) | AK20: =IF(OR($AK$8="", $B20=""), "", IF($AK$8=$B20, $C20, "")) | AL20: =IF($AK20="", "", COUNTIF($AK$12:$AK$261, "<"&$AK20)+1+COUNTIF($AK$12:$AK20, $AK20)-1-$AK$10)
F21: =IF(OR($B21="", $C21=""), "", SUM($I21:$T21)) | G21: =IF($F21="", "", IF($D21-$F21<0, TEXT(($F21-$D21), "-[h]:mm"), $D21-$F21)) | I21: =IF(OR($B21="", $C21=""), "", SUMIF('Time Entries'!$S$12:$S$1011, _xlfn.CONCAT(I$10, " - ", $Y21), 'Time Entries'!$D$12:$D$1011)+SUMIF('Time Entries'!$T$12:$T$1011, _xlfn.CONCAT(I$10, " - ", $Y21), 'Time Entries'!$F$12:$F$1011)+SUMIF('Time Entries'!$U$12:$U$1011, _xlfn.CONCAT(I$10, " - ", $Y21), 'Time Entries'!$H$12:$H$1011)+SUMIF('Time Entries'!$V$12:$V$1011, _xlfn.CONCAT(I$10, " - ", $Y21), 'Time Entries'!$J$12:$J$1011)) | J21: =IF(OR($B21="", $C21=""), "", SUMIF('Time Entries'!$S$12:$S$1011, _xlfn.CONCAT(J$10, " - ", $Y21), 'Time Entries'!$D$12:$D$1011)+SUMIF('Time Entries'!$T$12:$T$1011, _xlfn.CONCAT(J$10, " - ", $Y21), 'Time Entries'!$F$12:$F$1011)+SUMIF('Time Entries'!$U$12:$U$1011, _xlfn.CONCAT(J$10, " - ", $Y21), 'Time Entries'!$H$12:$H$1011)+SUMIF('Time Entries'!$V$12:$V$1011, _xlfn.CONCAT(J$10, " - ", $Y21), 'Time Entries'!$J$12:$J$1011)) | K21: =IF(OR($B21="", $C21=""), "", SUMIF('Time Entries'!$S$12:$S$1011, _xlfn.CONCAT(K$10, " - ", $Y21), 'Time Entries'!$D$12:$D$1011)+SUMIF('Time Entries'!$T$12:$T$1011, _xlfn.CONCAT(K$10, " - ", $Y21), 'Time Entries'!$F$12:$F$1011)+SUMIF('Time Entries'!$U$12:$U$1011, _xlfn.CONCAT(K$10, " - ", $Y21), 'Time Entries'!$H$12:$H$1011)+SUMIF('Time Entries'!$V$12:$V$1011, _xlfn.CONCAT(K$10, " - ", $Y21), 'Time Entries'!$J$12:$J$1011)) | L21: =IF(OR($B21="", $C21=""), "", SUMIF('Time Entries'!$S$12:$S$1011, _xlfn.CONCAT(L$10, " - ", $Y21), 'Time Entries'!$D$12:$D$1011)+SUMIF('Time Entries'!$T$12:$T$1011, _xlfn.CONCAT(L$10, " - ", $Y21), 'Time Entries'!$F$12:$F$1011)+SUMIF('Time Entries'!$U$12:$U$1011, _xlfn.CONCAT(L$10, " - ", $Y21), 'Time Entries'!$H$12:$H$1011)+SUMIF('Time Entries'!$V$12:$V$1011, _xlfn.CONCAT(L$10, " - ", $Y21), 'Time Entries'!$J$12:$J$1011)) | M21: =IF(OR($B21="", $C21=""), "", SUMIF('Time Entries'!$S$12:$S$1011, _xlfn.CONCAT(M$10, " - ", $Y21), 'Time Entries'!$D$12:$D$1011)+SUMIF('Time Entries'!$T$12:$T$1011, _xlfn.CONCAT(M$10, " - ", $Y21), 'Time Entries'!$F$12:$F$1011)+SUMIF('Time Entries'!$U$12:$U$1011, _xlfn.CONCAT(M$10, " - ", $Y21), 'Time Entries'!$H$12:$H$1011)+SUMIF('Time Entries'!$V$12:$V$1011, _xlfn.CONCAT(M$10, " - ", $Y21), 'Time Entries'!$J$12:$J$1011)) | N21: =IF(OR($B21="", $C21=""), "", SUMIF('Time Entries'!$S$12:$S$1011, _xlfn.CONCAT(N$10, " - ", $Y21), 'Time Entries'!$D$12:$D$1011)+SUMIF('Time Entries'!$T$12:$T$1011, _xlfn.CONCAT(N$10, " - ", $Y21), 'Time Entries'!$F$12:$F$1011)+SUMIF('Time Entries'!$U$12:$U$1011, _xlfn.CONCAT(N$10, " - ", $Y21), 'Time Entries'!$H$12:$H$1011)+SUMIF('Time Entries'!$V$12:$V$1011, _xlfn.CONCAT(N$10, " - ", $Y21), 'Time Entries'!$J$12:$J$1011)) | O21: =IF(OR($B21="", $C21=""), "", SUMIF('Time Entries'!$S$12:$S$1011, _xlfn.CONCAT(O$10, " - ", $Y21), 'Time Entries'!$D$12:$D$1011)+SUMIF('Time Entries'!$T$12:$T$1011, _xlfn.CONCAT(O$10, " - ", $Y21), 'Time Entries'!$F$12:$F$1011)+SUMIF('Time Entries'!$U$12:$U$1011, _xlfn.CONCAT(O$10, " - ", $Y21), 'Time Entries'!$H$12:$H$1011)+SUMIF('Time Entries'!$V$12:$V$1011, _xlfn.CONCAT(O$10, " - ", $Y21), 'Time Entries'!$J$12:$J$1011)) | P21: =IF(OR($B21="", $C21=""), "", SUMIF('Time Entries'!$S$12:$S$1011, _xlfn.CONCAT(P$10, " - ", $Y21), 'Time Entries'!$D$12:$D$1011)+SUMIF('Time Entries'!$T$12:$T$1011, _xlfn.CONCAT(P$10, " - ", $Y21), 'Time Entries'!$F$12:$F$1011)+SUMIF('Time Entries'!$U$12:$U$1011, _xlfn.CONCAT(P$10, " - ", $Y21), 'Time Entries'!$H$12:$H$1011)+SUMIF('Time Entries'!$V$12:$V$1011, _xlfn.CONCAT(P$10, " - ", $Y21), 'Time Entries'!$J$12:$J$1011)) | ... T21: =IF(OR($B21="", $C21=""), "", SUMIF('Time Entries'!$S$12:$S$1011, _xlfn.CONCAT(T$10, " - ", $Y21), 'Time Entries'!$D$12:$D$1011)+SUMIF('Time Entries'!$T$12:$T$1011, _xlfn.CONCAT(T$10, " - ", $Y21), 'Time Entries'!$F$12:$F$1011)+SUMIF('Time Entries'!$U$12:$U$1011, _xlfn.CONCAT(T$10, " - ", $Y21), 'Time Entries'!$H$12:$H$1011)+SUMIF('Time Entries'!$V$12:$V$1011, _xlfn.CONCAT(T$10, " - ", $Y21), 'Time Entries'!$J$12:$J$1011)) | W21: =IF($Y21="", "", IF(COUNTIF($Y$12:$Y$261, $Y21)>1, "X", "")) | Y21: =IF(OR($B21="", $C21=""), "", _xlfn.CONCAT($B21, " - ", $C21)) | AA21: =DATE(YEAR(AA20), MONTH(AA20)+1, 1) -> 43922 | AB21: =TEXT($AA$21, "mmm yyyy") -> Apr 2020 | AD21: =IF(COUNTIF($B21:$C21, "")=1, "X", "") | AF21: =IF(OR($B21="", $C21=""), "", IF(AND($AF$9="", $AG$9=""), "X", IF(AND(NOT($AF$9=""), NOT($AG$9="")), IF($Y21=_xlfn.CONCAT($AF$9, " - ", $AG$9), "X", ""), IF($AG$9="", IF($AF$9=$B21, "X", ""), "")))) | AH21: =IF($B21="", "", IF(COUNTIF($B$12:$B21, $B21)>1, "", $B21)) | AI21: =IF($AH21="", "", COUNTIF($AH$12:$AH$261, "<"&$AH21)+1+COUNTIF($AH$12:$AH21, $AH21)-1-$AH$10) | AK21: =IF(OR($AK$8="", $B21=""), "", IF($AK$8=$B21, $C21, "")) | AL21: =IF($AK21="", "", COUNTIF($AK$12:$AK$261, "<"&$AK21)+1+COUNTIF($AK$12:$AK21, $AK21)-1-$AK$10)
F22: =IF(OR($B22="", $C22=""), "", SUM($I22:$T22)) | G22: =IF($F22="", "", IF($D22-$F22<0, TEXT(($F22-$D22), "-[h]:mm"), $D22-$F22)) | I22: =IF(OR($B22="", $C22=""), "", SUMIF('Time Entries'!$S$12:$S$1011, _xlfn.CONCAT(I$10, " - ", $Y22), 'Time Entries'!$D$12:$D$1011)+SUMIF('Time Entries'!$T$12:$T$1011, _xlfn.CONCAT(I$10, " - ", $Y22), 'Time Entries'!$F$12:$F$1011)+SUMIF('Time Entries'!$U$12:$U$1011, _xlfn.CONCAT(I$10, " - ", $Y22), 'Time Entries'!$H$12:$H$1011)+SUMIF('Time Entries'!$V$12:$V$1011, _xlfn.CONCAT(I$10, " - ", $Y22), 'Time Entries'!$J$12:$J$1011)) | J22: =IF(OR($B22="", $C22=""), "", SUMIF('Time Entries'!$S$12:$S$1011, _xlfn.CONCAT(J$10, " - ", $Y22), 'Time Entries'!$D$12:$D$1011)+SUMIF('Time Entries'!$T$12:$T$1011, _xlfn.CONCAT(J$10, " - ", $Y22), 'Time Entries'!$F$12:$F$1011)+SUMIF('Time Entries'!$U$12:$U$1011, _xlfn.CONCAT(J$10, " - ", $Y22), 'Time Entries'!$H$12:$H$1011)+SUMIF('Time Entries'!$V$12:$V$1011, _xlfn.CONCAT(J$10, " - ", $Y22), 'Time Entries'!$J$12:$J$1011)) | K22: =IF(OR($B22="", $C22=""), "", SUMIF('Time Entries'!$S$12:$S$1011, _xlfn.CONCAT(K$10, " - ", $Y22), 'Time Entries'!$D$12:$D$1011)+SUMIF('Time Entries'!$T$12:$T$1011, _xlfn.CONCAT(K$10, " - ", $Y22), 'Time Entries'!$F$12:$F$1011)+SUMIF('Time Entries'!$U$12:$U$1011, _xlfn.CONCAT(K$10, " - ", $Y22), 'Time Entries'!$H$12:$H$1011)+SUMIF('Time Entries'!$V$12:$V$1011, _xlfn.CONCAT(K$10, " - ", $Y22), 'Time Entries'!$J$12:$J$1011)) | L22: =IF(OR($B22="", $C22=""), "", SUMIF('Time Entries'!$S$12:$S$1011, _xlfn.CONCAT(L$10, " - ", $Y22), 'Time Entries'!$D$12:$D$1011)+SUMIF('Time Entries'!$T$12:$T$1011, _xlfn.CONCAT(L$10, " - ", $Y22), 'Time Entries'!$F$12:$F$1011)+SUMIF('Time Entries'!$U$12:$U$1011, _xlfn.CONCAT(L$10, " - ", $Y22), 'Time Entries'!$H$12:$H$1011)+SUMIF('Time Entries'!$V$12:$V$1011, _xlfn.CONCAT(L$10, " - ", $Y22), 'Time Entries'!$J$12:$J$1011)) | M22: =IF(OR($B22="", $C22=""), "", SUMIF('Time Entries'!$S$12:$S$1011, _xlfn.CONCAT(M$10, " - ", $Y22), 'Time Entries'!$D$12:$D$1011)+SUMIF('Time Entries'!$T$12:$T$1011, _xlfn.CONCAT(M$10, " - ", $Y22), 'Time Entries'!$F$12:$F$1011)+SUMIF('Time Entries'!$U$12:$U$1011, _xlfn.CONCAT(M$10, " - ", $Y22), 'Time Entries'!$H$12:$H$1011)+SUMIF('Time Entries'!$V$12:$V$1011, _xlfn.CONCAT(M$10, " - ", $Y22), 'Time Entries'!$J$12:$J$1011)) | N22: =IF(OR($B22="", $C22=""), "", SUMIF('Time Entries'!$S$12:$S$1011, _xlfn.CONCAT(N$10, " - ", $Y22), 'Time Entries'!$D$12:$D$1011)+SUMIF('Time Entries'!$T$12:$T$1011, _xlfn.CONCAT(N$10, " - ", $Y22), 'Time Entries'!$F$12:$F$1011)+SUMIF('Time Entries'!$U$12:$U$1011, _xlfn.CONCAT(N$10, " - ", $Y22), 'Time Entries'!$H$12:$H$1011)+SUMIF('Time Entries'!$V$12:$V$1011, _xlfn.CONCAT(N$10, " - ", $Y22), 'Time Entries'!$J$12:$J$1011)) | O22: =IF(OR($B22="", $C22=""), "", SUMIF('Time Entries'!$S$12:$S$1011, _xlfn.CONCAT(O$10, " - ", $Y22), 'Time Entries'!$D$12:$D$1011)+SUMIF('Time Entries'!$T$12:$T$1011, _xlfn.CONCAT(O$10, " - ", $Y22), 'Time Entries'!$F$12:$F$1011)+SUMIF('Time Entries'!$U$12:$U$1011, _xlfn.CONCAT(O$10, " - ", $Y22), 'Time Entries'!$H$12:$H$1011)+SUMIF('Time Entries'!$V$12:$V$1011, _xlfn.CONCAT(O$10, " - ", $Y22), 'Time Entries'!$J$12:$J$1011)) | P22: =IF(OR($B22="", $C22=""), "", SUMIF('Time Entries'!$S$12:$S$1011, _xlfn.CONCAT(P$10, " - ", $Y22), 'Time Entries'!$D$12:$D$1011)+SUMIF('Time Entries'!$T$12:$T$1011, _xlfn.CONCAT(P$10, " - ", $Y22), 'Time Entries'!$F$12:$F$1011)+SUMIF('Time Entries'!$U$12:$U$1011, _xlfn.CONCAT(P$10, " - ", $Y22), 'Time Entries'!$H$12:$H$1011)+SUMIF('Time Entries'!$V$12:$V$1011, _xlfn.CONCAT(P$10, " - ", $Y22), 'Time Entries'!$J$12:$J$1011)) | ... T22: =IF(OR($B22="", $C22=""), "", SUMIF('Time Entries'!$S$12:$S$1011, _xlfn.CONCAT(T$10, " - ", $Y22), 'Time Entries'!$D$12:$D$1011)+SUMIF('Time Entries'!$T$12:$T$1011, _xlfn.CONCAT(T$10, " - ", $Y22), 'Time Entries'!$F$12:$F$1011)+SUMIF('Time Entries'!$U$12:$U$1011, _xlfn.CONCAT(T$10, " - ", $Y22), 'Time Entries'!$H$12:$H$1011)+SUMIF('Time Entries'!$V$12:$V$1011, _xlfn.CONCAT(T$10, " - ", $Y22), 'Time Entries'!$J$12:$J$1011)) | W22: =IF($Y22="", "", IF(COUNTIF($Y$12:$Y$261, $Y22)>1, "X", "")) | Y22: =IF(OR($B22="", $C22=""), "", _xlfn.CONCAT($B22, " - ", $C22)) | AA22: =DATE(YEAR(AA21), MONTH(AA21)+1, DAY(AA21)-1) -> 43951 | AD22: =IF(COUNTIF($B22:$C22, "")=1, "X", "") | AF22: =IF(OR($B22="", $C22=""), "", IF(AND($AF$9="", $AG$9=""), "X", IF(AND(NOT($AF$9=""), NOT($AG$9="")), IF($Y22=_xlfn.CONCAT($AF$9, " - ", $AG$9), "X", ""), IF($AG$9="", IF($AF$9=$B22, "X", ""), "")))) | AH22: =IF($B22="", "", IF(COUNTIF($B$12:$B22, $B22)>1, "", $B22)) | AI22: =IF($AH22="", "", COUNTIF($AH$12:$AH$261, "<"&$AH22)+1+COUNTIF($AH$12:$AH22, $AH22)-1-$AH$10) | AK22: =IF(OR($AK$8="", $B22=""), "", IF($AK$8=$B22, $C22, "")) | AL22: =IF($AK22="", "", COUNTIF($AK$12:$AK$261, "<"&$AK22)+1+COUNTIF($AK$12:$AK22, $AK22)-1-$AK$10)
F23: =IF(OR($B23="", $C23=""), "", SUM($I23:$T23)) | G23: =IF($F23="", "", IF($D23-$F23<0, TEXT(($F23-$D23), "-[h]:mm"), $D23-$F23)) | I23: =IF(OR($B23="", $C23=""), "", SUMIF('Time Entries'!$S$12:$S$1011, _xlfn.CONCAT(I$10, " - ", $Y23), 'Time Entries'!$D$12:$D$1011)+SUMIF('Time Entries'!$T$12:$T$1011, _xlfn.CONCAT(I$10, " - ", $Y23), 'Time Entries'!$F$12:$F$1011)+SUMIF('Time Entries'!$U$12:$U$1011, _xlfn.CONCAT(I$10, " - ", $Y23), 'Time Entries'!$H$12:$H$1011)+SUMIF('Time Entries'!$V$12:$V$1011, _xlfn.CONCAT(I$10, " - ", $Y23), 'Time Entries'!$J$12:$J$1011)) | J23: =IF(OR($B23="", $C23=""), "", SUMIF('Time Entries'!$S$12:$S$1011, _xlfn.CONCAT(J$10, " - ", $Y23), 'Time Entries'!$D$12:$D$1011)+SUMIF('Time Entries'!$T$12:$T$1011, _xlfn.CONCAT(J$10, " - ", $Y23), 'Time Entries'!$F$12:$F$1011)+SUMIF('Time Entries'!$U$12:$U$1011, _xlfn.CONCAT(J$10, " - ", $Y23), 'Time Entries'!$H$12:$H$1011)+SUMIF('Time Entries'!$V$12:$V$1011, _xlfn.CONCAT(J$10, " - ", $Y23), 'Time Entries'!$J$12:$J$1011)) | K23: =IF(OR($B23="", $C23=""), "", SUMIF('Time Entries'!$S$12:$S$1011, _xlfn.CONCAT(K$10, " - ", $Y23), 'Time Entries'!$D$12:$D$1011)+SUMIF('Time Entries'!$T$12:$T$1011, _xlfn.CONCAT(K$10, " - ", $Y23), 'Time Entries'!$F$12:$F$1011)+SUMIF('Time Entries'!$U$12:$U$1011, _xlfn.CONCAT(K$10, " - ", $Y23), 'Time Entries'!$H$12:$H$1011)+SUMIF('Time Entries'!$V$12:$V$1011, _xlfn.CONCAT(K$10, " - ", $Y23), 'Time Entries'!$J$12:$J$1011)) | L23: =IF(OR($B23="", $C23=""), "", SUMIF('Time Entries'!$S$12:$S$1011, _xlfn.CONCAT(L$10, " - ", $Y23), 'Time Entries'!$D$12:$D$1011)+SUMIF('Time Entries'!$T$12:$T$1011, _xlfn.CONCAT(L$10, " - ", $Y23), 'Time Entries'!$F$12:$F$1011)+SUMIF('Time Entries'!$U$12:$U$1011, _xlfn.CONCAT(L$10, " - ", $Y23), 'Time Entries'!$H$12:$H$1011)+SUMIF('Time Entries'!$V$12:$V$1011, _xlfn.CONCAT(L$10, " - ", $Y23), 'Time Entries'!$J$12:$J$1011)) | M23: =IF(OR($B23="", $C23=""), "", SUMIF('Time Entries'!$S$12:$S$1011, _xlfn.CONCAT(M$10, " - ", $Y23), 'Time Entries'!$D$12:$D$1011)+SUMIF('Time Entries'!$T$12:$T$1011, _xlfn.CONCAT(M$10, " - ", $Y23), 'Time Entries'!$F$12:$F$1011)+SUMIF('Time Entries'!$U$12:$U$1011, _xlfn.CONCAT(M$10, " - ", $Y23), 'Time Entries'!$H$12:$H$1011)+SUMIF('Time Entries'!$V$12:$V$1011, _xlfn.CONCAT(M$10, " - ", $Y23), 'Time Entries'!$J$12:$J$1011)) | N23: =IF(OR($B23="", $C23=""), "", SUMIF('Time Entries'!$S$12:$S$1011, _xlfn.CONCAT(N$10, " - ", $Y23), 'Time Entries'!$D$12:$D$1011)+SUMIF('Time Entries'!$T$12:$T$1011, _xlfn.CONCAT(N$10, " - ", $Y23), 'Time Entries'!$F$12:$F$1011)+SUMIF('Time Entries'!$U$12:$U$1011, _xlfn.CONCAT(N$10, " - ", $Y23), 'Time Entries'!$H$12:$H$1011)+SUMIF('Time Entries'!$V$12:$V$1011, _xlfn.CONCAT(N$10, " - ", $Y23), 'Time Entries'!$J$12:$J$1011)) | O23: =IF(OR($B23="", $C23=""), "", SUMIF('Time Entries'!$S$12:$S$1011, _xlfn.CONCAT(O$10, " - ", $Y23), 'Time Entries'!$D$12:$D$1011)+SUMIF('Time Entries'!$T$12:$T$1011, _xlfn.CONCAT(O$10, " - ", $Y23), 'Time Entries'!$F$12:$F$1011)+SUMIF('Time Entries'!$U$12:$U$1011, _xlfn.CONCAT(O$10, " - ", $Y23), 'Time Entries'!$H$12:$H$1011)+SUMIF('Time Entries'!$V$12:$V$1011, _xlfn.CONCAT(O$10, " - ", $Y23), 'Time Entries'!$J$12:$J$1011)) | P23: =IF(OR($B23="", $C23=""), "", SUMIF('Time Entries'!$S$12:$S$1011, _xlfn.CONCAT(P$10, " - ", $Y23), 'Time Entries'!$D$12:$D$1011)+SUMIF('Time Entries'!$T$12:$T$1011, _xlfn.CONCAT(P$10, " - ", $Y23), 'Time Entries'!$F$12:$F$1011)+SUMIF('Time Entries'!$U$12:$U$1011, _xlfn.CONCAT(P$10, " - ", $Y23), 'Time Entries'!$H$12:$H$1011)+SUMIF('Time Entries'!$V$12:$V$1011, _xlfn.CONCAT(P$10, " - ", $Y23), 'Time Entries'!$J$12:$J$1011)) | ... T23: =IF(OR($B23="", $C23=""), "", SUMIF('Time Entries'!$S$12:$S$1011, _xlfn.CONCAT(T$10, " - ", $Y23), 'Time Entries'!$D$12:$D$1011)+SUMIF('Time Entries'!$T$12:$T$1011, _xlfn.CONCAT(T$10, " - ", $Y23), 'Time Entries'!$F$12:$F$1011)+SUMIF('Time Entries'!$U$12:$U$1011, _xlfn.CONCAT(T$10, " - ", $Y23), 'Time Entries'!$H$12:$H$1011)+SUMIF('Time Entries'!$V$12:$V$1011, _xlfn.CONCAT(T$10, " - ", $Y23), 'Time Entries'!$J$12:$J$1011)) | W23: =IF($Y23="", "", IF(COUNTIF($Y$12:$Y$261, $Y23)>1, "X", "")) | Y23: =IF(OR($B23="", $C23=""), "", _xlfn.CONCAT($B23, " - ", $C23)) | AD23: =IF(COUNTIF($B23:$C23, "")=1, "X", "") | AF23: =IF(OR($B23="", $C23=""), "", IF(AND($AF$9="", $AG$9=""), "X", IF(AND(NOT($AF$9=""), NOT($AG$9="")), IF($Y23=_xlfn.CONCAT($AF$9, " - ", $AG$9), "X", ""), IF($AG$9="", IF($AF$9=$B23, "X", ""), "")))) | AH23: =IF($B23="", "", IF(COUNTIF($B$12:$B23, $B23)>1, "", $B23)) | AI23: =IF($AH23="", "", COUNTIF($AH$12:$AH$261, "<"&$AH23)+1+COUNTIF($AH$12:$AH23, $AH23)-1-$AH$10) | AK23: =IF(OR($AK$8="", $B23=""), "", IF($AK$8=$B23, $C23, "")) | AL23: =IF($AK23="", "", COUNTIF($AK$12:$AK$261, "<"&$AK23)+1+COUNTIF($AK$12:$AK23, $AK23)-1-$AK$10)
F24: =IF(OR($B24="", $C24=""), "", SUM($I24:$T24)) | G24: =IF($F24="", "", IF($D24-$F24<0, TEXT(($F24-$D24), "-[h]:mm"), $D24-$F24)) | I24: =IF(OR($B24="", $C24=""), "", SUMIF('Time Entries'!$S$12:$S$1011, _xlfn.CONCAT(I$10, " - ", $Y24), 'Time Entries'!$D$12:$D$1011)+SUMIF('Time Entries'!$T$12:$T$1011, _xlfn.CONCAT(I$10, " - ", $Y24), 'Time Entries'!$F$12:$F$1011)+SUMIF('Time Entries'!$U$12:$U$1011, _xlfn.CONCAT(I$10, " - ", $Y24), 'Time Entries'!$H$12:$H$1011)+SUMIF('Time Entries'!$V$12:$V$1011, _xlfn.CONCAT(I$10, " - ", $Y24), 'Time Entries'!$J$12:$J$1011)) | J24: =IF(OR($B24="", $C24=""), "", SUMIF('Time Entries'!$S$12:$S$1011, _xlfn.CONCAT(J$10, " - ", $Y24), 'Time Entries'!$D$12:$D$1011)+SUMIF('Time Entries'!$T$12:$T$1011, _xlfn.CONCAT(J$10, " - ", $Y24), 'Time Entries'!$F$12:$F$1011)+SUMIF('Time Entries'!$U$12:$U$1011, _xlfn.CONCAT(J$10, " - ", $Y24), 'Time Entries'!$H$12:$H$1011)+SUMIF('Time Entries'!$V$12:$V$1011, _xlfn.CONCAT(J$10, " - ", $Y24), 'Time Entries'!$J$12:$J$1011)) | K24: =IF(OR($B24="", $C24=""), "", SUMIF('Time Entries'!$S$12:$S$1011, _xlfn.CONCAT(K$10, " - ", $Y24), 'Time Entries'!$D$12:$D$1011)+SUMIF('Time Entries'!$T$12:$T$1011, _xlfn.CONCAT(K$10, " - ", $Y24), 'Time Entries'!$F$12:$F$1011)+SUMIF('Time Entries'!$U$12:$U$1011, _xlfn.CONCAT(K$10, " - ", $Y24), 'Time Entries'!$H$12:$H$1011)+SUMIF('Time Entries'!$V$12:$V$1011, _xlfn.CONCAT(K$10, " - ", $Y24), 'Time Entries'!$J$12:$J$1011)) | L24: =IF(OR($B24="", $C24=""), "", SUMIF('Time Entries'!$S$12:$S$1011, _xlfn.CONCAT(L$10, " - ", $Y24), 'Time Entries'!$D$12:$D$1011)+SUMIF('Time Entries'!$T$12:$T$1011, _xlfn.CONCAT(L$10, " - ", $Y24), 'Time Entries'!$F$12:$F$1011)+SUMIF('Time Entries'!$U$12:$U$1011, _xlfn.CONCAT(L$10, " - ", $Y24), 'Time Entries'!$H$12:$H$1011)+SUMIF('Time Entries'!$V$12:$V$1011, _xlfn.CONCAT(L$10, " - ", $Y24), 'Time Entries'!$J$12:$J$1011)) | M24: =IF(OR($B24="", $C24=""), "", SUMIF('Time Entries'!$S$12:$S$1011, _xlfn.CONCAT(M$10, " - ", $Y24), 'Time Entries'!$D$12:$D$1011)+SUMIF('Time Entries'!$T$12:$T$1011, _xlfn.CONCAT(M$10, " - ", $Y24), 'Time Entries'!$F$12:$F$1011)+SUMIF('Time Entries'!$U$12:$U$1011, _xlfn.CONCAT(M$10, " - ", $Y24), 'Time Entries'!$H$12:$H$1011)+SUMIF('Time Entries'!$V$12:$V$1011, _xlfn.CONCAT(M$10, " - ", $Y24), 'Time Entries'!$J$12:$J$1011)) | N24: =IF(OR($B24="", $C24=""), "", SUMIF('Time Entries'!$S$12:$S$1011, _xlfn.CONCAT(N$10, " - ", $Y24), 'Time Entries'!$D$12:$D$1011)+SUMIF('Time Entries'!$T$12:$T$1011, _xlfn.CONCAT(N$10, " - ", $Y24), 'Time Entries'!$F$12:$F$1011)+SUMIF('Time Entries'!$U$12:$U$1011, _xlfn.CONCAT(N$10, " - ", $Y24), 'Time Entries'!$H$12:$H$1011)+SUMIF('Time Entries'!$V$12:$V$1011, _xlfn.CONCAT(N$10, " - ", $Y24), 'Time Entries'!$J$12:$J$1011)) | O24: =IF(OR($B24="", $C24=""), "", SUMIF('Time Entries'!$S$12:$S$1011, _xlfn.CONCAT(O$10, " - ", $Y24), 'Time Entries'!$D$12:$D$1011)+SUMIF('Time Entries'!$T$12:$T$1011, _xlfn.CONCAT(O$10, " - ", $Y24), 'Time Entries'!$F$12:$F$1011)+SUMIF('Time Entries'!$U$12:$U$1011, _xlfn.CONCAT(O$10, " - ", $Y24), 'Time Entries'!$H$12:$H$1011)+SUMIF('Time Entries'!$V$12:$V$1011, _xlfn.CONCAT(O$10, " - ", $Y24), 'Time Entries'!$J$12:$J$1011)) | P24: =IF(OR($B24="", $C24=""), "", SUMIF('Time Entries'!$S$12:$S$1011, _xlfn.CONCAT(P$10, " - ", $Y24), 'Time Entries'!$D$12:$D$1011)+SUMIF('Time Entries'!$T$12:$T$1011, _xlfn.CONCAT(P$10, " - ", $Y24), 'Time Entries'!$F$12:$F$1011)+SUMIF('Time Entries'!$U$12:$U$1011, _xlfn.CONCAT(P$10, " - ", $Y24), 'Time Entries'!$H$12:$H$1011)+SUMIF('Time Entries'!$V$12:$V$1011, _xlfn.CONCAT(P$10, " - ", $Y24), 'Time Entries'!$J$12:$J$1011)) | ... T24: =IF(OR($B24="", $C24=""), "", SUMIF('Time Entries'!$S$12:$S$1011, _xlfn.CONCAT(T$10, " - ", $Y24), 'Time Entries'!$D$12:$D$1011)+SUMIF('Time Entries'!$T$12:$T$1011, _xlfn.CONCAT(T$10, " - ", $Y24), 'Time Entries'!$F$12:$F$1011)+SUMIF('Time Entries'!$U$12:$U$1011, _xlfn.CONCAT(T$10, " - ", $Y24), 'Time Entries'!$H$12:$H$1011)+SUMIF('Time Entries'!$V$12:$V$1011, _xlfn.CONCAT(T$10, " - ", $Y24), 'Time Entries'!$J$12:$J$1011)) | W24: =IF($Y24="", "", IF(COUNTIF($Y$12:$Y$261, $Y24)>1, "X", "")) | Y24: =IF(OR($B24="", $C24=""), "", _xlfn.CONCAT($B24, " - ", $C24)) | AD24: =IF(COUNTIF($B24:$C24, "")=1, "X", "") | AF24: =IF(OR($B24="", $C24=""), "", IF(AND($AF$9="", $AG$9=""), "X", IF(AND(NOT($AF$9=""), NOT($AG$9="")), IF($Y24=_xlfn.CONCAT($AF$9, " - ", $AG$9), "X", ""), IF($AG$9="", IF($AF$9=$B24, "X", ""), "")))) | AH24: =IF($B24="", "", IF(COUNTIF($B$12:$B24, $B24)>1, "", $B24)) | AI24: =IF($AH24="", "", COUNTIF($AH$12:$AH$261, "<"&$AH24)+1+COUNTIF($AH$12:$AH24, $AH24)-1-$AH$10) | AK24: =IF(OR($AK$8="", $B24=""), "", IF($AK$8=$B24, $C24, "")) | AL24: =IF($AK24="", "", COUNTIF($AK$12:$AK$261, "<"&$AK24)+1+COUNTIF($AK$12:$AK24, $AK24)-1-$AK$10)
F25: =IF(OR($B25="", $C25=""), "", SUM($I25:$T25)) | G25: =IF($F25="", "", IF($D25-$F25<0, TEXT(($F25-$D25), "-[h]:mm"), $D25-$F25)) | I25: =IF(OR($B25="", $C25=""), "", SUMIF('Time Entries'!$S$12:$S$1011, _xlfn.CONCAT(I$10, " - ", $Y25), 'Time Entries'!$D$12:$D$1011)+SUMIF('Time Entries'!$T$12:$T$1011, _xlfn.CONCAT(I$10, " - ", $Y25), 'Time Entries'!$F$12:$F$1011)+SUMIF('Time Entries'!$U$12:$U$1011, _xlfn.CONCAT(I$10, " - ", $Y25), 'Time Entries'!$H$12:$H$1011)+SUMIF('Time Entries'!$V$12:$V$1011, _xlfn.CONCAT(I$10, " - ", $Y25), 'Time Entries'!$J$12:$J$1011)) | J25: =IF(OR($B25="", $C25=""), "", SUMIF('Time Entries'!$S$12:$S$1011, _xlfn.CONCAT(J$10, " - ", $Y25), 'Time Entries'!$D$12:$D$1011)+SUMIF('Time Entries'!$T$12:$T$1011, _xlfn.CONCAT(J$10, " - ", $Y25), 'Time Entries'!$F$12:$F$1011)+SUMIF('Time Entries'!$U$12:$U$1011, _xlfn.CONCAT(J$10, " - ", $Y25), 'Time Entries'!$H$12:$H$1011)+SUMIF('Time Entries'!$V$12:$V$1011, _xlfn.CONCAT(J$10, " - ", $Y25), 'Time Entries'!$J$12:$J$1011)) | K25: =IF(OR($B25="", $C25=""), "", SUMIF('Time Entries'!$S$12:$S$1011, _xlfn.CONCAT(K$10, " - ", $Y25), 'Time Entries'!$D$12:$D$1011)+SUMIF('Time Entries'!$T$12:$T$1011, _xlfn.CONCAT(K$10, " - ", $Y25), 'Time Entries'!$F$12:$F$1011)+SUMIF('Time Entries'!$U$12:$U$1011, _xlfn.CONCAT(K$10, " - ", $Y25), 'Time Entries'!$H$12:$H$1011)+SUMIF('Time Entries'!$V$12:$V$1011, _xlfn.CONCAT(K$10, " - ", $Y25), 'Time Entries'!$J$12:$J$1011)) | L25: =IF(OR($B25="", $C25=""), "", SUMIF('Time Entries'!$S$12:$S$1011, _xlfn.CONCAT(L$10, " - ", $Y25), 'Time Entries'!$D$12:$D$1011)+SUMIF('Time Entries'!$T$12:$T$1011, _xlfn.CONCAT(L$10, " - ", $Y25), 'Time Entries'!$F$12:$F$1011)+SUMIF('Time Entries'!$U$12:$U$1011, _xlfn.CONCAT(L$10, " - ", $Y25), 'Time Entries'!$H$12:$H$1011)+SUMIF('Time Entries'!$V$12:$V$1011, _xlfn.CONCAT(L$10, " - ", $Y25), 'Time Entries'!$J$12:$J$1011)) | M25: =IF(OR($B25="", $C25=""), "", SUMIF('Time Entries'!$S$12:$S$1011, _xlfn.CONCAT(M$10, " - ", $Y25), 'Time Entries'!$D$12:$D$1011)+SUMIF('Time Entries'!$T$12:$T$1011, _xlfn.CONCAT(M$10, " - ", $Y25), 'Time Entries'!$F$12:$F$1011)+SUMIF('Time Entries'!$U$12:$U$1011, _xlfn.CONCAT(M$10, " - ", $Y25), 'Time Entries'!$H$12:$H$1011)+SUMIF('Time Entries'!$V$12:$V$1011, _xlfn.CONCAT(M$10, " - ", $Y25), 'Time Entries'!$J$12:$J$1011)) | N25: =IF(OR($B25="", $C25=""), "", SUMIF('Time Entries'!$S$12:$S$1011, _xlfn.CONCAT(N$10, " - ", $Y25), 'Time Entries'!$D$12:$D$1011)+SUMIF('Time Entries'!$T$12:$T$1011, _xlfn.CONCAT(N$10, " - ", $Y25), 'Time Entries'!$F$12:$F$1011)+SUMIF('Time Entries'!$U$12:$U$1011, _xlfn.CONCAT(N$10, " - ", $Y25), 'Time Entries'!$H$12:$H$1011)+SUMIF('Time Entries'!$V$12:$V$1011, _xlfn.CONCAT(N$10, " - ", $Y25), 'Time Entries'!$J$12:$J$1011)) | O25: =IF(OR($B25="", $C25=""), "", SUMIF('Time Entries'!$S$12:$S$1011, _xlfn.CONCAT(O$10, " - ", $Y25), 'Time Entries'!$D$12:$D$1011)+SUMIF('Time Entries'!$T$12:$T$1011, _xlfn.CONCAT(O$10, " - ", $Y25), 'Time Entries'!$F$12:$F$1011)+SUMIF('Time Entries'!$U$12:$U$1011, _xlfn.CONCAT(O$10, " - ", $Y25), 'Time Entries'!$H$12:$H$1011)+SUMIF('Time Entries'!$V$12:$V$1011, _xlfn.CONCAT(O$10, " - ", $Y25), 'Time Entries'!$J$12:$J$1011)) | P25: =IF(OR($B25="", $C25=""), "", SUMIF('Time Entries'!$S$12:$S$1011, _xlfn.CONCAT(P$10, " - ", $Y25), 'Time Entries'!$D$12:$D$1011)+SUMIF('Time Entries'!$T$12:$T$1011, _xlfn.CONCAT(P$10, " - ", $Y25), 'Time Entries'!$F$12:$F$1011)+SUMIF('Time Entries'!$U$12:$U$1011, _xlfn.CONCAT(P$10, " - ", $Y25), 'Time Entries'!$H$12:$H$1011)+SUMIF('Time Entries'!$V$12:$V$1011, _xlfn.CONCAT(P$10, " - ", $Y25), 'Time Entries'!$J$12:$J$1011)) | ... T25: =IF(OR($B25="", $C25=""), "", SUMIF('Time Entries'!$S$12:$S$1011, _xlfn.CONCAT(T$10, " - ", $Y25), 'Time Entries'!$D$12:$D$1011)+SUMIF('Time Entries'!$T$12:$T$1011, _xlfn.CONCAT(T$10, " - ", $Y25), 'Time Entries'!$F$12:$F$1011)+SUMIF('Time Entries'!$U$12:$U$1011, _xlfn.CONCAT(T$10, " - ", $Y25), 'Time Entries'!$H$12:$H$1011)+SUMIF('Time Entries'!$V$12:$V$1011, _xlfn.CONCAT(T$10, " - ", $Y25), 'Time Entries'!$J$12:$J$1011)) | W25: =IF($Y25="", "", IF(COUNTIF($Y$12:$Y$261, $Y25)>1, "X", "")) | Y25: =IF(OR($B25="", $C25=""), "", _xlfn.CONCAT($B25, " - ", $C25)) | AD25: =IF(COUNTIF($B25:$C25, "")=1, "X", "") | AF25: =IF(OR($B25="", $C25=""), "", IF(AND($AF$9="", $AG$9=""), "X", IF(AND(NOT($AF$9=""), NOT($AG$9="")), IF($Y25=_xlfn.CONCAT($AF$9, " - ", $AG$9), "X", ""), IF($AG$9="", IF($AF$9=$B25, "X", ""), "")))) | AH25: =IF($B25="", "", IF(COUNTIF($B$12:$B25, $B25)>1, "", $B25)) | AI25: =IF($AH25="", "", COUNTIF($AH$12:$AH$261, "<"&$AH25)+1+COUNTIF($AH$12:$AH25, $AH25)-1-$AH$10) | AK25: =IF(OR($AK$8="", $B25=""), "", IF($AK$8=$B25, $C25, "")) | AL25: =IF($AK25="", "", COUNTIF($AK$12:$AK$261, "<"&$AK25)+1+COUNTIF($AK$12:$AK25, $AK25)-1-$AK$10)
F26: =IF(OR($B26="", $C26=""), "", SUM($I26:$T26)) | G26: =IF($F26="", "", IF($D26-$F26<0, TEXT(($F26-$D26), "-[h]:mm"), $D26-$F26)) | I26: =IF(OR($B26="", $C26=""), "", SUMIF('Time Entries'!$S$12:$S$1011, _xlfn.CONCAT(I$10, " - ", $Y26), 'Time Entries'!$D$12:$D$1011)+SUMIF('Time Entries'!$T$12:$T$1011, _xlfn.CONCAT(I$10, " - ", $Y26), 'Time Entries'!$F$12:$F$1011)+SUMIF('Time Entries'!$U$12:$U$1011, _xlfn.CONCAT(I$10, " - ", $Y26), 'Time Entries'!$H$12:$H$1011)+SUMIF('Time Entries'!$V$12:$V$1011, _xlfn.CONCAT(I$10, " - ", $Y26), 'Time Entries'!$J$12:$J$1011)) | J26: =IF(OR($B26="", $C26=""), "", SUMIF('Time Entries'!$S$12:$S$1011, _xlfn.CONCAT(J$10, " - ", $Y26), 'Time Entries'!$D$12:$D$1011)+SUMIF('Time Entries'!$T$12:$T$1011, _xlfn.CONCAT(J$10, " - ", $Y26), 'Time Entries'!$F$12:$F$1011)+SUMIF('Time Entries'!$U$12:$U$1011, _xlfn.CONCAT(J$10, " - ", $Y26), 'Time Entries'!$H$12:$H$1011)+SUMIF('Time Entries'!$V$12:$V$1011, _xlfn.CONCAT(J$10, " - ", $Y26), 'Time Entries'!$J$12:$J$1011)) | K26: =IF(OR($B26="", $C26=""), "", SUMIF('Time Entries'!$S$12:$S$1011, _xlfn.CONCAT(K$10, " - ", $Y26), 'Time Entries'!$D$12:$D$1011)+SUMIF('Time Entries'!$T$12:$T$1011, _xlfn.CONCAT(K$10, " - ", $Y26), 'Time Entries'!$F$12:$F$1011)+SUMIF('Time Entries'!$U$12:$U$1011, _xlfn.CONCAT(K$10, " - ", $Y26), 'Time Entries'!$H$12:$H$1011)+SUMIF('Time Entries'!$V$12:$V$1011, _xlfn.CONCAT(K$10, " - ", $Y26), 'Time Entries'!$J$12:$J$1011)) | L26: =IF(OR($B26="", $C26=""), "", SUMIF('Time Entries'!$S$12:$S$1011, _xlfn.CONCAT(L$10, " - ", $Y26), 'Time Entries'!$D$12:$D$1011)+SUMIF('Time Entries'!$T$12:$T$1011, _xlfn.CONCAT(L$10, " - ", $Y26), 'Time Entries'!$F$12:$F$1011)+SUMIF('Time Entries'!$U$12:$U$1011, _xlfn.CONCAT(L$10, " - ", $Y26), 'Time Entries'!$H$12:$H$1011)+SUMIF('Time Entries'!$V$12:$V$1011, _xlfn.CONCAT(L$10, " - ", $Y26), 'Time Entries'!$J$12:$J$1011)) | M26: =IF(OR($B26="", $C26=""), "", SUMIF('Time Entries'!$S$12:$S$1011, _xlfn.CONCAT(M$10, " - ", $Y26), 'Time Entries'!$D$12:$D$1011)+SUMIF('Time Entries'!$T$12:$T$1011, _xlfn.CONCAT(M$10, " - ", $Y26), 'Time Entries'!$F$12:$F$1011)+SUMIF('Time Entries'!$U$12:$U$1011, _xlfn.CONCAT(M$10, " - ", $Y26), 'Time Entries'!$H$12:$H$1011)+SUMIF('Time Entries'!$V$12:$V$1011, _xlfn.CONCAT(M$10, " - ", $Y26), 'Time Entries'!$J$12:$J$1011)) | N26: =IF(OR($B26="", $C26=""), "", SUMIF('Time Entries'!$S$12:$S$1011, _xlfn.CONCAT(N$10, " - ", $Y26), 'Time Entries'!$D$12:$D$1011)+SUMIF('Time Entries'!$T$12:$T$1011, _xlfn.CONCAT(N$10, " - ", $Y26), 'Time Entries'!$F$12:$F$1011)+SUMIF('Time Entries'!$U$12:$U$1011, _xlfn.CONCAT(N$10, " - ", $Y26), 'Time Entries'!$H$12:$H$1011)+SUMIF('Time Entries'!$V$12:$V$1011, _xlfn.CONCAT(N$10, " - ", $Y26), 'Time Entries'!$J$12:$J$1011)) | O26: =IF(OR($B26="", $C26=""), "", SUMIF('Time Entries'!$S$12:$S$1011, _xlfn.CONCAT(O$10, " - ", $Y26), 'Time Entries'!$D$12:$D$1011)+SUMIF('Time Entries'!$T$12:$T$1011, _xlfn.CONCAT(O$10, " - ", $Y26), 'Time Entries'!$F$12:$F$1011)+SUMIF('Time Entries'!$U$12:$U$1011, _xlfn.CONCAT(O$10, " - ", $Y26), 'Time Entries'!$H$12:$H$1011)+SUMIF('Time Entries'!$V$12:$V$1011, _xlfn.CONCAT(O$10, " - ", $Y26), 'Time Entries'!$J$12:$J$1011)) | P26: =IF(OR($B26="", $C26=""), "", SUMIF('Time Entries'!$S$12:$S$1011, _xlfn.CONCAT(P$10, " - ", $Y26), 'Time Entries'!$D$12:$D$1011)+SUMIF('Time Entries'!$T$12:$T$1011, _xlfn.CONCAT(P$10, " - ", $Y26), 'Time Entries'!$F$12:$F$1011)+SUMIF('Time Entries'!$U$12:$U$1011, _xlfn.CONCAT(P$10, " - ", $Y26), 'Time Entries'!$H$12:$H$1011)+SUMIF('Time Entries'!$V$12:$V$1011, _xlfn.CONCAT(P$10, " - ", $Y26), 'Time Entries'!$J$12:$J$1011)) | ... T26: =IF(OR($B26="", $C26=""), "", SUMIF('Time Entries'!$S$12:$S$1011, _xlfn.CONCAT(T$10, " - ", $Y26), 'Time Entries'!$D$12:$D$1011)+SUMIF('Time Entries'!$T$12:$T$1011, _xlfn.CONCAT(T$10, " - ", $Y26), 'Time Entries'!$F$12:$F$1011)+SUMIF('Time Entries'!$U$12:$U$1011, _xlfn.CONCAT(T$10, " - ", $Y26), 'Time Entries'!$H$12:$H$1011)+SUMIF('Time Entries'!$V$12:$V$1011, _xlfn.CONCAT(T$10, " - ", $Y26), 'Time Entries'!$J$12:$J$1011)) | W26: =IF($Y26="", "", IF(COUNTIF($Y$12:$Y$261, $Y26)>1, "X", "")) | Y26: =IF(OR($B26="", $C26=""), "", _xlfn.CONCAT($B26, " - ", $C26)) | AD26: =IF(COUNTIF($B26:$C26, "")=1, "X", "") | AF26: =IF(OR($B26="", $C26=""), "", IF(AND($AF$9="", $AG$9=""), "X", IF(AND(NOT($AF$9=""), NOT($AG$9="")), IF($Y26=_xlfn.CONCAT($AF$9, " - ", $AG$9), "X", ""), IF($AG$9="", IF($AF$9=$B26, "X", ""), "")))) | AH26: =IF($B26="", "", IF(COUNTIF($B$12:$B26, $B26)>1, "", $B26)) | AI26: =IF($AH26="", "", COUNTIF($AH$12:$AH$261, "<"&$AH26)+1+COUNTIF($AH$12:$AH26, $AH26)-1-$AH$10) | AK26: =IF(OR($AK$8="", $B26=""), "", IF($AK$8=$B26, $C26, "")) | AL26: =IF($AK26="", "", COUNTIF($AK$12:$AK$261, "<"&$AK26)+1+COUNTIF($AK$12:$AK26, $AK26)-1-$AK$10)
F27: =IF(OR($B27="", $C27=""), "", SUM($I27:$T27)) | G27: =IF($F27="", "", IF($D27-$F27<0, TEXT(($F27-$D27), "-[h]:mm"), $D27-$F27)) | I27: =IF(OR($B27="", $C27=""), "", SUMIF('Time Entries'!$S$12:$S$1011, _xlfn.CONCAT(I$10, " - ", $Y27), 'Time Entries'!$D$12:$D$1011)+SUMIF('Time Entries'!$T$12:$T$1011, _xlfn.CONCAT(I$10, " - ", $Y27), 'Time Entries'!$F$12:$F$1011)+SUMIF('Time Entries'!$U$12:$U$1011, _xlfn.CONCAT(I$10, " - ", $Y27), 'Time Entries'!$H$12:$H$1011)+SUMIF('Time Entries'!$V$12:$V$1011, _xlfn.CONCAT(I$10, " - ", $Y27), 'Time Entries'!$J$12:$J$1011)) | J27: =IF(OR($B27="", $C27=""), "", SUMIF('Time Entries'!$S$12:$S$1011, _xlfn.CONCAT(J$10, " - ", $Y27), 'Time Entries'!$D$12:$D$1011)+SUMIF('Time Entries'!$T$12:$T$1011, _xlfn.CONCAT(J$10, " - ", $Y27), 'Time Entries'!$F$12:$F$1011)+SUMIF('Time Entries'!$U$12:$U$1011, _xlfn.CONCAT(J$10, " - ", $Y27), 'Time Entries'!$H$12:$H$1011)+SUMIF('Time Entries'!$V$12:$V$1011, _xlfn.CONCAT(J$10, " - ", $Y27), 'Time Entries'!$J$12:$J$1011)) | K27: =IF(OR($B27="", $C27=""), "", SUMIF('Time Entries'!$S$12:$S$1011, _xlfn.CONCAT(K$10, " - ", $Y27), 'Time Entries'!$D$12:$D$1011)+SUMIF('Time Entries'!$T$12:$T$1011, _xlfn.CONCAT(K$10, " - ", $Y27), 'Time Entries'!$F$12:$F$1011)+SUMIF('Time Entries'!$U$12:$U$1011, _xlfn.CONCAT(K$10, " - ", $Y27), 'Time Entries'!$H$12:$H$1011)+SUMIF('Time Entries'!$V$12:$V$1011, _xlfn.CONCAT(K$10, " - ", $Y27), 'Time Entries'!$J$12:$J$1011)) | L27: =IF(OR($B27="", $C27=""), "", SUMIF('Time Entries'!$S$12:$S$1011, _xlfn.CONCAT(L$10, " - ", $Y27), 'Time Entries'!$D$12:$D$1011)+SUMIF('Time Entries'!$T$12:$T$1011, _xlfn.CONCAT(L$10, " - ", $Y27), 'Time Entries'!$F$12:$F$1011)+SUMIF('Time Entries'!$U$12:$U$1011, _xlfn.CONCAT(L$10, " - ", $Y27), 'Time Entries'!$H$12:$H$1011)+SUMIF('Time Entries'!$V$12:$V$1011, _xlfn.CONCAT(L$10, " - ", $Y27), 'Time Entries'!$J$12:$J$1011)) | M27: =IF(OR($B27="", $C27=""), "", SUMIF('Time Entries'!$S$12:$S$1011, _xlfn.CONCAT(M$10, " - ", $Y27), 'Time Entries'!$D$12:$D$1011)+SUMIF('Time Entries'!$T$12:$T$1011, _xlfn.CONCAT(M$10, " - ", $Y27), 'Time Entries'!$F$12:$F$1011)+SUMIF('Time Entries'!$U$12:$U$1011, _xlfn.CONCAT(M$10, " - ", $Y27), 'Time Entries'!$H$12:$H$1011)+SUMIF('Time Entries'!$V$12:$V$1011, _xlfn.CONCAT(M$10, " - ", $Y27), 'Time Entries'!$J$12:$J$1011)) | N27: =IF(OR($B27="", $C27=""), "", SUMIF('Time Entries'!$S$12:$S$1011, _xlfn.CONCAT(N$10, " - ", $Y27), 'Time Entries'!$D$12:$D$1011)+SUMIF('Time Entries'!$T$12:$T$1011, _xlfn.CONCAT(N$10, " - ", $Y27), 'Time Entries'!$F$12:$F$1011)+SUMIF('Time Entries'!$U$12:$U$1011, _xlfn.CONCAT(N$10, " - ", $Y27), 'Time Entries'!$H$12:$H$1011)+SUMIF('Time Entries'!$V$12:$V$1011, _xlfn.CONCAT(N$10, " - ", $Y27), 'Time Entries'!$J$12:$J$1011)) | O27: =IF(OR($B27="", $C27=""), "", SUMIF('Time Entries'!$S$12:$S$1011, _xlfn.CONCAT(O$10, " - ", $Y27), 'Time Entries'!$D$12:$D$1011)+SUMIF('Time Entries'!$T$12:$T$1011, _xlfn.CONCAT(O$10, " - ", $Y27), 'Time Entries'!$F$12:$F$1011)+SUMIF('Time Entries'!$U$12:$U$1011, _xlfn.CONCAT(O$10, " - ", $Y27), 'Time Entries'!$H$12:$H$1011)+SUMIF('Time Entries'!$V$12:$V$1011, _xlfn.CONCAT(O$10, " - ", $Y27), 'Time Entries'!$J$12:$J$1011)) | P27: =IF(OR($B27="", $C27=""), "", SUMIF('Time Entries'!$S$12:$S$1011, _xlfn.CONCAT(P$10, " - ", $Y27), 'Time Entries'!$D$12:$D$1011)+SUMIF('Time Entries'!$T$12:$T$1011, _xlfn.CONCAT(P$10, " - ", $Y27), 'Time Entries'!$F$12:$F$1011)+SUMIF('Time Entries'!$U$12:$U$1011, _xlfn.CONCAT(P$10, " - ", $Y27), 'Time Entries'!$H$12:$H$1011)+SUMIF('Time Entries'!$V$12:$V$1011, _xlfn.CONCAT(P$10, " - ", $Y27), 'Time Entries'!$J$12:$J$1011)) | ... T27: =IF(OR($B27="", $C27=""), "", SUMIF('Time Entries'!$S$12:$S$1011, _xlfn.CONCAT(T$10, " - ", $Y27), 'Time Entries'!$D$12:$D$1011)+SUMIF('Time Entries'!$T$12:$T$1011, _xlfn.CONCAT(T$10, " - ", $Y27), 'Time Entries'!$F$12:$F$1011)+SUMIF('Time Entries'!$U$12:$U$1011, _xlfn.CONCAT(T$10, " - ", $Y27), 'Time Entries'!$H$12:$H$1011)+SUMIF('Time Entries'!$V$12:$V$1011, _xlfn.CONCAT(T$10, " - ", $Y27), 'Time Entries'!$J$12:$J$1011)) | W27: =IF($Y27="", "", IF(COUNTIF($Y$12:$Y$261, $Y27)>1, "X", "")) | Y27: =IF(OR($B27="", $C27=""), "", _xlfn.CONCAT($B27, " - ", $C27)) | AD27: =IF(COUNTIF($B27:$C27, "")=1, "X", "") | AF27: =IF(OR($B27="", $C27=""), "", IF(AND($AF$9="", $AG$9=""), "X", IF(AND(NOT($AF$9=""), NOT($AG$9="")), IF($Y27=_xlfn.CONCAT($AF$9, " - ", $AG$9), "X", ""), IF($AG$9="", IF($AF$9=$B27, "X", ""), "")))) | AH27: =IF($B27="", "", IF(COUNTIF($B$12:$B27, $B27)>1, "", $B27)) | AI27: =IF($AH27="", "", COUNTIF($AH$12:$AH$261, "<"&$AH27)+1+COUNTIF($AH$12:$AH27, $AH27)-1-$AH$10) | AK27: =IF(OR($AK$8="", $B27=""), "", IF($AK$8=$B27, $C27, "")) | AL27: =IF($AK27="", "", COUNTIF($AK$12:$AK$261, "<"&$AK27)+1+COUNTIF($AK$12:$AK27, $AK27)-1-$AK$10)
F28: =IF(OR($B28="", $C28=""), "", SUM($I28:$T28)) | G28: =IF($F28="", "", IF($D28-$F28<0, TEXT(($F28-$D28), "-[h]:mm"), $D28-$F28)) | I28: =IF(OR($B28="", $C28=""), "", SUMIF('Time Entries'!$S$12:$S$1011, _xlfn.CONCAT(I$10, " - ", $Y28), 'Time Entries'!$D$12:$D$1011)+SUMIF('Time Entries'!$T$12:$T$1011, _xlfn.CONCAT(I$10, " - ", $Y28), 'Time Entries'!$F$12:$F$1011)+SUMIF('Time Entries'!$U$12:$U$1011, _xlfn.CONCAT(I$10, " - ", $Y28), 'Time Entries'!$H$12:$H$1011)+SUMIF('Time Entries'!$V$12:$V$1011, _xlfn.CONCAT(I$10, " - ", $Y28), 'Time Entries'!$J$12:$J$1011)) | J28: =IF(OR($B28="", $C28=""), "", SUMIF('Time Entries'!$S$12:$S$1011, _xlfn.CONCAT(J$10, " - ", $Y28), 'Time Entries'!$D$12:$D$1011)+SUMIF('Time Entries'!$T$12:$T$1011, _xlfn.CONCAT(J$10, " - ", $Y28), 'Time Entries'!$F$12:$F$1011)+SUMIF('Time Entries'!$U$12:$U$1011, _xlfn.CONCAT(J$10, " - ", $Y28), 'Time Entries'!$H$12:$H$1011)+SUMIF('Time Entries'!$V$12:$V$1011, _xlfn.CONCAT(J$10, " - ", $Y28), 'Time Entries'!$J$12:$J$1011)) | K28: =IF(OR($B28="", $C28=""), "", SUMIF('Time Entries'!$S$12:$S$1011, _xlfn.CONCAT(K$10, " - ", $Y28), 'Time Entries'!$D$12:$D$1011)+SUMIF('Time Entries'!$T$12:$T$1011, _xlfn.CONCAT(K$10, " - ", $Y28), 'Time Entries'!$F$12:$F$1011)+SUMIF('Time Entries'!$U$12:$U$1011, _xlfn.CONCAT(K$10, " - ", $Y28), 'Time Entries'!$H$12:$H$1011)+SUMIF('Time Entries'!$V$12:$V$1011, _xlfn.CONCAT(K$10, " - ", $Y28), 'Time Entries'!$J$12:$J$1011)) | L28: =IF(OR($B28="", $C28=""), "", SUMIF('Time Entries'!$S$12:$S$1011, _xlfn.CONCAT(L$10, " - ", $Y28), 'Time Entries'!$D$12:$D$1011)+SUMIF('Time Entries'!$T$12:$T$1011, _xlfn.CONCAT(L$10, " - ", $Y28), 'Time Entries'!$F$12:$F$1011)+SUMIF('Time Entries'!$U$12:$U$1011, _xlfn.CONCAT(L$10, " - ", $Y28), 'Time Entries'!$H$12:$H$1011)+SUMIF('Time Entries'!$V$12:$V$1011, _xlfn.CONCAT(L$10, " - ", $Y28), 'Time Entries'!$J$12:$J$1011)) | M28: =IF(OR($B28="", $C28=""), "", SUMIF('Time Entries'!$S$12:$S$1011, _xlfn.CONCAT(M$10, " - ", $Y28), 'Time Entries'!$D$12:$D$1011)+SUMIF('Time Entries'!$T$12:$T$1011, _xlfn.CONCAT(M$10, " - ", $Y28), 'Time Entries'!$F$12:$F$1011)+SUMIF('Time Entries'!$U$12:$U$1011, _xlfn.CONCAT(M$10, " - ", $Y28), 'Time Entries'!$H$12:$H$1011)+SUMIF('Time Entries'!$V$12:$V$1011, _xlfn.CONCAT(M$10, " - ", $Y28), 'Time Entries'!$J$12:$J$1011)) | N28: =IF(OR($B28="", $C28=""), "", SUMIF('Time Entries'!$S$12:$S$1011, _xlfn.CONCAT(N$10, " - ", $Y28), 'Time Entries'!$D$12:$D$1011)+SUMIF('Time Entries'!$T$12:$T$1011, _xlfn.CONCAT(N$10, " - ", $Y28), 'Time Entries'!$F$12:$F$1011)+SUMIF('Time Entries'!$U$12:$U$1011, _xlfn.CONCAT(N$10, " - ", $Y28), 'Time Entries'!$H$12:$H$1011)+SUMIF('Time Entries'!$V$12:$V$1011, _xlfn.CONCAT(N$10, " - ", $Y28), 'Time Entries'!$J$12:$J$1011)) | O28: =IF(OR($B28="", $C28=""), "", SUMIF('Time Entries'!$S$12:$S$1011, _xlfn.CONCAT(O$10, " - ", $Y28), 'Time Entries'!$D$12:$D$1011)+SUMIF('Time Entries'!$T$12:$T$1011, _xlfn.CONCAT(O$10, " - ", $Y28), 'Time Entries'!$F$12:$F$1011)+SUMIF('Time Entries'!$U$12:$U$1011, _xlfn.CONCAT(O$10, " - ", $Y28), 'Time Entries'!$H$12:$H$1011)+SUMIF('Time Entries'!$V$12:$V$1011, _xlfn.CONCAT(O$10, " - ", $Y28), 'Time Entries'!$J$12:$J$1011)) | P28: =IF(OR($B28="", $C28=""), "", SUMIF('Time Entries'!$S$12:$S$1011, _xlfn.CONCAT(P$10, " - ", $Y28), 'Time Entries'!$D$12:$D$1011)+SUMIF('Time Entries'!$T$12:$T$1011, _xlfn.CONCAT(P$10, " - ", $Y28), 'Time Entries'!$F$12:$F$1011)+SUMIF('Time Entries'!$U$12:$U$1011, _xlfn.CONCAT(P$10, " - ", $Y28), 'Time Entries'!$H$12:$H$1011)+SUMIF('Time Entries'!$V$12:$V$1011, _xlfn.CONCAT(P$10, " - ", $Y28), 'Time Entries'!$J$12:$J$1011)) | ... T28: =IF(OR($B28="", $C28=""), "", SUMIF('Time Entries'!$S$12:$S$1011, _xlfn.CONCAT(T$10, " - ", $Y28), 'Time Entries'!$D$12:$D$1011)+SUMIF('Time Entries'!$T$12:$T$1011, _xlfn.CONCAT(T$10, " - ", $Y28), 'Time Entries'!$F$12:$F$1011)+SUMIF('Time Entries'!$U$12:$U$1011, _xlfn.CONCAT(T$10, " - ", $Y28), 'Time Entries'!$H$12:$H$1011)+SUMIF('Time Entries'!$V$12:$V$1011, _xlfn.CONCAT(T$10, " - ", $Y28), 'Time Entries'!$J$12:$J$1011)) | W28: =IF($Y28="", "", IF(COUNTIF($Y$12:$Y$261, $Y28)>1, "X", "")) | Y28: =IF(OR($B28="", $C28=""), "", _xlfn.CONCAT($B28, " - ", $C28)) | AD28: =IF(COUNTIF($B28:$C28, "")=1, "X", "") | AF28: =IF(OR($B28="", $C28=""), "", IF(AND($AF$9="", $AG$9=""), "X", IF(AND(NOT($AF$9=""), NOT($AG$9="")), IF($Y28=_xlfn.CONCAT($AF$9, " - ", $AG$9), "X", ""), IF($AG$9="", IF($AF$9=$B28, "X", ""), "")))) | AH28: =IF($B28="", "", IF(COUNTIF($B$12:$B28, $B28)>1, "", $B28)) | AI28: =IF($AH28="", "", COUNTIF($AH$12:$AH$261, "<"&$AH28)+1+COUNTIF($AH$12:$AH28, $AH28)-1-$AH$10) | AK28: =IF(OR($AK$8="", $B28=""), "", IF($AK$8=$B28, $C28, "")) | AL28: =IF($AK28="", "", COUNTIF($AK$12:$AK$261, "<"&$AK28)+1+COUNTIF($AK$12:$AK28, $AK28)-1-$AK$10)
F29: =IF(OR($B29="", $C29=""), "", SUM($I29:$T29)) | G29: =IF($F29="", "", IF($D29-$F29<0, TEXT(($F29-$D29), "-[h]:mm"), $D29-$F29)) | I29: =IF(OR($B29="", $C29=""), "", SUMIF('Time Entries'!$S$12:$S$1011, _xlfn.CONCAT(I$10, " - ", $Y29), 'Time Entries'!$D$12:$D$1011)+SUMIF('Time Entries'!$T$12:$T$1011, _xlfn.CONCAT(I$10, " - ", $Y29), 'Time Entries'!$F$12:$F$1011)+SUMIF('Time Entries'!$U$12:$U$1011, _xlfn.CONCAT(I$10, " - ", $Y29), 'Time Entries'!$H$12:$H$1011)+SUMIF('Time Entries'!$V$12:$V$1011, _xlfn.CONCAT(I$10, " - ", $Y29), 'Time Entries'!$J$12:$J$1011)) | J29: =IF(OR($B29="", $C29=""), "", SUMIF('Time Entries'!$S$12:$S$1011, _xlfn.CONCAT(J$10, " - ", $Y29), 'Time Entries'!$D$12:$D$1011)+SUMIF('Time Entries'!$T$12:$T$1011, _xlfn.CONCAT(J$10, " - ", $Y29), 'Time Entries'!$F$12:$F$1011)+SUMIF('Time Entries'!$U$12:$U$1011, _xlfn.CONCAT(J$10, " - ", $Y29), 'Time Entries'!$H$12:$H$1011)+SUMIF('Time Entries'!$V$12:$V$1011, _xlfn.CONCAT(J$10, " - ", $Y29), 'Time Entries'!$J$12:$J$1011)) | K29: =IF(OR($B29="", $C29=""), "", SUMIF('Time Entries'!$S$12:$S$1011, _xlfn.CONCAT(K$10, " - ", $Y29), 'Time Entries'!$D$12:$D$1011)+SUMIF('Time Entries'!$T$12:$T$1011, _xlfn.CONCAT(K$10, " - ", $Y29), 'Time Entries'!$F$12:$F$1011)+SUMIF('Time Entries'!$U$12:$U$1011, _xlfn.CONCAT(K$10, " - ", $Y29), 'Time Entries'!$H$12:$H$1011)+SUMIF('Time Entries'!$V$12:$V$1011, _xlfn.CONCAT(K$10, " - ", $Y29), 'Time Entries'!$J$12:$J$1011)) | L29: =IF(OR($B29="", $C29=""), "", SUMIF('Time Entries'!$S$12:$S$1011, _xlfn.CONCAT(L$10, " - ", $Y29), 'Time Entries'!$D$12:$D$1011)+SUMIF('Time Entries'!$T$12:$T$1011, _xlfn.CONCAT(L$10, " - ", $Y29), 'Time Entries'!$F$12:$F$1011)+SUMIF('Time Entries'!$U$12:$U$1011, _xlfn.CONCAT(L$10, " - ", $Y29), 'Time Entries'!$H$12:$H$1011)+SUMIF('Time Entries'!$V$12:$V$1011, _xlfn.CONCAT(L$10, " - ", $Y29), 'Time Entries'!$J$12:$J$1011)) | M29: =IF(OR($B29="", $C29=""), "", SUMIF('Time Entries'!$S$12:$S$1011, _xlfn.CONCAT(M$10, " - ", $Y29), 'Time Entries'!$D$12:$D$1011)+SUMIF('Time Entries'!$T$12:$T$1011, _xlfn.CONCAT(M$10, " - ", $Y29), 'Time Entries'!$F$12:$F$1011)+SUMIF('Time Entries'!$U$12:$U$1011, _xlfn.CONCAT(M$10, " - ", $Y29), 'Time Entries'!$H$12:$H$1011)+SUMIF('Time Entries'!$V$12:$V$1011, _xlfn.CONCAT(M$10, " - ", $Y29), 'Time Entries'!$J$12:$J$1011)) | N29: =IF(OR($B29="", $C29=""), "", SUMIF('Time Entries'!$S$12:$S$1011, _xlfn.CONCAT(N$10, " - ", $Y29), 'Time Entries'!$D$12:$D$1011)+SUMIF('Time Entries'!$T$12:$T$1011, _xlfn.CONCAT(N$10, " - ", $Y29), 'Time Entries'!$F$12:$F$1011)+SUMIF('Time Entries'!$U$12:$U$1011, _xlfn.CONCAT(N$10, " - ", $Y29), 'Time Entries'!$H$12:$H$1011)+SUMIF('Time Entries'!$V$12:$V$1011, _xlfn.CONCAT(N$10, " - ", $Y29), 'Time Entries'!$J$12:$J$1011)) | O29: =IF(OR($B29="", $C29=""), "", SUMIF('Time Entries'!$S$12:$S$1011, _xlfn.CONCAT(O$10, " - ", $Y29), 'Time Entries'!$D$12:$D$1011)+SUMIF('Time Entries'!$T$12:$T$1011, _xlfn.CONCAT(O$10, " - ", $Y29), 'Time Entries'!$F$12:$F$1011)+SUMIF('Time Entries'!$U$12:$U$1011, _xlfn.CONCAT(O$10, " - ", $Y29), 'Time Entries'!$H$12:$H$1011)+SUMIF('Time Entries'!$V$12:$V$1011, _xlfn.CONCAT(O$10, " - ", $Y29), 'Time Entries'!$J$12:$J$1011)) | P29: =IF(OR($B29="", $C29=""), "", SUMIF('Time Entries'!$S$12:$S$1011, _xlfn.CONCAT(P$10, " - ", $Y29), 'Time Entries'!$D$12:$D$1011)+SUMIF('Time Entries'!$T$12:$T$1011, _xlfn.CONCAT(P$10, " - ", $Y29), 'Time Entries'!$F$12:$F$1011)+SUMIF('Time Entries'!$U$12:$U$1011, _xlfn.CONCAT(P$10, " - ", $Y29), 'Time Entries'!$H$12:$H$1011)+SUMIF('Time Entries'!$V$12:$V$1011, _xlfn.CONCAT(P$10, " - ", $Y29), 'Time Entries'!$J$12:$J$1011)) | ... T29: =IF(OR($B29="", $C29=""), "", SUMIF('Time Entries'!$S$12:$S$1011, _xlfn.CONCAT(T$10, " - ", $Y29), 'Time Entries'!$D$12:$D$1011)+SUMIF('Time Entries'!$T$12:$T$1011, _xlfn.CONCAT(T$10, " - ", $Y29), 'Time Entries'!$F$12:$F$1011)+SUMIF('Time Entries'!$U$12:$U$1011, _xlfn.CONCAT(T$10, " - ", $Y29), 'Time Entries'!$H$12:$H$1011)+SUMIF('Time Entries'!$V$12:$V$1011, _xlfn.CONCAT(T$10, " - ", $Y29), 'Time Entries'!$J$12:$J$1011)) | W29: =IF($Y29="", "", IF(COUNTIF($Y$12:$Y$261, $Y29)>1, "X", "")) | Y29: =IF(OR($B29="", $C29=""), "", _xlfn.CONCAT($B29, " - ", $C29)) | AD29: =IF(COUNTIF($B29:$C29, "")=1, "X", "") | AF29: =IF(OR($B29="", $C29=""), "", IF(AND($AF$9="", $AG$9=""), "X", IF(AND(NOT($AF$9=""), NOT($AG$9="")), IF($Y29=_xlfn.CONCAT($AF$9, " - ", $AG$9), "X", ""), IF($AG$9="", IF($AF$9=$B29, "X", ""), "")))) | AH29: =IF($B29="", "", IF(COUNTIF($B$12:$B29, $B29)>1, "", $B29)) | AI29: =IF($AH29="", "", COUNTIF($AH$12:$AH$261, "<"&$AH29)+1+COUNTIF($AH$12:$AH29, $AH29)-1-$AH$10) | AK29: =IF(OR($AK$8="", $B29=""), "", IF($AK$8=$B29, $C29, "")) | AL29: =IF($AK29="", "", COUNTIF($AK$12:$AK$261, "<"&$AK29)+1+COUNTIF($AK$12:$AK29, $AK29)-1-$AK$10)
F30: =IF(OR($B30="", $C30=""), "", SUM($I30:$T30)) | G30: =IF($F30="", "", IF($D30-$F30<0, TEXT(($F30-$D30), "-[h]:mm"), $D30-$F30)) | I30: =IF(OR($B30="", $C30=""), "", SUMIF('Time Entries'!$S$12:$S$1011, _xlfn.CONCAT(I$10, " - ", $Y30), 'Time Entries'!$D$12:$D$1011)+SUMIF('Time Entries'!$T$12:$T$1011, _xlfn.CONCAT(I$10, " - ", $Y30), 'Time Entries'!$F$12:$F$1011)+SUMIF('Time Entries'!$U$12:$U$1011, _xlfn.CONCAT(I$10, " - ", $Y30), 'Time Entries'!$H$12:$H$1011)+SUMIF('Time Entries'!$V$12:$V$1011, _xlfn.CONCAT(I$10, " - ", $Y30), 'Time Entries'!$J$12:$J$1011)) | J30: =IF(OR($B30="", $C30=""), "", SUMIF('Time Entries'!$S$12:$S$1011, _xlfn.CONCAT(J$10, " - ", $Y30), 'Time Entries'!$D$12:$D$1011)+SUMIF('Time Entries'!$T$12:$T$1011, _xlfn.CONCAT(J$10, " - ", $Y30), 'Time Entries'!$F$12:$F$1011)+SUMIF('Time Entries'!$U$12:$U$1011, _xlfn.CONCAT(J$10, " - ", $Y30), 'Time Entries'!$H$12:$H$1011)+SUMIF('Time Entries'!$V$12:$V$1011, _xlfn.CONCAT(J$10, " - ", $Y30), 'Time Entries'!$J$12:$J$1011)) | K30: =IF(OR($B30="", $C30=""), "", SUMIF('Time Entries'!$S$12:$S$1011, _xlfn.CONCAT(K$10, " - ", $Y30), 'Time Entries'!$D$12:$D$1011)+SUMIF('Time Entries'!$T$12:$T$1011, _xlfn.CONCAT(K$10, " - ", $Y30), 'Time Entries'!$F$12:$F$1011)+SUMIF('Time Entries'!$U$12:$U$1011, _xlfn.CONCAT(K$10, " - ", $Y30), 'Time Entries'!$H$12:$H$1011)+SUMIF('Time Entries'!$V$12:$V$1011, _xlfn.CONCAT(K$10, " - ", $Y30), 'Time Entries'!$J$12:$J$1011)) | L30: =IF(OR($B30="", $C30=""), "", SUMIF('Time Entries'!$S$12:$S$1011, _xlfn.CONCAT(L$10, " - ", $Y30), 'Time Entries'!$D$12:$D$1011)+SUMIF('Time Entries'!$T$12:$T$1011, _xlfn.CONCAT(L$10, " - ", $Y30), 'Time Entries'!$F$12:$F$1011)+SUMIF('Time Entries'!$U$12:$U$1011, _xlfn.CONCAT(L$10, " - ", $Y30), 'Time Entries'!$H$12:$H$1011)+SUMIF('Time Entries'!$V$12:$V$1011, _xlfn.CONCAT(L$10, " - ", $Y30), 'Time Entries'!$J$12:$J$1011)) | M30: =IF(OR($B30="", $C30=""), "", SUMIF('Time Entries'!$S$12:$S$1011, _xlfn.CONCAT(M$10, " - ", $Y30), 'Time Entries'!$D$12:$D$1011)+SUMIF('Time Entries'!$T$12:$T$1011, _xlfn.CONCAT(M$10, " - ", $Y30), 'Time Entries'!$F$12:$F$1011)+SUMIF('Time Entries'!$U$12:$U$1011, _xlfn.CONCAT(M$10, " - ", $Y30), 'Time Entries'!$H$12:$H$1011)+SUMIF('Time Entries'!$V$12:$V$1011, _xlfn.CONCAT(M$10, " - ", $Y30), 'Time Entries'!$J$12:$J$1011)) | N30: =IF(OR($B30="", $C30=""), "", SUMIF('Time Entries'!$S$12:$S$1011, _xlfn.CONCAT(N$10, " - ", $Y30), 'Time Entries'!$D$12:$D$1011)+SUMIF('Time Entries'!$T$12:$T$1011, _xlfn.CONCAT(N$10, " - ", $Y30), 'Time Entries'!$F$12:$F$1011)+SUMIF('Time Entries'!$U$12:$U$1011, _xlfn.CONCAT(N$10, " - ", $Y30), 'Time Entries'!$H$12:$H$1011)+SUMIF('Time Entries'!$V$12:$V$1011, _xlfn.CONCAT(N$10, " - ", $Y30), 'Time Entries'!$J$12:$J$1011)) | O30: =IF(OR($B30="", $C30=""), "", SUMIF('Time Entries'!$S$12:$S$1011, _xlfn.CONCAT(O$10, " - ", $Y30), 'Time Entries'!$D$12:$D$1011)+SUMIF('Time Entries'!$T$12:$T$1011, _xlfn.CONCAT(O$10, " - ", $Y30), 'Time Entries'!$F$12:$F$1011)+SUMIF('Time Entries'!$U$12:$U$1011, _xlfn.CONCAT(O$10, " - ", $Y30), 'Time Entries'!$H$12:$H$1011)+SUMIF('Time Entries'!$V$12:$V$1011, _xlfn.CONCAT(O$10, " - ", $Y30), 'Time Entries'!$J$12:$J$1011)) | P30: =IF(OR($B30="", $C30=""), "", SUMIF('Time Entries'!$S$12:$S$1011, _xlfn.CONCAT(P$10, " - ", $Y30), 'Time Entries'!$D$12:$D$1011)+SUMIF('Time Entries'!$T$12:$T$1011, _xlfn.CONCAT(P$10, " - ", $Y30), 'Time Entries'!$F$12:$F$1011)+SUMIF('Time Entries'!$U$12:$U$1011, _xlfn.CONCAT(P$10, " - ", $Y30), 'Time Entries'!$H$12:$H$1011)+SUMIF('Time Entries'!$V$12:$V$1011, _xlfn.CONCAT(P$10, " - ", $Y30), 'Time Entries'!$J$12:$J$1011)) | ... T30: =IF(OR($B30="", $C30=""), "", SUMIF('Time Entries'!$S$12:$S$1011, _xlfn.CONCAT(T$10, " - ", $Y30), 'Time Entries'!$D$12:$D$1011)+SUMIF('Time Entries'!$T$12:$T$1011, _xlfn.CONCAT(T$10, " - ", $Y30), 'Time Entries'!$F$12:$F$1011)+SUMIF('Time Entries'!$U$12:$U$1011, _xlfn.CONCAT(T$10, " - ", $Y30), 'Time Entries'!$H$12:$H$1011)+SUMIF('Time Entries'!$V$12:$V$1011, _xlfn.CONCAT(T$10, " - ", $Y30), 'Time Entries'!$J$12:$J$1011)) | W30: =IF($Y30="", "", IF(COUNTIF($Y$12:$Y$261, $Y30)>1, "X", "")) | Y30: =IF(OR($B30="", $C30=""), "", _xlfn.CONCAT($B30, " - ", $C30)) | AD30: =IF(COUNTIF($B30:$C30, "")=1, "X", "") | AF30: =IF(OR($B30="", $C30=""), "", IF(AND($AF$9="", $AG$9=""), "X", IF(AND(NOT($AF$9=""), NOT($AG$9="")), IF($Y30=_xlfn.CONCAT($AF$9, " - ", $AG$9), "X", ""), IF($AG$9="", IF($AF$9=$B30, "X", ""), "")))) | AH30: =IF($B30="", "", IF(COUNTIF($B$12:$B30, $B30)>1, "", $B30)) | AI30: =IF($AH30="", "", COUNTIF($AH$12:$AH$261, "<"&$AH30)+1+COUNTIF($AH$12:$AH30, $AH30)-1-$AH$10) | AK30: =IF(OR($AK$8="", $B30=""), "", IF($AK$8=$B30, $C30, "")) | AL30: =IF($AK30="", "", COUNTIF($AK$12:$AK$261, "<"&$AK30)+1+COUNTIF($AK$12:$AK30, $AK30)-1-$AK$10)
F31: =IF(OR($B31="", $C31=""), "", SUM($I31:$T31)) | G31: =IF($F31="", "", IF($D31-$F31<0, TEXT(($F31-$D31), "-[h]:mm"), $D31-$F31)) | I31: =IF(OR($B31="", $C31=""), "", SUMIF('Time Entries'!$S$12:$S$1011, _xlfn.CONCAT(I$10, " - ", $Y31), 'Time Entries'!$D$12:$D$1011)+SUMIF('Time Entries'!$T$12:$T$1011, _xlfn.CONCAT(I$10, " - ", $Y31), 'Time Entries'!$F$12:$F$1011)+SUMIF('Time Entries'!$U$12:$U$1011, _xlfn.CONCAT(I$10, " - ", $Y31), 'Time Entries'!$H$12:$H$1011)+SUMIF('Time Entries'!$V$12:$V$1011, _xlfn.CONCAT(I$10, " - ", $Y31), 'Time Entries'!$J$12:$J$1011)) | J31: =IF(OR($B31="", $C31=""), "", SUMIF('Time Entries'!$S$12:$S$1011, _xlfn.CONCAT(J$10, " - ", $Y31), 'Time Entries'!$D$12:$D$1011)+SUMIF('Time Entries'!$T$12:$T$1011, _xlfn.CONCAT(J$10, " - ", $Y31), 'Time Entries'!$F$12:$F$1011)+SUMIF('Time Entries'!$U$12:$U$1011, _xlfn.CONCAT(J$10, " - ", $Y31), 'Time Entries'!$H$12:$H$1011)+SUMIF('Time Entries'!$V$12:$V$1011, _xlfn.CONCAT(J$10, " - ", $Y31), 'Time Entries'!$J$12:$J$1011)) | K31: =IF(OR($B31="", $C31=""), "", SUMIF('Time Entries'!$S$12:$S$1011, _xlfn.CONCAT(K$10, " - ", $Y31), 'Time Entries'!$D$12:$D$1011)+SUMIF('Time Entries'!$T$12:$T$1011, _xlfn.CONCAT(K$10, " - ", $Y31), 'Time Entries'!$F$12:$F$1011)+SUMIF('Time Entries'!$U$12:$U$1011, _xlfn.CONCAT(K$10, " - ", $Y31), 'Time Entries'!$H$12:$H$1011)+SUMIF('Time Entries'!$V$12:$V$1011, _xlfn.CONCAT(K$10, " - ", $Y31), 'Time Entries'!$J$12:$J$1011)) | L31: =IF(OR($B31="", $C31=""), "", SUMIF('Time Entries'!$S$12:$S$1011, _xlfn.CONCAT(L$10, " - ", $Y31), 'Time Entries'!$D$12:$D$1011)+SUMIF('Time Entries'!$T$12:$T$1011, _xlfn.CONCAT(L$10, " - ", $Y31), 'Time Entries'!$F$12:$F$1011)+SUMIF('Time Entries'!$U$12:$U$1011, _xlfn.CONCAT(L$10, " - ", $Y31), 'Time Entries'!$H$12:$H$1011)+SUMIF('Time Entries'!$V$12:$V$1011, _xlfn.CONCAT(L$10, " - ", $Y31), 'Time Entries'!$J$12:$J$1011)) | M31: =IF(OR($B31="", $C31=""), "", SUMIF('Time Entries'!$S$12:$S$1011, _xlfn.CONCAT(M$10, " - ", $Y31), 'Time Entries'!$D$12:$D$1011)+SUMIF('Time Entries'!$T$12:$T$1011, _xlfn.CONCAT(M$10, " - ", $Y31), 'Time Entries'!$F$12:$F$1011)+SUMIF('Time Entries'!$U$12:$U$1011, _xlfn.CONCAT(M$10, " - ", $Y31), 'Time Entries'!$H$12:$H$1011)+SUMIF('Time Entries'!$V$12:$V$1011, _xlfn.CONCAT(M$10, " - ", $Y31), 'Time Entries'!$J$12:$J$1011)) | N31: =IF(OR($B31="", $C31=""), "", SUMIF('Time Entries'!$S$12:$S$1011, _xlfn.CONCAT(N$10, " - ", $Y31), 'Time Entries'!$D$12:$D$1011)+SUMIF('Time Entries'!$T$12:$T$1011, _xlfn.CONCAT(N$10, " - ", $Y31), 'Time Entries'!$F$12:$F$1011)+SUMIF('Time Entries'!$U$12:$U$1011, _xlfn.CONCAT(N$10, " - ", $Y31), 'Time Entries'!$H$12:$H$1011)+SUMIF('Time Entries'!$V$12:$V$1011, _xlfn.CONCAT(N$10, " - ", $Y31), 'Time Entries'!$J$12:$J$1011)) | O31: =IF(OR($B31="", $C31=""), "", SUMIF('Time Entries'!$S$12:$S$1011, _xlfn.CONCAT(O$10, " - ", $Y31), 'Time Entries'!$D$12:$D$1011)+SUMIF('Time Entries'!$T$12:$T$1011, _xlfn.CONCAT(O$10, " - ", $Y31), 'Time Entries'!$F$12:$F$1011)+SUMIF('Time Entries'!$U$12:$U$1011, _xlfn.CONCAT(O$10, " - ", $Y31), 'Time Entries'!$H$12:$H$1011)+SUMIF('Time Entries'!$V$12:$V$1011, _xlfn.CONCAT(O$10, " - ", $Y31), 'Time Entries'!$J$12:$J$1011)) | P31: =IF(OR($B31="", $C31=""), "", SUMIF('Time Entries'!$S$12:$S$1011, _xlfn.CONCAT(P$10, " - ", $Y31), 'Time Entries'!$D$12:$D$1011)+SUMIF('Time Entries'!$T$12:$T$1011, _xlfn.CONCAT(P$10, " - ", $Y31), 'Time Entries'!$F$12:$F$1011)+SUMIF('Time Entries'!$U$12:$U$1011, _xlfn.CONCAT(P$10, " - ", $Y31), 'Time Entries'!$H$12:$H$1011)+SUMIF('Time Entries'!$V$12:$V$1011, _xlfn.CONCAT(P$10, " - ", $Y31), 'Time Entries'!$J$12:$J$1011)) | ... T31: =IF(OR($B31="", $C31=""), "", SUMIF('Time Entries'!$S$12:$S$1011, _xlfn.CONCAT(T$10, " - ", $Y31), 'Time Entries'!$D$12:$D$1011)+SUMIF('Time Entries'!$T$12:$T$1011, _xlfn.CONCAT(T$10, " - ", $Y31), 'Time Entries'!$F$12:$F$1011)+SUMIF('Time Entries'!$U$12:$U$1011, _xlfn.CONCAT(T$10, " - ", $Y31), 'Time Entries'!$H$12:$H$1011)+SUMIF('Time Entries'!$V$12:$V$1011, _xlfn.CONCAT(T$10, " - ", $Y31), 'Time Entries'!$J$12:$J$1011)) | W31: =IF($Y31="", "", IF(COUNTIF($Y$12:$Y$261, $Y31)>1, "X", "")) | Y31: =IF(OR($B31="", $C31=""), "", _xlfn.CONCAT($B31, " - ", $C31)) | AD31: =IF(COUNTIF($B31:$C31, "")=1, "X", "") | AF31: =IF(OR($B31="", $C31=""), "", IF(AND($AF$9="", $AG$9=""), "X", IF(AND(NOT($AF$9=""), NOT($AG$9="")), IF($Y31=_xlfn.CONCAT($AF$9, " - ", $AG$9), "X", ""), IF($AG$9="", IF($AF$9=$B31, "X", ""), "")))) | AH31: =IF($B31="", "", IF(COUNTIF($B$12:$B31, $B31)>1, "", $B31)) | AI31: =IF($AH31="", "", COUNTIF($AH$12:$AH$261, "<"&$AH31)+1+COUNTIF($AH$12:$AH31, $AH31)-1-$AH$10) | AK31: =IF(OR($AK$8="", $B31=""), "", IF($AK$8=$B31, $C31, "")) | AL31: =IF($AK31="", "", COUNTIF($AK$12:$AK$261, "<"&$AK31)+1+COUNTIF($AK$12:$AK31, $AK31)-1-$AK$10)
F32: =IF(OR($B32="", $C32=""), "", SUM($I32:$T32)) | G32: =IF($F32="", "", IF($D32-$F32<0, TEXT(($F32-$D32), "-[h]:mm"), $D32-$F32)) | I32: =IF(OR($B32="", $C32=""), "", SUMIF('Time Entries'!$S$12:$S$1011, _xlfn.CONCAT(I$10, " - ", $Y32), 'Time Entries'!$D$12:$D$1011)+SUMIF('Time Entries'!$T$12:$T$1011, _xlfn.CONCAT(I$10, " - ", $Y32), 'Time Entries'!$F$12:$F$1011)+SUMIF('Time Entries'!$U$12:$U$1011, _xlfn.CONCAT(I$10, " - ", $Y32), 'Time Entries'!$H$12:$H$1011)+SUMIF('Time Entries'!$V$12:$V$1011, _xlfn.CONCAT(I$10, " - ", $Y32), 'Time Entries'!$J$12:$J$1011)) | J32: =IF(OR($B32="", $C32=""), "", SUMIF('Time Entries'!$S$12:$S$1011, _xlfn.CONCAT(J$10, " - ", $Y32), 'Time Entries'!$D$12:$D$1011)+SUMIF('Time Entries'!$T$12:$T$1011, _xlfn.CONCAT(J$10, " - ", $Y32), 'Time Entries'!$F$12:$F$1011)+SUMIF('Time Entries'!$U$12:$U$1011, _xlfn.CONCAT(J$10, " - ", $Y32), 'Time Entries'!$H$12:$H$1011)+SUMIF('Time Entries'!$V$12:$V$1011, _xlfn.CONCAT(J$10, " - ", $Y32), 'Time Entries'!$J$12:$J$1011)) | K32: =IF(OR($B32="", $C32=""), "", SUMIF('Time Entries'!$S$12:$S$1011, _xlfn.CONCAT(K$10, " - ", $Y32), 'Time Entries'!$D$12:$D$1011)+SUMIF('Time Entries'!$T$12:$T$1011, _xlfn.CONCAT(K$10, " - ", $Y32), 'Time Entries'!$F$12:$F$1011)+SUMIF('Time Entries'!$U$12:$U$1011, _xlfn.CONCAT(K$10, " - ", $Y32), 'Time Entries'!$H$12:$H$1011)+SUMIF('Time Entries'!$V$12:$V$1011, _xlfn.CONCAT(K$10, " - ", $Y32), 'Time Entries'!$J$12:$J$1011)) | L32: =IF(OR($B32="", $C32=""), "", SUMIF('Time Entries'!$S$12:$S$1011, _xlfn.CONCAT(L$10, " - ", $Y32), 'Time Entries'!$D$12:$D$1011)+SUMIF('Time Entries'!$T$12:$T$1011, _xlfn.CONCAT(L$10, " - ", $Y32), 'Time Entries'!$F$12:$F$1011)+SUMIF('Time Entries'!$U$12:$U$1011, _xlfn.CONCAT(L$10, " - ", $Y32), 'Time Entries'!$H$12:$H$1011)+SUMIF('Time Entries'!$V$12:$V$1011, _xlfn.CONCAT(L$10, " - ", $Y32), 'Time Entries'!$J$12:$J$1011)) | M32: =IF(OR($B32="", $C32=""), "", SUMIF('Time Entries'!$S$12:$S$1011, _xlfn.CONCAT(M$10, " - ", $Y32), 'Time Entries'!$D$12:$D$1011)+SUMIF('Time Entries'!$T$12:$T$1011, _xlfn.CONCAT(M$10, " - ", $Y32), 'Time Entries'!$F$12:$F$1011)+SUMIF('Time Entries'!$U$12:$U$1011, _xlfn.CONCAT(M$10, " - ", $Y32), 'Time Entries'!$H$12:$H$1011)+SUMIF('Time Entries'!$V$12:$V$1011, _xlfn.CONCAT(M$10, " - ", $Y32), 'Time Entries'!$J$12:$J$1011)) | N32: =IF(OR($B32="", $C32=""), "", SUMIF('Time Entries'!$S$12:$S$1011, _xlfn.CONCAT(N$10, " - ", $Y32), 'Time Entries'!$D$12:$D$1011)+SUMIF('Time Entries'!$T$12:$T$1011, _xlfn.CONCAT(N$10, " - ", $Y32), 'Time Entries'!$F$12:$F$1011)+SUMIF('Time Entries'!$U$12:$U$1011, _xlfn.CONCAT(N$10, " - ", $Y32), 'Time Entries'!$H$12:$H$1011)+SUMIF('Time Entries'!$V$12:$V$1011, _xlfn.CONCAT(N$10, " - ", $Y32), 'Time Entries'!$J$12:$J$1011)) | O32: =IF(OR($B32="", $C32=""), "", SUMIF('Time Entries'!$S$12:$S$1011, _xlfn.CONCAT(O$10, " - ", $Y32), 'Time Entries'!$D$12:$D$1011)+SUMIF('Time Entries'!$T$12:$T$1011, _xlfn.CONCAT(O$10, " - ", $Y32), 'Time Entries'!$F$12:$F$1011)+SUMIF('Time Entries'!$U$12:$U$1011, _xlfn.CONCAT(O$10, " - ", $Y32), 'Time Entries'!$H$12:$H$1011)+SUMIF('Time Entries'!$V$12:$V$1011, _xlfn.CONCAT(O$10, " - ", $Y32), 'Time Entries'!$J$12:$J$1011)) | P32: =IF(OR($B32="", $C32=""), "", SUMIF('Time Entries'!$S$12:$S$1011, _xlfn.CONCAT(P$10, " - ", $Y32), 'Time Entries'!$D$12:$D$1011)+SUMIF('Time Entries'!$T$12:$T$1011, _xlfn.CONCAT(P$10, " - ", $Y32), 'Time Entries'!$F$12:$F$1011)+SUMIF('Time Entries'!$U$12:$U$1011, _xlfn.CONCAT(P$10, " - ", $Y32), 'Time Entries'!$H$12:$H$1011)+SUMIF('Time Entries'!$V$12:$V$1011, _xlfn.CONCAT(P$10, " - ", $Y32), 'Time Entries'!$J$12:$J$1011)) | ... T32: =IF(OR($B32="", $C32=""), "", SUMIF('Time Entries'!$S$12:$S$1011, _xlfn.CONCAT(T$10, " - ", $Y32), 'Time Entries'!$D$12:$D$1011)+SUMIF('Time Entries'!$T$12:$T$1011, _xlfn.CONCAT(T$10, " - ", $Y32), 'Time Entries'!$F$12:$F$1011)+SUMIF('Time Entries'!$U$12:$U$1011, _xlfn.CONCAT(T$10, " - ", $Y32), 'Time Entries'!$H$12:$H$1011)+SUMIF('Time Entries'!$V$12:$V$1011, _xlfn.CONCAT(T$10, " - ", $Y32), 'Time Entries'!$J$12:$J$1011)) | W32: =IF($Y32="", "", IF(COUNTIF($Y$12:$Y$261, $Y32)>1, "X", "")) | Y32: =IF(OR($B32="", $C32=""), "", _xlfn.CONCAT($B32, " - ", $C32)) | AD32: =IF(COUNTIF($B32:$C32, "")=1, "X", "") | AF32: =IF(OR($B32="", $C32=""), "", IF(AND($AF$9="", $AG$9=""), "X", IF(AND(NOT($AF$9=""), NOT($AG$9="")), IF($Y32=_xlfn.CONCAT($AF$9, " - ", $AG$9), "X", ""), IF($AG$9="", IF($AF$9=$B32, "X", ""), "")))) | AH32: =IF($B32="", "", IF(COUNTIF($B$12:$B32, $B32)>1, "", $B32)) | AI32: =IF($AH32="", "", COUNTIF($AH$12:$AH$261, "<"&$AH32)+1+COUNTIF($AH$12:$AH32, $AH32)-1-$AH$10) | AK32: =IF(OR($AK$8="", $B32=""), "", IF($AK$8=$B32, $C32, "")) | AL32: =IF($AK32="", "", COUNTIF($AK$12:$AK$261, "<"&$AK32)+1+COUNTIF($AK$12:$AK32, $AK32)-1-$AK$10)
F33: =IF(OR($B33="", $C33=""), "", SUM($I33:$T33)) | G33: =IF($F33="", "", IF($D33-$F33<0, TEXT(($F33-$D33), "-[h]:mm"), $D33-$F33)) | I33: =IF(OR($B33="", $C33=""), "", SUMIF('Time Entries'!$S$12:$S$1011, _xlfn.CONCAT(I$10, " - ", $Y33), 'Time Entries'!$D$12:$D$1011)+SUMIF('Time Entries'!$T$12:$T$1011, _xlfn.CONCAT(I$10, " - ", $Y33), 'Time Entries'!$F$12:$F$1011)+SUMIF('Time Entries'!$U$12:$U$1011, _xlfn.CONCAT(I$10, " - ", $Y33), 'Time Entries'!$H$12:$H$1011)+SUMIF('Time Entries'!$V$12:$V$1011, _xlfn.CONCAT(I$10, " - ", $Y33), 'Time Entries'!$J$12:$J$1011)) | J33: =IF(OR($B33="", $C33=""), "", SUMIF('Time Entries'!$S$12:$S$1011, _xlfn.CONCAT(J$10, " - ", $Y33), 'Time Entries'!$D$12:$D$1011)+SUMIF('Time Entries'!$T$12:$T$1011, _xlfn.CONCAT(J$10, " - ", $Y33), 'Time Entries'!$F$12:$F$1011)+SUMIF('Time Entries'!$U$12:$U$1011, _xlfn.CONCAT(J$10, " - ", $Y33), 'Time Entries'!$H$12:$H$1011)+SUMIF('Time Entries'!$V$12:$V$1011, _xlfn.CONCAT(J$10, " - ", $Y33), 'Time Entries'!$J$12:$J$1011)) | K33: =IF(OR($B33="", $C33=""), "", SUMIF('Time Entries'!$S$12:$S$1011, _xlfn.CONCAT(K$10, " - ", $Y33), 'Time Entries'!$D$12:$D$1011)+SUMIF('Time Entries'!$T$12:$T$1011, _xlfn.CONCAT(K$10, " - ", $Y33), 'Time Entries'!$F$12:$F$1011)+SUMIF('Time Entries'!$U$12:$U$1011, _xlfn.CONCAT(K$10, " - ", $Y33), 'Time Entries'!$H$12:$H$1011)+SUMIF('Time Entries'!$V$12:$V$1011, _xlfn.CONCAT(K$10, " - ", $Y33), 'Time Entries'!$J$12:$J$1011)) | L33: =IF(OR($B33="", $C33=""), "", SUMIF('Time Entries'!$S$12:$S$1011, _xlfn.CONCAT(L$10, " - ", $Y33), 'Time Entries'!$D$12:$D$1011)+SUMIF('Time Entries'!$T$12:$T$1011, _xlfn.CONCAT(L$10, " - ", $Y33), 'Time Entries'!$F$12:$F$1011)+SUMIF('Time Entries'!$U$12:$U$1011, _xlfn.CONCAT(L$10, " - ", $Y33), 'Time Entries'!$H$12:$H$1011)+SUMIF('Time Entries'!$V$12:$V$1011, _xlfn.CONCAT(L$10, " - ", $Y33), 'Time Entries'!$J$12:$J$1011)) | M33: =IF(OR($B33="", $C33=""), "", SUMIF('Time Entries'!$S$12:$S$1011, _xlfn.CONCAT(M$10, " - ", $Y33), 'Time Entries'!$D$12:$D$1011)+SUMIF('Time Entries'!$T$12:$T$1011, _xlfn.CONCAT(M$10, " - ", $Y33), 'Time Entries'!$F$12:$F$1011)+SUMIF('Time Entries'!$U$12:$U$1011, _xlfn.CONCAT(M$10, " - ", $Y33), 'Time Entries'!$H$12:$H$1011)+SUMIF('Time Entries'!$V$12:$V$1011, _xlfn.CONCAT(M$10, " - ", $Y33), 'Time Entries'!$J$12:$J$1011)) | N33: =IF(OR($B33="", $C33=""), "", SUMIF('Time Entries'!$S$12:$S$1011, _xlfn.CONCAT(N$10, " - ", $Y33), 'Time Entries'!$D$12:$D$1011)+SUMIF('Time Entries'!$T$12:$T$1011, _xlfn.CONCAT(N$10, " - ", $Y33), 'Time Entries'!$F$12:$F$1011)+SUMIF('Time Entries'!$U$12:$U$1011, _xlfn.CONCAT(N$10, " - ", $Y33), 'Time Entries'!$H$12:$H$1011)+SUMIF('Time Entries'!$V$12:$V$1011, _xlfn.CONCAT(N$10, " - ", $Y33), 'Time Entries'!$J$12:$J$1011)) | O33: =IF(OR($B33="", $C33=""), "", SUMIF('Time Entries'!$S$12:$S$1011, _xlfn.CONCAT(O$10, " - ", $Y33), 'Time Entries'!$D$12:$D$1011)+SUMIF('Time Entries'!$T$12:$T$1011, _xlfn.CONCAT(O$10, " - ", $Y33), 'Time Entries'!$F$12:$F$1011)+SUMIF('Time Entries'!$U$12:$U$1011, _xlfn.CONCAT(O$10, " - ", $Y33), 'Time Entries'!$H$12:$H$1011)+SUMIF('Time Entries'!$V$12:$V$1011, _xlfn.CONCAT(O$10, " - ", $Y33), 'Time Entries'!$J$12:$J$1011)) | P33: =IF(OR($B33="", $C33=""), "", SUMIF('Time Entries'!$S$12:$S$1011, _xlfn.CONCAT(P$10, " - ", $Y33), 'Time Entries'!$D$12:$D$1011)+SUMIF('Time Entries'!$T$12:$T$1011, _xlfn.CONCAT(P$10, " - ", $Y33), 'Time Entries'!$F$12:$F$1011)+SUMIF('Time Entries'!$U$12:$U$1011, _xlfn.CONCAT(P$10, " - ", $Y33), 'Time Entries'!$H$12:$H$1011)+SUMIF('Time Entries'!$V$12:$V$1011, _xlfn.CONCAT(P$10, " - ", $Y33), 'Time Entries'!$J$12:$J$1011)) | ... T33: =IF(OR($B33="", $C33=""), "", SUMIF('Time Entries'!$S$12:$S$1011, _xlfn.CONCAT(T$10, " - ", $Y33), 'Time Entries'!$D$12:$D$1011)+SUMIF('Time Entries'!$T$12:$T$1011, _xlfn.CONCAT(T$10, " - ", $Y33), 'Time Entries'!$F$12:$F$1011)+SUMIF('Time Entries'!$U$12:$U$1011, _xlfn.CONCAT(T$10, " - ", $Y33), 'Time Entries'!$H$12:$H$1011)+SUMIF('Time Entries'!$V$12:$V$1011, _xlfn.CONCAT(T$10, " - ", $Y33), 'Time Entries'!$J$12:$J$1011)) | W33: =IF($Y33="", "", IF(COUNTIF($Y$12:$Y$261, $Y33)>1, "X", "")) | Y33: =IF(OR($B33="", $C33=""), "", _xlfn.CONCAT($B33, " - ", $C33)) | AD33: =IF(COUNTIF($B33:$C33, "")=1, "X", "") | AF33: =IF(OR($B33="", $C33=""), "", IF(AND($AF$9="", $AG$9=""), "X", IF(AND(NOT($AF$9=""), NOT($AG$9="")), IF($Y33=_xlfn.CONCAT($AF$9, " - ", $AG$9), "X", ""), IF($AG$9="", IF($AF$9=$B33, "X", ""), "")))) | AH33: =IF($B33="", "", IF(COUNTIF($B$12:$B33, $B33)>1, "", $B33)) | AI33: =IF($AH33="", "", COUNTIF($AH$12:$AH$261, "<"&$AH33)+1+COUNTIF($AH$12:$AH33, $AH33)-1-$AH$10) | AK33: =IF(OR($AK$8="", $B33=""), "", IF($AK$8=$B33, $C33, "")) | AL33: =IF($AK33="", "", COUNTIF($AK$12:$AK$261, "<"&$AK33)+1+COUNTIF($AK$12:$AK33, $AK33)-1-$AK$10)
F34: =IF(OR($B34="", $C34=""), "", SUM($I34:$T34)) | G34: =IF($F34="", "", IF($D34-$F34<0, TEXT(($F34-$D34), "-[h]:mm"), $D34-$F34)) | I34: =IF(OR($B34="", $C34=""), "", SUMIF('Time Entries'!$S$12:$S$1011, _xlfn.CONCAT(I$10, " - ", $Y34), 'Time Entries'!$D$12:$D$1011)+SUMIF('Time Entries'!$T$12:$T$1011, _xlfn.CONCAT(I$10, " - ", $Y34), 'Time Entries'!$F$12:$F$1011)+SUMIF('Time Entries'!$U$12:$U$1011, _xlfn.CONCAT(I$10, " - ", $Y34), 'Time Entries'!$H$12:$H$1011)+SUMIF('Time Entries'!$V$12:$V$1011, _xlfn.CONCAT(I$10, " - ", $Y34), 'Time Entries'!$J$12:$J$1011)) | J34: =IF(OR($B34="", $C34=""), "", SUMIF('Time Entries'!$S$12:$S$1011, _xlfn.CONCAT(J$10, " - ", $Y34), 'Time Entries'!$D$12:$D$1011)+SUMIF('Time Entries'!$T$12:$T$1011, _xlfn.CONCAT(J$10, " - ", $Y34), 'Time Entries'!$F$12:$F$1011)+SUMIF('Time Entries'!$U$12:$U$1011, _xlfn.CONCAT(J$10, " - ", $Y34), 'Time Entries'!$H$12:$H$1011)+SUMIF('Time Entries'!$V$12:$V$1011, _xlfn.CONCAT(J$10, " - ", $Y34), 'Time Entries'!$J$12:$J$1011)) | K34: =IF(OR($B34="", $C34=""), "", SUMIF('Time Entries'!$S$12:$S$1011, _xlfn.CONCAT(K$10, " - ", $Y34), 'Time Entries'!$D$12:$D$1011)+SUMIF('Time Entries'!$T$12:$T$1011, _xlfn.CONCAT(K$10, " - ", $Y34), 'Time Entries'!$F$12:$F$1011)+SUMIF('Time Entries'!$U$12:$U$1011, _xlfn.CONCAT(K$10, " - ", $Y34), 'Time Entries'!$H$12:$H$1011)+SUMIF('Time Entries'!$V$12:$V$1011, _xlfn.CONCAT(K$10, " - ", $Y34), 'Time Entries'!$J$12:$J$1011)) | L34: =IF(OR($B34="", $C34=""), "", SUMIF('Time Entries'!$S$12:$S$1011, _xlfn.CONCAT(L$10, " - ", $Y34), 'Time Entries'!$D$12:$D$1011)+SUMIF('Time Entries'!$T$12:$T$1011, _xlfn.CONCAT(L$10, " - ", $Y34), 'Time Entries'!$F$12:$F$1011)+SUMIF('Time Entries'!$U$12:$U$1011, _xlfn.CONCAT(L$10, " - ", $Y34), 'Time Entries'!$H$12:$H$1011)+SUMIF('Time Entries'!$V$12:$V$1011, _xlfn.CONCAT(L$10, " - ", $Y34), 'Time Entries'!$J$12:$J$1011)) | M34: =IF(OR($B34="", $C34=""), "", SUMIF('Time Entries'!$S$12:$S$1011, _xlfn.CONCAT(M$10, " - ", $Y34), 'Time Entries'!$D$12:$D$1011)+SUMIF('Time Entries'!$T$12:$T$1011, _xlfn.CONCAT(M$10, " - ", $Y34), 'Time Entries'!$F$12:$F$1011)+SUMIF('Time Entries'!$U$12:$U$1011, _xlfn.CONCAT(M$10, " - ", $Y34), 'Time Entries'!$H$12:$H$1011)+SUMIF('Time Entries'!$V$12:$V$1011, _xlfn.CONCAT(M$10, " - ", $Y34), 'Time Entries'!$J$12:$J$1011)) | N34: =IF(OR($B34="", $C34=""), "", SUMIF('Time Entries'!$S$12:$S$1011, _xlfn.CONCAT(N$10, " - ", $Y34), 'Time Entries'!$D$12:$D$1011)+SUMIF('Time Entries'!$T$12:$T$1011, _xlfn.CONCAT(N$10, " - ", $Y34), 'Time Entries'!$F$12:$F$1011)+SUMIF('Time Entries'!$U$12:$U$1011, _xlfn.CONCAT(N$10, " - ", $Y34), 'Time Entries'!$H$12:$H$1011)+SUMIF('Time Entries'!$V$12:$V$1011, _xlfn.CONCAT(N$10, " - ", $Y34), 'Time Entries'!$J$12:$J$1011)) | O34: =IF(OR($B34="", $C34=""), "", SUMIF('Time Entries'!$S$12:$S$1011, _xlfn.CONCAT(O$10, " - ", $Y34), 'Time Entries'!$D$12:$D$1011)+SUMIF('Time Entries'!$T$12:$T$1011, _xlfn.CONCAT(O$10, " - ", $Y34), 'Time Entries'!$F$12:$F$1011)+SUMIF('Time Entries'!$U$12:$U$1011, _xlfn.CONCAT(O$10, " - ", $Y34), 'Time Entries'!$H$12:$H$1011)+SUMIF('Time Entries'!$V$12:$V$1011, _xlfn.CONCAT(O$10, " - ", $Y34), 'Time Entries'!$J$12:$J$1011)) | P34: =IF(OR($B34="", $C34=""), "", SUMIF('Time Entries'!$S$12:$S$1011, _xlfn.CONCAT(P$10, " - ", $Y34), 'Time Entries'!$D$12:$D$1011)+SUMIF('Time Entries'!$T$12:$T$1011, _xlfn.CONCAT(P$10, " - ", $Y34), 'Time Entries'!$F$12:$F$1011)+SUMIF('Time Entries'!$U$12:$U$1011, _xlfn.CONCAT(P$10, " - ", $Y34), 'Time Entries'!$H$12:$H$1011)+SUMIF('Time Entries'!$V$12:$V$1011, _xlfn.CONCAT(P$10, " - ", $Y34), 'Time Entries'!$J$12:$J$1011)) | ... T34: =IF(OR($B34="", $C34=""), "", SUMIF('Time Entries'!$S$12:$S$1011, _xlfn.CONCAT(T$10, " - ", $Y34), 'Time Entries'!$D$12:$D$1011)+SUMIF('Time Entries'!$T$12:$T$1011, _xlfn.CONCAT(T$10, " - ", $Y34), 'Time Entries'!$F$12:$F$1011)+SUMIF('Time Entries'!$U$12:$U$1011, _xlfn.CONCAT(T$10, " - ", $Y34), 'Time Entries'!$H$12:$H$1011)+SUMIF('Time Entries'!$V$12:$V$1011, _xlfn.CONCAT(T$10, " - ", $Y34), 'Time Entries'!$J$12:$J$1011)) | W34: =IF($Y34="", "", IF(COUNTIF($Y$12:$Y$261, $Y34)>1, "X", "")) | Y34: =IF(OR($B34="", $C34=""), "", _xlfn.CONCAT($B34, " - ", $C34)) | AD34: =IF(COUNTIF($B34:$C34, "")=1, "X", "") | AF34: =IF(OR($B34="", $C34=""), "", IF(AND($AF$9="", $AG$9=""), "X", IF(AND(NOT($AF$9=""), NOT($AG$9="")), IF($Y34=_xlfn.CONCAT($AF$9, " - ", $AG$9), "X", ""), IF($AG$9="", IF($AF$9=$B34, "X", ""), "")))) | AH34: =IF($B34="", "", IF(COUNTIF($B$12:$B34, $B34)>1, "", $B34)) | AI34: =IF($AH34="", "", COUNTIF($AH$12:$AH$261, "<"&$AH34)+1+COUNTIF($AH$12:$AH34, $AH34)-1-$AH$10) | AK34: =IF(OR($AK$8="", $B34=""), "", IF($AK$8=$B34, $C34, "")) | AL34: =IF($AK34="", "", COUNTIF($AK$12:$AK$261, "<"&$AK34)+1+COUNTIF($AK$12:$AK34, $AK34)-1-$AK$10)
... F261: =IF(OR($B261="", $C261=""), "", SUM($I261:$T261)) | G261: =IF($F261="", "", IF($D261-$F261<0, TEXT(($F261-$D261), "-[h]:mm"), $D261-$F261)) | I261: =IF(OR($B261="", $C261=""), "", SUMIF('Time Entries'!$S$12:$S$1011, _xlfn.CONCAT(I$10, " - ", $Y261), 'Time Entries'!$D$12:$D$1011)+SUMIF('Time Entries'!$T$12:$T$1011, _xlfn.CONCAT(I$10, " - ", $Y261), 'Time Entries'!$F$12:$F$1011)+SUMIF('Time Entries'!$U$12:$U$1011, _xlfn.CONCAT(I$10, " - ", $Y261), 'Time Entries'!$H$12:$H$1011)+SUMIF('Time Entries'!$V$12:$V$1011, _xlfn.CONCAT(I$10, " - ", $Y261), 'Time Entries'!$J$12:$J$1011)) | J261: =IF(OR($B261="", $C261=""), "", SUMIF('Time Entries'!$S$12:$S$1011, _xlfn.CONCAT(J$10, " - ", $Y261), 'Time Entries'!$D$12:$D$1011)+SUMIF('Time Entries'!$T$12:$T$1011, _xlfn.CONCAT(J$10, " - ", $Y261), 'Time Entries'!$F$12:$F$1011)+SUMIF('Time Entries'!$U$12:$U$1011, _xlfn.CONCAT(J$10, " - ", $Y261), 'Time Entries'!$H$12:$H$1011)+SUMIF('Time Entries'!$V$12:$V$1011, _xlfn.CONCAT(J$10, " - ", $Y261), 'Time Entries'!$J$12:$J$1011)) | K261: =IF(OR($B261="", $C261=""), "", SUMIF('Time Entries'!$S$12:$S$1011, _xlfn.CONCAT(K$10, " - ", $Y261), 'Time Entries'!$D$12:$D$1011)+SUMIF('Time Entries'!$T$12:$T$1011, _xlfn.CONCAT(K$10, " - ", $Y261), 'Time Entries'!$F$12:$F$1011)+SUMIF('Time Entries'!$U$12:$U$1011, _xlfn.CONCAT(K$10, " - ", $Y261), 'Time Entries'!$H$12:$H$1011)+SUMIF('Time Entries'!$V$12:$V$1011, _xlfn.CONCAT(K$10, " - ", $Y261), 'Time Entries'!$J$12:$J$1011)) | L261: =IF(OR($B261="", $C261=""), "", SUMIF('Time Entries'!$S$12:$S$1011, _xlfn.CONCAT(L$10, " - ", $Y261), 'Time Entries'!$D$12:$D$1011)+SUMIF('Time Entries'!$T$12:$T$1011, _xlfn.CONCAT(L$10, " - ", $Y261), 'Time Entries'!$F$12:$F$1011)+SUMIF('Time Entries'!$U$12:$U$1011, _xlfn.CONCAT(L$10, " - ", $Y261), 'Time Entries'!$H$12:$H$1011)+SUMIF('Time Entries'!$V$12:$V$1011, _xlfn.CONCAT(L$10, " - ", $Y261), 'Time Entries'!$J$12:$J$1011)) | M261: =IF(OR($B261="", $C261=""), "", SUMIF('Time Entries'!$S$12:$S$1011, _xlfn.CONCAT(M$10, " - ", $Y261), 'Time Entries'!$D$12:$D$1011)+SUMIF('Time Entries'!$T$12:$T$1011, _xlfn.CONCAT(M$10, " - ", $Y261), 'Time Entries'!$F$12:$F$1011)+SUMIF('Time Entries'!$U$12:$U$1011, _xlfn.CONCAT(M$10, " - ", $Y261), 'Time Entries'!$H$12:$H$1011)+SUMIF('Time Entries'!$V$12:$V$1011, _xlfn.CONCAT(M$10, " - ", $Y261), 'Time Entries'!$J$12:$J$1011)) | N261: =IF(OR($B261="", $C261=""), "", SUMIF('Time Entries'!$S$12:$S$1011, _xlfn.CONCAT(N$10, " - ", $Y261), 'Time Entries'!$D$12:$D$1011)+SUMIF('Time Entries'!$T$12:$T$1011, _xlfn.CONCAT(N$10, " - ", $Y261), 'Time Entries'!$F$12:$F$1011)+SUMIF('Time Entries'!$U$12:$U$1011, _xlfn.CONCAT(N$10, " - ", $Y261), 'Time Entries'!$H$12:$H$1011)+SUMIF('Time Entries'!$V$12:$V$1011, _xlfn.CONCAT(N$10, " - ", $Y261), 'Time Entries'!$J$12:$J$1011)) | O261: =IF(OR($B261="", $C261=""), "", SUMIF('Time Entries'!$S$12:$S$1011, _xlfn.CONCAT(O$10, " - ", $Y261), 'Time Entries'!$D$12:$D$1011)+SUMIF('Time Entries'!$T$12:$T$1011, _xlfn.CONCAT(O$10, " - ", $Y261), 'Time Entries'!$F$12:$F$1011)+SUMIF('Time Entries'!$U$12:$U$1011, _xlfn.CONCAT(O$10, " - ", $Y261), 'Time Entries'!$H$12:$H$1011)+SUMIF('Time Entries'!$V$12:$V$1011, _xlfn.CONCAT(O$10, " - ", $Y261), 'Time Entries'!$J$12:$J$1011)) | P261: =IF(OR($B261="", $C261=""), "", SUMIF('Time Entries'!$S$12:$S$1011, _xlfn.CONCAT(P$10, " - ", $Y261), 'Time Entries'!$D$12:$D$1011)+SUMIF('Time Entries'!$T$12:$T$1011, _xlfn.CONCAT(P$10, " - ", $Y261), 'Time Entries'!$F$12:$F$1011)+SUMIF('Time Entries'!$U$12:$U$1011, _xlfn.CONCAT(P$10, " - ", $Y261), 'Time Entries'!$H$12:$H$1011)+SUMIF('Time Entries'!$V$12:$V$1011, _xlfn.CONCAT(P$10, " - ", $Y261), 'Time Entries'!$J$12:$J$1011)) | ... T261: =IF(OR($B261="", $C261=""), "", SUMIF('Time Entries'!$S$12:$S$1011, _xlfn.CONCAT(T$10, " - ", $Y261), 'Time Entries'!$D$12:$D$1011)+SUMIF('Time Entries'!$T$12:$T$1011, _xlfn.CONCAT(T$10, " - ", $Y261), 'Time Entries'!$F$12:$F$1011)+SUMIF('Time Entries'!$U$12:$U$1011, _xlfn.CONCAT(T$10, " - ", $Y261), 'Time Entries'!$H$12:$H$1011)+SUMIF('Time Entries'!$V$12:$V$1011, _xlfn.CONCAT(T$10, " - ", $Y261), 'Time Entries'!$J$12:$J$1011)) | W261: =IF($Y261="", "", IF(COUNTIF($Y$12:$Y$261, $Y261)>1, "X", "")) | Y261: =IF(OR($B261="", $C261=""), "", _xlfn.CONCAT($B261, " - ", $C261)) | AD261: =IF(COUNTIF($B261:$C261, "")=1, "X", "") | AF261: =IF(OR($B261="", $C261=""), "", IF(AND($AF$9="", $AG$9=""), "X", IF(AND(NOT($AF$9=""), NOT($AG$9="")), IF($Y261=_xlfn.CONCAT($AF$9, " - ", $AG$9), "X", ""), IF($AG$9="", IF($AF$9=$B261, "X", ""), "")))) | AH261: =IF($B261="", "", IF(COUNTIF($B$12:$B261, $B261)>1, "", $B261)) | AI261: =IF($AH261="", "", COUNTIF($AH$12:$AH$261, "<"&$AH261)+1+COUNTIF($AH$12:$AH261, $AH261)-1-$AH$10) | AK261: =IF(OR($AK$8="", $B261=""), "", IF($AK$8=$B261, $C261, "")) | AL261: =IF($AK261="", "", COUNTIF($AK$12:$AK$261, "<"&$AK261)+1+COUNTIF($AK$12:$AK261, $AK261)-1-$AK$10)

Sheet Time Entries
B2: Time Entries | E2: Enter each date that you work below, and select up to 4 client / job combinations, 1 in each section. Add the time worked on that project with the entry. If you need to add more than 4 client /job entries per day, simply add another line with the same date, and continue to add work. The reason for having 4 job entries is just to try and keep the number of rows needed down to a minimum. Please ensure that every line that has any data added, has a date. If not, it won't be included. Enter time as [h]:mm, where [h] is the number of hour, and mm is the number of minutes. If you only enter hours, and ignore the : and the mm, it will recognise it as days, and convert to hours.
O6: ='Intro & Setup'!$Z$16 -> 43586
C7: =IF($X$7=0, "", "Wrong Selections") | O7: =DATE(YEAR(O6)+1,MONTH(O6),DAY(O6)-1) -> 43951 | X7: =X9+Z9+AB9+AD9 -> 0
C8: Select | D8: [h]:mm | E8: Select | F8: [h]:mm | G8: Select | H8: [h]:mm | I8: Select | J8: [h]:mm
B9: =IF(O9=0, "", "Out of Dates") | C9: Work Entry 1 | E9: Work Entry 2 | G9: Work Entry 3 | I9: Work Entry 4 | O9: =COUNTIF($O$12:$O$1011, "X") -> 0 | X9: =COUNTIF(X$12:X$1011, "X") -> 0 | Z9: =COUNTIF(Z$12:Z$1011, "X") -> 0 | AB9: =COUNTIF(AB$12:AB$1011, "X") -> 0 | AD9: =COUNTIF(AD$12:AD$1011, "X") -> 0
B10: Date | C10: Client - Job Name | D10: Time | E10: Client - Job Name | F10: Time | G10: Client - Job Name | H10: Time | I10: Client - Job Name | J10: Time | Q10: Client List
M11: Month | O11: Out of Dates | S11: Code | T11: Code | U11: Code | V11: Code | X11: Wrong | Z11: Wrong | AB11: Wrong | AD11: Wrong
B12: 43586 | C12: Client 1 - Test Job 1 | D12: 0.083333333 | E12: Client 2 - Test Job 2 | F12: 0.11458333 | G12: Client 3 - Test Job 3 | H12: 0.125 | I12: Client 4 - Test Job 4 | J12: 0.24305556 | M12: =IF($B12="", "", IF($B12>'Client List'!$AA$22, 'Client List'!$AB$21, TEXT($B12, "mmm yyyy"))) -> May 2019 | O12: =IF($B12="", "", IF(OR($B12<$O$6, $B12>$O$7), "X", "")) | Q12: =IF('Client List'!$Y12="", "", 'Client List'!$Y12) -> Client 1 - Test Job 1 | S12: =IF($C12="", "", _xlfn.CONCAT($M12, " - ", $C12)) -> May 2019 - Client 1 - Test Job 1 | T12: =IF($E12="", "", _xlfn.CONCAT($M12, " - ", $E12)) -> May 2019 - Client 2 - Test Job 2 | U12: =IF($G12="", "", _xlfn.CONCAT($M12, " - ", $G12)) -> May 2019 - Client 3 - Test Job 3 | V12: =IF($I12="", "", _xlfn.CONCAT($M12, " - ", $I12)) -> May 2019 - Client 4 - Test Job 4 | X12: =IF(C12="", "", IF(COUNTIF('Client List'!$Y$12:$Y$261, C12)=0, "X", "")) | Z12: =IF(E12="", "", IF(COUNTIF('Client List'!$Y$12:$Y$261, E12)=0, "X", "")) | AB12: =IF(G12="", "", IF(COUNTIF('Client List'!$Y$12:$Y$261, G12)=0, "X", "")) | AD12: =IF(I12="", "", IF(COUNTIF('Client List'!$Y$12:$Y$261, I12)=0, "X", ""))
B13: 43617 | C13: Client 5 - Test Job 5 | D13: 0.16666667 | M13: =IF($B13="", "", IF($B13>'Client List'!$AA$22, 'Client List'!$AB$21, TEXT($B13, "mmm yyyy"))) -> Jun 2019 | O13: =IF($B13="", "", IF(OR($B13<$O$6, $B13>$O$7), "X", "")) | Q13: =IF('Client List'!$Y13="", "", 'Client List'!$Y13) -> Client 2 - Test Job 2 | S13: =IF($C13="", "", _xlfn.CONCAT($M13, " - ", $C13)) -> Jun 2019 - Client 5 - Test Job 5 | T13: =IF($E13="", "", _xlfn.CONCAT($M13, " - ", $E13)) | U13: =IF($G13="", "", _xlfn.CONCAT($M13, " - ", $G13)) | V13: =IF($I13="", "", _xlfn.CONCAT($M13, " - ", $I13)) | X13: =IF(C13="", "", IF(COUNTIF('Client List'!$Y$12:$Y$261, C13)=0, "X", "")) | Z13: =IF(E13="", "", IF(COUNTIF('Client List'!$Y$12:$Y$261, E13)=0, "X", "")) | AB13: =IF(G13="", "", IF(COUNTIF('Client List'!$Y$12:$Y$261, G13)=0, "X", "")) | AD13: =IF(I13="", "", IF(COUNTIF('Client List'!$Y$12:$Y$261, I13)=0, "X", ""))
B14: 43647 | C14: Client 2 - Test Job 2 | D14: 0.125 | E14: Client 4 - Test Job 4 | F14: 0.0625 | M14: =IF($B14="", "", IF($B14>'Client List'!$AA$22, 'Client List'!$AB$21, TEXT($B14, "mmm yyyy"))) -> Jul 2019 | O14: =IF($B14="", "", IF(OR($B14<$O$6, $B14>$O$7), "X", "")) | Q14: =IF('Client List'!$Y14="", "", 'Client List'!$Y14) -> Client 3 - Test Job 3 | S14: =IF($C14="", "", _xlfn.CONCAT($M14, " - ", $C14)) -> Jul 2019 - Client 2 - Test Job 2 | T14: =IF($E14="", "", _xlfn.CONCAT($M14, " - ", $E14)) -> Jul 2019 - Client 4 - Test Job 4 | U14: =IF($G14="", "", _xlfn.CONCAT($M14, " - ", $G14)) | V14: =IF($I14="", "", _xlfn.CONCAT($M14, " - ", $I14)) | X14: =IF(C14="", "", IF(COUNTIF('Client List'!$Y$12:$Y$261, C14)=0, "X", "")) | Z14: =IF(E14="", "", IF(COUNTIF('Client List'!$Y$12:$Y$261, E14)=0, "X", "")) | AB14: =IF(G14="", "", IF(COUNTIF('Client List'!$Y$12:$Y$261, G14)=0, "X", "")) | AD14: =IF(I14="", "", IF(COUNTIF('Client List'!$Y$12:$Y$261, I14)=0, "X", ""))
B15: 43678 | C15: Client 1 - Test Job 1 | D15: 0.25 | E15: Client 5 - Test Job 5 | F15: 0.052083333 | G15: Client 4 - Test Job 4 | H15: 0.083333333 | M15: =IF($B15="", "", IF($B15>'Client List'!$AA$22, 'Client List'!$AB$21, TEXT($B15, "mmm yyyy"))) -> Aug 2019 | O15: =IF($B15="", "", IF(OR($B15<$O$6, $B15>$O$7), "X", "")) | Q15: =IF('Client List'!$Y15="", "", 'Client List'!$Y15) -> Client 4 - Test Job 4 | S15: =IF($C15="", "", _xlfn.CONCAT($M15, " - ", $C15)) -> Aug 2019 - Client 1 - Test Job 1 | T15: =IF($E15="", "", _xlfn.CONCAT($M15, " - ", $E15)) -> Aug 2019 - Client 5 - Test Job 5 | U15: =IF($G15="", "", _xlfn.CONCAT($M15, " - ", $G15)) -> Aug 2019 - Client 4 - Test Job 4 | V15: =IF($I15="", "", _xlfn.CONCAT($M15, " - ", $I15)) | X15: =IF(C15="", "", IF(COUNTIF('Client List'!$Y$12:$Y$261, C15)=0, "X", "")) | Z15: =IF(E15="", "", IF(COUNTIF('Client List'!$Y$12:$Y$261, E15)=0, "X", "")) | AB15: =IF(G15="", "", IF(COUNTIF('Client List'!$Y$12:$Y$261, G15)=0, "X", "")) | AD15: =IF(I15="", "", IF(COUNTIF('Client List'!$Y$12:$Y$261, I15)=0, "X", ""))
B16: 43709 | C16: Client 5 - Test Job 5 | D16: 0.29166667 | M16: =IF($B16="", "", IF($B16>'Client List'!$AA$22, 'Client List'!$AB$21, TEXT($B16, "mmm yyyy"))) -> Sep 2019 | O16: =IF($B16="", "", IF(OR($B16<$O$6, $B16>$O$7), "X", "")) | Q16: =IF('Client List'!$Y16="", "", 'Client List'!$Y16) -> Client 5 - Test Job 5 | S16: =IF($C16="", "", _xlfn.CONCAT($M16, " - ", $C16)) -> Sep 2019 - Client 5 - Test Job 5 | T16: =IF($E16="", "", _xlfn.CONCAT($M16, " - ", $E16)) | U16: =IF($G16="", "", _xlfn.CONCAT($M16, " - ", $G16)) | V16: =IF($I16="", "", _xlfn.CONCAT($M16, " - ", $I16)) | X16: =IF(C16="", "", IF(COUNTIF('Client List'!$Y$12:$Y$261, C16)=0, "X", "")) | Z16: =IF(E16="", "", IF(COUNTIF('Client List'!$Y$12:$Y$261, E16)=0, "X", "")) | AB16: =IF(G16="", "", IF(COUNTIF('Client List'!$Y$12:$Y$261, G16)=0, "X", "")) | AD16: =IF(I16="", "", IF(COUNTIF('Client List'!$Y$12:$Y$261, I16)=0, "X", ""))
B17: 43739 | C17: Client 4 - Test Job 4 | D17: 0.16666667 | M17: =IF($B17="", "", IF($B17>'Client List'!$AA$22, 'Client List'!$AB$21, TEXT($B17, "mmm yyyy"))) -> Oct 2019 | O17: =IF($B17="", "", IF(OR($B17<$O$6, $B17>$O$7), "X", "")) | Q17: =IF('Client List'!$Y17="", "", 'Client List'!$Y17) | S17: =IF($C17="", "", _xlfn.CONCAT($M17, " - ", $C17)) -> Oct 2019 - Client 4 - Test Job 4 | T17: =IF($E17="", "", _xlfn.CONCAT($M17, " - ", $E17)) | U17: =IF($G17="", "", _xlfn.CONCAT($M17, " - ", $G17)) | V17: =IF($I17="", "", _xlfn.CONCAT($M17, " - ", $I17)) | X17: =IF(C17="", "", IF(COUNTIF('Client List'!$Y$12:$Y$261, C17)=0, "X", "")) | Z17: =IF(E17="", "", IF(COUNTIF('Client List'!$Y$12:$Y$261, E17)=0, "X", "")) | AB17: =IF(G17="", "", IF(COUNTIF('Client List'!$Y$12:$Y$261, G17)=0, "X", "")) | AD17: =IF(I17="", "", IF(COUNTIF('Client List'!$Y$12:$Y$261, I17)=0, "X", ""))
B18: 43770 | C18: Client 3 - Test Job 3 | D18: 0.125 | M18: =IF($B18="", "", IF($B18>'Client List'!$AA$22, 'Client List'!$AB$21, TEXT($B18, "mmm yyyy"))) -> Nov 2019 | O18: =IF($B18="", "", IF(OR($B18<$O$6, $B18>$O$7), "X", "")) | Q18: =IF('Client List'!$Y18="", "", 'Client List'!$Y18) | S18: =IF($C18="", "", _xlfn.CONCAT($M18, " - ", $C18)) -> Nov 2019 - Client 3 - Test Job 3 | T18: =IF($E18="", "", _xlfn.CONCAT($M18, " - ", $E18)) | U18: =IF($G18="", "", _xlfn.CONCAT($M18, " - ", $G18)) | V18: =IF($I18="", "", _xlfn.CONCAT($M18, " - ", $I18)) | X18: =IF(C18="", "", IF(COUNTIF('Client List'!$Y$12:$Y$261, C18)=0, "X", "")) | Z18: =IF(E18="", "", IF(COUNTIF('Client List'!$Y$12:$Y$261, E18)=0, "X", "")) | AB18: =IF(G18="", "", IF(COUNTIF('Client List'!$Y$12:$Y$261, G18)=0, "X", "")) | AD18: =IF(I18="", "", IF(COUNTIF('Client List'!$Y$12:$Y$261, I18)=0, "X", ""))
B19: 43800 | C19: Client 5 - Test Job 5 | D19: 0.22916667 | M19: =IF($B19="", "", IF($B19>'Client List'!$AA$22, 'Client List'!$AB$21, TEXT($B19, "mmm yyyy"))) -> Dec 2019 | O19: =IF($B19="", "", IF(OR($B19<$O$6, $B19>$O$7), "X", "")) | Q19: =IF('Client List'!$Y19="", "", 'Client List'!$Y19) | S19: =IF($C19="", "", _xlfn.CONCAT($M19, " - ", $C19)) -> Dec 2019 - Client 5 - Test Job 5 | T19: =IF($E19="", "", _xlfn.CONCAT($M19, " - ", $E19)) | U19: =IF($G19="", "", _xlfn.CONCAT($M19, " - ", $G19)) | V19: =IF($I19="", "", _xlfn.CONCAT($M19, " - ", $I19)) | X19: =IF(C19="", "", IF(COUNTIF('Client List'!$Y$12:$Y$261, C19)=0, "X", "")) | Z19: =IF(E19="", "", IF(COUNTIF('Client List'!$Y$12:$Y$261, E19)=0, "X", "")) | AB19: =IF(G19="", "", IF(COUNTIF('Client List'!$Y$12:$Y$261, G19)=0, "X", "")) | AD19: =IF(I19="", "", IF(COUNTIF('Client List'!$Y$12:$Y$261, I19)=0, "X", ""))
B20: 43831 | C20: Client 4 - Test Job 4 | D20: 0.19791667 | M20: =IF($B20="", "", IF($B20>'Client List'!$AA$22, 'Client List'!$AB$21, TEXT($B20, "mmm yyyy"))) -> Jan 2020 | O20: =IF($B20="", "", IF(OR($B20<$O$6, $B20>$O$7), "X", "")) | Q20: =IF('Client List'!$Y20="", "", 'Client List'!$Y20) | S20: =IF($C20="", "", _xlfn.CONCAT($M20, " - ", $C20)) -> Jan 2020 - Client 4 - Test Job 4 | T20: =IF($E20="", "", _xlfn.CONCAT($M20, " - ", $E20)) | U20: =IF($G20="", "", _xlfn.CONCAT($M20, " - ", $G20)) | V20: =IF($I20="", "", _xlfn.CONCAT($M20, " - ", $I20)) | X20: =IF(C20="", "", IF(COUNTIF('Client List'!$Y$12:$Y$261, C20)=0, "X", "")) | Z20: =IF(E20="", "", IF(COUNTIF('Client List'!$Y$12:$Y$261, E20)=0, "X", "")) | AB20: =IF(G20="", "", IF(COUNTIF('Client List'!$Y$12:$Y$261, G20)=0, "X", "")) | AD20: =IF(I20="", "", IF(COUNTIF('Client List'!$Y$12:$Y$261, I20)=0, "X", ""))
M21: =IF($B21="", "", IF($B21>'Client List'!$AA$22, 'Client List'!$AB$21, TEXT($B21, "mmm yyyy"))) | O21: =IF($B21="", "", IF(OR($B21<$O$6, $B21>$O$7), "X", "")) | Q21: =IF('Client List'!$Y21="", "", 'Client List'!$Y21) | S21: =IF($C21="", "", _xlfn.CONCAT($M21, " - ", $C21)) | T21: =IF($E21="", "", _xlfn.CONCAT($M21, " - ", $E21)) | U21: =IF($G21="", "", _xlfn.CONCAT($M21, " - ", $G21)) | V21: =IF($I21="", "", _xlfn.CONCAT($M21, " - ", $I21)) | X21: =IF(C21="", "", IF(COUNTIF('Client List'!$Y$12:$Y$261, C21)=0, "X", "")) | Z21: =IF(E21="", "", IF(COUNTIF('Client List'!$Y$12:$Y$261, E21)=0, "X", "")) | AB21: =IF(G21="", "", IF(COUNTIF('Client List'!$Y$12:$Y$261, G21)=0, "X", "")) | AD21: =IF(I21="", "", IF(COUNTIF('Client List'!$Y$12:$Y$261, I21)=0, "X", ""))
M22: =IF($B22="", "", IF($B22>'Client List'!$AA$22, 'Client List'!$AB$21, TEXT($B22, "mmm yyyy"))) | O22: =IF($B22="", "", IF(OR($B22<$O$6, $B22>$O$7), "X", "")) | Q22: =IF('Client List'!$Y22="", "", 'Client List'!$Y22) | S22: =IF($C22="", "", _xlfn.CONCAT($M22, " - ", $C22)) | T22: =IF($E22="", "", _xlfn.CONCAT($M22, " - ", $E22)) | U22: =IF($G22="", "", _xlfn.CONCAT($M22, " - ", $G22)) | V22: =IF($I22="", "", _xlfn.CONCAT($M22, " - ", $I22)) | X22: =IF(C22="", "", IF(COUNTIF('Client List'!$Y$12:$Y$261, C22)=0, "X", "")) | Z22: =IF(E22="", "", IF(COUNTIF('Client List'!$Y$12:$Y$261, E22)=0, "X", "")) | AB22: =IF(G22="", "", IF(COUNTIF('Client List'!$Y$12:$Y$261, G22)=0, "X", "")) | AD22: =IF(I22="", "", IF(COUNTIF('Client List'!$Y$12:$Y$261, I22)=0, "X", ""))
M23: =IF($B23="", "", IF($B23>'Client List'!$AA$22, 'Client List'!$AB$21, TEXT($B23, "mmm yyyy"))) | O23: =IF($B23="", "", IF(OR($B23<$O$6, $B23>$O$7), "X", "")) | Q23: =IF('Client List'!$Y23="", "", 'Client List'!$Y23) | S23: =IF($C23="", "", _xlfn.CONCAT($M23, " - ", $C23)) | T23: =IF($E23="", "", _xlfn.CONCAT($M23, " - ", $E23)) | U23: =IF($G23="", "", _xlfn.CONCAT($M23, " - ", $G23)) | V23: =IF($I23="", "", _xlfn.CONCAT($M23, " - ", $I23)) | X23: =IF(C23="", "", IF(COUNTIF('Client List'!$Y$12:$Y$261, C23)=0, "X", "")) | Z23: =IF(E23="", "", IF(COUNTIF('Client List'!$Y$12:$Y$261, E23)=0, "X", "")) | AB23: =IF(G23="", "", IF(COUNTIF('Client List'!$Y$12:$Y$261, G23)=0, "X", "")) | AD23: =IF(I23="", "", IF(COUNTIF('Client List'!$Y$12:$Y$261, I23)=0, "X", ""))
M24: =IF($B24="", "", IF($B24>'Client List'!$AA$22, 'Client List'!$AB$21, TEXT($B24, "mmm yyyy"))) | O24: =IF($B24="", "", IF(OR($B24<$O$6, $B24>$O$7), "X", "")) | Q24: =IF('Client List'!$Y24="", "", 'Client List'!$Y24) | S24: =IF($C24="", "", _xlfn.CONCAT($M24, " - ", $C24)) | T24: =IF($E24="", "", _xlfn.CONCAT($M24, " - ", $E24)) | U24: =IF($G24="", "", _xlfn.CONCAT($M24, " - ", $G24)) | V24: =IF($I24="", "", _xlfn.CONCAT($M24, " - ", $I24)) | X24: =IF(C24="", "", IF(COUNTIF('Client List'!$Y$12:$Y$261, C24)=0, "X", "")) | Z24: =IF(E24="", "", IF(COUNTIF('Client List'!$Y$12:$Y$261, E24)=0, "X", "")) | AB24: =IF(G24="", "", IF(COUNTIF('Client List'!$Y$12:$Y$261, G24)=0, "X", "")) | AD24: =IF(I24="", "", IF(COUNTIF('Client List'!$Y$12:$Y$261, I24)=0, "X", ""))
M25: =IF($B25="", "", IF($B25>'Client List'!$AA$22, 'Client List'!$AB$21, TEXT($B25, "mmm yyyy"))) | O25: =IF($B25="", "", IF(OR($B25<$O$6, $B25>$O$7), "X", "")) | Q25: =IF('Client List'!$Y25="", "", 'Client List'!$Y25) | S25: =IF($C25="", "", _xlfn.CONCAT($M25, " - ", $C25)) | T25: =IF($E25="", "", _xlfn.CONCAT($M25, " - ", $E25)) | U25: =IF($G25="", "", _xlfn.CONCAT($M25, " - ", $G25)) | V25: =IF($I25="", "", _xlfn.CONCAT($M25, " - ", $I25)) | X25: =IF(C25="", "", IF(COUNTIF('Client List'!$Y$12:$Y$261, C25)=0, "X", "")) | Z25: =IF(E25="", "", IF(COUNTIF('Client List'!$Y$12:$Y$261, E25)=0, "X", "")) | AB25: =IF(G25="", "", IF(COUNTIF('Client List'!$Y$12:$Y$261, G25)=0, "X", "")) | AD25: =IF(I25="", "", IF(COUNTIF('Client List'!$Y$12:$Y$261, I25)=0, "X", ""))
M26: =IF($B26="", "", IF($B26>'Client List'!$AA$22, 'Client List'!$AB$21, TEXT($B26, "mmm yyyy"))) | O26: =IF($B26="", "", IF(OR($B26<$O$6, $B26>$O$7), "X", "")) | Q26: =IF('Client List'!$Y26="", "", 'Client List'!$Y26) | S26: =IF($C26="", "", _xlfn.CONCAT($M26, " - ", $C26)) | T26: =IF($E26="", "", _xlfn.CONCAT($M26, " - ", $E26)) | U26: =IF($G26="", "", _xlfn.CONCAT($M26, " - ", $G26)) | V26: =IF($I26="", "", _xlfn.CONCAT($M26, " - ", $I26)) | X26: =IF(C26="", "", IF(COUNTIF('Client List'!$Y$12:$Y$261, C26)=0, "X", "")) | Z26: =IF(E26="", "", IF(COUNTIF('Client List'!$Y$12:$Y$261, E26)=0, "X", "")) | AB26: =IF(G26="", "", IF(COUNTIF('Client List'!$Y$12:$Y$261, G26)=0, "X", "")) | AD26: =IF(I26="", "", IF(COUNTIF('Client List'!$Y$12:$Y$261, I26)=0, "X", ""))
M27: =IF($B27="", "", IF($B27>'Client List'!$AA$22, 'Client List'!$AB$21, TEXT($B27, "mmm yyyy"))) | O27: =IF($B27="", "", IF(OR($B27<$O$6, $B27>$O$7), "X", "")) | Q27: =IF('Client List'!$Y27="", "", 'Client List'!$Y27) | S27: =IF($C27="", "", _xlfn.CONCAT($M27, " - ", $C27)) | T27: =IF($E27="", "", _xlfn.CONCAT($M27, " - ", $E27)) | U27: =IF($G27="", "", _xlfn.CONCAT($M27, " - ", $G27)) | V27: =IF($I27="", "", _xlfn.CONCAT($M27, " - ", $I27)) | X27: =IF(C27="", "", IF(COUNTIF('Client List'!$Y$12:$Y$261, C27)=0, "X", "")) | Z27: =IF(E27="", "", IF(COUNTIF('Client List'!$Y$12:$Y$261, E27)=0, "X", "")) | AB27: =IF(G27="", "", IF(COUNTIF('Client List'!$Y$12:$Y$261, G27)=0, "X", "")) | AD27: =IF(I27="", "", IF(COUNTIF('Client List'!$Y$12:$Y$261, I27)=0, "X", ""))
M28: =IF($B28="", "", IF($B28>'Client List'!$AA$22, 'Client List'!$AB$21, TEXT($B28, "mmm yyyy"))) | O28: =IF($B28="", "", IF(OR($B28<$O$6, $B28>$O$7), "X", "")) | Q28: =IF('Client List'!$Y28="", "", 'Client List'!$Y28) | S28: =IF($C28="", "", _xlfn.CONCAT($M28, " - ", $C28)) | T28: =IF($E28="", "", _xlfn.CONCAT($M28, " - ", $E28)) | U28: =IF($G28="", "", _xlfn.CONCAT($M28, " - ", $G28)) | V28: =IF($I28="", "", _xlfn.CONCAT($M28, " - ", $I28)) | X28: =IF(C28="", "", IF(COUNTIF('Client List'!$Y$12:$Y$261, C28)=0, "X", "")) | Z28: =IF(E28="", "", IF(COUNTIF('Client List'!$Y$12:$Y$261, E28)=0, "X", "")) | AB28: =IF(G28="", "", IF(COUNTIF('Client List'!$Y$12:$Y$261, G28)=0, "X", "")) | AD28: =IF(I28="", "", IF(COUNTIF('Client List'!$Y$12:$Y$261, I28)=0, "X", ""))
M29: =IF($B29="", "", IF($B29>'Client List'!$AA$22, 'Client List'!$AB$21, TEXT($B29, "mmm yyyy"))) | O29: =IF($B29="", "", IF(OR($B29<$O$6, $B29>$O$7), "X", "")) | Q29: =IF('Client List'!$Y29="", "", 'Client List'!$Y29) | S29: =IF($C29="", "", _xlfn.CONCAT($M29, " - ", $C29)) | T29: =IF($E29="", "", _xlfn.CONCAT($M29, " - ", $E29)) | U29: =IF($G29="", "", _xlfn.CONCAT($M29, " - ", $G29)) | V29: =IF($I29="", "", _xlfn.CONCAT($M29, " - ", $I29)) | X29: =IF(C29="", "", IF(COUNTIF('Client List'!$Y$12:$Y$261, C29)=0, "X", "")) | Z29: =IF(E29="", "", IF(COUNTIF('Client List'!$Y$12:$Y$261, E29)=0, "X", "")) | AB29: =IF(G29="", "", IF(COUNTIF('Client List'!$Y$12:$Y$261, G29)=0, "X", "")) | AD29: =IF(I29="", "", IF(COUNTIF('Client List'!$Y$12:$Y$261, I29)=0, "X", ""))
M30: =IF($B30="", "", IF($B30>'Client List'!$AA$22, 'Client List'!$AB$21, TEXT($B30, "mmm yyyy"))) | O30: =IF($B30="", "", IF(OR($B30<$O$6, $B30>$O$7), "X", "")) | Q30: =IF('Client List'!$Y30="", "", 'Client List'!$Y30) | S30: =IF($C30="", "", _xlfn.CONCAT($M30, " - ", $C30)) | T30: =IF($E30="", "", _xlfn.CONCAT($M30, " - ", $E30)) | U30: =IF($G30="", "", _xlfn.CONCAT($M30, " - ", $G30)) | V30: =IF($I30="", "", _xlfn.CONCAT($M30, " - ", $I30)) | X30: =IF(C30="", "", IF(COUNTIF('Client List'!$Y$12:$Y$261, C30)=0, "X", "")) | Z30: =IF(E30="", "", IF(COUNTIF('Client List'!$Y$12:$Y$261, E30)=0, "X", "")) | AB30: =IF(G30="", "", IF(COUNTIF('Client List'!$Y$12:$Y$261, G30)=0, "X", "")) | AD30: =IF(I30="", "", IF(COUNTIF('Client List'!$Y$12:$Y$261, I30)=0, "X", ""))
M31: =IF($B31="", "", IF($B31>'Client List'!$AA$22, 'Client List'!$AB$21, TEXT($B31, "mmm yyyy"))) | O31: =IF($B31="", "", IF(OR($B31<$O$6, $B31>$O$7), "X", "")) | Q31: =IF('Client List'!$Y31="", "", 'Client List'!$Y31) | S31: =IF($C31="", "", _xlfn.CONCAT($M31, " - ", $C31)) | T31: =IF($E31="", "", _xlfn.CONCAT($M31, " - ", $E31)) | U31: =IF($G31="", "", _xlfn.CONCAT($M31, " - ", $G31)) | V31: =IF($I31="", "", _xlfn.CONCAT($M31, " - ", $I31)) | X31: =IF(C31="", "", IF(COUNTIF('Client List'!$Y$12:$Y$261, C31)=0, "X", "")) | Z31: =IF(E31="", "", IF(COUNTIF('Client List'!$Y$12:$Y$261, E31)=0, "X", "")) | AB31: =IF(G31="", "", IF(COUNTIF('Client List'!$Y$12:$Y$261, G31)=0, "X", "")) | AD31: =IF(I31="", "", IF(COUNTIF('Client List'!$Y$12:$Y$261, I31)=0, "X", ""))
M32: =IF($B32="", "", IF($B32>'Client List'!$AA$22, 'Client List'!$AB$21, TEXT($B32, "mmm yyyy"))) | O32: =IF($B32="", "", IF(OR($B32<$O$6, $B32>$O$7), "X", "")) | Q32: =IF('Client List'!$Y32="", "", 'Client List'!$Y32) | S32: =IF($C32="", "", _xlfn.CONCAT($M32, " - ", $C32)) | T32: =IF($E32="", "", _xlfn.CONCAT($M32, " - ", $E32)) | U32: =IF($G32="", "", _xlfn.CONCAT($M32, " - ", $G32)) | V32: =IF($I32="", "", _xlfn.CONCAT($M32, " - ", $I32)) | X32: =IF(C32="", "", IF(COUNTIF('Client List'!$Y$12:$Y$261, C32)=0, "X", "")) | Z32: =IF(E32="", "", IF(COUNTIF('Client List'!$Y$12:$Y$261, E32)=0, "X", "")) | AB32: =IF(G32="", "", IF(COUNTIF('Client List'!$Y$12:$Y$261, G32)=0, "X", "")) | AD32: =IF(I32="", "", IF(COUNTIF('Client List'!$Y$12:$Y$261, I32)=0, "X", ""))
... M261: =IF($B261="", "", IF($B261>'Client List'!$AA$22, 'Client List'!$AB$21, TEXT($B261, "mmm yyyy"))) | O261: =IF($B261="", "", IF(OR($B261<$O$6, $B261>$O$7), "X", "")) | Q261: =IF('Client List'!$Y261="", "", 'Client List'!$Y261) | S261: =IF($C261="", "", _xlfn.CONCAT($M261, " - ", $C261)) | T261: =IF($E261="", "", _xlfn.CONCAT($M261, " - ", $E261)) | U261: =IF($G261="", "", _xlfn.CONCAT($M261, " - ", $G261)) | V261: =IF($I261="", "", _xlfn.CONCAT($M261, " - ", $I261)) | X261: =IF(C261="", "", IF(COUNTIF('Client List'!$Y$12:$Y$261, C261)=0, "X", "")) | Z261: =IF(E261="", "", IF(COUNTIF('Client List'!$Y$12:$Y$261, E261)=0, "X", "")) | AB261: =IF(G261="", "", IF(COUNTIF('Client List'!$Y$12:$Y$261, G261)=0, "X", "")) | AD261: =IF(I261="", "", IF(COUNTIF('Client List'!$Y$12:$Y$261, I261)=0, "X", ""))
M262: =IF($B262="", "", IF($B262>'Client List'!$AA$22, 'Client List'!$AB$21, TEXT($B262, "mmm yyyy"))) | O262: =IF($B262="", "", IF(OR($B262<$O$6, $B262>$O$7), "X", "")) | S262: =IF($C262="", "", _xlfn.CONCAT($M262, " - ", $C262)) | T262: =IF($E262="", "", _xlfn.CONCAT($M262, " - ", $E262)) | U262: =IF($G262="", "", _xlfn.CONCAT($M262, " - ", $G262)) | V262: =IF($I262="", "", _xlfn.CONCAT($M262, " - ", $I262)) | X262: =IF(C262="", "", IF(COUNTIF('Client List'!$Y$12:$Y$261, C262)=0, "X", "")) | Z262: =IF(E262="", "", IF(COUNTIF('Client List'!$Y$12:$Y$261, E262)=0, "X", "")) | AB262: =IF(G262="", "", IF(COUNTIF('Client List'!$Y$12:$Y$261, G262)=0, "X", "")) | AD262: =IF(I262="", "", IF(COUNTIF('Client List'!$Y$12:$Y$261, I262)=0, "X", ""))
M263: =IF($B263="", "", IF($B263>'Client List'!$AA$22, 'Client List'!$AB$21, TEXT($B263, "mmm yyyy"))) | O263: =IF($B263="", "", IF(OR($B263<$O$6, $B263>$O$7), "X", "")) | S263: =IF($C263="", "", _xlfn.CONCAT($M263, " - ", $C263)) | T263: =IF($E263="", "", _xlfn.CONCAT($M263, " - ", $E263)) | U263: =IF($G263="", "", _xlfn.CONCAT($M263, " - ", $G263)) | V263: =IF($I263="", "", _xlfn.CONCAT($M263, " - ", $I263)) | X263: =IF(C263="", "", IF(COUNTIF('Client List'!$Y$12:$Y$261, C263)=0, "X", "")) | Z263: =IF(E263="", "", IF(COUNTIF('Client List'!$Y$12:$Y$261, E263)=0, "X", "")) | AB263: =IF(G263="", "", IF(COUNTIF('Client List'!$Y$12:$Y$261, G263)=0, "X", "")) | AD263: =IF(I263="", "", IF(COUNTIF('Client List'!$Y$12:$Y$261, I263)=0, "X", ""))
M264: =IF($B264="", "", IF($B264>'Client List'!$AA$22, 'Client List'!$AB$21, TEXT($B264, "mmm yyyy"))) | O264: =IF($B264="", "", IF(OR($B264<$O$6, $B264>$O$7), "X", "")) | S264: =IF($C264="", "", _xlfn.CONCAT($M264, " - ", $C264)) | T264: =IF($E264="", "", _xlfn.CONCAT($M264, " - ", $E264)) | U264: =IF($G264="", "", _xlfn.CONCAT($M264, " - ", $G264)) | V264: =IF($I264="", "", _xlfn.CONCAT($M264, " - ", $I264)) | X264: =IF(C264="", "", IF(COUNTIF('Client List'!$Y$12:$Y$261, C264)=0, "X", "")) | Z264: =IF(E264="", "", IF(COUNTIF('Client List'!$Y$12:$Y$261, E264)=0, "X", "")) | AB264: =IF(G264="", "", IF(COUNTIF('Client List'!$Y$12:$Y$261, G264)=0, "X", "")) | AD264: =IF(I264="", "", IF(COUNTIF('Client List'!$Y$12:$Y$261, I264)=0, "X", ""))
M265: =IF($B265="", "", IF($B265>'Client List'!$AA$22, 'Client List'!$AB$21, TEXT($B265, "mmm yyyy"))) | O265: =IF($B265="", "", IF(OR($B265<$O$6, $B265>$O$7), "X", "")) | S265: =IF($C265="", "", _xlfn.CONCAT($M265, " - ", $C265)) | T265: =IF($E265="", "", _xlfn.CONCAT($M265, " - ", $E265)) | U265: =IF($G265="", "", _xlfn.CONCAT($M265, " - ", $G265)) | V265: =IF($I265="", "", _xlfn.CONCAT($M265, " - ", $I265)) | X265: =IF(C265="", "", IF(COUNTIF('Client List'!$Y$12:$Y$261, C265)=0, "X", "")) | Z265: =IF(E265="", "", IF(COUNTIF('Client List'!$Y$12:$Y$261, E265)=0, "X", "")) | AB265: =IF(G265="", "", IF(COUNTIF('Client List'!$Y$12:$Y$261, G265)=0, "X", "")) | AD265: =IF(I265="", "", IF(COUNTIF('Client List'!$Y$12:$Y$261, I265)=0, "X", ""))
M266: =IF($B266="", "", IF($B266>'Client List'!$AA$22, 'Client List'!$AB$21, TEXT($B266, "mmm yyyy"))) | O266: =IF($B266="", "", IF(OR($B266<$O$6, $B266>$O$7), "X", "")) | S266: =IF($C266="", "", _xlfn.CONCAT($M266, " - ", $C266)) | T266: =IF($E266="", "", _xlfn.CONCAT($M266, " - ", $E266)) | U266: =IF($G266="", "", _xlfn.CONCAT($M266, " - ", $G266)) | V266: =IF($I266="", "", _xlfn.CONCAT($M266, " - ", $I266)) | X266: =IF(C266="", "", IF(COUNTIF('Client List'!$Y$12:$Y$261, C266)=0, "X", "")) | Z266: =IF(E266="", "", IF(COUNTIF('Client List'!$Y$12:$Y$261, E266)=0, "X", "")) | AB266: =IF(G266="", "", IF(COUNTIF('Client List'!$Y$12:$Y$261, G266)=0, "X", "")) | AD266: =IF(I266="", "", IF(COUNTIF('Client List'!$Y$12:$Y$261, I266)=0, "X", ""))
M267: =IF($B267="", "", IF($B267>'Client List'!$AA$22, 'Client List'!$AB$21, TEXT($B267, "mmm yyyy"))) | O267: =IF($B267="", "", IF(OR($B267<$O$6, $B267>$O$7), "X", "")) | S267: =IF($C267="", "", _xlfn.CONCAT($M267, " - ", $C267)) | T267: =IF($E267="", "", _xlfn.CONCAT($M267, " - ", $E267)) | U267: =IF($G267="", "", _xlfn.CONCAT($M267, " - ", $G267)) | V267: =IF($I267="", "", _xlfn.CONCAT($M267, " - ", $I267)) | X267: =IF(C267="", "", IF(COUNTIF('Client List'!$Y$12:$Y$261, C267)=0, "X", "")) | Z267: =IF(E267="", "", IF(COUNTIF('Client List'!$Y$12:$Y$261, E267)=0, "X", "")) | AB267: =IF(G267="", "", IF(COUNTIF('Client List'!$Y$12:$Y$261, G267)=0, "X", "")) | AD267: =IF(I267="", "", IF(COUNTIF('Client List'!$Y$12:$Y$261, I267)=0, "X", ""))
M268: =IF($B268="", "", IF($B268>'Client List'!$AA$22, 'Client List'!$AB$21, TEXT($B268, "mmm yyyy"))) | O268: =IF($B268="", "", IF(OR($B268<$O$6, $B268>$O$7), "X", "")) | S268: =IF($C268="", "", _xlfn.CONCAT($M268, " - ", $C268)) | T268: =IF($E268="", "", _xlfn.CONCAT($M268, " - ", $E268)) | U268: =IF($G268="", "", _xlfn.CONCAT($M268, " - ", $G268)) | V268: =IF($I268="", "", _xlfn.CONCAT($M268, " - ", $I268)) | X268: =IF(C268="", "", IF(COUNTIF('Client List'!$Y$12:$Y$261, C268)=0, "X", "")) | Z268: =IF(E268="", "", IF(COUNTIF('Client List'!$Y$12:$Y$261, E268)=0, "X", "")) | AB268: =IF(G268="", "", IF(COUNTIF('Client List'!$Y$12:$Y$261, G268)=0, "X", "")) | AD268: =IF(I268="", "", IF(COUNTIF('Client List'!$Y$12:$Y$261, I268)=0, "X", ""))
M269: =IF($B269="", "", IF($B269>'Client List'!$AA$22, 'Client List'!$AB$21, TEXT($B269, "mmm yyyy"))) | O269: =IF($B269="", "", IF(OR($B269<$O$6, $B269>$O$7), "X", "")) | S269: =IF($C269="", "", _xlfn.CONCAT($M269, " - ", $C269)) | T269: =IF($E269="", "", _xlfn.CONCAT($M269, " - ", $E269)) | U269: =IF($G269="", "", _xlfn.CONCAT($M269, " - ", $G269)) | V269: =IF($I269="", "", _xlfn.CONCAT($M269, " - ", $I269)) | X269: =IF(C269="", "", IF(COUNTIF('Client List'!$Y$12:$Y$261, C269)=0, "X", "")) | Z269: =IF(E269="", "", IF(COUNTIF('Client List'!$Y$12:$Y$261, E269)=0, "X", "")) | AB269: =IF(G269="", "", IF(COUNTIF('Client List'!$Y$12:$Y$261, G269)=0, "X", "")) | AD269: =IF(I269="", "", IF(COUNTIF('Client List'!$Y$12:$Y$261, I269)=0, "X", ""))
M270: =IF($B270="", "", IF($B270>'Client List'!$AA$22, 'Client List'!$AB$21, TEXT($B270, "mmm yyyy"))) | O270: =IF($B270="", "", IF(OR($B270<$O$6, $B270>$O$7), "X", "")) | S270: =IF($C270="", "", _xlfn.CONCAT($M270, " - ", $C270)) | T270: =IF($E270="", "", _xlfn.CONCAT($M270, " - ", $E270)) | U270: =IF($G270="", "", _xlfn.CONCAT($M270, " - ", $G270)) | V270: =IF($I270="", "", _xlfn.CONCAT($M270, " - ", $I270)) | X270: =IF(C270="", "", IF(COUNTIF('Client List'!$Y$12:$Y$261, C270)=0, "X", "")) | Z270: =IF(E270="", "", IF(COUNTIF('Client List'!$Y$12:$Y$261, E270)=0, "X", "")) | AB270: =IF(G270="", "", IF(COUNTIF('Client List'!$Y$12:$Y$261, G270)=0, "X", "")) | AD270: =IF(I270="", "", IF(COUNTIF('Client List'!$Y$12:$Y$261, I270)=0, "X", ""))
M271: =IF($B271="", "", IF($B271>'Client List'!$AA$22, 'Client List'!$AB$21, TEXT($B271, "mmm yyyy"))) | O271: =IF($B271="", "", IF(OR($B271<$O$6, $B271>$O$7), "X", "")) | S271: =IF($C271="", "", _xlfn.CONCAT($M271, " - ", $C271)) | T271: =IF($E271="", "", _xlfn.CONCAT($M271, " - ", $E271)) | U271: =IF($G271="", "", _xlfn.CONCAT($M271, " - ", $G271)) | V271: =IF($I271="", "", _xlfn.CONCAT($M271, " - ", $I271)) | X271: =IF(C271="", "", IF(COUNTIF('Client List'!$Y$12:$Y$261, C271)=0, "X", "")) | Z271: =IF(E271="", "", IF(COUNTIF('Client List'!$Y$12:$Y$261, E271)=0, "X", "")) | AB271: =IF(G271="", "", IF(COUNTIF('Client List'!$Y$12:$Y$261, G271)=0, "X", "")) | AD271: =IF(I271="", "", IF(COUNTIF('Client List'!$Y$12:$Y$261, I271)=0, "X", ""))
M272: =IF($B272="", "", IF($B272>'Client List'!$AA$22, 'Client List'!$AB$21, TEXT($B272, "mmm yyyy"))) | O272: =IF($B272="", "", IF(OR($B272<$O$6, $B272>$O$7), "X", "")) | S272: =IF($C272="", "", _xlfn.CONCAT($M272, " - ", $C272)) | T272: =IF($E272="", "", _xlfn.CONCAT($M272, " - ", $E272)) | U272: =IF($G272="", "", _xlfn.CONCAT($M272, " - ", $G272)) | V272: =IF($I272="", "", _xlfn.CONCAT($M272, " - ", $I272)) | X272: =IF(C272="", "", IF(COUNTIF('Client List'!$Y$12:$Y$261, C272)=0, "X", "")) | Z272: =IF(E272="", "", IF(COUNTIF('Client List'!$Y$12:$Y$261, E272)=0, "X", "")) | AB272: =IF(G272="", "", IF(COUNTIF('Client List'!$Y$12:$Y$261, G272)=0, "X", "")) | AD272: =IF(I272="", "", IF(COUNTIF('Client List'!$Y$12:$Y$261, I272)=0, "X", ""))
M273: =IF($B273="", "", IF($B273>'Client List'!$AA$22, 'Client List'!$AB$21, TEXT($B273, "mmm yyyy"))) | O273: =IF($B273="", "", IF(OR($B273<$O$6, $B273>$O$7), "X", "")) | S273: =IF($C273="", "", _xlfn.CONCAT($M273, " - ", $C273)) | T273: =IF($E273="", "", _xlfn.CONCAT($M273, " - ", $E273)) | U273: =IF($G273="", "", _xlfn.CONCAT($M273, " - ", $G273)) | V273: =IF($I273="", "", _xlfn.CONCAT($M273, " - ", $I273)) | X273: =IF(C273="", "", IF(COUNTIF('Client List'!$Y$12:$Y$261, C273)=0, "X", "")) | Z273: =IF(E273="", "", IF(COUNTIF('Client List'!$Y$12:$Y$261, E273)=0, "X", "")) | AB273: =IF(G273="", "", IF(COUNTIF('Client List'!$Y$12:$Y$261, G273)=0, "X", "")) | AD273: =IF(I273="", "", IF(COUNTIF('Client List'!$Y$12:$Y$261, I273)=0, "X", ""))
... M1011: =IF($B1011="", "", IF($B1011>'Client List'!$AA$22, 'Client List'!$AB$21, TEXT($B1011, "mmm yyyy"))) | O1011: =IF($B1011="", "", IF(OR($B1011<$O$6, $B1011>$O$7), "X", "")) | S1011: =IF($C1011="", "", _xlfn.CONCAT($M1011, " - ", $C1011)) | T1011: =IF($E1011="", "", _xlfn.CONCAT($M1011, " - ", $E1011)) | U1011: =IF($G1011="", "", _xlfn.CONCAT($M1011, " - ", $G1011)) | V1011: =IF($I1011="", "", _xlfn.CONCAT($M1011, " - ", $I1011)) | X1011: =IF(C1011="", "", IF(COUNTIF('Client List'!$Y$12:$Y$261, C1011)=0, "X", "")) | Z1011: =IF(E1011="", "", IF(COUNTIF('Client List'!$Y$12:$Y$261, E1011)=0, "X", "")) | AB1011: =IF(G1011="", "", IF(COUNTIF('Client List'!$Y$12:$Y$261, G1011)=0, "X", "")) | AD1011: =IF(I1011="", "", IF(COUNTIF('Client List'!$Y$12:$Y$261, I1011)=0, "X", ""))

Sheet Report
B2: =_xlfn.CONCAT("Time Report for ", 'Intro & Setup'!$H$16) -> Time Report for Your Business | BA2: =_xlfn.CONCAT($H$6, " - ", $V$6) -> -
BA3: Client List | BB3: Job List
B4: Date range
AD5: Select the Client Name first, and then the Job Description. Alternatively, just select the client name to view all jobs for that client. Leave them both blank to view ALL entries. | BA5: =IFERROR(INDEX('Client List'!$AH$12:$AH$261, MATCH($BC5, 'Client List'!$AI$12:$AI$261, 0)), "") -> Client 1 | BB5: =IFERROR(INDEX('Client List'!$AK$12:$AK$261, MATCH($BC5, 'Client List'!$AL$12:$AL$261, 0)), "") | BC5: 1
B6: Client Name | P6: Job Description | BA6: =IFERROR(INDEX('Client List'!$AH$12:$AH$261, MATCH($BC6, 'Client List'!$AI$12:$AI$261, 0)), "") -> Client 2 | BB6: =IFERROR(INDEX('Client List'!$AK$12:$AK$261, MATCH($BC6, 'Client List'!$AL$12:$AL$261, 0)), "") | BC6: 2 | BF6: Total Time Allocated | BG6: =IF(AND($V$6="", $H$6=""), SUM('Client List'!$D$12:$D$261), IF($V$6="", SUMIF('Client List'!$B$12:$B$261, $H$6, 'Client List'!$D$12:$D$261), IF(AND(NOT($V$6=""), NOT($H$6="")), IFERROR(INDEX('Client List'!$D$12:$D$261, MATCH($BA$2, 'Client List'!$Y$12:$Y$261, 0)), ""), ""))) -> 2.0833333
BA7: =IFERROR(INDEX('Client List'!$AH$12:$AH$261, MATCH($BC7, 'Client List'!$AI$12:$AI$261, 0)), "") -> Client 3 | BB7: =IFERROR(INDEX('Client List'!$AK$12:$AK$261, MATCH($BC7, 'Client List'!$AL$12:$AL$261, 0)), "") | BC7: 3
B8: Monthly Breakdown Based on Above Selections | BA8: =IFERROR(INDEX('Client List'!$AH$12:$AH$261, MATCH($BC8, 'Client List'!$AI$12:$AI$261, 0)), "") -> Client 4 | BB8: =IFERROR(INDEX('Client List'!$AK$12:$AK$261, MATCH($BC8, 'Client List'!$AL$12:$AL$261, 0)), "") | BC8: 4
BA9: =IFERROR(INDEX('Client List'!$AH$12:$AH$261, MATCH($BC9, 'Client List'!$AI$12:$AI$261, 0)), "") -> Client 5 | BB9: =IFERROR(INDEX('Client List'!$AK$12:$AK$261, MATCH($BC9, 'Client List'!$AL$12:$AL$261, 0)), "") | BC9: 5
BA10: =IFERROR(INDEX('Client List'!$AH$12:$AH$261, MATCH($BC10, 'Client List'!$AI$12:$AI$261, 0)), "") | BB10: =IFERROR(INDEX('Client List'!$AK$12:$AK$261, MATCH($BC10, 'Client List'!$AL$12:$AL$261, 0)), "") | BC10: 6 | BG10: Time Worked
BA11: =IFERROR(INDEX('Client List'!$AH$12:$AH$261, MATCH($BC11, 'Client List'!$AI$12:$AI$261, 0)), "") | BB11: =IFERROR(INDEX('Client List'!$AK$12:$AK$261, MATCH($BC11, 'Client List'!$AL$12:$AL$261, 0)), "") | BC11: 7 | BF11: ='Client List'!$AB10 -> May 2019 | BG11: =IF(AND($V$6="", $H$6=""), SUM('Client List'!$I$12:$I$261), IF($V$6="", SUMIF('Client List'!$B$12:$B$261, $H$6, 'Client List'!$I$12:$I$261), IF(AND(NOT($V$6=""), NOT($H$6="")), IFERROR(INDEX('Client List'!$I$12:$I$261, MATCH($BA$2, 'Client List'!$Y$12:$Y$261, 0)), ""), ""))) -> 0.56597222
BA12: =IFERROR(INDEX('Client List'!$AH$12:$AH$261, MATCH($BC12, 'Client List'!$AI$12:$AI$261, 0)), "") | BB12: =IFERROR(INDEX('Client List'!$AK$12:$AK$261, MATCH($BC12, 'Client List'!$AL$12:$AL$261, 0)), "") | BC12: 8 | BF12: ='Client List'!$AB11 -> Jun 2019 | BG12: =IF(AND($V$6="", $H$6=""), SUM('Client List'!$J$12:$J$261), IF($V$6="", SUMIF('Client List'!$B$12:$B$261, $H$6, 'Client List'!$J$12:$J$261), IF(AND(NOT($V$6=""), NOT($H$6="")), IFERROR(INDEX('Client List'!$J$12:$J$261, MATCH($BA$2, 'Client List'!$Y$12:$Y$261, 0)), ""), ""))) -> 0.16666667
BA13: =IFERROR(INDEX('Client List'!$AH$12:$AH$261, MATCH($BC13, 'Client List'!$AI$12:$AI$261, 0)), "") | BB13: =IFERROR(INDEX('Client List'!$AK$12:$AK$261, MATCH($BC13, 'Client List'!$AL$12:$AL$261, 0)), "") | BC13: 9 | BF13: ='Client List'!$AB12 -> Jul 2019 | BG13: =IF(AND($V$6="", $H$6=""), SUM('Client List'!$K$12:$K$261), IF($V$6="", SUMIF('Client List'!$B$12:$B$261, $H$6, 'Client List'!$K$12:$K$261), IF(AND(NOT($V$6=""), NOT($H$6="")), IFERROR(INDEX('Client List'!$K$12:$K$261, MATCH($BA$2, 'Client List'!$Y$12:$Y$261, 0)), ""), ""))) -> 0.1875
BA14: =IFERROR(INDEX('Client List'!$AH$12:$AH$261, MATCH($BC14, 'Client List'!$AI$12:$AI$261, 0)), "") | BB14: =IFERROR(INDEX('Client List'!$AK$12:$AK$261, MATCH($BC14, 'Client List'!$AL$12:$AL$261, 0)), "") | BC14: 10 | BF14: ='Client List'!$AB13 -> Aug 2019 | BG14: =IF(AND($V$6="", $H$6=""), SUM('Client List'!$L$12:$L$261), IF($V$6="", SUMIF('Client List'!$B$12:$B$261, $H$6, 'Client List'!$L$12:$L$261), IF(AND(NOT($V$6=""), NOT($H$6="")), IFERROR(INDEX('Client List'!$L$12:$L$261, MATCH($BA$2, 'Client List'!$Y$12:$Y$261, 0)), ""), ""))) -> 0.38541667
BA15: =IFERROR(INDEX('Client List'!$AH$12:$AH$261, MATCH($BC15, 'Client List'!$AI$12:$AI$261, 0)), "") | BB15: =IFERROR(INDEX('Client List'!$AK$12:$AK$261, MATCH($BC15, 'Client List'!$AL$12:$AL$261, 0)), "") | BC15: 11 | BF15: ='Client List'!$AB14 -> Sep 2019 | BG15: =IF(AND($V$6="", $H$6=""), SUM('Client List'!$M$12:$M$261), IF($V$6="", SUMIF('Client List'!$B$12:$B$261, $H$6, 'Client List'!$M$12:$M$261), IF(AND(NOT($V$6=""), NOT($H$6="")), IFERROR(INDEX('Client List'!$M$12:$M$261, MATCH($BA$2, 'Client List'!$Y$12:$Y$261, 0)), ""), ""))) -> 0.29166667
BA16: =IFERROR(INDEX('Client List'!$AH$12:$AH$261, MATCH($BC16, 'Client List'!$AI$12:$AI$261, 0)), "") | BB16: =IFERROR(INDEX('Client List'!$AK$12:$AK$261, MATCH($BC16, 'Client List'!$AL$12:$AL$261, 0)), "") | BC16: 12 | BF16: ='Client List'!$AB15 -> Oct 2019 | BG16: =IF(AND($V$6="", $H$6=""), SUM('Client List'!$N$12:$N$261), IF($V$6="", SUMIF('Client List'!$B$12:$B$261, $H$6, 'Client List'!$N$12:$N$261), IF(AND(NOT($V$6=""), NOT($H$6="")), IFERROR(INDEX('Client List'!$N$12:$N$261, MATCH($BA$2, 'Client List'!$Y$12:$Y$261, 0)), ""), ""))) -> 0.16666667
BA17: =IFERROR(INDEX('Client List'!$AH$12:$AH$261, MATCH($BC17, 'Client List'!$AI$12:$AI$261, 0)), "") | BB17: =IFERROR(INDEX('Client List'!$AK$12:$AK$261, MATCH($BC17, 'Client List'!$AL$12:$AL$261, 0)), "") | BC17: 13 | BF17: ='Client List'!$AB16 -> Nov 2019 | BG17: =IF(AND($V$6="", $H$6=""), SUM('Client List'!$O$12:$O$261), IF($V$6="", SUMIF('Client List'!$B$12:$B$261, $H$6, 'Client List'!$O$12:$O$261), IF(AND(NOT($V$6=""), NOT($H$6="")), IFERROR(INDEX('Client List'!$O$12:$O$261, MATCH($BA$2, 'Client List'!$Y$12:$Y$261, 0)), ""), ""))) -> 0.125
BA18: =IFERROR(INDEX('Client List'!$AH$12:$AH$261, MATCH($BC18, 'Client List'!$AI$12:$AI$261, 0)), "") | BB18: =IFERROR(INDEX('Client List'!$AK$12:$AK$261, MATCH($BC18, 'Client List'!$AL$12:$AL$261, 0)), "") | BC18: 14 | BF18: ='Client List'!$AB17 -> Dec 2019 | BG18: =IF(AND($V$6="", $H$6=""), SUM('Client List'!$P$12:$P$261), IF($V$6="", SUMIF('Client List'!$B$12:$B$261, $H$6, 'Client List'!$P$12:$P$261), IF(AND(NOT($V$6=""), NOT($H$6="")), IFERROR(INDEX('Client List'!$P$12:$P$261, MATCH($BA$2, 'Client List'!$Y$12:$Y$261, 0)), ""), ""))) -> 0.22916667
BA19: =IFERROR(INDEX('Client List'!$AH$12:$AH$261, MATCH($BC19, 'Client List'!$AI$12:$AI$261, 0)), "") | BB19: =IFERROR(INDEX('Client List'!$AK$12:$AK$261, MATCH($BC19, 'Client List'!$AL$12:$AL$261, 0)), "") | BC19: 15 | BF19: ='Client List'!$AB18 -> Jan 2020 | BG19: =IF(AND($V$6="", $H$6=""), SUM('Client List'!$Q$12:$Q$261), IF($V$6="", SUMIF('Client List'!$B$12:$B$261, $H$6, 'Client List'!$Q$12:$Q$261), IF(AND(NOT($V$6=""), NOT($H$6="")), IFERROR(INDEX('Client List'!$Q$12:$Q$261, MATCH($BA$2, 'Client List'!$Y$12:$Y$261, 0)), ""), ""))) -> 0.19791667
BA20: =IFERROR(INDEX('Client List'!$AH$12:$AH$261, MATCH($BC20, 'Client List'!$AI$12:$AI$261, 0)), "") | BB20: =IFERROR(INDEX('Client List'!$AK$12:$AK$261, MATCH($BC20, 'Client List'!$AL$12:$AL$261, 0)), "") | BC20: 16 | BF20: ='Client List'!$AB19 -> Feb 2020 | BG20: =IF(AND($V$6="", $H$6=""), SUM('Client List'!$R$12:$R$261), IF($V$6="", SUMIF('Client List'!$B$12:$B$261, $H$6, 'Client List'!$R$12:$R$261), IF(AND(NOT($V$6=""), NOT($H$6="")), IFERROR(INDEX('Client List'!$R$12:$R$261, MATCH($BA$2, 'Client List'!$Y$12:$Y$261, 0)), ""), ""))) -> 0
BA21: =IFERROR(INDEX('Client List'!$AH$12:$AH$261, MATCH($BC21, 'Client List'!$AI$12:$AI$261, 0)), "") | BB21: =IFERROR(INDEX('Client List'!$AK$12:$AK$261, MATCH($BC21, 'Client List'!$AL$12:$AL$261, 0)), "") | BC21: 17 | BF21: ='Client List'!$AB20 -> Mar 2020 | BG21: =IF(AND($V$6="", $H$6=""), SUM('Client List'!$S$12:$S$261), IF($V$6="", SUMIF('Client List'!$B$12:$B$261, $H$6, 'Client List'!$S$12:$S$261), IF(AND(NOT($V$6=""), NOT($H$6="")), IFERROR(INDEX('Client List'!$S$12:$S$261, MATCH($BA$2, 'Client List'!$Y$12:$Y$261, 0)), ""), ""))) -> 0
BA22: =IFERROR(INDEX('Client List'!$AH$12:$AH$261, MATCH($BC22, 'Client List'!$AI$12:$AI$261, 0)), "") | BB22: =IFERROR(INDEX('Client List'!$AK$12:$AK$261, MATCH($BC22, 'Client List'!$AL$12:$AL$261, 0)), "") | BC22: 18 | BF22: ='Client List'!$AB21 -> Apr 2020 | BG22: =IF(AND($V$6="", $H$6=""), SUM('Client List'!$T$12:$T$261), IF($V$6="", SUMIF('Client List'!$B$12:$B$261, $H$6, 'Client List'!$T$12:$T$261), IF(AND(NOT($V$6=""), NOT($H$6="")), IFERROR(INDEX('Client List'!$T$12:$T$261, MATCH($BA$2, 'Client List'!$Y$12:$Y$261, 0)), ""), ""))) -> 0
BA23: =IFERROR(INDEX('Client List'!$AH$12:$AH$261, MATCH($BC23, 'Client List'!$AI$12:$AI$261, 0)), "") | BB23: =IFERROR(INDEX('Client List'!$AK$12:$AK$261, MATCH($BC23, 'Client List'!$AL$12:$AL$261, 0)), "") | BC23: 19
BA24: =IFERROR(INDEX('Client List'!$AH$12:$AH$261, MATCH($BC24, 'Client List'!$AI$12:$AI$261, 0)), "") | BB24: =IFERROR(INDEX('Client List'!$AK$12:$AK$261, MATCH($BC24, 'Client List'!$AL$12:$AL$261, 0)), "") | BC24: 20
BA25: =IFERROR(INDEX('Client List'!$AH$12:$AH$261, MATCH($BC25, 'Client List'!$AI$12:$AI$261, 0)), "") | BB25: =IFERROR(INDEX('Client List'!$AK$12:$AK$261, MATCH($BC25, 'Client List'!$AL$12:$AL$261, 0)), "") | BC25: 21 | BF25: Time Used (for selection) | BG25: =SUM($BG$11:$BG$22) -> 2.3159722
BA26: =IFERROR(INDEX('Client List'!$AH$12:$AH$261, MATCH($BC26, 'Client List'!$AI$12:$AI$261, 0)), "") | BB26: =IFERROR(INDEX('Client List'!$AK$12:$AK$261, MATCH($BC26, 'Client List'!$AL$12:$AL$261, 0)), "") | BC26: 22 | BF26: Time Allocated (for selection) | BG26: =$BG$6 -> 2.0833333
BA27: =IFERROR(INDEX('Client List'!$AH$12:$AH$261, MATCH($BC27, 'Client List'!$AI$12:$AI$261, 0)), "") | BB27: =IFERROR(INDEX('Client List'!$AK$12:$AK$261, MATCH($BC27, 'Client List'!$AL$12:$AL$261, 0)), "") | BC27: 23
BA28: =IFERROR(INDEX('Client List'!$AH$12:$AH$261, MATCH($BC28, 'Client List'!$AI$12:$AI$261, 0)), "") | BB28: =IFERROR(INDEX('Client List'!$AK$12:$AK$261, MATCH($BC28, 'Client List'!$AL$12:$AL$261, 0)), "") | BC28: 24
BA29: =IFERROR(INDEX('Client List'!$AH$12:$AH$261, MATCH($BC29, 'Client List'!$AI$12:$AI$261, 0)), "") | BB29: =IFERROR(INDEX('Client List'!$AK$12:$AK$261, MATCH($BC29, 'Client List'!$AL$12:$AL$261, 0)), "") | BC29: 25
BA30: =IFERROR(INDEX('Client List'!$AH$12:$AH$261, MATCH($BC30, 'Client List'!$AI$12:$AI$261, 0)), "") | BB30: =IFERROR(INDEX('Client List'!$AK$12:$AK$261, MATCH($BC30, 'Client List'!$AL$12:$AL$261, 0)), "") | BC30: 26
BA31: =IFERROR(INDEX('Client List'!$AH$12:$AH$261, MATCH($BC31, 'Client List'!$AI$12:$AI$261, 0)), "") | BB31: =IFERROR(INDEX('Client List'!$AK$12:$AK$261, MATCH($BC31, 'Client List'!$AL$12:$AL$261, 0)), "") | BC31: 27
BA32: =IFERROR(INDEX('Client List'!$AH$12:$AH$261, MATCH($BC32, 'Client List'!$AI$12:$AI$261, 0)), "") | BB32: =IFERROR(INDEX('Client List'!$AK$12:$AK$261, MATCH($BC32, 'Client List'!$AL$12:$AL$261, 0)), "") | BC32: 28
BA33: =IFERROR(INDEX('Client List'!$AH$12:$AH$261, MATCH($BC33, 'Client List'!$AI$12:$AI$261, 0)), "") | BB33: =IFERROR(INDEX('Client List'!$AK$12:$AK$261, MATCH($BC33, 'Client List'!$AL$12:$AL$261, 0)), "") | BC33: 29
BA34: =IFERROR(INDEX('Client List'!$AH$12:$AH$261, MATCH($BC34, 'Client List'!$AI$12:$AI$261, 0)), "") | BB34: =IFERROR(INDEX('Client List'!$AK$12:$AK$261, MATCH($BC34, 'Client List'!$AL$12:$AL$261, 0)), "") | BC34: 30
BA35: =IFERROR(INDEX('Client List'!$AH$12:$AH$261, MATCH($BC35, 'Client List'!$AI$12:$AI$261, 0)), "") | BB35: =IFERROR(INDEX('Client List'!$AK$12:$AK$261, MATCH($BC35, 'Client List'!$AL$12:$AL$261, 0)), "") | BC35: 31
BA36: =IFERROR(INDEX('Client List'!$AH$12:$AH$261, MATCH($BC36, 'Client List'!$AI$12:$AI$261, 0)), "") | BB36: =IFERROR(INDEX('Client List'!$AK$12:$AK$261, MATCH($BC36, 'Client List'!$AL$12:$AL$261, 0)), "") | BC36: 32
BA37: =IFERROR(INDEX('Client List'!$AH$12:$AH$261, MATCH($BC37, 'Client List'!$AI$12:$AI$261, 0)), "") | BB37: =IFERROR(INDEX('Client List'!$AK$12:$AK$261, MATCH($BC37, 'Client List'!$AL$12:$AL$261, 0)), "") | BC37: 33
BA38: =IFERROR(INDEX('Client List'!$AH$12:$AH$261, MATCH($BC38, 'Client List'!$AI$12:$AI$261, 0)), "") | BB38: =IFERROR(INDEX('Client List'!$AK$12:$AK$261, MATCH($BC38, 'Client List'!$AL$12:$AL$261, 0)), "") | BC38: 34
... BA254: =IFERROR(INDEX('Client List'!$AH$12:$AH$261, MATCH($BC254, 'Client List'!$AI$12:$AI$261, 0)), "") | BB254: =IFERROR(INDEX('Client List'!$AK$12:$AK$261, MATCH($BC254, 'Client List'!$AL$12:$AL$261, 0)), "") | BC254: 250
