Workbook

Sheet Intro & Setup
B2: Thanks for trying the Basic Time Allocator
B5: Please read these notes explaining how to use this spreadsheet
B7: Editable Cells | H7: The yellow background and blue writing usually identifies cells where you can enter or edit information.
B8: Calculated Cells | H8: The blue background and yellow writing usually identifies cells which are calculated, and therefore locked.
B9: If you copy and paste data into this spreadsheet (from an internal or external source), ALWAYS use paste VALUES, never normal paste.
B10: Using the drag function is the same as copy and paste, so do not use it.
B11: DO not delete or move data or cells. You can use clear contents, or you can use the sort function where there are filters.
B14: Please complete the following sections before using this spreadsheet
B16: Company Name | H16: Your Business | T16: Year Start Date | Z16: 43586 | AG16: Please enter the first day of the financial year here. This spreadsheet will then be valid for that year, so please keep a blank copy for the following years. Please be aware that if you start mid month, any hours worked in the final part month, will be included in the final full month's figures.
B18: Your company name will be locked. It is like that to ensure protection for this spreadsheet. If it is wrong, please contact us. | T18: If you get stuck, here is a demo video
B22: Watch the demo on YouTube
B25: This spreadsheet is part of our | Y25: This spreadsheet was created by
B33: Click the logo to see the other products in this range | Y33: SSS10090 - Job Breakdown
B38: We do not offer support on Basic Range spreadsheets, but if you find any errors, please let us know.
Y39: © Sumcor Ltd - Trading as Spreadsheet Solutions

Sheet Client List
B2: Client List | I2: On the Time Entries tab, you will be able to access Client Name - Job Description options from a drop down list, to ensure you get the right job for the right client. On the Report, you will be able to select a client, without a job, in order to see al of that client's time. In order for this to work, you need to make sure that you always spell the client's name the same way. If you do not, they will act as different clients when reporting data. The job descriptions are less important, but do make sure that you don't have the same job description for the same client more than once.
B5: To add clients, simply add a client name and job description (that way you can have multiple jobs for each client. Please make sure that you don't have any duplicate Name/Job entries. You can also put down the budget time for each job.
I6: Grand Total | K6: =SUM($I$8:$T$8) -> 2.3159722
D8: [h]:mm | F8: Totals: | I8: =SUM(I$12:I$261) -> 0.56597222 | J8: =SUM(J$12:J$261) -> 0.16666667 | K8: =SUM(K$12:K$261) -> 0.1875 | L8: =SUM(L$12:L$261) -> 0.38541667 | M8: =SUM(M$12:M$261) -> 0.29166667 | N8: =SUM(N$12:N$261) -> 0.16666667 | O8: =SUM(O$12:O$261) -> 0.125 | P8: =SUM(P$12:P$261) -> 0.22916667 | ... T8: =SUM(T$12:T$261) -> 0 | W8: =COUNTIF($W$12:$W$261, "X") -> 0 | AF8: =Report!$B$6 -> Client Name | AG8: =Report!$P$6 -> Job Description | AK8: =IF(Report!$H$6="", "", Report!$H$6)
B9: =IF($W$8=0, "", "Duplicates") | D9: Time | F9: Time | G9: Time | AF9: =IF(Report!$H$6="", "", Report!$H$6) | AG9: =IF(Report!$V$6="", "", Report!$V$6)
B10: Client Name | C10: Job Description | D10: Quoted | F10: Worked | G10: Left | I10: =TEXT($AA$10, "mmm yyyy") -> May 2019 | J10: =TEXT($AA$11, "mmm yyyy") -> Jun 2019 | K10: =TEXT($AA$12, "mmm yyyy") -> Jul 2019 | L10: =TEXT($AA$13, "mmm yyyy") -> Aug 2019 | M10: =TEXT($AA$14, "mmm yyyy") -> Sep 2019 | N10: =TEXT($AA$15, "mmm yyyy") -> Oct 2019 | O10: =TEXT($AA$16, "mmm yyyy") -> Nov 2019 | P10: =TEXT($AA$17, "mmm yyyy") -> Dec 2019 | Q10: =TEXT($AA$18, "mmm yyyy") -> Jan 2020 | R10: =TEXT($AA$19, "mmm yyyy") -> Feb 2020 | S10: =TEXT($AA$20, "mmm yyyy") -> Mar 2020 | T10: =TEXT($AA$21, "mmm yyyy") -> Apr 2020 | AA10: =DATE(YEAR('Time Entries'!$O$6), MONTH('Time Entries'!$O$6), 1) -> 43586 | AB10: =TEXT($AA$10, "mmm yyyy") -> May 2019 | AH10: =COUNTIF($AH$12:$AH$261, "") -> 245 | AK10: =COUNTIF($AK$12:$AK$261, "") -> 250
W11: Duplicates | Y11: Client - Job | AA11: =DATE(YEAR(AA10), MONTH(AA10)+1, 1) -> 43617 | AB11: =TEXT($AA$11, "mmm yyyy") -> Jun 2019 | AD11: Incomplete
B12: Client 1 | C12: Test Job 1 | D12: 0.41666667 | F12: =IF(OR($B12="", $C12=""), "", SUM($I12:$T12)) -> 0.33333333 | G12: =IF($F12="", "", IF($D12-$F12<0, TEXT(($F12-$D12), "-[h]:mm"), $D12-$F12)) -> 0.083333333 | I12: =IF(OR($B12="", $C12=""), "", SUMIF('Time Entries'!$S$12:$S$1011, _xlfn.CONCAT(I$10, " - ", $Y12), 'Time Entries'!$D$12:$D$1011)+SUMIF('Time Entries'!$T$12:$T$1011, _xlfn.CONCAT(I$10, " - ", $Y12), 'Time Entries'!$F$12:$F$1011)+SUMIF('Time Entries'!$U$12:$U$1011, _xlfn.CONCAT(I$10, " - ", $Y12), 'Time Entries'!$H$12:$H$1011)+SUMIF('Time Entries'!$V$12:$V$1011, _xlfn.CONCAT(I$10, " - ", $Y12), 'Time Entries'!$J$12:$J$1011)) -> 0.083333333 | J12: =IF(OR($B12="", $C12=""), "", SUMIF('Time Entries'!$S$12:$S$1011, _xlfn.CONCAT(J$10, " - ", $Y12), 'Time Entries'!$D$12:$D$1011)+SUMIF('Time Entries'!$T$12:$T$1011, _xlfn.CONCAT(J$10, " - ", $Y12), 'Time Entries'!$F$12:$F$1011)+SUMIF('Time Entries'!$U$12:$U$1011, _xlfn.CONCAT(J$10, " - ", $Y12), 'Time Entries'!$H$12:$H$1011)+SUMIF('Time Entries'!$V$12:$V$1011, _xlfn.CONCAT(J$10, " - ", $Y12), 'Time Entries'!$J$12:$J$1011)) -> 0 | K12: =IF(OR($B12="", $C12=""), "", SUMIF('Time Entries'!$S$12:$S$1011, _xlfn.CONCAT(K$10, " - ", $Y12), 'Time Entries'!$D$12:$D$1011)+SUMIF('Time Entries'!$T$12:$T$1011, _xlfn.CONCAT(K$10, " - ", $Y12), 'Time Entries'!$F$12:$F$1011)+SUMIF('Time Entries'!$U$12:$U$1011, _xlfn.CONCAT(K$10, " - ", $Y12), 'Time Entries'!$H$12:$H$1011)+SUMIF('Time Entries'!$V$12:$V$1011, _xlfn.CONCAT(K$10, " - ", $Y12), 'Time Entries'!$J$12:$J$1011)) -> 0 | L12: =IF(OR($B12="", $C12=""), "", SUMIF('Time Entries'!$S$12:$S$1011, _xlfn.CONCAT(L$10, " - ", $Y12), 'Time Entries'!$D$12:$D$1011)+SUMIF('Time Entries'!$T$12:$T$1011, _xlfn.CONCAT(L$10, " - ", $Y12), 'Time Entries'!$F$12:$F$1011)+SUMIF('Time Entries'!$U$12:$U$1011, _xlfn.CONCAT(L$10, " - ", $Y12), 'Time Entries'!$H$12:$H$1011)+SUMIF('Time Entries'!$V$12:$V$1011, _xlfn.CONCAT(L$10, " - ", $Y12), 'Time Entries'!$J$12:$J$1011)) -> 0.25 | M12: =IF(OR($B12="", $C12=""), "", SUMIF('Time Entries'!$S$12:$S$1011, _xlfn.CONCAT(M$10, " - ", $Y12), 'Time Entries'!$D$12:$D$1011)+SUMIF('Time Entries'!$T$12:$T$1011, _xlfn.CONCAT(M$10, " - ", $Y12), 'Time Entries'!$F$12:$F$1011)+SUMIF('Time Entries'!$U$12:$U$1011, _xlfn.CONCAT(M$10, " - ", $Y12), 'Time Entries'!$H$12:$H$1011)+SUMIF('Time Entries'!$V$12:$V$1011, _xlfn.CONCAT(M$10, " - ", $Y12), 'Time Entries'!$J$12:$J$1011)) -> 0 | N12: =IF(OR($B12="", $C12=""), "", SUMIF('Time Entries'!$S$12:$S$1011, _xlfn.CONCAT(N$10, " - ", $Y12), 'Time Entries'!$D$12:$D$1011)+SUMIF('Time Entries'!$T$12:$T$1011, _xlfn.CONCAT(N$10, " - ", $Y12), 'Time Entries'!$F$12:$F$1011)+SUMIF('Time Entries'!$U$12:$U$1011, _xlfn.CONCAT(N$10, " - ", $Y12), 'Time Entries'!$H$12:$H$1011)+SUMIF('Time Entries'!$V$12:$V$1011, _xlfn.CONCAT(N$10, " - ", $Y12), 'Time Entries'!$J$12:$J$1011)) -> 0 | O12: =IF(OR($B12="", $C12=""), "", SUMIF('Time Entries'!$S$12:$S$1011, _xlfn.CONCAT(O$10, " - ", $Y12), 'Time Entries'!$D$12:$D$1011)+SUMIF('Time Entries'!$T$12:$T$1011, _xlfn.CONCAT(O$10, " - ", $Y12), 'Time Entries'!$F$12:$F$1011)+SUMIF('Time Entries'!$U$12:$U$1011, _xlfn.CONCAT(O$10, " - ", $Y12), 'Time Entries'!$H$12:$H$1011)+SUMIF('Time Entries'!$V$12:$V$1011, _xlfn.CONCAT(O$10, " - ", $Y12), 'Time Entries'!$J$12:$J$1011)) -> 0 | P12: =IF(OR($B12="", $C12=""), "", SUMIF('Time Entries'!$S$12:$S$1011, _xlfn.CONCAT(P$10, " - ", $Y12), 'Time Entries'!$D$12:$D$1011)+SUMIF('Time Entries'!$T$12:$T$1011, _xlfn.CONCAT(P$10, " - ", $Y12), 'Time Entries'!$F$12:$F$1011)+SUMIF('Time Entries'!$U$12:$U$1011, _xlfn.CONCAT(P$10, " - ", $Y12), 'Time Entries'!$H$12:$H$1011)+SUMIF('Time Entries'!$V$12:$V$1011, _xlfn.CONCAT(P$10, " - ", $Y12), 'Time Entries'!$J$12:$J$1011)) -> 0 | ... T12: =IF(OR($B12="", $C12=""), "", SUMIF('Time Entries'!$S$12:$S$1011, _xlfn.CONCAT(T$10, " - ", $Y12), 'Time Entries'!$D$12:$D$1011)+SUMIF('Time Entries'!$T$12:$T$1011, _xlfn.CONCAT(T$10, " - ", $Y12), 'Time Entries'!$F$12:$F$1011)+SUMIF('Time Entries'!$U$12:$U$1011, _xlfn.CONCAT(T$10, " - ", $Y12), 'Time Entries'!$H$12:$H$1011)+SUMIF('Time Entries'!$V$12:$V$1011, _xlfn.CONCAT(T$10, " - ", $Y12), 'Time Entries'!$J$12:$J$1011)) -> 0 | W12: =IF($Y12="", "", IF(COUNTIF($Y$12:$Y$261, $Y12)>1, "X", "")) | Y12: =IF(OR($B12="", $C12=""), "", _xlfn.CONCAT($B12, " - ", $C12)) -> Client 1 - Test Job 1 | AA12: =DATE(YEAR(AA11), MONTH(AA11)+1, 1) -> 43647 | AB12: =TEXT($AA$12, "mmm yyyy") -> Jul 2019 | AD12: =IF(COUNTIF($B12:$C12, "")=1, "X", "") | AF12: =IF(OR($B12="", $C12=""), "", IF(AND($AF$9="", $AG$9=""), "X", IF(AND(NOT($AF$9=""), NOT($AG$9="")), IF($Y12=_xlfn.CONCAT($AF$9, " - ", $AG$9), "X", ""), IF($AG$9="", IF($AF$9=$B12, "X", ""), "")))) -> X | AH12: =IF($B12="", "", IF(COUNTIF($B$12:$B12, $B12)>1, "", $B12)) -> Client 1 | AI12: =IF($AH12="", "", COUNTIF($AH$12:$AH$261, "<"&$AH12)+1+COUNTIF($AH$12:$AH12, $AH12)-1-$AH$10) -> 1 | AK12: =IF(OR($AK$8="", $B12=""), "", IF($AK$8=$B12, $C12, "")) | AL12: =IF($AK12="", "", COUNTIF($AK$12:$AK$261, "<"&$AK12)+1+COUNTIF($AK$12:$AK12, $AK12)-1-$AK$10)
B13: Client 2 | C13: Test Job 2 | D13: 0.41666667 | F13: =IF(OR($B13="", $C13=""), "", SUM($I13:$T13)) -> 0.23958333 | G13: =IF($F13="", "", IF($D13-$F13<0, TEXT(($F13-$D13), "-[h]:mm"), $D13-$F13)) -> 0.17708333 | I13: =IF(OR($B13="", $C13=""), "", SUMIF('Time Entries'!$S$12:$S$1011, _xlfn.CONCAT(I$10, " - ", $Y13), 'Time Entries'!$D$12:$D$1011)+SUMIF('Time Entries'!$T$12:$T$1011, _xlfn.CONCAT(I$10, " - ", $Y13), 'Time Entries'!$F$12:$F$1011)+SUMIF('Time Entries'!$U$12:$U$1011, _xlfn.CONCAT(I$10, " - ", $Y13), 'Time Entries'!$H$12:$H$1011)+SUMIF('Time Entries'!$V$12:$V$1011, _xlfn.CONCAT(I$10, " - ", $Y13), 'Time Entries'!$J$12:$J$1011)) -> 0.11458333 | J13: =IF(OR($B13="", $C13=""), "", SUMIF('Time Entries'!$S$12:$S$1011, _xlfn.CONCAT(J$10, " - ", $Y13), 'Time Entries'!$D$12:$D$1011)+SUMIF('Time Entries'!$T$12:$T$1011, _xlfn.CONCAT(J$10, " - ", $Y13), 'Time Entries'!$F$12:$F$1011)+SUMIF('Time Entries'!$U$12:$U$1011, _xlfn.CONCAT(J$10, " - ", $Y13), 'Time Entries'!$H$12:$H$1011)+SUMIF('Time Entries'!$V$12:$V$1011, _xlfn.CONCAT(J$10, " - ", $Y13), 'Time Entries'!$J$12:$J$1011)) -> 0 | K13: =IF(OR($B13="", $C13=""), "", SUMIF('Time Entries'!$S$12:$S$1011, _xlfn.CONCAT(K$10, " - ", $Y13), 'Time Entries'!$D$12:$D$1011)+SUMIF('Time Entries'!$T$12:$T$1011, _xlfn.CONCAT(K$10, " - ", $Y13), 'Time Entries'!$F$12:$F$1011)+SUMIF('Time Entries'!$U$12:$U$1011, _xlfn.CONCAT(K$10, " - ", $Y13), 'Time Entries'!$H$12:$H$1011)+SUMIF('Time Entries'!$V$12:$V$1011, _xlfn.CONCAT(K$10, " - ", $Y13), 'Time Entries'!$J$12:$J$1011)) -> 0.125 | L13: =IF(OR($B13="", $C13=""), "", SUMIF('Time Entries'!$S$12:$S$1011, _xlfn.CONCAT(L$10, " - ", $Y13), 'Time Entries'!$D$12:$D$1011)+SUMIF('Time Entries'!$T$12:$T$1011, _xlfn.CONCAT(L$10, " - ", $Y13), 'Time Entries'!$F$12:$F$1011)+SUMIF('Time Entries'!$U$12:$U$1011, _xlfn.CONCAT(L$10, " - ", $Y13), 'Time Entries'!$H$12:$H$1011)+SUMIF('Time Entries'!$V$12:$V$1011, _xlfn.CONCAT(L$10, " - ", $Y13), 'Time Entries'!$J$12:$J$1011)) -> 0 | M13: =IF(OR($B13="", $C13=""), "", SUMIF('Time Entries'!$S$12:$S$1011, _xlfn.CONCAT(M$10, " - ", $Y13), 'Time Entries'!$D$12:$D$1011)+SUMIF('Time Entries'!$T$12:$T$1011, _xlfn.CONCAT(M$10, " - ", $Y13), 'Time Entries'!$F$12:$F$1011)+SUMIF('Time Entries'!$U$12:$U$1011, _xlfn.CONCAT(M$10, " - ", $Y13), 'Time Entries'!$H$12:$H$1011)+SUMIF('Time Entries'!$V$12:$V$1011, _xlfn.CONCAT(M$10, " - ", $Y13), 'Time Entries'!$J$12:$J$1011)) -> 0 | N13: =IF(OR($B13="", $C13=""), "", SUMIF('Time Entries'!$S$12:$S$1011, _xlfn.CONCAT(N$10, " - ", $Y13), 'Time Entries'!$D$12:$D$1011)+SUMIF('Time Entries'!$T$12:$T$1011, _xlfn.CONCAT(N$10, " - ", $Y13), 'Time Entries'!$F$12:$F$1011)+SUMIF('Time Entries'!$U$12:$U$1011, _xlfn.CONCAT(N$10, " - ", $Y13), 'Time Entries'!$H$12:$H$1011)+SUMIF('Time Entries'!$V$12:$V$1011, _xlfn.CONCAT(N$10, " - ", $Y13), 'Time Entries'!$J$12:$J$1011)) -> 0 | O13: =IF(OR($B13="", $C13=""), "", SUMIF('Time Entries'!$S$12:$S$1011, _xlfn.CONCAT(O$10, " - ", $Y13), 'Time Entries'!$D$12:$D$1011)+SUMIF('Time Entries'!$T$12:$T$1011, _xlfn.CONCAT(O$10, " - ", $Y13), 'Time Entries'!$F$12:$F$1011)+SUMIF('Time Entries'!$U$12:$U$1011, _xlfn.CONCAT(O$10, " - ", $Y13), 'Time Entries'!$H$12:$H$1011)+SUMIF('Time Entries'!$V$12:$V$1011, _xlfn.CONCAT(O$10, " - ", $Y13), 'Time Entries'!$J$12:$J$1011)) -> 0 | P13: =IF(OR($B13="", $C13=""), "", SUMIF('Time Entries'!$S$12:$S$1011, _xlfn.CONCAT(P$10, " - ", $Y13), 'Time Entries'!$D$12:$D$1011)+SUMIF('Time Entries'!$T$12:$T$1011, _xlfn.CONCAT(P$10, " - ", $Y13), 'Time Entries'!$F$12:$F$1011)+SUMIF('Time Entries'!$U$12:$U$1011, _xlfn.CONCAT(P$10, " - ", $Y13), 'Time Entries'!$H$12:$H$1011)+SUMIF('Time Entries'!$V$12:$V$1011, _xlfn.CONCAT(P$10, " - ", $Y13), 'Time Entries'!$J$12:$J$1011)) -> 0 | ... T13: =IF(OR($B13="", $C13=""), "", SUMIF('Time Entries'!$S$12:$S$1011, _xlfn.CONCAT(T$10, " - ", $Y13), 'Time Entries'!$D$12:$D$1011)+SUMIF('Time Entries'!$T$12:$T$1011, _xlfn.CONCAT(T$10, " - ", $Y13), 'Time Entries'!$F$12:$F$1011)+SUMIF('Time Entries'!$U$12:$U$1011, _xlfn.CONCAT(T$10, " - ", $Y13), 'Time Entries'!$H$12:$H$1011)+SUMIF('Time Entries'!$V$12:$V$1011, _xlfn.CONCAT(T$10, " - ", $Y13), 'Time Entries'!$J$12:$J$1011)) -> 0 | W13: =IF($Y13="", "", IF(COUNTIF($Y$12:$Y$261, $Y13)>1, "X", "")) | Y13: =IF(OR($B13="", $C13=""), "", _xlfn.CONCAT($B13, " - ", $C13)) -> Client 2 - Test Job 2 | AA13: =DATE(YEAR(AA12), MONTH(AA12)+1, 1) -> 43678 | AB13: =TEXT($AA$13, "mmm yyyy") -> Aug 2019 | AD13: =IF(COUNTIF($B13:$C13, "")=1, "X", "") | AF13: =IF(OR($B13="", $C13=""), "", IF(AND($AF$9="", $AG$9=""), "X", IF(AND(NOT($AF$9=""), NOT($AG$9="")), IF($Y13=_xlfn.CONCAT($AF$9, " - ", $AG$9), "X", ""), IF($AG$9="", IF($AF$9=$B13, "X", ""), "")))) -> X | AH13: =IF($B13="", "", IF(COUNTIF($B$12:$B13, $B13)>1, "", $B13)) -> Client 2 | AI13: =IF($AH13="", "", COUNTIF($AH$12:$AH$261, "<"&$AH13)+1+COUNTIF($AH$12:$AH13, $AH13)-1-$AH$10) -> 2 | AK13: =IF(OR($AK$8="", $B13=""), "", IF($AK$8=$B13, $C13, "")) | AL13: =IF($AK13="", "", COUNTIF($AK$12:$AK$261, "<"&$AK13)+1+COUNTIF($AK$12:$AK13, $AK13)-1-$AK$10)
B14: Client 3 | C14: Test Job 3 | D14: 0.41666667 | F14: =IF(OR($B14="", $C14=""), "", SUM($I14:$T14)) -> 0.25 | G14: =IF($F14="", "", IF($D14-$F14<0, TEXT(($F14-$D14), "-[h]:mm"), $D14-$F14)) -> 0.16666667 | I14: =IF(OR($B14="", $C14=""), "", SUMIF('Time Entries'!$S$12:$S$1011, _xlfn.CONCAT(I$10, " - ", $Y14), 'Time Entries'!$D$12:$D$1011)+SUMIF('Time Entries'!$T$12:$T$1011, _xlfn.CONCAT(I$10, " - ", $Y14), 'Time Entries'!$F$12:$F$1011)+SUMIF('Time Entries'!$U$12:$U$1011, _xlfn.CONCAT(I$10, " - ", $Y14), 'Time Entries'!$H$12:$H$1011)+SUMIF('Time Entries'!$V$12:$V$1011, _xlfn.CONCAT(I$10, " - ", $Y14), 'Time Entries'!$J$12:$J$1011)) -> 0.125 | J14: =IF(OR($B14="", $C14=""), "", SUMIF('Time Entries'!$S$12:$S$1011, _xlfn.CONCAT(J$10, " - ", $Y14), 'Time Entries'!$D$12:$D$1011)+SUMIF('Time Entries'!$T$12:$T$1011, _xlfn.CONCAT(J$10, " - ", $Y14), 'Time Entries'!$F$12:$F$1011)+SUMIF('Time Entries'!$U$12:$U$1011, _xlfn.CONCAT(J$10, " - ", $Y14), 'Time Entries'!$H$12:$H$1011)+SUMIF('Time Entries'!$V$12:$V$1011, _xlfn.CONCAT(J$10, " - ", $Y14), 'Time Entries'!$J$12:$J$1011)) -> 0 | K14: =IF(OR($B14="", $C14=""), "", SUMIF('Time Entries'!$S$12:$S$1011, _xlfn.CONCAT(K$10, " - ", $Y14), 'Time Entries'!$D$12:$D$1011)+SUMIF('Time Entries'!$T$12:$T$1011, _xlfn.CONCAT(K$10, " - ", $Y14), 'Time Entries'!$F$12:$F$1011)+SUMIF('Time Entries'!$U$12:$U$1011, _xlfn.CONCAT(K$10, " - ", $Y14), 'Time Entries'!$H$12:$H$1011)+SUMIF('Time Entries'!$V$12:$V$1011, _xlfn.CONCAT(K$10, " - ", $Y14), 'Time Entries'!$J$12:$J$1011)) -> 0 | L14: =IF(OR($B14="", $C14=""), "", SUMIF('Time Entries'!$S$12:$S$1011, _xlfn.CONCAT(L$10, " - ", $Y14), 'Time Entries'!$D$12:$D$1011)+SUMIF('Time Entries'!$T$12:$T$1011, _xlfn.CONCAT(L$10, " - ", $Y14), 'Time Entries'!$F$12:$F$1011)+SUMIF('Time Entries'!$U$12:$U$1011, _xlfn.CONCAT(L$10, " - ", $Y14), 'Time Entries'!$H$12:$H$1011)+SUMIF('Time Entries'!$V$12:$V$1011, _xlfn.CONCAT(L$10, " - ", $Y14), 'Time Entries'!$J$12:$J$1011)) -> 0 | M14: =IF(OR($B14="", $C14=""), "", SUMIF('Time Entries'!$S$12:$S$1011, _xlfn.CONCAT(M$10, " - ", $Y14), 'Time Entries'!$D$12:$D$1011)+SUMIF('Time Entries'!$T$12:$T$1011, _xlfn.CONCAT(M$10, " - ", $Y14), 'Time Entries'!$F$12:$F$1011)+SUMIF('Time Entries'!$U$12:$U$1011, _xlfn.CONCAT(M$10, " - ", $Y14), 'Time Entries'!$H$12:$H$1011)+SUMIF('Time Entries'!$V$12:$V$1011, _xlfn.CONCAT(M$10, " - ", $Y14), 'Time Entries'!$J$12:$J$1011)) -> 0 | N14: =IF(OR($B14="", $C14=""), "", SUMIF('Time Entries'!$S$12:$S$1011, _xlfn.CONCAT(N$10, " - ", $Y14), 'Time Entries'!$D$12:$D$1011)+SUMIF('Time Entries'!$T$12:$T$1011, _xlfn.CONCAT(N$10, " - ", $Y14), 'Time Entries'!$F$12:$F$1011)+SUMIF('Time Entries'!$U$12:$U$1011, _xlfn.CONCAT(N$10, " - ", $Y14), 'Time Entries'!$H$12:$H$1011)+SUMIF('Time Entries'!$V$12:$V$1011, _xlfn.CONCAT(N$10, " - ", $Y14), 'Time Entries'!$J$12:$J$1011)) -> 0 | O14: =IF(OR($B14="", $C14=""), "", SUMIF('Time Entries'!$S$12:$S$1011, _xlfn.CONCAT(O$10, " - ", $Y14), 'Time Entries'!$D$12:$D$1011)+SUMIF('Time Entries'!$T$12:$T$1011, _xlfn.CONCAT(O$10, " - ", $Y14), 'Time Entries'!$F$12:$F$1011)+SUMIF('Time Entries'!$U$12:$U$1011, _xlfn.CONCAT(O$10, " - ", $Y14), 'Time Entries'!$H$12:$H$1011)+SUMIF('Time Entries'!$V$12:$V$1011, _xlfn.CONCAT(O$10, " - ", $Y14), 'Time Entries'!$J$12:$J$1011)) -> 0.125 | P14: =IF(OR($B14="", $C14=""), "", SUMIF('Time Entries'!$S$12:$S$1011, _xlfn.CONCAT(P$10, " - ", $Y14), 'Time Entries'!$D$12:$D$1011)+SUMIF('Time Entries'!$T$12:$T$1011, _xlfn.CONCAT(P$10, " - ", $Y14), 'Time Entries'!$F$12:$F$1011)+SUMIF('Time Entries'!$U$12:$U$1011, _xlfn.CONCAT(P$10, " - ", $Y14), 'Time Entries'!$H$12:$H$1011)+SUMIF('Time Entries'!$V$12:$V$1011, _xlfn.CONCAT(P$10, " - ", $Y14), 'Time Entries'!$J$12:$J$1011)) -> 0 | ... T14: =IF(OR($B14="", $C14=""), "", SUMIF('Time Entries'!$S$12:$S$1011, _xlfn.CONCAT(T$10, " - ", $Y14), 'Time Entries'!$D$12:$D$1011)+SUMIF('Time Entries'!$T$12:$T$1011, _xlfn.CONCAT(T$10, " - ", $Y14), 'Time Entries'!$F$12:$F$1011)+SUMIF('Time Entries'!$U$12:$U$1011, _xlfn.CONCAT(T$10, " - ", $Y14), 'Time Entries'!$H$12:$H$1011)+SUMIF('Time Entries'!$V$12:$V$1011, _xlfn.CONCAT(T$10, " - ", $Y14), 'Time Entries'!$J$12:$J$1011)) -> 0 | W14: =IF($Y14="", "", IF(COUNTIF($Y$12:$Y$261, $Y14)>1, "X", "")) | Y14: =IF(OR($B14="", $C14=""), "", _xlfn.CONCAT($B14, " - ", $C14)) -> Client 3 - Test Job 3 | AA14: =DATE(YEAR(AA13), MONTH(AA13)+1, 1) -> 43709 | AB14: =TEXT($AA$14, "mmm yyyy") -> Sep 2019 | AD14: =IF(COUNTIF($B14:$C14, "")=1, "X", "") | AF14: =IF(OR($B14="", $C14=""), "", IF(AND($AF$9="", $AG$9=""), "X", IF(AND(NOT($AF$9=""), NOT($AG$9="")), IF($Y14=_xlfn.CONCAT($AF$9, " - ", $AG$9), "X", ""), IF($AG$9="", IF($AF$9=$B14, "X", ""), "")))) -> X | AH14: =IF($B14="", "", IF(COUNTIF($B$12:$B14, $B14)>1, "", $B14)) -> Client 3 | AI14: =IF($AH14="", "", COUNTIF($AH$12:$AH$261, "<"&$AH14)+1+COUNTIF($AH$12:$AH14, $AH14)-1-$AH$10) -> 3 | AK14: =IF(OR($AK$8="", $B14=""), "", IF($AK$8=$B14, $C14, "")) | AL14: =IF($AK14="", "", COUNTIF($AK$12:$AK$261, "<"&$AK14)+1+COUNTIF($AK$12:$AK14, $AK14)-1-$AK$10)
B15: Client 4 | C15: Test Job 4 | D15: 0.41666667 | F15: =IF(OR($B15="", $C15=""), "", SUM($I15:$T15)) -> 0.75347222 | G15: =IF($F15="", "", IF($D15-$F15<0, TEXT(($F15-$D15), "-[h]:mm"), $D15-$F15)) -> -8:05 | I15: =IF(OR($B15="", $C15=""), "", SUMIF('Time Entries'!$S$12:$S$1011, _xlfn.CONCAT(I$10, " - ", $Y15), 'Time Entries'!$D$12:$D$1011)+SUMIF('Time Entries'!$T$12:$T$1011, _xlfn.CONCAT(I$10, " - ", $Y15), 'Time Entries'!$F$12:$F$1011)+SUMIF('Time Entries'!$U$12:$U$1011, _xlfn.CONCAT(I$10, " - ", $Y15), 'Time Entries'!$H$12:$H$1011)+SUMIF('Time Entries'!$V$12:$V$1011, _xlfn.CONCAT(I$10, " - ", $Y15), 'Time Entries'!$J$12:$J$1011)) -> 0.24305556 | J15: =IF(OR($B15="", $C15=""), "", SUMIF('Time Entries'!$S$12:$S$1011, _xlfn.CONCAT(J$10, " - ", $Y15), 'Time Entries'!$D$12:$D$1011)+SUMIF('Time Entries'!$T$12:$T$1011, _xlfn.CONCAT(J$10, " - ", $Y15), 'Time Entries'!$F$12:$F$1011)+SUMIF('Time Entries'!$U$12:$U$1011, _xlfn.CONCAT(J$10, " - ", $Y15), 'Time Entries'!$H$12:$H$1011)+SUMIF('Time Entries'!$V$12:$V$1011, _xlfn.CONCAT(J$10, " - ", $Y15), 'Time Entries'!$J$12:$J$1011)) -> 0 | K15: =IF(OR($B15="", $C15=""), "", SUMIF('Time Entries'!$S$12:$S$1011, _xlfn.CONCAT(K$10, " - ", $Y15), 'Time Entries'!$D$12:$D$1011)+SUMIF('Time Entries'!$T$12:$T$1011, _xlfn.CONCAT(K$10, " - ", $Y15), 'Time Entries'!$F$12:$F$1011)+SUMIF('Time Entries'!$U$12:$U$1011, _xlfn.CONCAT(K$10, " - ", $Y15), 'Time Entries'!$H$12:$H$1011)+SUMIF('Time Entries'!$V$12:$V$1011, _xlfn.CONCAT(K$10, " - ", $Y15), 'Time Entries'!$J$12:$J$1011)) -> 0.0625 | L15: =IF(OR($B15="", $C15=""), "", SUMIF('Time Entries'!$S$12:$S$1011, _xlfn.CONCAT(L$10, " - ", $Y15), 'Time Entries'!$D$12:$D$1011)+SUMIF('Time Entries'!$T$12:$T$1011, _xlfn.CONCAT(L$10, " - ", $Y15), 'Time Entries'!$F$12:$F$1011)+SUMIF('Time Entries'!$U$12:$U$1011, _xlfn.CONCAT(L$10, " - ", $Y15), 'Time Entries'!$H$12:$H$1011)+SUMIF('Time Entries'!$V$12:$V$1011, _xlfn.CONCAT(L$10, " - ", $Y15), 'Time Entries'!$J$12:$J$1011)) -> 0.083333333 | M15: =IF(OR($B15="", $C15=""), "", SUMIF('Time Entries'!$S$12:$S$1011, _xlfn.CONCAT(M$10, " - ", $Y15), 'Time Entries'!$D$12:$D$1011)+SUMIF('Time Entries'!$T$12:$T$1011, _xlfn.CONCAT(M$10, " - ", $Y15), 'Time Entries'!$F$12:$F$1011)+SUMIF('Time Entries'!$U$12:$U$1011, _xlfn.CONCAT(M$10, " - ", $Y15), 'Time Entries'!$H$12:$H$1011)+SUMIF('Time Entries'!$V$12:$V$1011, _xlfn.CONCAT(M$10, " - ", $Y15), 'Time Entries'!$J$12:$J$1011)) -> 0 | N15: =IF(OR($B15="", $C15=""), "", SUMIF('Time Entries'!$S$12:$S$1011, _xlfn.CONCAT(N$10, " - ", $Y15), 'Time Entries'!$D$12:$D$1011)+SUMIF('Time Entries'!$T$12:$T$1011, _xlfn.CONCAT(N$10, " - ", $Y15), 'Time Entries'!$F$12:$F$1011)+SUMIF('Time Entries'!$U$12:$U$1011, _xlfn.CONCAT(N$10, " - ", $Y15), 'Time Entries'!$H$12:$H$1011)+SUMIF('Time Entries'!$V$12:$V$1011, _xlfn.CONCAT(N$10, " - ", $Y15), 'Time Entries'!$J$12:$J$1011)) -> 0.16666667 | O15: =IF(OR($B15="", $C15=""), "", SUMIF('Time Entries'!$S$12:$S$1011, _xlfn.CONCAT(O$10, " - ", $Y15), 'Time Entries'!$D$12:$D$1011)+SUMIF('Time Entries'!$T$12:$T$1011, _xlfn.CONCAT(O$10, " - ", $Y15), 'Time Entries'!$F$12:$F$1011)+SUMIF('Time Entries'!$U$12:$U$1011, _xlfn.CONCAT(O$10, " - ", $Y15), 'Time Entries'!$H$12:$H$1011)+SUMIF('Time Entries'!$V$12:$V$1011, _xlfn.CONCAT(O$10, " - ", $Y15), 'Time Entries'!$J$12:$J$1011)) -> 0 | P15: =IF(OR($B15="", $C15=""), "", SUMIF('Time Entries'!$S$12:$S$1011, _xlfn.CONCAT(P$10, " - ", $Y15), 'Time Entries'!$D$12:$D$1011)+SUMIF('Time Entries'!$T$12:$T$1011, _xlfn.CONCAT(P$10, " - ", $Y15), 'Time Entries'!$F$12:$F$1011)+SUMIF('Time Entries'!$U$12:$U$1011, _xlfn.CONCAT(P$10, " - ", $Y15), 'Time Entries'!$H$12:$H$1011)+SUMIF('Time Entries'!$V$12:$V$1011, _xlfn.CONCAT(P$10, " - ", $Y15), 'Time Entries'!$J$12:$J$1011)) -> 0 | ... T15: =IF(OR($B15="", $C15=""), "", SUMIF('Time Entries'!$S$12:$S$1011, _xlfn.CONCAT(T$10, " - ", $Y15), 'Time Entries'!$D$12:$D$1011)+SUMIF('Time Entries'!$T$12:$T$1011, _xlfn.CONCAT(T$10, " - ", $Y15), 'Time Entries'!$F$12:$F$1011)+SUMIF('Time Entries'!$U$12:$U$1011, _xlfn.CONCAT(T$10, " - ", $Y15), 'Time Entries'!$H$12:$H$1011)+SUMIF('Time Entries'!$V$12:$V$1011, _xlfn.CONCAT(T$10, " - ", $Y15), 'Time Entries'!$J$12:$J$1011)) -> 0 | W15: =IF($Y15="", "", IF(COUNTIF($Y$12:$Y$261, $Y15)>1, "X", "")) | Y15: =IF(OR($B15="", $C15=""), "", _xlfn.CONCAT($B15, " - ", $C15)) -> Client 4 - Test Job 4 | AA15: =DATE(YEAR(AA14), MONTH(AA14)+1, 1) -> 43739 | AB15: =TEXT($AA$15, "mmm yyyy") -> Oct 2019 | AD15: =IF(COUNTIF($B15:$C15, "")=1, "X", "") | AF15: =IF(OR($B15="", $C15=""), "", IF(AND($AF$9="", $AG$9=""), "X", IF(AND(NOT($AF$9=""), NOT($AG$9="")), IF($Y15=_xlfn.CONCAT($AF$9, " - ", $AG$9), "X", ""), IF($AG$9="", IF($AF$9=$B15, "X", ""), "")))) -> X | AH15: =IF($B15="", "", IF(COUNTIF($B$12:$B15, $B15)>1, "", $B15)) -> Client 4 | AI15: =IF($AH15="", "", COUNTIF($AH$12:$AH$261, "<"&$AH15)+1+COUNTIF($AH$12:$AH15, $AH15)-1-$AH$10) -> 4 | AK15: =IF(OR($AK$8="", $B15=""), "", IF($AK$8=$B15, $C15, "")) | AL15: =IF($AK15="", "", COUNTIF($AK$12:$AK$261, "<"&$AK15)+1+COUNTIF($AK$12:$AK15, $AK15)-1-$AK$10)
B16: Client 5 | C16: Test Job 5 | D16: 0.41666667 | F16: =IF(OR($B16="", $C16=""), "", SUM($I16:$T16)) -> 0.73958333 | G16: =IF($F16="", "", IF($D16-$F16<0, TEXT(($F16-$D16), "-[h]:mm"), $D16-$F16)) -> -7:45 | I16: =IF(OR($B16="", $C16=""), "", SUMIF('Time Entries'!$S$12:$S$1011, _xlfn.CONCAT(I$10, " - ", $Y16), 'Time Entries'!$D$12:$D$1011)+SUMIF('Time Entries'!$T$12:$T$1011, _xlfn.CONCAT(I$10, " - ", $Y16), 'Time Entries'!$F$12:$F$1011)+SUMIF('Time Entries'!$U$12:$U$1011, _xlfn.CONCAT(I$10, " - ", $Y16), 'Time Entries'!$H$12:$H$1011)+SUMIF('Time Entries'!$V$12:$V$1011, _xlfn.CONCAT(I$10, " - ", $Y16), 'Time Entries'!$J$12:$J$1011)) -> 0 | J16: =IF(OR($B16="", $C16=""), "", SUMIF('Time Entries'!$S$12:$S$1011, _xlfn.CONCAT(J$10, " - ", $Y16), 'Time Entries'!$D$12:$D$1011)+SUMIF('Time Entries'!$T$12:$T$1011, _xlfn.CONCAT(J$10, " - ", $Y16), 'Time Entries'!$F$12:$F$1011)+SUMIF('Time Entries'!$U$12:$U$1011, _xlfn.CONCAT(J$10, " - ", $Y16), 'Time Entries'!$H$12:$H$1011)+SUMIF('Time Entries'!$V$12:$V$1011, _xlfn.CONCAT(J$10, " - ", $Y16), 'Time Entries'!$J$12:$J$1011)) -> 0.16666667 | K16: =IF(OR($B16="", $C16=""), "", SUMIF('Time Entries'!$S$12:$S$1011, _xlfn.CONCAT(K$10, " - ", $Y16), 'Time Entries'!$D$12:$D$1011)+SUMIF('Time Entries'!$T$12:$T$1011, _xlfn.CONCAT(K$10, " - ", $Y16), 'Time Entries'!$F$12:$F$1011)+SUMIF('Time Entries'!$U$12:$U$1011, _xlfn.CONCAT(K$10, " - ", $Y16), 'Time Entries'!$H$12:$H$1011)+SUMIF('Time Entries'!$V$12:$V$1011, _xlfn.CONCAT(K$10, " - ", $Y16), 'Time Entries'!$J$12:$J$1011)) -> 0 | L16: =IF(OR($B16="", $C16=""), "", SUMIF('Time Entries'!$S$12:$S$1011, _xlfn.CONCAT(L$10, " - ", $Y16), 'Time Entries'!$D$12:$D$1011)+SUMIF('Time Entries'!$T$12:$T$1011, _xlfn.CONCAT(L$10, " - ", $Y16), 'Time Entries'!$F$12:$F$1011)+SUMIF('Time Entries'!$U$12:$U$1011, _xlfn.CONCAT(L$10, " - ", $Y16), 'Time Entries'!$H$12:$H$1011)+SUMIF('Time Entries'!$V$12:$V$1011, _xlfn.CONCAT(L$10, " - ", $Y16), 'Time Entries'!$J$12:$J$1011)) -> 0.052083333 | M16: =IF(OR($B16="", $C16=""), "", SUMIF('Time Entries'!$S$12:$S$1011, _xlfn.CONCAT(M$10, " - ", $Y16), 'Time Entries'!$D$12:$D$1011)+SUMIF('Time Entries'!$T$12:$T$1011, _xlfn.CONCAT(M$10, " - ", $Y16), 'Time Entries'!$F$12:$F$1011)+SUMIF('Time Entries'!$U$12:$U$1011, _xlfn.CONCAT(M$10, " - ", $Y16), 'Time Entries'!$H$12:$H$1011)+SUMIF('Time Entries'!$V$12:$V$1011, _xlfn.CONCAT(M$10, " - ", $Y16), 'Time Entries'!$J$12:$J$1011)) -> 0.29166667 | N16: =IF(OR($B16="", $C16=""), "", SUMIF('Time Entries'!$S$12:$S$1011, _xlfn.CONCAT(N$10, " - ", $Y16), 'Time Entries'!$D$12:$D$1011)+SUMIF('Time Entries'!$T$12:$T$1011, _xlfn.CONCAT(N$10, " - ", $Y16), 'Time Entries'!$F$12:$F$1011)+SUMIF('Time Entries'!$U$12:$U$1011, _xlfn.CONCAT(N$10, " - ", $Y16), 'Time Entries'!$H$12:$H$1011)+SUMIF('Time Entries'!$V$12:$V$1011, _xlfn.CONCAT(N$10, " - ", $Y16), 'Time Entries'!$J$12:$J$1011)) -> 0 | O16: =IF(OR($B16="", $C16=""), "", SUMIF('Time Entries'!$S$12:$S$1011, _xlfn.CONCAT(O$10, " - ", $Y16), 'Time Entries'!$D$12:$D$1011)+SUMIF('Time Entries'!$T$12:$T$1011, _xlfn.CONCAT(O$10, " - ", $Y16), 'Time Entries'!$F$12:$F$1011)+SUMIF('Time Entries'!$U$12:$U$1011, _xlfn.CONCAT(O$10, " - ", $Y16), 'Time Entries'!$H$12:$H$1011)+SUMIF('Time Entries'!$V$12:$V$1011, _xlfn.CONCAT(O$10, " - ", $Y16), 'Time Entries'!$J$12:$J$1011)) -> 0 | P16: =IF(OR($B16="", $C16=""), "", SUMIF('Time Entries'!$S$12:$S$1011, _xlfn.CONCAT(P$10, " - ", $Y16), 'Time Entries'!$D$12:$D$1011)+SUMIF('Time Entries'!$T$12:$T$1011, _xlfn.CONCAT(P$10, " - ", $Y16), 'Time Entries'!$F$12:$F$1011)+SUMIF('Time Entries'!$U$12:$U$1011, _xlfn.CONCAT(P$10, " - ", $Y16), 'Time Entries'!$H$12:$H$1011)+SUMIF('Time Entries'!$V$12:$V$1011, _xlfn.CONCAT(P$10, " - ", $Y16), 'Time Entries'!$J$12:$J$1011)) -> 0.22916667 | ... T16: =IF(OR($B16="", $C16=""), "", SUMIF('Time Entries'!$S$12:$S$1011, _xlfn.CONCAT(T$10, " - ", $Y16), 'Time Entries'!$D$12:$D$1011)+SUMIF('Time Entries'!$T$12:$T$1011, _xlfn.CONCAT(T$10, " - ", $Y16), 'Time Entries'!$F$12:$F$1011)+SUMIF('Time Entries'!$U$12:$U$1011, _xlfn.CONCAT(T$10, " - ", $Y16), 'Time Entries'!$H$12:$H$1011)+SUMIF('Time Entries'!$V$12:$V$1011, _xlfn.CONCAT(T$10, " - ", $Y16), 'Time Entries'!$J$12:$J$1011)) -> 0 | W16: =IF($Y16="", "", IF(COUNTIF($Y$12:$Y$261, $Y16)>1, "X", "")) | Y16: =IF(OR($B16="", $C16=""), "", _xlfn.CONCAT($B16, " - ", $C16)) -> Client 5 - Test Job 5 | AA16: =DATE(YEAR(AA15), MONTH(AA15)+1, 1) -> 43770 | AB16: =TEXT($AA$16, "mmm yyyy") -> Nov 2019 | AD16: =IF(COUNTIF($B16:$C16, "")=1, "X", "") | AF16: =IF(OR($B16="", $C16=""), "", IF(AND($AF$9="", $AG$9=""), "X", IF(AND(NOT($AF$9=""), NOT($AG$9="")), IF($Y16=_xlfn.CONCAT($AF$9, " - ", $AG$9), "X", ""), IF($AG$9="", IF($AF$9=$B16, "X", ""), "")))) -> X | AH16: =IF($B16="", "", IF(COUNTIF($B$12:$B16, $B16)>1, "", $B16)) -> Client 5 | AI16: =IF($AH16="", "", COUNTIF($AH$12:$AH$261, "<"&$AH16)+1+COUNTIF($AH$12:$AH16, $AH16)-1-$AH$10) -> 5 | AK16: =IF(OR($AK$8="", $B16=""), "", IF($AK$8=$B16, $C16, "")) | AL16: =IF($AK16="", "", COUNTIF($AK$12:$AK$261, "<"&$AK16)+1+COUNTIF($AK$12:$AK16, $AK16)-1-$AK$10)
F17: =IF(OR($B17="", $C17=""), "", SUM($I17:$T17)) | G17: =IF($F17="", "", IF($D17-$F17<0, TEXT(($F17-$D17), "-[h]:mm"), $D17-$F17)) | I17: =IF(OR($B17="", $C17=""), "", SUMIF('Time Entries'!$S$12:$S$1011, _xlfn.CONCAT(I$10, " - ", $Y17), 'Time Entries'!$D$12:$D$1011)+SUMIF('Time Entries'!$T$12:$T$1011, _xlfn.CONCAT(I$10, " - ", $Y17), 'Time Entries'!$F$12:$F$1011)+SUMIF('Time Entries'!$U$12:$U$1011, _xlfn.CONCAT(I$10, " - ", $Y17), 'Time Entries'!$H$12:$H$1011)+SUMIF('Time Entries'!$V$12:$V$1011, _xlfn.CONCAT(I$10, " - ", $Y17), 'Time Entries'!$J$12:$J$1011)) | J17: =IF(OR($B17="", $C17=""), "", SUMIF('Time Entries'!$S$12:$S$1011, _xlfn.CONCAT(J$10, " - ", $Y17), 'Time Entries'!$D$12:$D$1011)+SUMIF('Time Entries'!$T$12:$T$1011, _xlfn.CONCAT(J$10, " - ", $Y17), 'Time Entries'!$F$12:$F$1011)+SUMIF('Time Entries'!$U$12:$U$1011, _xlfn.CONCAT(J$10, " - ", $Y17), 'Time Entries'!$H$12:$H$1011)+SUMIF('Time Entries'!$V$12:$V$1011, _xlfn.CONCAT(J$10, " - ", $Y17), 'Time Entries'!$J$12:$J$1011)) | K17: =IF(OR($B17="", $C17=""), "", SUMIF('Time Entries'!$S$12:$S$1011, _xlfn.CONCAT(K$10, " - ", $Y17), 'Time Entries'!$D$12:$D$1011)+SUMIF('Time Entries'!$T$12:$T$1011, _xlfn.CONCAT(K$10, " - ", $Y17), 'Time Entries'!$F$12:$F$1011)+SUMIF('Time Entries'!$U$12:$U$1011, _xlfn.CONCAT(K$10, " - ", $Y17), 'Time Entries'!$H$12:$H$1011)+SUMIF('Time Entries'!$V$12:$V$1011, _xlfn.CONCAT(K$10, " - ", $Y17), 'Time Entries'!$J$12:$J$1011)) | L17: =IF(OR($B17="", $C17=""), "", SUMIF('Time Entries'!$S$12:$S$1011, _xlfn.CONCAT(L$10, " - ", $Y17), 'Time Entries'!$D$12:$D$1011)+SUMIF('Time Entries'!$T$12:$T$1011, _xlfn.CONCAT(L$10, " - ", $Y17), 'Time Entries'!$F$12:$F$1011)+SUMIF('Time Entries'!$U$12:$U$1011, _xlfn.CONCAT(L$10, " - ", $Y17), 'Time Entries'!$H$12:$H$1011)+SUMIF('Time Entries'!$V$12:$V$1011, _xlfn.CONCAT(L$10, " - ", $Y17), 'Time Entries'!$J$12:$J$1011)) | M17: =IF(OR($B17="", $C17=""), "", SUMIF('Time Entries'!$S$12:$S$1011, _xlfn.CONCAT(M$10, " - ", $Y17), 'Time Entries'!$D$12:$D$1011)+SUMIF('Time Entries'!$T$12:$T$1011, _xlfn.CONCAT(M$10, " - ", $Y17), 'Time Entries'!$F$12:$F$1011)+SUMIF('Time Entries'!$U$12:$U$1011, _xlfn.CONCAT(M$10, " - ", $Y17), 'Time Entries'!$H$12:$H$1011)+SUMIF('Time Entries'!$V$12:$V$1011, _xlfn.CONCAT(M$10, " - ", $Y17), 'Time Entries'!$J$12:$J$1011)) | N17: =IF(OR($B17="", $C17=""), "", SUMIF('Time Entries'!$S$12:$S$1011, _xlfn.CONCAT(N$10, " - ", $Y17), 'Time Entries'!$D$12:$D$1011)+SUMIF('Time Entries'!$T$12:$T$1011, _xlfn.CONCAT(N$10, " - ", $Y17), 'Time Entries'!$F$12:$F$1011)+SUMIF('Time Entries'!$U$12:$U$1011, _xlfn.CONCAT(N$10, " - ", $Y17), 'Time Entries'!$H$12:$H$1011)+SUMIF('Time Entries'!$V$12:$V$1011, _xlfn.CONCAT(N$10, " - ", $Y17), 'Time Entries'!$J$12:$J$1011)) | O17: =IF(OR($B17="", $C17=""), "", SUMIF('Time Entries'!$S$12:$S$1011, _xlfn.CONCAT(O$10, " - ", $Y17), 'Time Entries'!$D$12:$D$1011)+SUMIF('Time Entries'!$T$12:$T$1011, _xlfn.CONCAT(O$10, " - ", $Y17), 'Time Entries'!$F$12:$F$1011)+SUMIF('Time Entries'!$U$12:$U$1011, _xlfn.CONCAT(O$10, " - ", $Y17), 'Time Entries'!$H$12:$H$1011)+SUMIF('Time Entries'!$V$12:$V$1011, _xlfn.CONCAT(O$10, " - ", $Y17), 'Time Entries'!$J$12:$J$1011)) | P17: =IF(OR($B17="", $C17=""), "", SUMIF('Time Entries'!$S$12:$S$1011, _xlfn.CONCAT(P$10, " - ", $Y17), 'Time Entries'!$D$12:$D$1011)+SUMIF('Time Entries'!$T$12:$T$1011, _xlfn.CONCAT(P$10, " - ", $Y17), 'Time Entries'!$F$12:$F$1011)+SUMIF('Time Entries'!$U$12:$U$1011, _xlfn.CONCAT(P$10, " - ", $Y17), 'Time Entries'!$H$12:$H$1011)+SUMIF('Time Entries'!$V$12:$V$1011, _xlfn.CONCAT(P$10, " - ", $Y17), 'Time Entries'!$J$12:$J$1011)) | ... T17: =IF(OR($B17="", $C17=""), "", SUMIF('Time Entries'!$S$12:$S$1011, _xlfn.CONCAT(T$10, " - ", $Y17), 'Time Entries'!$D$12:$D$1011)+SUMIF('Time Entries'!$T$12:$T$1011, _xlfn.CONCAT(T$10, " - ", $Y17), 'Time Entries'!$F$12:$F$1011)+SUMIF('Time Entries'!$U$12:$U$1011, _xlfn.CONCAT(T$10, " - ", $Y17), 'Time Entries'!$H$12:$H$1011)+SUMIF('Time Entries'!$V$12:$V$1011, _xlfn.CONCAT(T$10, " - ", $Y17), 'Time Entries'!$J$12:$J$1011)) | W17: =IF($Y17="", "", IF(COUNTIF($Y$12:$Y$261, $Y17)>1, "X", "")) | Y17: =IF(OR($B17="", $C17=""), "", _xlfn.CONCAT($B17, " - ", $C17)) | AA17: =DATE(YEAR(AA16), MONTH(AA16)+1, 1) -> 43800 | AB17: =TEXT($AA$17, "mmm yyyy") -> Dec 2019 | AD17: =IF(COUNTIF($B17:$C17, "")=1, "X", "") | AF17: =IF(OR($B17="", $C17=""), "", IF(AND($AF$9="", $AG$9=""), "X", IF(AND(NOT($AF$9=""), NOT($AG$9="")), IF($Y17=_xlfn.CONCAT($AF$9, " - ", $AG$9), "X", ""), IF($AG$9="", IF($AF$9=$B17, "X", ""), "")))) | AH17: =IF($B17="", "", IF(COUNTIF($B$12:$B17, $B17)>1, "", $B17)) | AI17: =IF($AH17="", "", COUNTIF($AH$12:$AH$261, "<"&$AH17)+1+COUNTIF($AH$12:$AH17, $AH17)-1-$AH$10) | AK17: =IF(OR($AK$8="", $B17=""), "", IF($AK$8=$B17, $C17, "")) | AL17: =IF($AK17="", "", COUNTIF($AK$12:$AK$261, "<"&$AK17)+1+COUNTIF($AK$12:$AK17, $AK17)-1-$AK$10)
F18: =IF(OR($B18="", $C18=""), "", SUM($I18:$T18)) | G18: =IF($F18="", "", IF($D18-$F18<0, TEXT(($F18-$D18), "-[h]:mm"), $D18-$F18)) | I18: =IF(OR($B18="", $C18=""), "", SUMIF('Time Entries'!$S$12:$S$1011, _xlfn.CONCAT(I$10, " - ", $Y18), 'Time Entries'!$D$12:$D$1011)+SUMIF('Time Entries'!$T$12:$T$1011, _xlfn.CONCAT(I$10, " - ", $Y18), 'Time Entries'!$F$12:$F$1011)+SUMIF('Time Entries'!$U$12:$U$1011, _xlfn.CONCAT(I$10, " - ", $Y18), 'Time Entries'!$H$12:$H$1011)+SUMIF('Time Entries'!$V$12:$V$1011, _xlfn.CONCAT(I$10, " - ", $Y18), 'Time Entries'!$J$12:$J$1011)) | J18: =IF(OR($B18="", $C18=""), "", SUMIF('Time Entries'!$S$12:$S$1011, _xlfn.CONCAT(J$10, " - ", $Y18), 'Time Entries'!$D$12:$D$1011)+SUMIF('Time Entries'!$T$12:$T$1011, _xlfn.CONCAT(J$10, " - ", $Y18), 'Time Entries'!$F$12:$F$1011)+SUMIF('Time Entries'!$U$12:$U$1011, _xlfn.CONCAT(J$10, " - ", $Y18), 'Time Entries'!$H$12:$H$1011)+SUMIF('Time Entries'!$V$12:$V$1011, _xlfn.CONCAT(J$10, " - ", $Y18), 'Time Entries'!$J$12:$J$1011)) | K18: =IF(OR($B18="", $C18=""), "", SUMIF('Time Entries'!$S$12:$S$1011, _xlfn.CONCAT(K$10, " - ", $Y18), 'Time Entries'!$D$12:$D$1011)+SUMIF('Time Entries'!$T$12:$T$1011, _xlfn.CONCAT(K$10, " - ", $Y18), 'Time Entries'!$F$12:$F$1011)+SUMIF('Time Entries'!$U$12:$U$1011, _xlfn.CONCAT(K$10, " - ", $Y18), 'Time Entries'!$H$12:$H$1011)+SUMIF('Time Entries'!$V$12:$V$1011, _xlfn.CONCAT(K$10, " - ", $Y18), 'Time Entries'!$J$12:$J$1011)) | L18: =IF(OR($B18="", $C18=""), "", SUMIF('Time Entries'!$S$12:$S$1011, _xlfn.CONCAT(L$10, " - ", $Y18), 'Time Entries'!$D$12:$D$1011)+SUMIF('Time Entries'!$T$12:$T$1011, _xlfn.CONCAT(L$10, " - ", $Y18), 'Time Entries'!$F$12:$F$1011)+SUMIF('Time Entries'!$U$12:$U$1011, _xlfn.CONCAT(L$10, " - ", $Y18), 'Time Entries'!$H$12:$H$1011)+SUMIF('Time Entries'!$V$12:$V$1011, _xlfn.CONCAT(L$10, " - ", $Y18), 'Time Entries'!$J$12:$J$1011)) | M18: =IF(OR($B18="", $C18=""), "", SUMIF('Time Entries'!$S$12:$S$1011, _xlfn.CONCAT(M$10, " - ", $Y18), 'Time Entries'!$D$12:$D$1011)+SUMIF('Time Entries'!$T$12:$T$1011, _xlfn.CONCAT(M$10, " - ", $Y18), 'Time Entries'!$F$12:$F$1011)+SUMIF('Time Entries'!$U$12:$U$1011, _xlfn.CONCAT(M$10, " - ", $Y18), 'Time Entries'!$H$12:$H$1011)+SUMIF('Time Entries'!$V$12:$V$1011, _xlfn.CONCAT(M$10, " - ", $Y18), 'Time Entries'!$J$12:$J$1011)) | N18: =IF(OR($B18="", $C18=""), "", SUMIF('Time Entries'!$S$12:$S$1011, _xlfn.CONCAT(N$10, " - ", $Y18), 'Time Entries'!$D$12:$D$1011)+SUMIF('Time Entries'!$T$12:$T$1011, _xlfn.CONCAT(N$10, " - ", $Y18), 'Time Entries'!$F$12:$F$1011)+SUMIF('Time Entries'!$U$12:$U$1011, _xlfn.CONCAT(N$10, " - ", $Y18), 'Time Entries'!$H$12:$H$1011)+SUMIF('Time Entries'!$V$12:$V$1011, _xlfn.CONCAT(N$10, " - ", $Y18), 'Time Entries'!$J$12:$J$1011)) | O18: =IF(OR($B18="", $C18=""), "", SUMIF('Time Entries'!$S$12:$S$1011, _xlfn.CONCAT(O$10, " - ", $Y18), 'Time Entries'!$D$12:$D$1011)+SUMIF('Time Entries'!$T$12:$T$1011, _xlfn.CONCAT(O$10, " - ", $Y18), 'Time Entries'!$F$12:$F$1011)+SUMIF('Time Entries'!$U$12:$U$1011, _xlfn.CONCAT(O$10, " - ", $Y18), 'Time Entries'!$H$12:$H$1011)+SUMIF('Time Entries'!$V$12:$V$1011, _xlfn.CONCAT(O$10, " - ", $Y18), 'Time Entries'!$J$12:$J$1011)) | P18: =IF(OR($B18="", $C18=""), "", SUMIF('Time Entries'!$S$12:$S$1011, _xlfn.CONCAT(P$10, " - ", $Y18), 'Time Entries'!$D$12:$D$1011)+SUMIF('Time Entries'!$T$12:$T$1011, _xlfn.CONCAT(P$10, " - ", $Y18), 'Time Entries'!$F$12:$F$1011)+SUMIF('Time Entries'!$U$12:$U$1011, _xlfn.CONCAT(P$10, " - ", $Y18), 'Time Entries'!$H$12:$H$1011)+SUMIF('Time Entries'!$V$12:$V$1011, _xlfn.CONCAT(P$10, " - ", $Y18), 'Time Entries'!$J$12:$J$1011)) | ... T18: =IF(OR($B18="", $C18=""), "", SUMIF('Time Entries'!$S$12:$S$1011, _xlfn.CONCAT(T$10, " - ", $Y18), 'Time Entries'!$D$12:$D$1011)+SUMIF('Time Entries'!$T$12:$T$1011, _xlfn.CONCAT(T$10, " - ", $Y18), 'Time Entries'!$F$12:$F$1011)+SUMIF('Time Entries'!$U$12:$U$1011, _xlfn.CONCAT(T$10, " - ", $Y18), 'Time Entries'!$H$12:$H$1011)+SUMIF('Time Entries'!$V$12:$V$1011, _xlfn.CONCAT(T$10, " - ", $Y18), 'Time Entries'!$J$12:$J$1011)) | W18: =IF($Y18="", "", IF(COUNTIF($Y$12:$Y$261, $Y18)>1, "X", "")) | Y18: =IF(OR($B18="", $C18=""), "", _xlfn.CONCAT($B18, " - ", $C18)) | AA18: =DATE(YEAR(AA17), MONTH(AA17)+1, 1) -> 43831 | AB18: =TEXT($AA$18, "mmm yyyy") -> Jan 2020 | AD18: =IF(COUNTIF($B18:$C18, "")=1, "X", "") | AF18: =IF(OR($B18="", $C18=""), "", IF(AND($AF$9="", $AG$9=""), "X", IF(AND(NOT($AF$9=""), NOT($AG$9="")), IF($Y18=_xlfn.CONCAT($AF$9, " - ", $AG$9), "X", ""), IF($AG$9="", IF($AF$9=$B18, "X", ""), "")))) | AH18: =IF($B18="", "", IF(COUNTIF($B$12:$B18, $B18)>1, "", $B18)) | AI18: =IF($AH18="", "", COUNTIF($AH$12:$AH$261, "<"&$AH18)+1+COUNTIF($AH$12:$AH18, $AH18)-1-$AH$10) | AK18: =IF(OR($AK$8="", $B18=""), "", IF($AK$8=$B18, $C18, "")) | AL18: =IF($AK18="", "", COUNTIF($AK$12:$AK$261, "<"&$AK18)+1+COUNTIF($AK$12:$AK18, $AK18)-1-$AK$10)
F19: =IF(OR($B19="", $C19=""), "", SUM($I19:$T19)) | G19: =IF($F19="", "", IF($D19-$F19<0, TEXT(($F19-$D19), "-[h]:mm"), $D19-$F19)) | I19: =IF(OR($B19="", $C19=""), "", SUMIF('Time Entries'!$S$12:$S$1011, _xlfn.CONCAT(I$10, " - ", $Y19), 'Time Entries'!$D$12:$D$1011)+SUMIF('Time Entries'!$T$12:$T$1011, _xlfn.CONCAT(I$10, " - ", $Y19), 'Time Entries'!$F$12:$F$1011)+SUMIF('Time Entries'!$U$12:$U$1011, _xlfn.CONCAT(I$10, " - ", $Y19), 'Time Entries'!$H$12:$H$1011)+SUMIF('Time Entries'!$V$12:$V$1011, _xlfn.CONCAT(I$10, " - ", $Y19), 'Time Entries'!$J$12:$J$1011)) | J19: =IF(OR($B19="", $C19=""), "", SUMIF('Time Entries'!$S$12:$S$1011, _xlfn.CONCAT(J$10, " - ", $Y19), 'Time Entries'!$D$12:$D$1011)+SUMIF('Time Entries'!$T$12:$T$1011, _xlfn.CONCAT(J$10, " - ", $Y19), 'Time Entries'!$F$12:$F$1011)+SUMIF('Time Entries'!$U$12:$U$1011, _xlfn.CONCAT(J$10, " - ", $Y19), 'Time Entries'!$H$12:$H$1011)+SUMIF('Time Entries'!$V$12:$V$1011, _xlfn.CONCAT(J$10, " - ", $Y19), 'Time Entries'!$J$12:$J$1011)) | K19: =IF(OR($B19="", $C19=""), "", SUMIF('Time Entries'!$S$12:$S$1011, _xlfn.CONCAT(K$10, " - ", $Y19), 'Time Entries'!$D$12:$D$1011)+SUMIF('Time Entries'!$T$12:$T$1011, _xlfn.CONCAT(K$10, " - ", $Y19), 'Time Entries'!$F$12:$F$1011)+SUMIF('Time Entries'!$U$12:$U$1011, _xlfn.CONCAT(K$10, " - ", $Y19), 'Time Entries'!$H$12:$H$1011)+SUMIF('Time Entries'!$V$12:$V$1011, _xlfn.CONCAT(K$10, " - ", $Y19), 'Time Entries'!$J$12:$J$1011)) | L19: =IF(OR($B19="", $C19=""), "", SUMIF('Time Entries'!$S$12:$S$1011, _xlfn.CONCAT(L$10, " - ", $Y19), 'Time Entries'!$D$12:$D$1011)+SUMIF('Time Entries'!$T$12:$T$1011, _xlfn.CONCAT(L$10, " - ", $Y19), 'Time Entries'!$F$12:$F$1011)+SUMIF('Time Entries'!$U$12:$U$1011, _xlfn.CONCAT(L$10, " - ", $Y19), 'Time Entries'!$H$12:$H$1011)+SUMIF('Time Entries'!$V$12:$V$1011, _xlfn.CONCAT(L$10, " - ", $Y19), 'Time Entries'!$J$12:$J$1011)) | M19: =IF(OR($B19="", $C19=""), "", SUMIF('Time Entries'!$S$12:$S$1011, _xlfn.CONCAT(M$10, " - ", $Y19), 'Time Entries'!$D$12:$D$1011)+SUMIF('Time Entries'!$T$12:$T$1011, _xlfn.CONCAT(M$10, " - ", $Y19), 'Time Entries'!$F$12:$F$1011)+SUMIF('Time Entries'!$U$12:$U$1011, _xlfn.CONCAT(M$10, " - ", $Y19), 'Time Entries'!$H$12:$H$1011)+SUMIF('Time Entries'!$V$12:$V$1011, _xlfn.CONCAT(M$10, " - ", $Y19), 'Time Entries'!$J$12:$J$1011)) | N19: =IF(OR($B19="", $C19=""), "", SUMIF('Time Entries'!$S$12:$S$1011, _xlfn.CONCAT(N$10, " - ", $Y19), 'Time Entries'!$D$12:$D$1011)+SUMIF('Time Entries'!$T$12:$T$1011, _xlfn.CONCAT(N$10, " - ", $Y19), 'Time Entries'!$F$12:$F$1011)+SUMIF('Time Entries'!$U$12:$U$1011, _xlfn.CONCAT(N$10, " - ", $Y19), 'Time Entries'!$H$12:$H$1011)+SUMIF('Time Entries'!$V$12:$V$1011, _xlfn.CONCAT(N$10, " - ", $Y19), 'Time Entries'!$J$12:$J$1011)) | O19: =IF(OR($B19="", $C19=""), "", SUMIF('Time Entries'!$S$12:$S$1011, _xlfn.CONCAT(O$10, " - ", $Y19), 'Time Entries'!$D$12:$D$1011)+SUMIF('Time Entries'!$T$12:$T$1011, _xlfn.CONCAT(O$10, " - ", $Y19), 'Time Entries'!$F$12:$F$1011)+SUMIF('Time Entries'!$U$12:$U$1011, _xlfn.CONCAT(O$10, " - ", $Y19), 'Time Entries'!$H$12:$H$1011)+SUMIF('Time Entries'!$V$12:$V$1011, _xlfn.CONCAT(O$10, " - ", $Y19), 'Time Entries'!$J$12:$J$1011)) | P19: =IF(OR($B19="", $C19=""), "", SUMIF('Time Entries'!$S$12:$S$1011, _xlfn.CONCAT(P$10, " - ", $Y19), 'Time Entries'!$D$12:$D$1011)+SUMIF('Time Entries'!$T$12:$T$1011, _xlfn.CONCAT(P$10, " - ", $Y19), 'Time Entries'!$F$12:$F$1011)+SUMIF('Time Entries'!$U$12:$U$1011, _xlfn.CONCAT(P$10, " - ", $Y19), 'Time Entries'!$H$12:$H$1011)+SUMIF('Time Entries'!$V$12:$V$1011, _xlfn.CONCAT(P$10, " - ", $Y19), 'Time Entries'!$J$12:$J$1011)) | ... T19: =IF(OR($B19="", $C19=""), "", SUMIF('Time Entries'!$S$12:$S$1011, _xlfn.CONCAT(T$10, " - ", $Y19), 'Time Entries'!$D$12:$D$1011)+SUMIF('Time Entries'!$T$12:$T$1011, _xlfn.CONCAT(T$10, " - ", $Y19), 'Time Entries'!$F$12:$F$1011)+SUMIF('Time Entries'!$U$12:$U$1011, _xlfn.CONCAT(T$10, " - ", $Y19), 'Time Entries'!$H$12:$H$1011)+SUMIF('Time Entries'!$V$12:$V$1011, _xlfn.CONCAT(T$10, " - ", $Y19), 'Time Entries'!$J$12:$J$1011)) | W19: =IF($Y19="", "", IF(COUNTIF($Y$12:$Y$261, $Y19)>1, "X", "")) | Y19: =IF(OR($B19="", $C19=""), "", _xlfn.CONCAT($B19, " - ", $C19)) | AA19: =DATE(YEAR(AA18), MONTH(AA18)+1, 1) -> 43862 | AB19: =TEXT($AA$19, "mmm yyyy") -> Feb 2020 | AD19: =IF(COUNTIF($B19:$C19, "")=1, "X", "") | AF19: =IF(OR($B19="", $C19=""), "", IF(AND($AF$9="", $AG$9=""), "X", IF(AND(NOT($AF$9=""), NOT($AG$9="")), IF($Y19=_xlfn.CONCAT($AF$9, " - ", $AG$9), "X", ""), IF($AG$9="", IF($AF$9=$B19, "X", ""), "")))) | AH19: =IF($B19="", "", IF(COUNTIF($B$12:$B19, $B19)>1, "", $B19)) | AI19: =IF($AH19="", "", COUNTIF($AH$12:$AH$261, "<"&$AH19)+1+COUNTIF($AH$12:$AH19, $AH19)-1-$AH$10) | AK19: =IF(OR($AK$8="", $B19=""), "", IF($AK$8=$B19, $C19, "")) | AL19: =IF($AK19="", "", COUNTIF($AK$12:$AK$261, "<"&$AK19)+1+COUNTIF($AK$12:$AK19, $AK19)-1-$AK$10)
F20: =IF(OR($B20="", $C20=""), "", SUM($I20:$T20)) | G20: =IF($F20="", "", IF($D20-$F20<0, TEXT(($F20-$D20), "-[h]:mm"), $D20-$F20)) | I20: =IF(OR($B20="", $C20=""), "", SUMIF('Time Entries'!$S$12:$S$1011, _xlfn.CONCAT(I$10, " - ", $Y20), 'Time Entries'!$D$12:$D$1011)+SUMIF('Time Entries'!$T$12:$T$1011, _xlfn.CONCAT(I$10, " - ", $Y20), 'Time Entries'!$F$12:$F$1011)+SUMIF('Time Entries'!$U$12:$U$1011, _xlfn.CONCAT(I$10, " - ", $Y20), 'Time Entries'!$H$12:$H$1011)+SUMIF('Time Entries'!$V$12:$V$1011, _xlfn.CONCAT(I$10, " - ", $Y20), 'Time Entries'!$J$12:$J$1011)) | J20: =IF(OR($B20="", $C20=""), "", SUMIF('Time Entries'!$S$12:$S$1011, _xlfn.CONCAT(J$10, " - ", $Y20), 'Time Entries'!$D$12:$D$1011)+SUMIF('Time Entries'!$T$12:$T$1011, _xlfn.CONCAT(J$10, " - ", $Y20), 'Time Entries'!$F$12:$F$1011)+SUMIF('Time Entries'!$U$12:$U$1011, _xlfn.CONCAT(J$10, " - ", $Y20), 'Time Entries'!$H$12:$H$1011)+SUMIF('Time Entries'!$V$12:$V$1011, _xlfn.CONCAT(J$10, " - ", $Y20), 'Time Entries'!$J$12:$J$1011)) | K20: =IF(OR($B20="", $C20=""), "", SUMIF('Time Entries'!$S$12:$S$1011, _xlfn.CONCAT(K$10, " - ", $Y20), 'Time Entries'!$D$12:$D$1011)+SUMIF('Time Entries'!$T$12:$T$1011, _xlfn.CONCAT(K$10, " - ", $Y20), 'Time Entries'!$F$12:$F$1011)+SUMIF('Time Entries'!$U$12:$U$1011, _xlfn.CONCAT(K$10, " - ", $Y20), 'Time Entries'!$H$12:$H$1011)+SUMIF('Time Entries'!$V$12:$V$1011, _xlfn.CONCAT(K$10, " - ", $Y20), 'Time Entries'!$J$12:$J$1011)) | L20: =IF(OR($B20="", $C20=""), "", SUMIF('Time Entries'!$S$12:$S$1011, _xlfn.CONCAT(L$10, " - ", $Y20), 'Time Entries'!$D$12:$D$1011)+SUMIF('Time Entries'!$T$12:$T$1011, _xlfn.CONCAT(L$10, " - ", $Y20), 'Time Entries'!$F$12:$F$1011)+SUMIF('Time Entries'!$U$12:$U$1011, _xlfn.CONCAT(L$10, " - ", $Y20), 'Time Entries'!$H$12:$H$1011)+SUMIF('Time Entries'!$V$12:$V$1011, _xlfn.CONCAT(L$10, " - ", $Y20), 'Time Entries'!$J$12:$J$1011)) | M20: =IF(OR($B20="", $C20=""), "", SUMIF('Time Entries'!$S$12:$S$1011, _xlfn.CONCAT(M$10, " - ", $Y20), 'Time Entries'!$D$12:$D$1011)+SUMIF('Time Entries'!$T$12:$T$1011, _xlfn.CONCAT(M$10, " - ", $Y20), 'Time Entries'!$F$12:$F$1011)+SUMIF('Time Entries'!$U$12:$U$1011, _xlfn.CONCAT(M$10, " - ", $Y20), 'Time Entries'!$H$12:$H$1011)+SUMIF('Time Entries'!$V$12:$V$1011, _xlfn.CONCAT(M$10, " - ", $Y20), 'Time Entries'!$J$12:$J$1011)) | N20: =IF(OR($B20="", $C20=""), "", SUMIF('Time Entries'!$S$12:$S$1011, _xlfn.CONCAT(N$10, " - ", $Y20), 'Time Entries'!$D$12:$D$1011)+SUMIF('Time Entries'!$T$12:$T$1011, _xlfn.CONCAT(N$10, " - ", $Y20), 'Time Entries'!$F$12:$F$1011)+SUMIF('Time Entries'!$U$12:$U$1011, _xlfn.CONCAT(N$10, " - ", $Y20), 'Time Entries'!$H$12:$H$1011)+SUMIF('Time Entries'!$V$12:$V$1011, _xlfn.CONCAT(N$10, " - ", $Y20), 'Time Entries'!$J$12:$J$1011)) | O20: =IF(OR($B20="", $C20=""), "", SUMIF('Time Entries'!$S$12:$S$1011, _xlfn.CONCAT(O$10, " - ", $Y20), 'Time Entries'!$D$12:$D$1011)+SUMIF('Time Entries'!$T$12:$T$1011, _xlfn.CONCAT(O$10, " - ", $Y20), 'Time Entries'!$F$12:$F$1011)+SUMIF('Time Entries'!$U$12:$U$1011, _xlfn.CONCAT(O$10, " - ", $Y20), 'Time Entries'!$H$12:$H$1011)+SUMIF('Time Entries'!$V$12:$V$1011, _xlfn.CONCAT(O$10, " - ", $Y20), 'Time Entries'!$J$12:$J$1011)) | P20: =IF(OR($B20="", $C20=""), "", SUMIF('Time Entries'!$S$12:$S$1011, _xlfn.CONCAT(P$10, " - ", $Y20), 'Time Entries'!$D$12:$D$1011)+SUMIF('Time Entries'!$T$12:$T$1011, _xlfn.CONCAT(P$10, " - ", $Y20), 'Time Entries'!$F$12:$F$1011)+SUMIF('Time Entries'!$U$12:$U$1011, _xlfn.CONCAT(P$10, " - ", $Y20), 'Time Entries'!$H$12:$H$1011)+SUMIF('Time Entries'!$V$12:$V$1011, _xlfn.CONCAT(P$10, " - ", $Y20), 'Time Entries'!$J$12:$J$1011)) | ... T20: =IF(OR($B20="", $C20=""), "", SUMIF('Time Entries'!$S$12:$S$1011, _xlfn.CONCAT(T$10, " - ", $Y20), 'Time Entries'!$D$12:$D$1011)+SUMIF('Time Entries'!$T$12:$T$1011, _xlfn.CONCAT(T$10, " - ", $Y20), 'Time Entries'!$F$12:$F$1011)+SUMIF('Time Entries'!$U$12:$U$1011, _xlfn.CONCAT(T$10, " - ", $Y20), 'Time Entries'!$H$12:$H$1011)+SUMIF('Time Entries'!$V$12:$V$1011, _xlfn.CONCAT(T$10, " - ", $Y20), 'Time Entries'!$J$12:$J$1011)) | W20: =IF($Y20="", "", IF(COUNTIF($Y$12:$Y$261, $Y20)>1, "X", "")) | Y20: =IF(OR($B20="", $C20=""), "", _xlfn.CONCAT($B20, " - ", $C20)) | AA20: =DATE(YEAR(AA19), MONTH(AA19)+1, 1) -> 43891 | AB20: =TEXT($AA$20, "mmm yyyy") -> Mar 2020 | AD20: =IF(COUNTIF($B20:$C20, "")=1, "X", "") | AF20: =IF(OR($B20="", $C20=""), "", IF(AND($AF$9="", $AG$9=""), "X", IF(AND(NOT($AF$9=""), NOT($AG$9="")), IF($Y20=_xlfn.CONCAT($AF$9, " - ", $AG$9), "X", ""), IF($AG$9="", IF($AF$9=$B20, "X", ""), "")))) | AH20: =IF($B20="", "", IF(COUNTIF($B$12:$B20, $B20)>1, "", $B20)) | AI20: =IF($AH20="", "", COUNTIF($AH$12:$AH$261, "<"&$AH20)+1+COUNTIF($AH$12:$AH20, $AH20)-1-$AH$10) | AK20: =IF(OR($AK$8="", $B20=""), "", IF($AK$8=$B20, $C20, "")) | AL20: =IF($AK20="", "", COUNTIF($AK$12:$AK$261, "<"&$AK20)+1+COUNTIF($AK$12:$AK20, $AK20)-1-$AK$10)
F21: =IF(OR($B21="", $C21=""), "", SUM($I21:$T21)) | G21: =IF($F21="", "", IF($D21-$F21<0, TEXT(($F21-$D21), "-[h]:mm"), $D21-$F21)) | I21: =IF(OR($B21="", $C21=""), "", SUMIF('Time Entries'!$S$12:$S$1011, _xlfn.CONCAT(I$10, " - ", $Y21), 'Time Entries'!$D$12:$D$1011)+SUMIF('Time Entries'!$T$12:$T$1011, _xlfn.CONCAT(I$10, " - ", $Y21), 'Time Entries'!$F$12:$F$1011)+SUMIF('Time Entries'!$U$12:$U$1011, _xlfn.CONCAT(I$10, " - ", $Y21), 'Time Entries'!$H$12:$H$1011)+SUMIF('Time Entries'!$V$12:$V$1011, _xlfn.CONCAT(I$10, " - ", $Y21), 'Time Entries'!$J$12:$J$1011)) | J21: =IF(OR($B21="", $C21=""), "", SUMIF('Time Entries'!$S$12:$S$1011, _xlfn.CONCAT(J$10, " - ", $Y21), 'Time Entries'!$D$12:$D$1011)+SUMIF('Time Entries'!$T$12:$T$1011, _xlfn.CONCAT(J$10, " - ", $Y21), 'Time Entries'!$F$12:$F$1011)+SUMIF('Time Entries'!$U$12:$U$1011, _xlfn.CONCAT(J$10, " - ", $Y21), 'Time Entries'!$H$12:$H$1011)+SUMIF('Time Entries'!$V$12:$V$1011, _xlfn.CONCAT(J$10, " - ", $Y21), 'Time Entries'!$J$12:$J$1011)) | K21: =IF(OR($B21="", $C21=""), "", SUMIF('Time Entries'!$S$12:$S$1011, _xlfn.CONCAT(K$10, " - ", $Y21), 'Time Entries'!$D$12:$D$1011)+SUMIF('Time Entries'!$T$12:$T$1011, _xlfn.CONCAT(K$10, " - ", $Y21), 'Time Entries'!$F$12:$F$1011)+SUMIF('Time Entries'!$U$12:$U$1011, _xlfn.CONCAT(K$10, " - ", $Y21), 'Time Entries'!$H$12:$H$1011)+SUMIF('Time Entries'!$V$12:$V$1011, _xlfn.CONCAT(K$10, " - ", $Y21), 'Time Entries'!$J$12:$J$1011)) | L21: =IF(OR($B21="", $C21=""), "", SUMIF('Time Entries'!$S$12:$S$1011, _xlfn.CONCAT(L$10, " - ", $Y21), 'Time Entries'!$D$12:$D$1011)+SUMIF('Time Entries'!$T$12:$T$1011, _xlfn.CONCAT(L$10, " - ", $Y21), 'Time Entries'!$F$12:$F$1011)+SUMIF('Time Entries'!$U$12:$U$1011, _xlfn.CONCAT(L$10, " - ", $Y21), 'Time Entries'!$H$12:$H$1011)+SUMIF('Time Entries'!$V$12:$V$1011, _xlfn.CONCAT(L$10, " - ", $Y21), 'Time Entries'!$J$12:$J$1011)) | M21: =IF(OR($B21="", $C21=""), "", SUMIF('Time Entries'!$S$12:$S$1011, _xlfn.CONCAT(M$10, " - ", $Y21), 'Time Entries'!$D$12:$D$1011)+SUMIF('Time Entries'!$T$12:$T$1011, _xlfn.CONCAT(M$10, " - ", $Y21), 'Time Entries'!$F$12:$F$1011)+SUMIF('Time Entries'!$U$12:$U$1011, _xlfn.CONCAT(M$10, " - ", $Y21), 'Time Entries'!$H$12:$H$1011)+SUMIF('Time Entries'!$V$12:$V$1011, _xlfn.CONCAT(M$10, " - ", $Y21), 'Time Entries'!$J$12:$J$1011)) | N21: =IF(OR($B21="", $C21=""), "", SUMIF('Time Entries'!$S$12:$S$1011, _xlfn.CONCAT(N$10, " - ", $Y21), 'Time Entries'!$D$12:$D$1011)+SUMIF('Time Entries'!$T$12:$T$1011, _xlfn.CONCAT(N$10, " - ", $Y21), 'Time Entries'!$F$12:$F$1011)+SUMIF('Time Entries'!$U$12:$U$1011, _xlfn.CONCAT(N$10, " - ", $Y21), 'Time Entries'!$H$12:$H$1011)+SUMIF('Time Entries'!$V$12:$V$1011, _xlfn.CONCAT(N$10, " - ", $Y21), 'Time Entries'!$J$12:$J$1011)) | O21: =IF(OR($B21="", $C21=""), "", SUMIF('Time Entries'!$S$12:$S$1011, _xlfn.CONCAT(O$10, " - ", $Y21), 'Time Entries'!$D$12:$D$1011)+SUMIF('Time Entries'!$T$12:$T$1011, _xlfn.CONCAT(O$10, " - ", $Y21), 'Time Entries'!$F$12:$F$1011)+SUMIF('Time Entries'!$U$12:$U$1011, _xlfn.CONCAT(O$10, " - ", $Y21), 'Time Entries'!$H$12:$H$1011)+SUMIF('Time Entries'!$V$12:$V$1011, _xlfn.CONCAT(O$10, " - ", $Y21), 'Time Entries'!$J$12:$J$1011)) | P21: =IF(OR($B21="", $C21=""), "", SUMIF('Time Entries'!$S$12:$S$1011, _xlfn.CONCAT(P$10, " - ", $Y21), 'Time Entries'!$D$12:$D$1011)+SUMIF('Time Entries'!$T$12:$T$1011, _xlfn.CONCAT(P$10, " - ", $Y21), 'Time Entries'!$F$12:$F$1011)+SUMIF('Time Entries'!$U$12:$U$1011, _xlfn.CONCAT(P$10, " - ", $Y21), 'Time Entries'!$H$12:$H$1011)+SUMIF('Time Entries'!$V$12:$V$1011, _xlfn.CONCAT(P$10, " - ", $Y21), 'Time Entries'!$J$12:$J$1011)) | ... T21: =IF(OR($B21="", $C21=""), "", SUMIF('Time Entries'!$S$12:$S$1011, _xlfn.CONCAT(T$10, " - ", $Y21), 'Time Entries'!$D$12:$D$1011)+SUMIF('Time Entries'!$T$12:$T$1011, _xlfn.CONCAT(T$10, " - ", $Y21), 'Time Entries'!$F$12:$F$1011)+SUMIF('Time Entries'!$U$12:$U$1011, _xlfn.CONCAT(T$10, " - ", $Y21), 'Time Entries'!$H$12:$H$1011)+SUMIF('Time Entries'!$V$12:$V$1011, _xlfn.CONCAT(T$10, " - ", $Y21), 'Time Entries'!$J$12:$J$1011)) | W21: =IF($Y21="", "", IF(COUNTIF($Y$12:$Y$261, $Y21)>1, "X", "")) | Y21: =IF(OR($B21="", $C21=""), "", _xlfn.CONCAT($B21, " - ", $C21)) | AA21: =DATE(YEAR(AA20), MONTH(AA20)+1, 1) -> 43922 | AB21: =TEXT($AA$21, "mmm yyyy") -> Apr 2020 | AD21: =IF(COUNTIF($B21:$C21, "")=1, "X", "") | AF21: =IF(OR($B21="", $C21=""), "", IF(AND($AF$9="", $AG$9=""), "X", IF(AND(NOT($AF$9=""), NOT($AG$9="")), IF($Y21=_xlfn.CONCAT($AF$9, " - ", $AG$9), "X", ""), IF($AG$9="", IF($AF$9=$B21, "X", ""), "")))) | AH21: =IF($B21="", "", IF(COUNTIF($B$12:$B21, $B21)>1, "", $B21)) | AI21: =IF($AH21="", "", COUNTIF($AH$12:$AH$261, "<"&$AH21)+1+COUNTIF($AH$12:$AH21, $AH21)-1-$AH$10) | AK21: =IF(OR($AK$8="", $B21=""), "", IF($AK$8=$B21, $C21, "")) | AL21: =IF($AK21="", "", COUNTIF($AK$12:$AK$261, "<"&$AK21)+1+COUNTIF($AK$12:$AK21, $AK21)-1-$AK$10)
F22: =IF(OR($B22="", $C22=""), "", SUM($I22:$T22)) | G22: =IF($F22="", "", IF($D22-$F22<0, TEXT(($F22-$D22), "-[h]:mm"), $D22-$F22)) | I22: =IF(OR($B22="", $C22=""), "", SUMIF('Time Entries'!$S$12:$S$1011, _xlfn.CONCAT(I$10, " - ", $Y22), 'Time Entries'!$D$12:$D$1011)+SUMIF('Time Entries'!$T$12:$T$1011, _xlfn.CONCAT(I$10, " - ", $Y22), 'Time Entries'!$F$12:$F$1011)+SUMIF('Time Entries'!$U$12:$U$1011, _xlfn.CONCAT(I$10, " - ", $Y22), 'Time Entries'!$H$12:$H$1011)+SUMIF('Time Entries'!$V$12:$V$1011, _xlfn.CONCAT(I$10, " - ", $Y22), 'Time Entries'!$J$12:$J$1011)) | J22: =IF(OR($B22="", $C22=""), "", SUMIF('Time Entries'!$S$12:$S$1011, _xlfn.CONCAT(J$10, " - ", $Y22), 'Time Entries'!$D$12:$D$1011)+SUMIF('Time Entries'!$T$12:$T$1011, _xlfn.CONCAT(J$10, " - ", $Y22), 'Time Entries'!$F$12:$F$1011)+SUMIF('Time Entries'!$U$12:$U$1011, _xlfn.CONCAT(J$10, " - ", $Y22), 'Time Entries'!$H$12:$H$1011)+SUMIF('Time Entries'!$V$12:$V$1011, _xlfn.CONCAT(J$10, " - ", $Y22), 'Time Entries'!$J$12:$J$1011)) | K22: =IF(OR($B22="", $C22=""), "", SUMIF('Time Entries'!$S$12:$S$1011, _xlfn.CONCAT(K$10, " - ", $Y22), 'Time Entries'!$D$12:$D$1011)+SUMIF('Time Entries'!$T$12:$T$1011, _xlfn.CONCAT(K$10, " - ", $Y22), 'Time Entries'!$F$12:$F$1011)+SUMIF('Time Entries'!$U$12:$U$1011, _xlfn.CONCAT(K$10, " - ", $Y22), 'Time Entries'!$H$12:$H$1011)+SUMIF('Time Entries'!$V$12:$V$1011, _xlfn.CONCAT(K$10, " - ", $Y22), 'Time Entries'!$J$12:$J$1011)) | L22: =IF(OR($B22="", $C22=""), "", SUMIF('Time Entries'!$S$12:$S$1011, _xlfn.CONCAT(L$10, " - ", $Y22), 'Time Entries'!$D$12:$D$1011)+SUMIF('Time Entries'!$T$12:$T$1011, _xlfn.CONCAT(L$10, " - ", $Y22), 'Time Entries'!$F$12:$F$1011)+SUMIF('Time Entries'!$U$12:$U$1011, _xlfn.CONCAT(L$10, " - ", $Y22), 'Time Entries'!$H$12:$H$1011)+SUMIF('Time Entries'!$V$12:$V$1011, _xlfn.CONCAT(L$10, " - ", $Y22), 'Time Entries'!$J$12:$J$1011)) | M22: =IF(OR($B22="", $C22=""), "", SUMIF('Time Entries'!$S$12:$S$1011, _xlfn.CONCAT(M$10, " - ", $Y22), 'Time Entries'!$D$12:$D$1011)+SUMIF('Time Entries'!$T$12:$T$1011, _xlfn.CONCAT(M$10, " - ", $Y22), 'Time Entries'!$F$12:$F$1011)+SUMIF('Time Entries'!$U$12:$U$1011, _xlfn.CONCAT(M$10, " - ", $Y22), 'Time Entries'!$H$12:$H$1011)+SUMIF('Time Entries'!$V$12:$V$1011, _xlfn.CONCAT(M$10, " - ", $Y22), 'Time Entries'!$J$12:$J$1011)) | N22: =IF(OR($B22="", $C22=""), "", SUMIF('Time Entries'!$S$12:$S$1011, _xlfn.CONCAT(N$10, " - ", $Y22), 'Time Entries'!$D$12:$D$1011)+SUMIF('Time Entries'!$T$12:$T$1011, _xlfn.CONCAT(N$10, " - ", $Y22), 'Time Entries'!$F$12:$F$1011)+SUMIF('Time Entries'!$U$12:$U$1011, _xlfn.CONCAT(N$10, " - ", $Y22), 'Time Entries'!$H$12:$H$1011)+SUMIF('Time Entries'!$V$12:$V$1011, _xlfn.CONCAT(N$10, " - ", $Y22), 'Time Entries'!$J$12:$J$1011)) | O22: =IF(OR($B22="", $C22=""), "", SUMIF('Time Entries'!$S$12:$S$1011, _xlfn.CONCAT(O$10, " - ", $Y22), 'Time Entries'!$D$12:$D$1011)+SUMIF('Time Entries'!$T$12:$T$1011, _xlfn.CONCAT(O$10, " - ", $Y22), 'Time Entries'!$F$12:$F$1011)+SUMIF('Time Entries'!$U$12:$U$1011, _xlfn.CONCAT(O$10, " - ", $Y22), 'Time Entries'!$H$12:$H$1011)+SUMIF('Time Entries'!$V$12:$V$1011, _xlfn.CONCAT(O$10, " - ", $Y22), 'Time Entries'!$J$12:$J$1011)) | P22: =IF(OR($B22="", $C22=""), "", SUMIF('Time Entries'!$S$12:$S$1011, _xlfn.CONCAT(P$10, " - ", $Y22), 'Time Entries'!$D$12:$D$1011)+SUMIF('Time Entries'!$T$12:$T$1011, _xlfn.CONCAT(P$10, " - ", $Y22), 'Time Entries'!$F$12:$F$1011)+SUMIF('Time Entries'!$U$12:$U$1011, _xlfn.CONCAT(P$10, " - ", $Y22), 'Time Entries'!$H$12:$H$1011)+SUMIF('Time Entries'!$V$12:$V$1011, _xlfn.CONCAT(P$10, " - ", $Y22), 'Time Entries'!$J$12:$J$1011)) | ... T22: =IF(OR($B22="", $C22=""), "", SUMIF('Time Entries'!$S$12:$S$1011, _xlfn.CONCAT(T$10, " - ", $Y22), 'Time Entries'!$D$12:$D$1011)+SUMIF('Time Entries'!$T$12:$T$1011, _xlfn.CONCAT(T$10, " - ", $Y22), 'Time Entries'!$F$12:$F$1011)+SUMIF('Time Entries'!$U$12:$U$1011, _xlfn.CONCAT(T$10, " - ", $Y22), 'Time Entries'!$H$12:$H$1011)+SUMIF('Time Entries'!$V$12:$V$1011, _xlfn.CONCAT(T$10, " - ", $Y22), 'Time Entries'!$J$12:$J$1011)) | W22: =IF($Y22="", "", IF(COUNTIF($Y$12:$Y$261, $Y22)>1, "X", "")) | Y22: =IF(OR($B22="", $C22=""), "", _xlfn.CONCAT($B22, " - ", $C22)) | AA22: =DATE(YEAR(AA21), MONTH(AA21)+1, DAY(AA21)-1) -> 43951 | AD22: =IF(COUNTIF($B22:$C22, "")=1, "X", "") | AF22: =IF(OR($B22="", $C22=""), "", IF(AND($AF$9="", $AG$9=""), "X", IF(AND(NOT($AF$9=""), NOT($AG$9="")), IF($Y22=_xlfn.CONCAT($AF$9, " - ", $AG$9), "X", ""), IF($AG$9="", IF($AF$9=$B22, "X", ""), "")))) | AH22: =IF($B22="", "", IF(COUNTIF($B$12:$B22, $B22)>1, "", $B22)) | AI22: =IF($AH22="", "", COUNTIF($AH$12:$AH$261, "<"&$AH22)+1+COUNTIF($AH$12:$AH22, $AH22)-1-$AH$10) | AK22: =IF(OR($AK$8="", $B22=""), "", IF($AK$8=$B22, $C22, "")) | AL22: =IF($AK22="", "", COUNTIF($AK$12:$AK$261, "<"&$AK22)+1+COUNTIF($AK$12:$AK22, $AK22)-1-$AK$10)
