Workbook

Sheet Intro & Setup
B2: Thanks for trying the Project Quote Calculator
B5: Please read these notes explaining how to use this spreadsheet
B7: Editable Cells | H7: The yellow background and blue writing usually identifies cells where you can enter or edit information.
B8: Calculated Cells | H8: The blue background and yellow writing usually identifies cells which are calculated, and therefore locked.
B9: If you copy and paste data into this spreadsheet (from an internal or external source), ALWAYS use paste VALUES, never normal paste.
B10: Using the drag function is the same as copy and paste, so do not use it.
B11: DO not delete or move data or cells. You can use clear contents, or you can use the sort function where there are filters.
B14: Please complete the following sections before using this spreadsheet
B16: Company Name | H16: Your Business | T16: Categories | AA16: Items to be added based on COST price
T17: Category 1 | AA17: Name of Addition | AJ17: % Addition | AO17: Added Value
B18: Your company name will be locked. It is like that to ensure protection for this spreadsheet. If it is wrong, please contact us. | T18: Category 2 | AA18: Markup | AJ18: 0.3
T19: Category 3
T20: Category 4
T21: Category 5
AA22: Any items added above will be calculated using the COST price (before the fees). It will be added to the cost price before adding fees.
B23: If you get stuck, here is a demo video
AA25: Items to be added based on SELLING price
AA26: Name of Addition | AJ26: % Addition | AO26: Added Value
T27: You can input up to 10 categories for your list. | AA27: PayPal Fees | AJ27: 0.02
B30: Watch the demo on YouTube | T30: Hourly Rate
T31: 30 | AA31: Any items added above will be calculated using the SELLING price (after the fees). It will be reverse calculated and added to the cost price before adding fees.
T32: Your hourly rate.
B35: This spreadsheet is part of our | Y35: This spreadsheet was created by
B43: Click the logo to see the other products in this range | Y43: SSS10090 - Job Breakdown
B48: We do not offer support on Basic Range spreadsheets, but if you find any errors, please let us know.
Y49: © Sumcor Ltd - Trading as Spreadsheet Solutions

Sheet Itemised List
B2: Itemised List | D2: Here you can list all the itemised sections of the quote. Simply put in a description for each line, and select the respective category. Then either input the time taken for the task, or enter a monetary value, or if required, enter both. These values will then be included when calculating the quote value. When you then complete each task, you can put the actual values in, which will then be used to compare with the quoted values on the report.
P3: Hourly Rate | S3: ✓
P4: =IF('Intro & Setup'!$T$31="", "", 'Intro & Setup'!$T$31) -> 30 | S4: ✕
B5: Project Name
D7: [h]:mm | F7: [h]:mm | I7: =IF($X$8=0, "", "Missing Actual Values")
C8: =IF(COUNTIF($N$11:$N$510, "X")>0, "Incorrect Entries", "") | D8: Quoted Values | F8: Actual Values | X8: =COUNTIF($X$11:$X$510, "X")+COUNTIF($Y$11:$Y$510, "X") -> 0
B9: Description | C9: Category | D9: Time | E9: Amount | F9: Time | G9: Amount | I9: Time | J9: Budget | P9: Quoted Values | S9: Actual Values | V9: Categories
N10: Missing | P10: Time Value | Q10: Amount Value | S10: Time Value | T10: Amount Value | X10: Missing | Y10: Missing
B11: Entry 1 | C11: Category 1 | E11: 300 | G11: 290 | I11: =IF(OR(D11="", F11=""), "", IF(F11<=D11, $S$3, $S$4)) | J11: =IF(OR(E11="", G11=""), "", IF(G11<=E11, $S$3, $S$4)) -> ✓ | N11: =IF($C11="", "", IF(COUNTIF('Intro & Setup'!$T$17:$T$26, $C11)>0, "", "X")) | P11: =IF($D11="", "", ROUND($D11*$P$4*24, 2)) | Q11: =IF($E11="", "", $E11) -> 300 | S11: =IF($F11="", "", $F11*$P$4*24) | T11: =IF($G11="", "", $G11) -> 290 | V11: =IF('Intro & Setup'!$T17="", "", 'Intro & Setup'!$T17) -> Category 1 | X11: =IF(AND(NOT(D11=""), F11=""), "X", "") | Y11: =IF(AND(NOT(E11=""), G11=""), "X", "")
B12: Entry 2 | C12: Category 2 | E12: 250 | G12: 270 | I12: =IF(OR(D12="", F12=""), "", IF(F12<=D12, $S$3, $S$4)) | J12: =IF(OR(E12="", G12=""), "", IF(G12<=E12, $S$3, $S$4)) -> ✕ | N12: =IF($C12="", "", IF(COUNTIF('Intro & Setup'!$T$17:$T$26, $C12)>0, "", "X")) | P12: =IF($D12="", "", ROUND($D12*$P$4*24, 2)) | Q12: =IF($E12="", "", $E12) -> 250 | S12: =IF($F12="", "", $F12*$P$4*24) | T12: =IF($G12="", "", $G12) -> 270 | V12: =IF('Intro & Setup'!$T18="", "", 'Intro & Setup'!$T18) -> Category 2 | X12: =IF(AND(NOT(D12=""), F12=""), "X", "") | Y12: =IF(AND(NOT(E12=""), G12=""), "X", "")
B13: Entry 3 | C13: Category 3 | E13: 200 | G13: 180 | I13: =IF(OR(D13="", F13=""), "", IF(F13<=D13, $S$3, $S$4)) | J13: =IF(OR(E13="", G13=""), "", IF(G13<=E13, $S$3, $S$4)) -> ✓ | N13: =IF($C13="", "", IF(COUNTIF('Intro & Setup'!$T$17:$T$26, $C13)>0, "", "X")) | P13: =IF($D13="", "", ROUND($D13*$P$4*24, 2)) | Q13: =IF($E13="", "", $E13) -> 200 | S13: =IF($F13="", "", $F13*$P$4*24) | T13: =IF($G13="", "", $G13) -> 180 | V13: =IF('Intro & Setup'!$T19="", "", 'Intro & Setup'!$T19) -> Category 3 | X13: =IF(AND(NOT(D13=""), F13=""), "X", "") | Y13: =IF(AND(NOT(E13=""), G13=""), "X", "")
B14: Entry 4 | C14: Category 4 | E14: 350 | G14: 330 | I14: =IF(OR(D14="", F14=""), "", IF(F14<=D14, $S$3, $S$4)) | J14: =IF(OR(E14="", G14=""), "", IF(G14<=E14, $S$3, $S$4)) -> ✓ | N14: =IF($C14="", "", IF(COUNTIF('Intro & Setup'!$T$17:$T$26, $C14)>0, "", "X")) | P14: =IF($D14="", "", ROUND($D14*$P$4*24, 2)) | Q14: =IF($E14="", "", $E14) -> 350 | S14: =IF($F14="", "", $F14*$P$4*24) | T14: =IF($G14="", "", $G14) -> 330 | V14: =IF('Intro & Setup'!$T20="", "", 'Intro & Setup'!$T20) -> Category 4 | X14: =IF(AND(NOT(D14=""), F14=""), "X", "") | Y14: =IF(AND(NOT(E14=""), G14=""), "X", "")
B15: Entry 5 | C15: Category 5 | E15: 150 | G15: 160 | I15: =IF(OR(D15="", F15=""), "", IF(F15<=D15, $S$3, $S$4)) | J15: =IF(OR(E15="", G15=""), "", IF(G15<=E15, $S$3, $S$4)) -> ✕ | N15: =IF($C15="", "", IF(COUNTIF('Intro & Setup'!$T$17:$T$26, $C15)>0, "", "X")) | P15: =IF($D15="", "", ROUND($D15*$P$4*24, 2)) | Q15: =IF($E15="", "", $E15) -> 150 | S15: =IF($F15="", "", $F15*$P$4*24) | T15: =IF($G15="", "", $G15) -> 160 | V15: =IF('Intro & Setup'!$T21="", "", 'Intro & Setup'!$T21) -> Category 5 | X15: =IF(AND(NOT(D15=""), F15=""), "X", "") | Y15: =IF(AND(NOT(E15=""), G15=""), "X", "")
B16: Entry 6 | C16: Category 1 | D16: 0.20833333 | F16: 0.20833333 | I16: =IF(OR(D16="", F16=""), "", IF(F16<=D16, $S$3, $S$4)) -> ✓ | J16: =IF(OR(E16="", G16=""), "", IF(G16<=E16, $S$3, $S$4)) | N16: =IF($C16="", "", IF(COUNTIF('Intro & Setup'!$T$17:$T$26, $C16)>0, "", "X")) | P16: =IF($D16="", "", ROUND($D16*$P$4*24, 2)) -> 150 | Q16: =IF($E16="", "", $E16) | S16: =IF($F16="", "", $F16*$P$4*24) -> 150 | T16: =IF($G16="", "", $G16) | V16: =IF('Intro & Setup'!$T22="", "", 'Intro & Setup'!$T22) | X16: =IF(AND(NOT(D16=""), F16=""), "X", "") | Y16: =IF(AND(NOT(E16=""), G16=""), "X", "")
B17: Entry 7 | C17: Category 2 | D17: 0.25 | F17: 0.22916667 | I17: =IF(OR(D17="", F17=""), "", IF(F17<=D17, $S$3, $S$4)) -> ✓ | J17: =IF(OR(E17="", G17=""), "", IF(G17<=E17, $S$3, $S$4)) | N17: =IF($C17="", "", IF(COUNTIF('Intro & Setup'!$T$17:$T$26, $C17)>0, "", "X")) | P17: =IF($D17="", "", ROUND($D17*$P$4*24, 2)) -> 180 | Q17: =IF($E17="", "", $E17) | S17: =IF($F17="", "", $F17*$P$4*24) -> 165 | T17: =IF($G17="", "", $G17) | V17: =IF('Intro & Setup'!$T23="", "", 'Intro & Setup'!$T23) | X17: =IF(AND(NOT(D17=""), F17=""), "X", "") | Y17: =IF(AND(NOT(E17=""), G17=""), "X", "")
B18: Entry 8 | C18: Category 3 | D18: 0.16666667 | F18: 0.1875 | I18: =IF(OR(D18="", F18=""), "", IF(F18<=D18, $S$3, $S$4)) -> ✕ | J18: =IF(OR(E18="", G18=""), "", IF(G18<=E18, $S$3, $S$4)) | N18: =IF($C18="", "", IF(COUNTIF('Intro & Setup'!$T$17:$T$26, $C18)>0, "", "X")) | P18: =IF($D18="", "", ROUND($D18*$P$4*24, 2)) -> 120 | Q18: =IF($E18="", "", $E18) | S18: =IF($F18="", "", $F18*$P$4*24) -> 135 | T18: =IF($G18="", "", $G18) | V18: =IF('Intro & Setup'!$T24="", "", 'Intro & Setup'!$T24) | X18: =IF(AND(NOT(D18=""), F18=""), "X", "") | Y18: =IF(AND(NOT(E18=""), G18=""), "X", "")
B19: Entry 9 | C19: Category 4 | D19: 0.20833333 | F19: 0.16666667 | I19: =IF(OR(D19="", F19=""), "", IF(F19<=D19, $S$3, $S$4)) -> ✓ | J19: =IF(OR(E19="", G19=""), "", IF(G19<=E19, $S$3, $S$4)) | N19: =IF($C19="", "", IF(COUNTIF('Intro & Setup'!$T$17:$T$26, $C19)>0, "", "X")) | P19: =IF($D19="", "", ROUND($D19*$P$4*24, 2)) -> 150 | Q19: =IF($E19="", "", $E19) | S19: =IF($F19="", "", $F19*$P$4*24) -> 120 | T19: =IF($G19="", "", $G19) | V19: =IF('Intro & Setup'!$T25="", "", 'Intro & Setup'!$T25) | X19: =IF(AND(NOT(D19=""), F19=""), "X", "") | Y19: =IF(AND(NOT(E19=""), G19=""), "X", "")
B20: Entry 10 | C20: Category 5 | D20: 0.16666667 | F20: 0.1875 | I20: =IF(OR(D20="", F20=""), "", IF(F20<=D20, $S$3, $S$4)) -> ✕ | J20: =IF(OR(E20="", G20=""), "", IF(G20<=E20, $S$3, $S$4)) | N20: =IF($C20="", "", IF(COUNTIF('Intro & Setup'!$T$17:$T$26, $C20)>0, "", "X")) | P20: =IF($D20="", "", ROUND($D20*$P$4*24, 2)) -> 120 | Q20: =IF($E20="", "", $E20) | S20: =IF($F20="", "", $F20*$P$4*24) -> 135 | T20: =IF($G20="", "", $G20) | V20: =IF('Intro & Setup'!$T26="", "", 'Intro & Setup'!$T26) | X20: =IF(AND(NOT(D20=""), F20=""), "X", "") | Y20: =IF(AND(NOT(E20=""), G20=""), "X", "")
I21: =IF(OR(D21="", F21=""), "", IF(F21<=D21, $S$3, $S$4)) | J21: =IF(OR(E21="", G21=""), "", IF(G21<=E21, $S$3, $S$4)) | N21: =IF($C21="", "", IF(COUNTIF('Intro & Setup'!$T$17:$T$26, $C21)>0, "", "X")) | P21: =IF($D21="", "", ROUND($D21*$P$4*24, 2)) | Q21: =IF($E21="", "", $E21) | S21: =IF($F21="", "", $F21*$P$4*24) | T21: =IF($G21="", "", $G21) | X21: =IF(AND(NOT(D21=""), F21=""), "X", "") | Y21: =IF(AND(NOT(E21=""), G21=""), "X", "")
I22: =IF(OR(D22="", F22=""), "", IF(F22<=D22, $S$3, $S$4)) | J22: =IF(OR(E22="", G22=""), "", IF(G22<=E22, $S$3, $S$4)) | N22: =IF($C22="", "", IF(COUNTIF('Intro & Setup'!$T$17:$T$26, $C22)>0, "", "X")) | P22: =IF($D22="", "", ROUND($D22*$P$4*24, 2)) | Q22: =IF($E22="", "", $E22) | S22: =IF($F22="", "", $F22*$P$4*24) | T22: =IF($G22="", "", $G22) | X22: =IF(AND(NOT(D22=""), F22=""), "X", "") | Y22: =IF(AND(NOT(E22=""), G22=""), "X", "")
I23: =IF(OR(D23="", F23=""), "", IF(F23<=D23, $S$3, $S$4)) | J23: =IF(OR(E23="", G23=""), "", IF(G23<=E23, $S$3, $S$4)) | N23: =IF($C23="", "", IF(COUNTIF('Intro & Setup'!$T$17:$T$26, $C23)>0, "", "X")) | P23: =IF($D23="", "", ROUND($D23*$P$4*24, 2)) | Q23: =IF($E23="", "", $E23) | S23: =IF($F23="", "", $F23*$P$4*24) | T23: =IF($G23="", "", $G23) | X23: =IF(AND(NOT(D23=""), F23=""), "X", "") | Y23: =IF(AND(NOT(E23=""), G23=""), "X", "")
I24: =IF(OR(D24="", F24=""), "", IF(F24<=D24, $S$3, $S$4)) | J24: =IF(OR(E24="", G24=""), "", IF(G24<=E24, $S$3, $S$4)) | N24: =IF($C24="", "", IF(COUNTIF('Intro & Setup'!$T$17:$T$26, $C24)>0, "", "X")) | P24: =IF($D24="", "", ROUND($D24*$P$4*24, 2)) | Q24: =IF($E24="", "", $E24) | S24: =IF($F24="", "", $F24*$P$4*24) | T24: =IF($G24="", "", $G24) | X24: =IF(AND(NOT(D24=""), F24=""), "X", "") | Y24: =IF(AND(NOT(E24=""), G24=""), "X", "")
I25: =IF(OR(D25="", F25=""), "", IF(F25<=D25, $S$3, $S$4)) | J25: =IF(OR(E25="", G25=""), "", IF(G25<=E25, $S$3, $S$4)) | N25: =IF($C25="", "", IF(COUNTIF('Intro & Setup'!$T$17:$T$26, $C25)>0, "", "X")) | P25: =IF($D25="", "", ROUND($D25*$P$4*24, 2)) | Q25: =IF($E25="", "", $E25) | S25: =IF($F25="", "", $F25*$P$4*24) | T25: =IF($G25="", "", $G25) | X25: =IF(AND(NOT(D25=""), F25=""), "X", "") | Y25: =IF(AND(NOT(E25=""), G25=""), "X", "")
I26: =IF(OR(D26="", F26=""), "", IF(F26<=D26, $S$3, $S$4)) | J26: =IF(OR(E26="", G26=""), "", IF(G26<=E26, $S$3, $S$4)) | N26: =IF($C26="", "", IF(COUNTIF('Intro & Setup'!$T$17:$T$26, $C26)>0, "", "X")) | P26: =IF($D26="", "", ROUND($D26*$P$4*24, 2)) | Q26: =IF($E26="", "", $E26) | S26: =IF($F26="", "", $F26*$P$4*24) | T26: =IF($G26="", "", $G26) | X26: =IF(AND(NOT(D26=""), F26=""), "X", "") | Y26: =IF(AND(NOT(E26=""), G26=""), "X", "")
I27: =IF(OR(D27="", F27=""), "", IF(F27<=D27, $S$3, $S$4)) | J27: =IF(OR(E27="", G27=""), "", IF(G27<=E27, $S$3, $S$4)) | N27: =IF($C27="", "", IF(COUNTIF('Intro & Setup'!$T$17:$T$26, $C27)>0, "", "X")) | P27: =IF($D27="", "", ROUND($D27*$P$4*24, 2)) | Q27: =IF($E27="", "", $E27) | S27: =IF($F27="", "", $F27*$P$4*24) | T27: =IF($G27="", "", $G27) | X27: =IF(AND(NOT(D27=""), F27=""), "X", "") | Y27: =IF(AND(NOT(E27=""), G27=""), "X", "")
I28: =IF(OR(D28="", F28=""), "", IF(F28<=D28, $S$3, $S$4)) | J28: =IF(OR(E28="", G28=""), "", IF(G28<=E28, $S$3, $S$4)) | N28: =IF($C28="", "", IF(COUNTIF('Intro & Setup'!$T$17:$T$26, $C28)>0, "", "X")) | P28: =IF($D28="", "", ROUND($D28*$P$4*24, 2)) | Q28: =IF($E28="", "", $E28) | S28: =IF($F28="", "", $F28*$P$4*24) | T28: =IF($G28="", "", $G28) | X28: =IF(AND(NOT(D28=""), F28=""), "X", "") | Y28: =IF(AND(NOT(E28=""), G28=""), "X", "")
I29: =IF(OR(D29="", F29=""), "", IF(F29<=D29, $S$3, $S$4)) | J29: =IF(OR(E29="", G29=""), "", IF(G29<=E29, $S$3, $S$4)) | N29: =IF($C29="", "", IF(COUNTIF('Intro & Setup'!$T$17:$T$26, $C29)>0, "", "X")) | P29: =IF($D29="", "", ROUND($D29*$P$4*24, 2)) | Q29: =IF($E29="", "", $E29) | S29: =IF($F29="", "", $F29*$P$4*24) | T29: =IF($G29="", "", $G29) | X29: =IF(AND(NOT(D29=""), F29=""), "X", "") | Y29: =IF(AND(NOT(E29=""), G29=""), "X", "")
I30: =IF(OR(D30="", F30=""), "", IF(F30<=D30, $S$3, $S$4)) | J30: =IF(OR(E30="", G30=""), "", IF(G30<=E30, $S$3, $S$4)) | N30: =IF($C30="", "", IF(COUNTIF('Intro & Setup'!$T$17:$T$26, $C30)>0, "", "X")) | P30: =IF($D30="", "", ROUND($D30*$P$4*24, 2)) | Q30: =IF($E30="", "", $E30) | S30: =IF($F30="", "", $F30*$P$4*24) | T30: =IF($G30="", "", $G30) | X30: =IF(AND(NOT(D30=""), F30=""), "X", "") | Y30: =IF(AND(NOT(E30=""), G30=""), "X", "")
I31: =IF(OR(D31="", F31=""), "", IF(F31<=D31, $S$3, $S$4)) | J31: =IF(OR(E31="", G31=""), "", IF(G31<=E31, $S$3, $S$4)) | N31: =IF($C31="", "", IF(COUNTIF('Intro & Setup'!$T$17:$T$26, $C31)>0, "", "X")) | P31: =IF($D31="", "", ROUND($D31*$P$4*24, 2)) | Q31: =IF($E31="", "", $E31) | S31: =IF($F31="", "", $F31*$P$4*24) | T31: =IF($G31="", "", $G31) | X31: =IF(AND(NOT(D31=""), F31=""), "X", "") | Y31: =IF(AND(NOT(E31=""), G31=""), "X", "")
I32: =IF(OR(D32="", F32=""), "", IF(F32<=D32, $S$3, $S$4)) | J32: =IF(OR(E32="", G32=""), "", IF(G32<=E32, $S$3, $S$4)) | N32: =IF($C32="", "", IF(COUNTIF('Intro & Setup'!$T$17:$T$26, $C32)>0, "", "X")) | P32: =IF($D32="", "", ROUND($D32*$P$4*24, 2)) | Q32: =IF($E32="", "", $E32) | S32: =IF($F32="", "", $F32*$P$4*24) | T32: =IF($G32="", "", $G32) | X32: =IF(AND(NOT(D32=""), F32=""), "X", "") | Y32: =IF(AND(NOT(E32=""), G32=""), "X", "")
... I510: =IF(OR(D510="", F510=""), "", IF(F510<=D510, $S$3, $S$4)) | J510: =IF(OR(E510="", G510=""), "", IF(G510<=E510, $S$3, $S$4)) | N510: =IF($C510="", "", IF(COUNTIF('Intro & Setup'!$T$17:$T$26, $C510)>0, "", "X")) | P510: =IF($D510="", "", ROUND($D510*$P$4*24, 2)) | Q510: =IF($E510="", "", $E510) | S510: =IF($F510="", "", $F510*$P$4*24) | T510: =IF($G510="", "", $G510) | X510: =IF(AND(NOT(D510=""), F510=""), "X", "") | Y510: =IF(AND(NOT(E510=""), G510=""), "X", "")

Sheet Quote Figures & Report
B2: =_xlfn.CONCAT("Quote Breakdown Report for ", 'Intro & Setup'!$H$16) -> Quote Breakdown Report for Your Business
B5: =IF('Itemised List'!$B$6="", "Calculated Quote Figures for Project", _xlfn.CONCAT("Calculated Quote Figures for Project - ", 'Itemised List'!$B$6)) -> Calculated Quote Figures for Project
B8: Project Costs per Category | Y8: =IF('Intro & Setup'!$AA18="", "", 'Intro & Setup'!$AA18) -> Markup | AE8: =IF('Intro & Setup'!$AJ18="", "", 'Intro & Setup'!$AJ18) -> 0.3 | AJ8: =IF('Intro & Setup'!$AO18="", "", 'Intro & Setup'!$AO18) | AO8: =IF($Y8="", "", IF($AE8="", 0, ROUND($R$24*$AE8, 2))+IF($AJ8="", 0, $AJ8)) -> 591
Y9: =IF('Intro & Setup'!$AA19="", "", 'Intro & Setup'!$AA19) | AE9: =IF('Intro & Setup'!$AJ19="", "", 'Intro & Setup'!$AJ19) | AJ9: =IF('Intro & Setup'!$AO19="", "", 'Intro & Setup'!$AO19) | AO9: =IF($Y9="", "", IF($AE9="", 0, ROUND($R$24*$AE9, 2))+IF($AJ9="", 0, $AJ9))
Y10: =IF('Intro & Setup'!$AA20="", "", 'Intro & Setup'!$AA20) | AE10: =IF('Intro & Setup'!$AJ20="", "", 'Intro & Setup'!$AJ20) | AJ10: =IF('Intro & Setup'!$AO20="", "", 'Intro & Setup'!$AO20) | AO10: =IF($Y10="", "", IF($AE10="", 0, ROUND($R$24*$AE10, 2))+IF($AJ10="", 0, $AJ10))
Y11: =IF('Intro & Setup'!$AA21="", "", 'Intro & Setup'!$AA21) | AE11: =IF('Intro & Setup'!$AJ21="", "", 'Intro & Setup'!$AJ21) | AJ11: =IF('Intro & Setup'!$AO21="", "", 'Intro & Setup'!$AO21) | AO11: =IF($Y11="", "", IF($AE11="", 0, ROUND($R$24*$AE11, 2))+IF($AJ11="", 0, $AJ11))
B12: Category | H12: Time | M12: Amount | R12: Total Value | Y12: =IF('Intro & Setup'!$BG15="", "", 'Intro & Setup'!$BG15) | AE12: =IF('Intro & Setup'!$BP15="", "", 'Intro & Setup'!$BP15) | AJ12: =IF('Intro & Setup'!$BU15="", "", 'Intro & Setup'!$BU15) | AO12: =IF($Y12="", "", IF($AE12="", 0, ROUND($R$24*$AE12, 2))+IF($AJ12="", 0, $AJ12)) | BB12: Actual Values | BC12: Quoted Values
B13: =IF('Intro & Setup'!$T17="", "", 'Intro & Setup'!$T17) -> Category 1 | H13: =IF($B13="", "", SUMIF('Itemised List'!$C$11:$C$510, $B13, 'Itemised List'!$D$11:$D$510)) -> 0.20833333 | M13: =IF($B13="", "", SUMIF('Itemised List'!$C$11:$C$510, $B13, 'Itemised List'!$E$11:$E$510)) -> 300 | R13: =IF($B13="", "", SUMIF('Itemised List'!$C$11:$C$510, $B13, 'Itemised List'!$P$11:$P$510)+SUMIF('Itemised List'!$C$11:$C$510, $B13, 'Itemised List'!$Q$11:$Q$510)) -> 450 | Y13: Total Add-Ons | AO13: =SUM($AO$8:$AO$12) -> 591 | BA13: =IF($B13="", "", $B13) -> Category 1 | BB13: =IF($B13="", "", SUMIF('Itemised List'!$C$11:$C$510, $B13, 'Itemised List'!$S$11:$S$510)+SUMIF('Itemised List'!$C$11:$C$510, $B13, 'Itemised List'!$T$11:$T$510)) -> 440 | BC13: =IF($R13="", "", $R13) -> 450
B14: =IF('Intro & Setup'!$T18="", "", 'Intro & Setup'!$T18) -> Category 2 | H14: =IF($B14="", "", SUMIF('Itemised List'!$C$11:$C$510, $B14, 'Itemised List'!$D$11:$D$510)) -> 0.25 | M14: =IF($B14="", "", SUMIF('Itemised List'!$C$11:$C$510, $B14, 'Itemised List'!$E$11:$E$510)) -> 250 | R14: =IF($B14="", "", SUMIF('Itemised List'!$C$11:$C$510, $B14, 'Itemised List'!$P$11:$P$510)+SUMIF('Itemised List'!$C$11:$C$510, $B14, 'Itemised List'!$Q$11:$Q$510)) -> 430 | BA14: =IF($B14="", "", $B14) -> Category 2 | BB14: =IF($B14="", "", SUMIF('Itemised List'!$C$11:$C$510, $B14, 'Itemised List'!$S$11:$S$510)+SUMIF('Itemised List'!$C$11:$C$510, $B14, 'Itemised List'!$T$11:$T$510)) -> 435 | BC14: =IF($R14="", "", $R14) -> 430
B15: =IF('Intro & Setup'!$T19="", "", 'Intro & Setup'!$T19) -> Category 3 | H15: =IF($B15="", "", SUMIF('Itemised List'!$C$11:$C$510, $B15, 'Itemised List'!$D$11:$D$510)) -> 0.16666667 | M15: =IF($B15="", "", SUMIF('Itemised List'!$C$11:$C$510, $B15, 'Itemised List'!$E$11:$E$510)) -> 200 | R15: =IF($B15="", "", SUMIF('Itemised List'!$C$11:$C$510, $B15, 'Itemised List'!$P$11:$P$510)+SUMIF('Itemised List'!$C$11:$C$510, $B15, 'Itemised List'!$Q$11:$Q$510)) -> 320 | Y15: Project Sub Total (Price Exc. Fees) | AO15: =IFERROR($R$24+$AO$13, "") -> 2561 | BA15: =IF($B15="", "", $B15) -> Category 3 | BB15: =IF($B15="", "", SUMIF('Itemised List'!$C$11:$C$510, $B15, 'Itemised List'!$S$11:$S$510)+SUMIF('Itemised List'!$C$11:$C$510, $B15, 'Itemised List'!$T$11:$T$510)) -> 315 | BC15: =IF($R15="", "", $R15) -> 320
B16: =IF('Intro & Setup'!$T20="", "", 'Intro & Setup'!$T20) -> Category 4 | H16: =IF($B16="", "", SUMIF('Itemised List'!$C$11:$C$510, $B16, 'Itemised List'!$D$11:$D$510)) -> 0.20833333 | M16: =IF($B16="", "", SUMIF('Itemised List'!$C$11:$C$510, $B16, 'Itemised List'!$E$11:$E$510)) -> 350 | R16: =IF($B16="", "", SUMIF('Itemised List'!$C$11:$C$510, $B16, 'Itemised List'!$P$11:$P$510)+SUMIF('Itemised List'!$C$11:$C$510, $B16, 'Itemised List'!$Q$11:$Q$510)) -> 500 | BA16: =IF($B16="", "", $B16) -> Category 4 | BB16: =IF($B16="", "", SUMIF('Itemised List'!$C$11:$C$510, $B16, 'Itemised List'!$S$11:$S$510)+SUMIF('Itemised List'!$C$11:$C$510, $B16, 'Itemised List'!$T$11:$T$510)) -> 450 | BC16: =IF($R16="", "", $R16) -> 500
B17: =IF('Intro & Setup'!$T21="", "", 'Intro & Setup'!$T21) -> Category 5 | H17: =IF($B17="", "", SUMIF('Itemised List'!$C$11:$C$510, $B17, 'Itemised List'!$D$11:$D$510)) -> 0.16666667 | M17: =IF($B17="", "", SUMIF('Itemised List'!$C$11:$C$510, $B17, 'Itemised List'!$E$11:$E$510)) -> 150 | R17: =IF($B17="", "", SUMIF('Itemised List'!$C$11:$C$510, $B17, 'Itemised List'!$P$11:$P$510)+SUMIF('Itemised List'!$C$11:$C$510, $B17, 'Itemised List'!$Q$11:$Q$510)) -> 270 | Y17: =IF('Intro & Setup'!$AA27="", "", 'Intro & Setup'!$AA27) -> PayPal Fees | AE17: =IF('Intro & Setup'!$AJ27="", "", 'Intro & Setup'!$AJ27) -> 0.02 | AJ17: =IF('Intro & Setup'!$AO27="", "", 'Intro & Setup'!$AO27) | BA17: =IF($B17="", "", $B17) -> Category 5 | BB17: =IF($B17="", "", SUMIF('Itemised List'!$C$11:$C$510, $B17, 'Itemised List'!$S$11:$S$510)+SUMIF('Itemised List'!$C$11:$C$510, $B17, 'Itemised List'!$T$11:$T$510)) -> 295 | BC17: =IF($R17="", "", $R17) -> 270 | BE17: =ROUND(($BA$24)/(1-IF($AE$17="", 0, $AE$17)-IF($AE$18="", 0, $AE$18)-IF($AE$19="", 0, $AE$19)-IF($AE$20="", 0, $AE$20)-IF($AE$21="", 0, $AE$21)), 2) -> 2613.27
B18: =IF('Intro & Setup'!$T22="", "", 'Intro & Setup'!$T22) | H18: =IF($B18="", "", SUMIF('Itemised List'!$C$11:$C$510, $B18, 'Itemised List'!$D$11:$D$510)) | M18: =IF($B18="", "", SUMIF('Itemised List'!$C$11:$C$510, $B18, 'Itemised List'!$E$11:$E$510)) | R18: =IF($B18="", "", SUMIF('Itemised List'!$C$11:$C$510, $B18, 'Itemised List'!$P$11:$P$510)+SUMIF('Itemised List'!$C$11:$C$510, $B18, 'Itemised List'!$Q$11:$Q$510)) | Y18: =IF('Intro & Setup'!$AA28="", "", 'Intro & Setup'!$AA28) | AE18: =IF('Intro & Setup'!$AJ28="", "", 'Intro & Setup'!$AJ28) | AJ18: =IF('Intro & Setup'!$AO28="", "", 'Intro & Setup'!$AO28) | BA18: =IF($B18="", "", $B18) | BB18: =IF($B18="", "", SUMIF('Itemised List'!$C$11:$C$510, $B18, 'Itemised List'!$S$11:$S$510)+SUMIF('Itemised List'!$C$11:$C$510, $B18, 'Itemised List'!$T$11:$T$510)) | BC18: =IF($R18="", "", $R18)
B19: =IF('Intro & Setup'!$T23="", "", 'Intro & Setup'!$T23) | H19: =IF($B19="", "", SUMIF('Itemised List'!$C$11:$C$510, $B19, 'Itemised List'!$D$11:$D$510)) | M19: =IF($B19="", "", SUMIF('Itemised List'!$C$11:$C$510, $B19, 'Itemised List'!$E$11:$E$510)) | R19: =IF($B19="", "", SUMIF('Itemised List'!$C$11:$C$510, $B19, 'Itemised List'!$P$11:$P$510)+SUMIF('Itemised List'!$C$11:$C$510, $B19, 'Itemised List'!$Q$11:$Q$510)) | Y19: =IF('Intro & Setup'!$AA29="", "", 'Intro & Setup'!$AA29) | AE19: =IF('Intro & Setup'!$AJ29="", "", 'Intro & Setup'!$AJ29) | AJ19: =IF('Intro & Setup'!$AO29="", "", 'Intro & Setup'!$AO29) | BA19: =IF($B19="", "", $B19) | BB19: =IF($B19="", "", SUMIF('Itemised List'!$C$11:$C$510, $B19, 'Itemised List'!$S$11:$S$510)+SUMIF('Itemised List'!$C$11:$C$510, $B19, 'Itemised List'!$T$11:$T$510)) | BC19: =IF($R19="", "", $R19)
B20: =IF('Intro & Setup'!$T24="", "", 'Intro & Setup'!$T24) | H20: =IF($B20="", "", SUMIF('Itemised List'!$C$11:$C$510, $B20, 'Itemised List'!$D$11:$D$510)) | M20: =IF($B20="", "", SUMIF('Itemised List'!$C$11:$C$510, $B20, 'Itemised List'!$E$11:$E$510)) | R20: =IF($B20="", "", SUMIF('Itemised List'!$C$11:$C$510, $B20, 'Itemised List'!$P$11:$P$510)+SUMIF('Itemised List'!$C$11:$C$510, $B20, 'Itemised List'!$Q$11:$Q$510)) | Y20: =IF('Intro & Setup'!$AA30="", "", 'Intro & Setup'!$AA30) | AE20: =IF('Intro & Setup'!$AJ30="", "", 'Intro & Setup'!$AJ30) | AJ20: =IF('Intro & Setup'!$AO30="", "", 'Intro & Setup'!$AO30) | BA20: =IF($B20="", "", $B20) | BB20: =IF($B20="", "", SUMIF('Itemised List'!$C$11:$C$510, $B20, 'Itemised List'!$S$11:$S$510)+SUMIF('Itemised List'!$C$11:$C$510, $B20, 'Itemised List'!$T$11:$T$510)) | BC20: =IF($R20="", "", $R20)
B21: =IF('Intro & Setup'!$T25="", "", 'Intro & Setup'!$T25) | H21: =IF($B21="", "", SUMIF('Itemised List'!$C$11:$C$510, $B21, 'Itemised List'!$D$11:$D$510)) | M21: =IF($B21="", "", SUMIF('Itemised List'!$C$11:$C$510, $B21, 'Itemised List'!$E$11:$E$510)) | R21: =IF($B21="", "", SUMIF('Itemised List'!$C$11:$C$510, $B21, 'Itemised List'!$P$11:$P$510)+SUMIF('Itemised List'!$C$11:$C$510, $B21, 'Itemised List'!$Q$11:$Q$510)) | Y21: =IF('Intro & Setup'!$BG22="", "", 'Intro & Setup'!$BG22) | AE21: =IF('Intro & Setup'!$BP22="", "", 'Intro & Setup'!$BP22) | AJ21: =IF('Intro & Setup'!$BU22="", "", 'Intro & Setup'!$BU22) | BA21: =IF($B21="", "", $B21) | BB21: =IF($B21="", "", SUMIF('Itemised List'!$C$11:$C$510, $B21, 'Itemised List'!$S$11:$S$510)+SUMIF('Itemised List'!$C$11:$C$510, $B21, 'Itemised List'!$T$11:$T$510)) | BC21: =IF($R21="", "", $R21)
B22: =IF('Intro & Setup'!$T26="", "", 'Intro & Setup'!$T26) | H22: =IF($B22="", "", SUMIF('Itemised List'!$C$11:$C$510, $B22, 'Itemised List'!$D$11:$D$510)) | M22: =IF($B22="", "", SUMIF('Itemised List'!$C$11:$C$510, $B22, 'Itemised List'!$E$11:$E$510)) | R22: =IF($B22="", "", SUMIF('Itemised List'!$C$11:$C$510, $B22, 'Itemised List'!$P$11:$P$510)+SUMIF('Itemised List'!$C$11:$C$510, $B22, 'Itemised List'!$Q$11:$Q$510)) | Y22: Total Fees | AO22: =IFERROR($BE$17-$AO$15, "") -> 52.27 | BA22: =IF($B22="", "", $B22) | BB22: =IF($B22="", "", SUMIF('Itemised List'!$C$11:$C$510, $B22, 'Itemised List'!$S$11:$S$510)+SUMIF('Itemised List'!$C$11:$C$510, $B22, 'Itemised List'!$T$11:$T$510)) | BC22: =IF($R22="", "", $R22)
B24: Total Cost of Project | R24: =SUM($R$13:$R$22) -> 1970 | Y24: Project Grand Total (Price Inc. Fees) | AO24: =$AO$15+$AO$22 -> 2613.27 | BA24: =SUM($AO$15+SUM($AJ$17:$AJ$21)) -> 2561
B29: =IF('Itemised List'!$B$6="", "Calculated Quotation Value", _xlfn.CONCAT("Calculated Quotation Value - ", 'Itemised List'!$B$6)) -> Calculated Quotation Value | AH29: =$AO$24 -> 2613.27
B35: Quoted Values v Actual Values by Category
B37: Category | H37: Time | M37: Amount | R37: Total Value | Y37: Category | AE37: Time | AJ37: Amount | AO37: Total Value
B38: =IF('Intro & Setup'!$T17="", "", 'Intro & Setup'!$T17) -> Category 1 | H38: =IF($B38="", "", SUMIF('Itemised List'!$C$11:$C$510, $B38, 'Itemised List'!$D$11:$D$510)) -> 0.20833333 | M38: =IF($B38="", "", SUMIF('Itemised List'!$C$11:$C$510, $B38, 'Itemised List'!$E$11:$E$510)) -> 300 | R38: =IF($B38="", "", SUMIF('Itemised List'!$C$11:$C$510, $B38, 'Itemised List'!$P$11:$P$510)+SUMIF('Itemised List'!$C$11:$C$510, $B38, 'Itemised List'!$Q$11:$Q$510)) -> 450 | Y38: =IF('Intro & Setup'!$T17="", "", 'Intro & Setup'!$T17) -> Category 1 | AE38: =IF($B38="", "", SUMIF('Itemised List'!$C$11:$C$510, $B38, 'Itemised List'!$F$11:$F$510)) -> 0.20833333 | AJ38: =IF($B38="", "", SUMIF('Itemised List'!$C$11:$C$510, $B38, 'Itemised List'!$G$11:$G$510)) -> 290 | AO38: =IF($B38="", "", SUMIF('Itemised List'!$C$11:$C$510, $B38, 'Itemised List'!$S$11:$S$510)+SUMIF('Itemised List'!$C$11:$C$510, $B38, 'Itemised List'!$T$11:$T$510)) -> 440
B39: =IF('Intro & Setup'!$T18="", "", 'Intro & Setup'!$T18) -> Category 2 | H39: =IF($B39="", "", SUMIF('Itemised List'!$C$11:$C$510, $B39, 'Itemised List'!$D$11:$D$510)) -> 0.25 | M39: =IF($B39="", "", SUMIF('Itemised List'!$C$11:$C$510, $B39, 'Itemised List'!$E$11:$E$510)) -> 250 | R39: =IF($B39="", "", SUMIF('Itemised List'!$C$11:$C$510, $B39, 'Itemised List'!$P$11:$P$510)+SUMIF('Itemised List'!$C$11:$C$510, $B39, 'Itemised List'!$Q$11:$Q$510)) -> 430 | Y39: =IF('Intro & Setup'!$T18="", "", 'Intro & Setup'!$T18) -> Category 2 | AE39: =IF($B39="", "", SUMIF('Itemised List'!$C$11:$C$510, $B39, 'Itemised List'!$F$11:$F$510)) -> 0.22916667 | AJ39: =IF($B39="", "", SUMIF('Itemised List'!$C$11:$C$510, $B39, 'Itemised List'!$G$11:$G$510)) -> 270 | AO39: =IF($B39="", "", SUMIF('Itemised List'!$C$11:$C$510, $B39, 'Itemised List'!$S$11:$S$510)+SUMIF('Itemised List'!$C$11:$C$510, $B39, 'Itemised List'!$T$11:$T$510)) -> 435
B40: =IF('Intro & Setup'!$T19="", "", 'Intro & Setup'!$T19) -> Category 3 | H40: =IF($B40="", "", SUMIF('Itemised List'!$C$11:$C$510, $B40, 'Itemised List'!$D$11:$D$510)) -> 0.16666667 | M40: =IF($B40="", "", SUMIF('Itemised List'!$C$11:$C$510, $B40, 'Itemised List'!$E$11:$E$510)) -> 200 | R40: =IF($B40="", "", SUMIF('Itemised List'!$C$11:$C$510, $B40, 'Itemised List'!$P$11:$P$510)+SUMIF('Itemised List'!$C$11:$C$510, $B40, 'Itemised List'!$Q$11:$Q$510)) -> 320 | Y40: =IF('Intro & Setup'!$T19="", "", 'Intro & Setup'!$T19) -> Category 3 | AE40: =IF($B40="", "", SUMIF('Itemised List'!$C$11:$C$510, $B40, 'Itemised List'!$F$11:$F$510)) -> 0.1875 | AJ40: =IF($B40="", "", SUMIF('Itemised List'!$C$11:$C$510, $B40, 'Itemised List'!$G$11:$G$510)) -> 180 | AO40: =IF($B40="", "", SUMIF('Itemised List'!$C$11:$C$510, $B40, 'Itemised List'!$S$11:$S$510)+SUMIF('Itemised List'!$C$11:$C$510, $B40, 'Itemised List'!$T$11:$T$510)) -> 315
B41: =IF('Intro & Setup'!$T20="", "", 'Intro & Setup'!$T20) -> Category 4 | H41: =IF($B41="", "", SUMIF('Itemised List'!$C$11:$C$510, $B41, 'Itemised List'!$D$11:$D$510)) -> 0.20833333 | M41: =IF($B41="", "", SUMIF('Itemised List'!$C$11:$C$510, $B41, 'Itemised List'!$E$11:$E$510)) -> 350 | R41: =IF($B41="", "", SUMIF('Itemised List'!$C$11:$C$510, $B41, 'Itemised List'!$P$11:$P$510)+SUMIF('Itemised List'!$C$11:$C$510, $B41, 'Itemised List'!$Q$11:$Q$510)) -> 500 | Y41: =IF('Intro & Setup'!$T20="", "", 'Intro & Setup'!$T20) -> Category 4 | AE41: =IF($B41="", "", SUMIF('Itemised List'!$C$11:$C$510, $B41, 'Itemised List'!$F$11:$F$510)) -> 0.16666667 | AJ41: =IF($B41="", "", SUMIF('Itemised List'!$C$11:$C$510, $B41, 'Itemised List'!$G$11:$G$510)) -> 330 | AO41: =IF($B41="", "", SUMIF('Itemised List'!$C$11:$C$510, $B41, 'Itemised List'!$S$11:$S$510)+SUMIF('Itemised List'!$C$11:$C$510, $B41, 'Itemised List'!$T$11:$T$510)) -> 450
B42: =IF('Intro & Setup'!$T21="", "", 'Intro & Setup'!$T21) -> Category 5 | H42: =IF($B42="", "", SUMIF('Itemised List'!$C$11:$C$510, $B42, 'Itemised List'!$D$11:$D$510)) -> 0.16666667 | M42: =IF($B42="", "", SUMIF('Itemised List'!$C$11:$C$510, $B42, 'Itemised List'!$E$11:$E$510)) -> 150 | R42: =IF($B42="", "", SUMIF('Itemised List'!$C$11:$C$510, $B42, 'Itemised List'!$P$11:$P$510)+SUMIF('Itemised List'!$C$11:$C$510, $B42, 'Itemised List'!$Q$11:$Q$510)) -> 270 | Y42: =IF('Intro & Setup'!$T21="", "", 'Intro & Setup'!$T21) -> Category 5 | AE42: =IF($B42="", "", SUMIF('Itemised List'!$C$11:$C$510, $B42, 'Itemised List'!$F$11:$F$510)) -> 0.1875 | AJ42: =IF($B42="", "", SUMIF('Itemised List'!$C$11:$C$510, $B42, 'Itemised List'!$G$11:$G$510)) -> 160 | AO42: =IF($B42="", "", SUMIF('Itemised List'!$C$11:$C$510, $B42, 'Itemised List'!$S$11:$S$510)+SUMIF('Itemised List'!$C$11:$C$510, $B42, 'Itemised List'!$T$11:$T$510)) -> 295
B43: =IF('Intro & Setup'!$T22="", "", 'Intro & Setup'!$T22) | H43: =IF($B43="", "", SUMIF('Itemised List'!$C$11:$C$510, $B43, 'Itemised List'!$D$11:$D$510)) | M43: =IF($B43="", "", SUMIF('Itemised List'!$C$11:$C$510, $B43, 'Itemised List'!$E$11:$E$510)) | R43: =IF($B43="", "", SUMIF('Itemised List'!$C$11:$C$510, $B43, 'Itemised List'!$P$11:$P$510)+SUMIF('Itemised List'!$C$11:$C$510, $B43, 'Itemised List'!$Q$11:$Q$510)) | Y43: =IF('Intro & Setup'!$T22="", "", 'Intro & Setup'!$T22) | AE43: =IF($B43="", "", SUMIF('Itemised List'!$C$11:$C$510, $B43, 'Itemised List'!$F$11:$F$510)) | AJ43: =IF($B43="", "", SUMIF('Itemised List'!$C$11:$C$510, $B43, 'Itemised List'!$G$11:$G$510)) | AO43: =IF($B43="", "", SUMIF('Itemised List'!$C$11:$C$510, $B43, 'Itemised List'!$S$11:$S$510)+SUMIF('Itemised List'!$C$11:$C$510, $B43, 'Itemised List'!$T$11:$T$510))
B44: =IF('Intro & Setup'!$T23="", "", 'Intro & Setup'!$T23) | H44: =IF($B44="", "", SUMIF('Itemised List'!$C$11:$C$510, $B44, 'Itemised List'!$D$11:$D$510)) | M44: =IF($B44="", "", SUMIF('Itemised List'!$C$11:$C$510, $B44, 'Itemised List'!$E$11:$E$510)) | R44: =IF($B44="", "", SUMIF('Itemised List'!$C$11:$C$510, $B44, 'Itemised List'!$P$11:$P$510)+SUMIF('Itemised List'!$C$11:$C$510, $B44, 'Itemised List'!$Q$11:$Q$510)) | Y44: =IF('Intro & Setup'!$T23="", "", 'Intro & Setup'!$T23) | AE44: =IF($B44="", "", SUMIF('Itemised List'!$C$11:$C$510, $B44, 'Itemised List'!$F$11:$F$510)) | AJ44: =IF($B44="", "", SUMIF('Itemised List'!$C$11:$C$510, $B44, 'Itemised List'!$G$11:$G$510)) | AO44: =IF($B44="", "", SUMIF('Itemised List'!$C$11:$C$510, $B44, 'Itemised List'!$S$11:$S$510)+SUMIF('Itemised List'!$C$11:$C$510, $B44, 'Itemised List'!$T$11:$T$510))
B45: =IF('Intro & Setup'!$T24="", "", 'Intro & Setup'!$T24) | H45: =IF($B45="", "", SUMIF('Itemised List'!$C$11:$C$510, $B45, 'Itemised List'!$D$11:$D$510)) | M45: =IF($B45="", "", SUMIF('Itemised List'!$C$11:$C$510, $B45, 'Itemised List'!$E$11:$E$510)) | R45: =IF($B45="", "", SUMIF('Itemised List'!$C$11:$C$510, $B45, 'Itemised List'!$P$11:$P$510)+SUMIF('Itemised List'!$C$11:$C$510, $B45, 'Itemised List'!$Q$11:$Q$510)) | Y45: =IF('Intro & Setup'!$T24="", "", 'Intro & Setup'!$T24) | AE45: =IF($B45="", "", SUMIF('Itemised List'!$C$11:$C$510, $B45, 'Itemised List'!$F$11:$F$510)) | AJ45: =IF($B45="", "", SUMIF('Itemised List'!$C$11:$C$510, $B45, 'Itemised List'!$G$11:$G$510)) | AO45: =IF($B45="", "", SUMIF('Itemised List'!$C$11:$C$510, $B45, 'Itemised List'!$S$11:$S$510)+SUMIF('Itemised List'!$C$11:$C$510, $B45, 'Itemised List'!$T$11:$T$510))
B46: =IF('Intro & Setup'!$T25="", "", 'Intro & Setup'!$T25) | H46: =IF($B46="", "", SUMIF('Itemised List'!$C$11:$C$510, $B46, 'Itemised List'!$D$11:$D$510)) | M46: =IF($B46="", "", SUMIF('Itemised List'!$C$11:$C$510, $B46, 'Itemised List'!$E$11:$E$510)) | R46: =IF($B46="", "", SUMIF('Itemised List'!$C$11:$C$510, $B46, 'Itemised List'!$P$11:$P$510)+SUMIF('Itemised List'!$C$11:$C$510, $B46, 'Itemised List'!$Q$11:$Q$510)) | Y46: =IF('Intro & Setup'!$T25="", "", 'Intro & Setup'!$T25) | AE46: =IF($B46="", "", SUMIF('Itemised List'!$C$11:$C$510, $B46, 'Itemised List'!$F$11:$F$510)) | AJ46: =IF($B46="", "", SUMIF('Itemised List'!$C$11:$C$510, $B46, 'Itemised List'!$G$11:$G$510)) | AO46: =IF($B46="", "", SUMIF('Itemised List'!$C$11:$C$510, $B46, 'Itemised List'!$S$11:$S$510)+SUMIF('Itemised List'!$C$11:$C$510, $B46, 'Itemised List'!$T$11:$T$510))
B47: =IF('Intro & Setup'!$T26="", "", 'Intro & Setup'!$T26) | H47: =IF($B47="", "", SUMIF('Itemised List'!$C$11:$C$510, $B47, 'Itemised List'!$D$11:$D$510)) | M47: =IF($B47="", "", SUMIF('Itemised List'!$C$11:$C$510, $B47, 'Itemised List'!$E$11:$E$510)) | R47: =IF($B47="", "", SUMIF('Itemised List'!$C$11:$C$510, $B47, 'Itemised List'!$P$11:$P$510)+SUMIF('Itemised List'!$C$11:$C$510, $B47, 'Itemised List'!$Q$11:$Q$510)) | Y47: =IF('Intro & Setup'!$T26="", "", 'Intro & Setup'!$T26) | AE47: =IF($B47="", "", SUMIF('Itemised List'!$C$11:$C$510, $B47, 'Itemised List'!$F$11:$F$510)) | AJ47: =IF($B47="", "", SUMIF('Itemised List'!$C$11:$C$510, $B47, 'Itemised List'!$G$11:$G$510)) | AO47: =IF($B47="", "", SUMIF('Itemised List'!$C$11:$C$510, $B47, 'Itemised List'!$S$11:$S$510)+SUMIF('Itemised List'!$C$11:$C$510, $B47, 'Itemised List'!$T$11:$T$510))
B48: Total Quoted Cost | R48: =SUM($R$38:$R$47) -> 1970 | Y48: Total Actual Cost | AO48: =SUM($AO$38:$AO$47) -> 1935
Y49: =IF('Itemised List'!$X$8=0, "", "There are still actual values required to make this report accurate")
