Workbook

Sheet Intro & Setup
B2: Thanks for trying the Project Budget Tracker. Please complete the required details below, and find various helpful links below.
B8: Locked for protection (contact us if incorrect)
B9: Business Name | H9: Your Business | T9: Currency Symbol | Z9: £ | AD9: Project Name | AJ9: Project Name
B12: Once you've entered the project name, this spreadsheet is ready to use. Follow the instructions on each sheet, or use the links below for help. | AX12: £
AX13: €
AX14: $
AX15: R
B16: Are you stuck? Here is a demo video for this product. | Y16: If this version is older than the other demo, or you'd prefer to watch the demo video on YouTube, do so below.
Y20: Watch Demo on YouTube
Y24: This spreadsheet was created by
I32: © Sumcor Ltd - Trading as Spreadsheet Solutions | Y32: SSS10100 - Project Budget Tracker

Sheet Categories & Budgets
B2: Categories & Budgets | R2: Unused
G3: =R2 -> Unused | H3: =COUNTIF($G$11:$G$40, $G3) -> 0 | L3: =COUNTIF($M$11:$M$40, $M3) -> 0 | M3: =T3 -> Finished in Budget | R3: Active | T3: Finished in Budget | V3: =IFERROR(ROUND(COUNTIF($G$11:$G$40, $G$5)/(COUNTIF($G$11:$G$40, $G$4)+COUNTIF($G$11:$G$40, $G$3)+COUNTIF($G$11:$G$40, $G$5)), 2), "")
G4: =R3 -> Active | H4: =COUNTIF($G$11:$G$40, $G4) -> 0 | L4: =COUNTIF($M$11:$M$40, $M4) -> 0 | M4: =T4 -> Finished over Budget | R4: Finished | T4: Finished over Budget | V4: =COUNTIF($G$11:$G$40, $G$5) -> 0
B5: Enter up to 30 category names below (if you have fewer than 30 items to cost, you can use this for item names instead). You can also put a description for each category, to help explain what each category includes. Then simply add the budget figure for each category. When you have purchased ALL the items in one category, select the ✓ symbol in the finished column. That will mean that the respective category will NOT appear for selection on the expense tab anymore. | G5: =R4 -> Finished | H5: =COUNTIF($G$11:$G$40, $G5) -> 0 | L5: =COUNTIF($M$11:$M$40, $M5) -> 0 | M5: =T5 -> Active in Budget | T5: Active in Budget | V5: =COUNTIF($G$11:$G$40, $G$4)+COUNTIF($G$11:$G$40, $G$3)+COUNTIF($G$11:$G$40, $G$5) -> 0
L6: =COUNTIF($M$11:$M$40, $M6) -> 0 | M6: =T6 -> Active over budget | T6: Active over budget
D7: =SUM(D$11:D$40) -> 0 | E7: Totals | I7: =SUM(I$11:I$40) -> 0 | K7: =SUM(K$11:K$40) -> 0 | L7: =COUNTIF($M$11:$M$40, $M7) -> 0 | M7: =T7 -> Unused so far | R7: ✓ | T7: Unused so far
B8: =IF($T$9=0, "", "Duplicates") | K8: Budget | R8: ✕
B9: Item Name / Category | C9: Category Description | D9: Budget Amount | E9: Finished | G9: Status | I9: Spent to Date | K9: Remaining | M9: Result | T9: =COUNTIF($T$11:$T$40, "X") -> 0
R10: Count | T10: Duplicates | V10: Active | W10: Finished | Z10: 0 | AB10: Drop down options | AD10: Rank | AF10: Others
G11: =IF($B11="", "", IF($E11=$R$7, $R$4, IF($R11=0, $R$2, $R$3))) | I11: =IF($B11="", "", SUMIF(Expenses!$D$11:$D$1010, $B11, Expenses!$G$11:$G$1010)) | K11: =IF($I11="", "", $D11-$I11) | M11: =IF($B11="", "", IF(AND($G11=$R$4, $K11>=0), $T$3, IF(AND($G11=$R$4, $K11<0), $T$4, IF(AND($G11=$R$3, $K11>=0), $T$5, IF(AND($G11=$R$3, $K11<0), $T$6, IF($G11=$R$2, $T$7, "")))))) | R11: =IF($B11="", "", COUNTIF(Expenses!$D$11:$D$1010, $B11)) | T11: =IF($B11="", "", IF(COUNTIF($B$11:$B$40, $B11)>1, "X", "")) | V11: =IF($G11=$G$4, $B11, "") | W11: =IF($G11=$G$5, $B11, "") | Y11: =IF(OR($B11="", $E11=$R$7), "", $B11) | Z11: =IF($Y11="", "", MAX($Z$10:$Z10)+1) | AA11: 1 | AB11: =IFERROR(INDEX($Y$11:$Y$40, MATCH($AA11, $Z$11:$Z$40, 0)), "") | AD11: =IF($D11="", "", COUNTIF($D$11:$D$40, ">"&$D11)+1+COUNTIF($D$11:$D11, $D11)-1) | AF11: =IF($AD11="", "", IF($AD11>15, "X", ""))
G12: =IF($B12="", "", IF($E12=$R$7, $R$4, IF($R12=0, $R$2, $R$3))) | I12: =IF($B12="", "", SUMIF(Expenses!$D$11:$D$1010, $B12, Expenses!$G$11:$G$1010)) | K12: =IF($I12="", "", $D12-$I12) | M12: =IF($B12="", "", IF(AND($G12=$R$4, $K12>=0), $T$3, IF(AND($G12=$R$4, $K12<0), $T$4, IF(AND($G12=$R$3, $K12>=0), $T$5, IF(AND($G12=$R$3, $K12<0), $T$6, IF($G12=$R$2, $T$7, "")))))) | R12: =IF($B12="", "", COUNTIF(Expenses!$D$11:$D$1010, $B12)) | T12: =IF($B12="", "", IF(COUNTIF($B$11:$B$40, $B12)>1, "X", "")) | V12: =IF($G12=$G$4, $B12, "") | W12: =IF($G12=$G$5, $B12, "") | Y12: =IF(OR($B12="", $E12=$R$7), "", $B12) | Z12: =IF($Y12="", "", MAX($Z$10:$Z11)+1) | AA12: 2 | AB12: =IFERROR(INDEX($Y$11:$Y$40, MATCH($AA12, $Z$11:$Z$40, 0)), "") | AD12: =IF($D12="", "", COUNTIF($D$11:$D$40, ">"&$D12)+1+COUNTIF($D$11:$D12, $D12)-1) | AF12: =IF($AD12="", "", IF($AD12>15, "X", ""))
G13: =IF($B13="", "", IF($E13=$R$7, $R$4, IF($R13=0, $R$2, $R$3))) | I13: =IF($B13="", "", SUMIF(Expenses!$D$11:$D$1010, $B13, Expenses!$G$11:$G$1010)) | K13: =IF($I13="", "", $D13-$I13) | M13: =IF($B13="", "", IF(AND($G13=$R$4, $K13>=0), $T$3, IF(AND($G13=$R$4, $K13<0), $T$4, IF(AND($G13=$R$3, $K13>=0), $T$5, IF(AND($G13=$R$3, $K13<0), $T$6, IF($G13=$R$2, $T$7, "")))))) | R13: =IF($B13="", "", COUNTIF(Expenses!$D$11:$D$1010, $B13)) | T13: =IF($B13="", "", IF(COUNTIF($B$11:$B$40, $B13)>1, "X", "")) | V13: =IF($G13=$G$4, $B13, "") | W13: =IF($G13=$G$5, $B13, "") | Y13: =IF(OR($B13="", $E13=$R$7), "", $B13) | Z13: =IF($Y13="", "", MAX($Z$10:$Z12)+1) | AA13: 3 | AB13: =IFERROR(INDEX($Y$11:$Y$40, MATCH($AA13, $Z$11:$Z$40, 0)), "") | AD13: =IF($D13="", "", COUNTIF($D$11:$D$40, ">"&$D13)+1+COUNTIF($D$11:$D13, $D13)-1) | AF13: =IF($AD13="", "", IF($AD13>15, "X", ""))
G14: =IF($B14="", "", IF($E14=$R$7, $R$4, IF($R14=0, $R$2, $R$3))) | I14: =IF($B14="", "", SUMIF(Expenses!$D$11:$D$1010, $B14, Expenses!$G$11:$G$1010)) | K14: =IF($I14="", "", $D14-$I14) | M14: =IF($B14="", "", IF(AND($G14=$R$4, $K14>=0), $T$3, IF(AND($G14=$R$4, $K14<0), $T$4, IF(AND($G14=$R$3, $K14>=0), $T$5, IF(AND($G14=$R$3, $K14<0), $T$6, IF($G14=$R$2, $T$7, "")))))) | R14: =IF($B14="", "", COUNTIF(Expenses!$D$11:$D$1010, $B14)) | T14: =IF($B14="", "", IF(COUNTIF($B$11:$B$40, $B14)>1, "X", "")) | V14: =IF($G14=$G$4, $B14, "") | W14: =IF($G14=$G$5, $B14, "") | Y14: =IF(OR($B14="", $E14=$R$7), "", $B14) | Z14: =IF($Y14="", "", MAX($Z$10:$Z13)+1) | AA14: 4 | AB14: =IFERROR(INDEX($Y$11:$Y$40, MATCH($AA14, $Z$11:$Z$40, 0)), "") | AD14: =IF($D14="", "", COUNTIF($D$11:$D$40, ">"&$D14)+1+COUNTIF($D$11:$D14, $D14)-1) | AF14: =IF($AD14="", "", IF($AD14>15, "X", ""))
G15: =IF($B15="", "", IF($E15=$R$7, $R$4, IF($R15=0, $R$2, $R$3))) | I15: =IF($B15="", "", SUMIF(Expenses!$D$11:$D$1010, $B15, Expenses!$G$11:$G$1010)) | K15: =IF($I15="", "", $D15-$I15) | M15: =IF($B15="", "", IF(AND($G15=$R$4, $K15>=0), $T$3, IF(AND($G15=$R$4, $K15<0), $T$4, IF(AND($G15=$R$3, $K15>=0), $T$5, IF(AND($G15=$R$3, $K15<0), $T$6, IF($G15=$R$2, $T$7, "")))))) | R15: =IF($B15="", "", COUNTIF(Expenses!$D$11:$D$1010, $B15)) | T15: =IF($B15="", "", IF(COUNTIF($B$11:$B$40, $B15)>1, "X", "")) | V15: =IF($G15=$G$4, $B15, "") | W15: =IF($G15=$G$5, $B15, "") | Y15: =IF(OR($B15="", $E15=$R$7), "", $B15) | Z15: =IF($Y15="", "", MAX($Z$10:$Z14)+1) | AA15: 5 | AB15: =IFERROR(INDEX($Y$11:$Y$40, MATCH($AA15, $Z$11:$Z$40, 0)), "") | AD15: =IF($D15="", "", COUNTIF($D$11:$D$40, ">"&$D15)+1+COUNTIF($D$11:$D15, $D15)-1) | AF15: =IF($AD15="", "", IF($AD15>15, "X", ""))
G16: =IF($B16="", "", IF($E16=$R$7, $R$4, IF($R16=0, $R$2, $R$3))) | I16: =IF($B16="", "", SUMIF(Expenses!$D$11:$D$1010, $B16, Expenses!$G$11:$G$1010)) | K16: =IF($I16="", "", $D16-$I16) | M16: =IF($B16="", "", IF(AND($G16=$R$4, $K16>=0), $T$3, IF(AND($G16=$R$4, $K16<0), $T$4, IF(AND($G16=$R$3, $K16>=0), $T$5, IF(AND($G16=$R$3, $K16<0), $T$6, IF($G16=$R$2, $T$7, "")))))) | R16: =IF($B16="", "", COUNTIF(Expenses!$D$11:$D$1010, $B16)) | T16: =IF($B16="", "", IF(COUNTIF($B$11:$B$40, $B16)>1, "X", "")) | V16: =IF($G16=$G$4, $B16, "") | W16: =IF($G16=$G$5, $B16, "") | Y16: =IF(OR($B16="", $E16=$R$7), "", $B16) | Z16: =IF($Y16="", "", MAX($Z$10:$Z15)+1) | AA16: 6 | AB16: =IFERROR(INDEX($Y$11:$Y$40, MATCH($AA16, $Z$11:$Z$40, 0)), "") | AD16: =IF($D16="", "", COUNTIF($D$11:$D$40, ">"&$D16)+1+COUNTIF($D$11:$D16, $D16)-1) | AF16: =IF($AD16="", "", IF($AD16>15, "X", ""))
G17: =IF($B17="", "", IF($E17=$R$7, $R$4, IF($R17=0, $R$2, $R$3))) | I17: =IF($B17="", "", SUMIF(Expenses!$D$11:$D$1010, $B17, Expenses!$G$11:$G$1010)) | K17: =IF($I17="", "", $D17-$I17) | M17: =IF($B17="", "", IF(AND($G17=$R$4, $K17>=0), $T$3, IF(AND($G17=$R$4, $K17<0), $T$4, IF(AND($G17=$R$3, $K17>=0), $T$5, IF(AND($G17=$R$3, $K17<0), $T$6, IF($G17=$R$2, $T$7, "")))))) | R17: =IF($B17="", "", COUNTIF(Expenses!$D$11:$D$1010, $B17)) | T17: =IF($B17="", "", IF(COUNTIF($B$11:$B$40, $B17)>1, "X", "")) | V17: =IF($G17=$G$4, $B17, "") | W17: =IF($G17=$G$5, $B17, "") | Y17: =IF(OR($B17="", $E17=$R$7), "", $B17) | Z17: =IF($Y17="", "", MAX($Z$10:$Z16)+1) | AA17: 7 | AB17: =IFERROR(INDEX($Y$11:$Y$40, MATCH($AA17, $Z$11:$Z$40, 0)), "") | AD17: =IF($D17="", "", COUNTIF($D$11:$D$40, ">"&$D17)+1+COUNTIF($D$11:$D17, $D17)-1) | AF17: =IF($AD17="", "", IF($AD17>15, "X", ""))
G18: =IF($B18="", "", IF($E18=$R$7, $R$4, IF($R18=0, $R$2, $R$3))) | I18: =IF($B18="", "", SUMIF(Expenses!$D$11:$D$1010, $B18, Expenses!$G$11:$G$1010)) | K18: =IF($I18="", "", $D18-$I18) | M18: =IF($B18="", "", IF(AND($G18=$R$4, $K18>=0), $T$3, IF(AND($G18=$R$4, $K18<0), $T$4, IF(AND($G18=$R$3, $K18>=0), $T$5, IF(AND($G18=$R$3, $K18<0), $T$6, IF($G18=$R$2, $T$7, "")))))) | R18: =IF($B18="", "", COUNTIF(Expenses!$D$11:$D$1010, $B18)) | T18: =IF($B18="", "", IF(COUNTIF($B$11:$B$40, $B18)>1, "X", "")) | V18: =IF($G18=$G$4, $B18, "") | W18: =IF($G18=$G$5, $B18, "") | Y18: =IF(OR($B18="", $E18=$R$7), "", $B18) | Z18: =IF($Y18="", "", MAX($Z$10:$Z17)+1) | AA18: 8 | AB18: =IFERROR(INDEX($Y$11:$Y$40, MATCH($AA18, $Z$11:$Z$40, 0)), "") | AD18: =IF($D18="", "", COUNTIF($D$11:$D$40, ">"&$D18)+1+COUNTIF($D$11:$D18, $D18)-1) | AF18: =IF($AD18="", "", IF($AD18>15, "X", ""))
G19: =IF($B19="", "", IF($E19=$R$7, $R$4, IF($R19=0, $R$2, $R$3))) | I19: =IF($B19="", "", SUMIF(Expenses!$D$11:$D$1010, $B19, Expenses!$G$11:$G$1010)) | K19: =IF($I19="", "", $D19-$I19) | M19: =IF($B19="", "", IF(AND($G19=$R$4, $K19>=0), $T$3, IF(AND($G19=$R$4, $K19<0), $T$4, IF(AND($G19=$R$3, $K19>=0), $T$5, IF(AND($G19=$R$3, $K19<0), $T$6, IF($G19=$R$2, $T$7, "")))))) | R19: =IF($B19="", "", COUNTIF(Expenses!$D$11:$D$1010, $B19)) | T19: =IF($B19="", "", IF(COUNTIF($B$11:$B$40, $B19)>1, "X", "")) | V19: =IF($G19=$G$4, $B19, "") | W19: =IF($G19=$G$5, $B19, "") | Y19: =IF(OR($B19="", $E19=$R$7), "", $B19) | Z19: =IF($Y19="", "", MAX($Z$10:$Z18)+1) | AA19: 9 | AB19: =IFERROR(INDEX($Y$11:$Y$40, MATCH($AA19, $Z$11:$Z$40, 0)), "") | AD19: =IF($D19="", "", COUNTIF($D$11:$D$40, ">"&$D19)+1+COUNTIF($D$11:$D19, $D19)-1) | AF19: =IF($AD19="", "", IF($AD19>15, "X", ""))
G20: =IF($B20="", "", IF($E20=$R$7, $R$4, IF($R20=0, $R$2, $R$3))) | I20: =IF($B20="", "", SUMIF(Expenses!$D$11:$D$1010, $B20, Expenses!$G$11:$G$1010)) | K20: =IF($I20="", "", $D20-$I20) | M20: =IF($B20="", "", IF(AND($G20=$R$4, $K20>=0), $T$3, IF(AND($G20=$R$4, $K20<0), $T$4, IF(AND($G20=$R$3, $K20>=0), $T$5, IF(AND($G20=$R$3, $K20<0), $T$6, IF($G20=$R$2, $T$7, "")))))) | R20: =IF($B20="", "", COUNTIF(Expenses!$D$11:$D$1010, $B20)) | T20: =IF($B20="", "", IF(COUNTIF($B$11:$B$40, $B20)>1, "X", "")) | V20: =IF($G20=$G$4, $B20, "") | W20: =IF($G20=$G$5, $B20, "") | Y20: =IF(OR($B20="", $E20=$R$7), "", $B20) | Z20: =IF($Y20="", "", MAX($Z$10:$Z19)+1) | AA20: 10 | AB20: =IFERROR(INDEX($Y$11:$Y$40, MATCH($AA20, $Z$11:$Z$40, 0)), "") | AD20: =IF($D20="", "", COUNTIF($D$11:$D$40, ">"&$D20)+1+COUNTIF($D$11:$D20, $D20)-1) | AF20: =IF($AD20="", "", IF($AD20>15, "X", ""))
G21: =IF($B21="", "", IF($E21=$R$7, $R$4, IF($R21=0, $R$2, $R$3))) | I21: =IF($B21="", "", SUMIF(Expenses!$D$11:$D$1010, $B21, Expenses!$G$11:$G$1010)) | K21: =IF($I21="", "", $D21-$I21) | M21: =IF($B21="", "", IF(AND($G21=$R$4, $K21>=0), $T$3, IF(AND($G21=$R$4, $K21<0), $T$4, IF(AND($G21=$R$3, $K21>=0), $T$5, IF(AND($G21=$R$3, $K21<0), $T$6, IF($G21=$R$2, $T$7, "")))))) | R21: =IF($B21="", "", COUNTIF(Expenses!$D$11:$D$1010, $B21)) | T21: =IF($B21="", "", IF(COUNTIF($B$11:$B$40, $B21)>1, "X", "")) | V21: =IF($G21=$G$4, $B21, "") | W21: =IF($G21=$G$5, $B21, "") | Y21: =IF(OR($B21="", $E21=$R$7), "", $B21) | Z21: =IF($Y21="", "", MAX($Z$10:$Z20)+1) | AA21: 11 | AB21: =IFERROR(INDEX($Y$11:$Y$40, MATCH($AA21, $Z$11:$Z$40, 0)), "") | AD21: =IF($D21="", "", COUNTIF($D$11:$D$40, ">"&$D21)+1+COUNTIF($D$11:$D21, $D21)-1) | AF21: =IF($AD21="", "", IF($AD21>15, "X", ""))
G22: =IF($B22="", "", IF($E22=$R$7, $R$4, IF($R22=0, $R$2, $R$3))) | I22: =IF($B22="", "", SUMIF(Expenses!$D$11:$D$1010, $B22, Expenses!$G$11:$G$1010)) | K22: =IF($I22="", "", $D22-$I22) | M22: =IF($B22="", "", IF(AND($G22=$R$4, $K22>=0), $T$3, IF(AND($G22=$R$4, $K22<0), $T$4, IF(AND($G22=$R$3, $K22>=0), $T$5, IF(AND($G22=$R$3, $K22<0), $T$6, IF($G22=$R$2, $T$7, "")))))) | R22: =IF($B22="", "", COUNTIF(Expenses!$D$11:$D$1010, $B22)) | T22: =IF($B22="", "", IF(COUNTIF($B$11:$B$40, $B22)>1, "X", "")) | V22: =IF($G22=$G$4, $B22, "") | W22: =IF($G22=$G$5, $B22, "") | Y22: =IF(OR($B22="", $E22=$R$7), "", $B22) | Z22: =IF($Y22="", "", MAX($Z$10:$Z21)+1) | AA22: 12 | AB22: =IFERROR(INDEX($Y$11:$Y$40, MATCH($AA22, $Z$11:$Z$40, 0)), "") | AD22: =IF($D22="", "", COUNTIF($D$11:$D$40, ">"&$D22)+1+COUNTIF($D$11:$D22, $D22)-1) | AF22: =IF($AD22="", "", IF($AD22>15, "X", ""))
... G40: =IF($B40="", "", IF($E40=$R$7, $R$4, IF($R40=0, $R$2, $R$3))) | I40: =IF($B40="", "", SUMIF(Expenses!$D$11:$D$1010, $B40, Expenses!$G$11:$G$1010)) | K40: =IF($I40="", "", $D40-$I40) | M40: =IF($B40="", "", IF(AND($G40=$R$4, $K40>=0), $T$3, IF(AND($G40=$R$4, $K40<0), $T$4, IF(AND($G40=$R$3, $K40>=0), $T$5, IF(AND($G40=$R$3, $K40<0), $T$6, IF($G40=$R$2, $T$7, "")))))) | R40: =IF($B40="", "", COUNTIF(Expenses!$D$11:$D$1010, $B40)) | T40: =IF($B40="", "", IF(COUNTIF($B$11:$B$40, $B40)>1, "X", "")) | V40: =IF($G40=$G$4, $B40, "") | W40: =IF($G40=$G$5, $B40, "") | Y40: =IF(OR($B40="", $E40=$R$7), "", $B40) | Z40: =IF($Y40="", "", MAX($Z$10:$Z39)+1) | AA40: 30 | AB40: =IFERROR(INDEX($Y$11:$Y$40, MATCH($AA40, $Z$11:$Z$40, 0)), "") | AD40: =IF($D40="", "", COUNTIF($D$11:$D$40, ">"&$D40)+1+COUNTIF($D$11:$D40, $D40)-1) | AF40: =IF($AD40="", "", IF($AD40>15, "X", ""))

Sheet Expenses
B2: Expenses | AB2: Mon | AC2: 0
F3: Project Status | G3: Active | Q3: Not Started | AB3: Tue | AC3: 1
Q4: Active | AB4: Wed | AC4: 2
B5: You can add a new expense on each row. Simply select (or input) the date, enter a description and price, and then select a category and supplier. Make sure to select a category for each entry. As other tabs, you complete the sections under the red headers, and the green-headered sections will auto populate as you use the spreadsheet. | Q5: Complete | AB5: Thu | AC5: 3
X6: =$X$8-IFERROR(INDEX($AC$2:$AC$8, MATCH($Z$8, $AB$2:$AB$8, 0)), 0) -> 43794 | AB6: Fri | AC6: 4
F7: Total | G7: =SUM($G$11:$G$1010) -> 0 | AB7: Sat | AC7: 5
D8: =IF(COUNTIF($Z$11:$Z$1010, 0)>0, "Incorrect Categories", "") | I8: Budget | K8: This will show the description of the selected category | U8: =COUNTIF($U$11:$U$1010, "X") -> 0 | X8: =TODAY() -> 43795 | Z8: =TEXT(X8, "ddd") -> Tue | AB8: Sun | AC8: 6
B9: Date | C9: Description | D9: Category | E9: Invoice Ref. | F9: Supplier | G9: Price | I9: Over/Under | K9: Category Description | O9: Categories | Q9: Suppliers
S10: Used | U10: Unassigned
I11: =IF($D11="", "", IFERROR(INDEX('Categories & Budgets'!$K$11:$K$40, MATCH($D11, 'Categories & Budgets'!$B$11:$B$40, 0)), "")) | K11: =IF($D11="", "", IFERROR(INDEX('Categories & Budgets'!$C$11:$C$40, MATCH($D11, 'Categories & Budgets'!$B$11:$B$40, 0)), "")) | O11: =IF('Categories & Budgets'!$AB11="", "", 'Categories & Budgets'!$AB11) | Q11: =IF(Suppliers!$B11="", "", Suppliers!$B11) | S11: =IF(COUNTIF($B11:$G11, "")=6, "", "X") | U11: =IF($S11="", "", IF($D11="", "X", "")) | X11: =$X$8 -> 43795 | Z11: =IF($D11="", "", COUNTIF('Categories & Budgets'!$B$11:$B$40, $D11))
I12: =IF($D12="", "", IFERROR(INDEX('Categories & Budgets'!$K$11:$K$40, MATCH($D12, 'Categories & Budgets'!$B$11:$B$40, 0)), "")) | K12: =IF($D12="", "", IFERROR(INDEX('Categories & Budgets'!$C$11:$C$40, MATCH($D12, 'Categories & Budgets'!$B$11:$B$40, 0)), "")) | O12: =IF('Categories & Budgets'!$AB12="", "", 'Categories & Budgets'!$AB12) | Q12: =IF(Suppliers!$B12="", "", Suppliers!$B12) | S12: =IF(COUNTIF($B12:$G12, "")=6, "", "X") | U12: =IF($S12="", "", IF($D12="", "X", "")) | Z12: =IF($D12="", "", COUNTIF('Categories & Budgets'!$B$11:$B$40, $D12))
I13: =IF($D13="", "", IFERROR(INDEX('Categories & Budgets'!$K$11:$K$40, MATCH($D13, 'Categories & Budgets'!$B$11:$B$40, 0)), "")) | K13: =IF($D13="", "", IFERROR(INDEX('Categories & Budgets'!$C$11:$C$40, MATCH($D13, 'Categories & Budgets'!$B$11:$B$40, 0)), "")) | O13: =IF('Categories & Budgets'!$AB13="", "", 'Categories & Budgets'!$AB13) | Q13: =IF(Suppliers!$B13="", "", Suppliers!$B13) | S13: =IF(COUNTIF($B13:$G13, "")=6, "", "X") | U13: =IF($S13="", "", IF($D13="", "X", "")) | X13: =$X$6 -> 43794 | Z13: =IF($D13="", "", COUNTIF('Categories & Budgets'!$B$11:$B$40, $D13))
I14: =IF($D14="", "", IFERROR(INDEX('Categories & Budgets'!$K$11:$K$40, MATCH($D14, 'Categories & Budgets'!$B$11:$B$40, 0)), "")) | K14: =IF($D14="", "", IFERROR(INDEX('Categories & Budgets'!$C$11:$C$40, MATCH($D14, 'Categories & Budgets'!$B$11:$B$40, 0)), "")) | O14: =IF('Categories & Budgets'!$AB14="", "", 'Categories & Budgets'!$AB14) | Q14: =IF(Suppliers!$B14="", "", Suppliers!$B14) | S14: =IF(COUNTIF($B14:$G14, "")=6, "", "X") | U14: =IF($S14="", "", IF($D14="", "X", "")) | X14: =X13+1 -> 43795 | Z14: =IF($D14="", "", COUNTIF('Categories & Budgets'!$B$11:$B$40, $D14))
I15: =IF($D15="", "", IFERROR(INDEX('Categories & Budgets'!$K$11:$K$40, MATCH($D15, 'Categories & Budgets'!$B$11:$B$40, 0)), "")) | K15: =IF($D15="", "", IFERROR(INDEX('Categories & Budgets'!$C$11:$C$40, MATCH($D15, 'Categories & Budgets'!$B$11:$B$40, 0)), "")) | O15: =IF('Categories & Budgets'!$AB15="", "", 'Categories & Budgets'!$AB15) | Q15: =IF(Suppliers!$B15="", "", Suppliers!$B15) | S15: =IF(COUNTIF($B15:$G15, "")=6, "", "X") | U15: =IF($S15="", "", IF($D15="", "X", "")) | X15: =X14+1 -> 43796 | Z15: =IF($D15="", "", COUNTIF('Categories & Budgets'!$B$11:$B$40, $D15))
I16: =IF($D16="", "", IFERROR(INDEX('Categories & Budgets'!$K$11:$K$40, MATCH($D16, 'Categories & Budgets'!$B$11:$B$40, 0)), "")) | K16: =IF($D16="", "", IFERROR(INDEX('Categories & Budgets'!$C$11:$C$40, MATCH($D16, 'Categories & Budgets'!$B$11:$B$40, 0)), "")) | O16: =IF('Categories & Budgets'!$AB16="", "", 'Categories & Budgets'!$AB16) | Q16: =IF(Suppliers!$B16="", "", Suppliers!$B16) | S16: =IF(COUNTIF($B16:$G16, "")=6, "", "X") | U16: =IF($S16="", "", IF($D16="", "X", "")) | X16: =X15+1 -> 43797 | Z16: =IF($D16="", "", COUNTIF('Categories & Budgets'!$B$11:$B$40, $D16))
I17: =IF($D17="", "", IFERROR(INDEX('Categories & Budgets'!$K$11:$K$40, MATCH($D17, 'Categories & Budgets'!$B$11:$B$40, 0)), "")) | K17: =IF($D17="", "", IFERROR(INDEX('Categories & Budgets'!$C$11:$C$40, MATCH($D17, 'Categories & Budgets'!$B$11:$B$40, 0)), "")) | O17: =IF('Categories & Budgets'!$AB17="", "", 'Categories & Budgets'!$AB17) | Q17: =IF(Suppliers!$B17="", "", Suppliers!$B17) | S17: =IF(COUNTIF($B17:$G17, "")=6, "", "X") | U17: =IF($S17="", "", IF($D17="", "X", "")) | X17: =X16+1 -> 43798 | Z17: =IF($D17="", "", COUNTIF('Categories & Budgets'!$B$11:$B$40, $D17))
I18: =IF($D18="", "", IFERROR(INDEX('Categories & Budgets'!$K$11:$K$40, MATCH($D18, 'Categories & Budgets'!$B$11:$B$40, 0)), "")) | K18: =IF($D18="", "", IFERROR(INDEX('Categories & Budgets'!$C$11:$C$40, MATCH($D18, 'Categories & Budgets'!$B$11:$B$40, 0)), "")) | O18: =IF('Categories & Budgets'!$AB18="", "", 'Categories & Budgets'!$AB18) | Q18: =IF(Suppliers!$B18="", "", Suppliers!$B18) | S18: =IF(COUNTIF($B18:$G18, "")=6, "", "X") | U18: =IF($S18="", "", IF($D18="", "X", "")) | X18: =X17+1 -> 43799 | Z18: =IF($D18="", "", COUNTIF('Categories & Budgets'!$B$11:$B$40, $D18))
I19: =IF($D19="", "", IFERROR(INDEX('Categories & Budgets'!$K$11:$K$40, MATCH($D19, 'Categories & Budgets'!$B$11:$B$40, 0)), "")) | K19: =IF($D19="", "", IFERROR(INDEX('Categories & Budgets'!$C$11:$C$40, MATCH($D19, 'Categories & Budgets'!$B$11:$B$40, 0)), "")) | O19: =IF('Categories & Budgets'!$AB19="", "", 'Categories & Budgets'!$AB19) | Q19: =IF(Suppliers!$B19="", "", Suppliers!$B19) | S19: =IF(COUNTIF($B19:$G19, "")=6, "", "X") | U19: =IF($S19="", "", IF($D19="", "X", "")) | X19: =X18+1 -> 43800 | Z19: =IF($D19="", "", COUNTIF('Categories & Budgets'!$B$11:$B$40, $D19))
I20: =IF($D20="", "", IFERROR(INDEX('Categories & Budgets'!$K$11:$K$40, MATCH($D20, 'Categories & Budgets'!$B$11:$B$40, 0)), "")) | K20: =IF($D20="", "", IFERROR(INDEX('Categories & Budgets'!$C$11:$C$40, MATCH($D20, 'Categories & Budgets'!$B$11:$B$40, 0)), "")) | O20: =IF('Categories & Budgets'!$AB20="", "", 'Categories & Budgets'!$AB20) | Q20: =IF(Suppliers!$B20="", "", Suppliers!$B20) | S20: =IF(COUNTIF($B20:$G20, "")=6, "", "X") | U20: =IF($S20="", "", IF($D20="", "X", "")) | Z20: =IF($D20="", "", COUNTIF('Categories & Budgets'!$B$11:$B$40, $D20))
I21: =IF($D21="", "", IFERROR(INDEX('Categories & Budgets'!$K$11:$K$40, MATCH($D21, 'Categories & Budgets'!$B$11:$B$40, 0)), "")) | K21: =IF($D21="", "", IFERROR(INDEX('Categories & Budgets'!$C$11:$C$40, MATCH($D21, 'Categories & Budgets'!$B$11:$B$40, 0)), "")) | O21: =IF('Categories & Budgets'!$AB21="", "", 'Categories & Budgets'!$AB21) | Q21: =IF(Suppliers!$B21="", "", Suppliers!$B21) | S21: =IF(COUNTIF($B21:$G21, "")=6, "", "X") | U21: =IF($S21="", "", IF($D21="", "X", "")) | Z21: =IF($D21="", "", COUNTIF('Categories & Budgets'!$B$11:$B$40, $D21))
I22: =IF($D22="", "", IFERROR(INDEX('Categories & Budgets'!$K$11:$K$40, MATCH($D22, 'Categories & Budgets'!$B$11:$B$40, 0)), "")) | K22: =IF($D22="", "", IFERROR(INDEX('Categories & Budgets'!$C$11:$C$40, MATCH($D22, 'Categories & Budgets'!$B$11:$B$40, 0)), "")) | O22: =IF('Categories & Budgets'!$AB22="", "", 'Categories & Budgets'!$AB22) | Q22: =IF(Suppliers!$B22="", "", Suppliers!$B22) | S22: =IF(COUNTIF($B22:$G22, "")=6, "", "X") | U22: =IF($S22="", "", IF($D22="", "X", "")) | Z22: =IF($D22="", "", COUNTIF('Categories & Budgets'!$B$11:$B$40, $D22))
I23: =IF($D23="", "", IFERROR(INDEX('Categories & Budgets'!$K$11:$K$40, MATCH($D23, 'Categories & Budgets'!$B$11:$B$40, 0)), "")) | K23: =IF($D23="", "", IFERROR(INDEX('Categories & Budgets'!$C$11:$C$40, MATCH($D23, 'Categories & Budgets'!$B$11:$B$40, 0)), "")) | O23: =IF('Categories & Budgets'!$AB23="", "", 'Categories & Budgets'!$AB23) | Q23: =IF(Suppliers!$B23="", "", Suppliers!$B23) | S23: =IF(COUNTIF($B23:$G23, "")=6, "", "X") | U23: =IF($S23="", "", IF($D23="", "X", "")) | Z23: =IF($D23="", "", COUNTIF('Categories & Budgets'!$B$11:$B$40, $D23))
I24: =IF($D24="", "", IFERROR(INDEX('Categories & Budgets'!$K$11:$K$40, MATCH($D24, 'Categories & Budgets'!$B$11:$B$40, 0)), "")) | K24: =IF($D24="", "", IFERROR(INDEX('Categories & Budgets'!$C$11:$C$40, MATCH($D24, 'Categories & Budgets'!$B$11:$B$40, 0)), "")) | O24: =IF('Categories & Budgets'!$AB24="", "", 'Categories & Budgets'!$AB24) | Q24: =IF(Suppliers!$B24="", "", Suppliers!$B24) | S24: =IF(COUNTIF($B24:$G24, "")=6, "", "X") | U24: =IF($S24="", "", IF($D24="", "X", "")) | Z24: =IF($D24="", "", COUNTIF('Categories & Budgets'!$B$11:$B$40, $D24))
I25: =IF($D25="", "", IFERROR(INDEX('Categories & Budgets'!$K$11:$K$40, MATCH($D25, 'Categories & Budgets'!$B$11:$B$40, 0)), "")) | K25: =IF($D25="", "", IFERROR(INDEX('Categories & Budgets'!$C$11:$C$40, MATCH($D25, 'Categories & Budgets'!$B$11:$B$40, 0)), "")) | O25: =IF('Categories & Budgets'!$AB25="", "", 'Categories & Budgets'!$AB25) | Q25: =IF(Suppliers!$B25="", "", Suppliers!$B25) | S25: =IF(COUNTIF($B25:$G25, "")=6, "", "X") | U25: =IF($S25="", "", IF($D25="", "X", "")) | Z25: =IF($D25="", "", COUNTIF('Categories & Budgets'!$B$11:$B$40, $D25))
I26: =IF($D26="", "", IFERROR(INDEX('Categories & Budgets'!$K$11:$K$40, MATCH($D26, 'Categories & Budgets'!$B$11:$B$40, 0)), "")) | K26: =IF($D26="", "", IFERROR(INDEX('Categories & Budgets'!$C$11:$C$40, MATCH($D26, 'Categories & Budgets'!$B$11:$B$40, 0)), "")) | O26: =IF('Categories & Budgets'!$AB26="", "", 'Categories & Budgets'!$AB26) | Q26: =IF(Suppliers!$B26="", "", Suppliers!$B26) | S26: =IF(COUNTIF($B26:$G26, "")=6, "", "X") | U26: =IF($S26="", "", IF($D26="", "X", "")) | Z26: =IF($D26="", "", COUNTIF('Categories & Budgets'!$B$11:$B$40, $D26))
I27: =IF($D27="", "", IFERROR(INDEX('Categories & Budgets'!$K$11:$K$40, MATCH($D27, 'Categories & Budgets'!$B$11:$B$40, 0)), "")) | K27: =IF($D27="", "", IFERROR(INDEX('Categories & Budgets'!$C$11:$C$40, MATCH($D27, 'Categories & Budgets'!$B$11:$B$40, 0)), "")) | O27: =IF('Categories & Budgets'!$AB27="", "", 'Categories & Budgets'!$AB27) | Q27: =IF(Suppliers!$B27="", "", Suppliers!$B27) | S27: =IF(COUNTIF($B27:$G27, "")=6, "", "X") | U27: =IF($S27="", "", IF($D27="", "X", "")) | Z27: =IF($D27="", "", COUNTIF('Categories & Budgets'!$B$11:$B$40, $D27))
I28: =IF($D28="", "", IFERROR(INDEX('Categories & Budgets'!$K$11:$K$40, MATCH($D28, 'Categories & Budgets'!$B$11:$B$40, 0)), "")) | K28: =IF($D28="", "", IFERROR(INDEX('Categories & Budgets'!$C$11:$C$40, MATCH($D28, 'Categories & Budgets'!$B$11:$B$40, 0)), "")) | O28: =IF('Categories & Budgets'!$AB28="", "", 'Categories & Budgets'!$AB28) | Q28: =IF(Suppliers!$B28="", "", Suppliers!$B28) | S28: =IF(COUNTIF($B28:$G28, "")=6, "", "X") | U28: =IF($S28="", "", IF($D28="", "X", "")) | Z28: =IF($D28="", "", COUNTIF('Categories & Budgets'!$B$11:$B$40, $D28))
I29: =IF($D29="", "", IFERROR(INDEX('Categories & Budgets'!$K$11:$K$40, MATCH($D29, 'Categories & Budgets'!$B$11:$B$40, 0)), "")) | K29: =IF($D29="", "", IFERROR(INDEX('Categories & Budgets'!$C$11:$C$40, MATCH($D29, 'Categories & Budgets'!$B$11:$B$40, 0)), "")) | O29: =IF('Categories & Budgets'!$AB29="", "", 'Categories & Budgets'!$AB29) | Q29: =IF(Suppliers!$B29="", "", Suppliers!$B29) | S29: =IF(COUNTIF($B29:$G29, "")=6, "", "X") | U29: =IF($S29="", "", IF($D29="", "X", "")) | Z29: =IF($D29="", "", COUNTIF('Categories & Budgets'!$B$11:$B$40, $D29))
I30: =IF($D30="", "", IFERROR(INDEX('Categories & Budgets'!$K$11:$K$40, MATCH($D30, 'Categories & Budgets'!$B$11:$B$40, 0)), "")) | K30: =IF($D30="", "", IFERROR(INDEX('Categories & Budgets'!$C$11:$C$40, MATCH($D30, 'Categories & Budgets'!$B$11:$B$40, 0)), "")) | O30: =IF('Categories & Budgets'!$AB30="", "", 'Categories & Budgets'!$AB30) | Q30: =IF(Suppliers!$B30="", "", Suppliers!$B30) | S30: =IF(COUNTIF($B30:$G30, "")=6, "", "X") | U30: =IF($S30="", "", IF($D30="", "X", "")) | Z30: =IF($D30="", "", COUNTIF('Categories & Budgets'!$B$11:$B$40, $D30))
I31: =IF($D31="", "", IFERROR(INDEX('Categories & Budgets'!$K$11:$K$40, MATCH($D31, 'Categories & Budgets'!$B$11:$B$40, 0)), "")) | K31: =IF($D31="", "", IFERROR(INDEX('Categories & Budgets'!$C$11:$C$40, MATCH($D31, 'Categories & Budgets'!$B$11:$B$40, 0)), "")) | O31: =IF('Categories & Budgets'!$AB31="", "", 'Categories & Budgets'!$AB31) | Q31: =IF(Suppliers!$B31="", "", Suppliers!$B31) | S31: =IF(COUNTIF($B31:$G31, "")=6, "", "X") | U31: =IF($S31="", "", IF($D31="", "X", "")) | Z31: =IF($D31="", "", COUNTIF('Categories & Budgets'!$B$11:$B$40, $D31))
... I40: =IF($D40="", "", IFERROR(INDEX('Categories & Budgets'!$K$11:$K$40, MATCH($D40, 'Categories & Budgets'!$B$11:$B$40, 0)), "")) | K40: =IF($D40="", "", IFERROR(INDEX('Categories & Budgets'!$C$11:$C$40, MATCH($D40, 'Categories & Budgets'!$B$11:$B$40, 0)), "")) | O40: =IF('Categories & Budgets'!$AB40="", "", 'Categories & Budgets'!$AB40) | Q40: =IF(Suppliers!$B40="", "", Suppliers!$B40) | S40: =IF(COUNTIF($B40:$G40, "")=6, "", "X") | U40: =IF($S40="", "", IF($D40="", "X", "")) | Z40: =IF($D40="", "", COUNTIF('Categories & Budgets'!$B$11:$B$40, $D40))
I41: =IF($D41="", "", IFERROR(INDEX('Categories & Budgets'!$K$11:$K$40, MATCH($D41, 'Categories & Budgets'!$B$11:$B$40, 0)), "")) | K41: =IF($D41="", "", IFERROR(INDEX('Categories & Budgets'!$C$11:$C$40, MATCH($D41, 'Categories & Budgets'!$B$11:$B$40, 0)), "")) | Q41: =IF(Suppliers!$B41="", "", Suppliers!$B41) | S41: =IF(COUNTIF($B41:$G41, "")=6, "", "X") | U41: =IF($S41="", "", IF($D41="", "X", "")) | Z41: =IF($D41="", "", COUNTIF('Categories & Budgets'!$B$11:$B$40, $D41))
I42: =IF($D42="", "", IFERROR(INDEX('Categories & Budgets'!$K$11:$K$40, MATCH($D42, 'Categories & Budgets'!$B$11:$B$40, 0)), "")) | K42: =IF($D42="", "", IFERROR(INDEX('Categories & Budgets'!$C$11:$C$40, MATCH($D42, 'Categories & Budgets'!$B$11:$B$40, 0)), "")) | Q42: =IF(Suppliers!$B42="", "", Suppliers!$B42) | S42: =IF(COUNTIF($B42:$G42, "")=6, "", "X") | U42: =IF($S42="", "", IF($D42="", "X", "")) | Z42: =IF($D42="", "", COUNTIF('Categories & Budgets'!$B$11:$B$40, $D42))
I43: =IF($D43="", "", IFERROR(INDEX('Categories & Budgets'!$K$11:$K$40, MATCH($D43, 'Categories & Budgets'!$B$11:$B$40, 0)), "")) | K43: =IF($D43="", "", IFERROR(INDEX('Categories & Budgets'!$C$11:$C$40, MATCH($D43, 'Categories & Budgets'!$B$11:$B$40, 0)), "")) | Q43: =IF(Suppliers!$B43="", "", Suppliers!$B43) | S43: =IF(COUNTIF($B43:$G43, "")=6, "", "X") | U43: =IF($S43="", "", IF($D43="", "X", "")) | Z43: =IF($D43="", "", COUNTIF('Categories & Budgets'!$B$11:$B$40, $D43))
I44: =IF($D44="", "", IFERROR(INDEX('Categories & Budgets'!$K$11:$K$40, MATCH($D44, 'Categories & Budgets'!$B$11:$B$40, 0)), "")) | K44: =IF($D44="", "", IFERROR(INDEX('Categories & Budgets'!$C$11:$C$40, MATCH($D44, 'Categories & Budgets'!$B$11:$B$40, 0)), "")) | Q44: =IF(Suppliers!$B44="", "", Suppliers!$B44) | S44: =IF(COUNTIF($B44:$G44, "")=6, "", "X") | U44: =IF($S44="", "", IF($D44="", "X", "")) | Z44: =IF($D44="", "", COUNTIF('Categories & Budgets'!$B$11:$B$40, $D44))
I45: =IF($D45="", "", IFERROR(INDEX('Categories & Budgets'!$K$11:$K$40, MATCH($D45, 'Categories & Budgets'!$B$11:$B$40, 0)), "")) | K45: =IF($D45="", "", IFERROR(INDEX('Categories & Budgets'!$C$11:$C$40, MATCH($D45, 'Categories & Budgets'!$B$11:$B$40, 0)), "")) | Q45: =IF(Suppliers!$B45="", "", Suppliers!$B45) | S45: =IF(COUNTIF($B45:$G45, "")=6, "", "X") | U45: =IF($S45="", "", IF($D45="", "X", "")) | Z45: =IF($D45="", "", COUNTIF('Categories & Budgets'!$B$11:$B$40, $D45))
I46: =IF($D46="", "", IFERROR(INDEX('Categories & Budgets'!$K$11:$K$40, MATCH($D46, 'Categories & Budgets'!$B$11:$B$40, 0)), "")) | K46: =IF($D46="", "", IFERROR(INDEX('Categories & Budgets'!$C$11:$C$40, MATCH($D46, 'Categories & Budgets'!$B$11:$B$40, 0)), "")) | Q46: =IF(Suppliers!$B46="", "", Suppliers!$B46) | S46: =IF(COUNTIF($B46:$G46, "")=6, "", "X") | U46: =IF($S46="", "", IF($D46="", "X", "")) | Z46: =IF($D46="", "", COUNTIF('Categories & Budgets'!$B$11:$B$40, $D46))
I47: =IF($D47="", "", IFERROR(INDEX('Categories & Budgets'!$K$11:$K$40, MATCH($D47, 'Categories & Budgets'!$B$11:$B$40, 0)), "")) | K47: =IF($D47="", "", IFERROR(INDEX('Categories & Budgets'!$C$11:$C$40, MATCH($D47, 'Categories & Budgets'!$B$11:$B$40, 0)), "")) | Q47: =IF(Suppliers!$B47="", "", Suppliers!$B47) | S47: =IF(COUNTIF($B47:$G47, "")=6, "", "X") | U47: =IF($S47="", "", IF($D47="", "X", "")) | Z47: =IF($D47="", "", COUNTIF('Categories & Budgets'!$B$11:$B$40, $D47))
I48: =IF($D48="", "", IFERROR(INDEX('Categories & Budgets'!$K$11:$K$40, MATCH($D48, 'Categories & Budgets'!$B$11:$B$40, 0)), "")) | K48: =IF($D48="", "", IFERROR(INDEX('Categories & Budgets'!$C$11:$C$40, MATCH($D48, 'Categories & Budgets'!$B$11:$B$40, 0)), "")) | Q48: =IF(Suppliers!$B48="", "", Suppliers!$B48) | S48: =IF(COUNTIF($B48:$G48, "")=6, "", "X") | U48: =IF($S48="", "", IF($D48="", "X", "")) | Z48: =IF($D48="", "", COUNTIF('Categories & Budgets'!$B$11:$B$40, $D48))
I49: =IF($D49="", "", IFERROR(INDEX('Categories & Budgets'!$K$11:$K$40, MATCH($D49, 'Categories & Budgets'!$B$11:$B$40, 0)), "")) | K49: =IF($D49="", "", IFERROR(INDEX('Categories & Budgets'!$C$11:$C$40, MATCH($D49, 'Categories & Budgets'!$B$11:$B$40, 0)), "")) | Q49: =IF(Suppliers!$B49="", "", Suppliers!$B49) | S49: =IF(COUNTIF($B49:$G49, "")=6, "", "X") | U49: =IF($S49="", "", IF($D49="", "X", "")) | Z49: =IF($D49="", "", COUNTIF('Categories & Budgets'!$B$11:$B$40, $D49))
...

Sheet Suppliers
B2: Suppliers
B5: You can add suppliers below. Simply enter the supplier name (no duplicates) and a description for each supplier (just for you to identify suppliers if need be or for your info). The cells with the green headers will automatically calculate as you use this spreadsheet. You need only fill in the cells with the red headers. Use the arrows on the headers to sort if required.
E6: Totals
E7: =SUM(E$11:E$230) -> 0 | G7: =SUM(G$11:G$230) -> 0 | I7: =SUM(I$11:I$230) -> 0
B8: =IF($L$9=0, "", "Duplicates")
B9: Supplier | C9: Supplier Description | E9: Total Purchased | G9: No. Purchases | I9: % of Expenses | L9: =COUNTIF($L$11:$L$230, "X") -> 0
L10: Duplicates | N10: Rank
E11: =IF($B11="", "", SUMIF(Expenses!$F$11:$F$1010, $B11, Expenses!$G$11:$G$1010)) | G11: =IF($B11="", "", COUNTIF(Expenses!$F$11:$F$1010, $B11)) | I11: =IF($B11="", "", IFERROR(ROUND($E11/Expenses!$G$7, 2), "")) | L11: =IF($B11="", "", IF(COUNTIF($B$11:$B$230, $B11)>1, "X", "")) | N11: =IF($E11="", "", COUNTIF($E$11:$E$230, ">"&$E11)+1+COUNTIF($E$11:$E11, $E11)-1)
E12: =IF($B12="", "", SUMIF(Expenses!$F$11:$F$1010, $B12, Expenses!$G$11:$G$1010)) | G12: =IF($B12="", "", COUNTIF(Expenses!$F$11:$F$1010, $B12)) | I12: =IF($B12="", "", IFERROR(ROUND($E12/Expenses!$G$7, 2), "")) | L12: =IF($B12="", "", IF(COUNTIF($B$11:$B$230, $B12)>1, "X", "")) | N12: =IF($E12="", "", COUNTIF($E$11:$E$230, ">"&$E12)+1+COUNTIF($E$11:$E12, $E12)-1)
E13: =IF($B13="", "", SUMIF(Expenses!$F$11:$F$1010, $B13, Expenses!$G$11:$G$1010)) | G13: =IF($B13="", "", COUNTIF(Expenses!$F$11:$F$1010, $B13)) | I13: =IF($B13="", "", IFERROR(ROUND($E13/Expenses!$G$7, 2), "")) | L13: =IF($B13="", "", IF(COUNTIF($B$11:$B$230, $B13)>1, "X", "")) | N13: =IF($E13="", "", COUNTIF($E$11:$E$230, ">"&$E13)+1+COUNTIF($E$11:$E13, $E13)-1)
E14: =IF($B14="", "", SUMIF(Expenses!$F$11:$F$1010, $B14, Expenses!$G$11:$G$1010)) | G14: =IF($B14="", "", COUNTIF(Expenses!$F$11:$F$1010, $B14)) | I14: =IF($B14="", "", IFERROR(ROUND($E14/Expenses!$G$7, 2), "")) | L14: =IF($B14="", "", IF(COUNTIF($B$11:$B$230, $B14)>1, "X", "")) | N14: =IF($E14="", "", COUNTIF($E$11:$E$230, ">"&$E14)+1+COUNTIF($E$11:$E14, $E14)-1)
E15: =IF($B15="", "", SUMIF(Expenses!$F$11:$F$1010, $B15, Expenses!$G$11:$G$1010)) | G15: =IF($B15="", "", COUNTIF(Expenses!$F$11:$F$1010, $B15)) | I15: =IF($B15="", "", IFERROR(ROUND($E15/Expenses!$G$7, 2), "")) | L15: =IF($B15="", "", IF(COUNTIF($B$11:$B$230, $B15)>1, "X", "")) | N15: =IF($E15="", "", COUNTIF($E$11:$E$230, ">"&$E15)+1+COUNTIF($E$11:$E15, $E15)-1)
E16: =IF($B16="", "", SUMIF(Expenses!$F$11:$F$1010, $B16, Expenses!$G$11:$G$1010)) | G16: =IF($B16="", "", COUNTIF(Expenses!$F$11:$F$1010, $B16)) | I16: =IF($B16="", "", IFERROR(ROUND($E16/Expenses!$G$7, 2), "")) | L16: =IF($B16="", "", IF(COUNTIF($B$11:$B$230, $B16)>1, "X", "")) | N16: =IF($E16="", "", COUNTIF($E$11:$E$230, ">"&$E16)+1+COUNTIF($E$11:$E16, $E16)-1)
E17: =IF($B17="", "", SUMIF(Expenses!$F$11:$F$1010, $B17, Expenses!$G$11:$G$1010)) | G17: =IF($B17="", "", COUNTIF(Expenses!$F$11:$F$1010, $B17)) | I17: =IF($B17="", "", IFERROR(ROUND($E17/Expenses!$G$7, 2), "")) | L17: =IF($B17="", "", IF(COUNTIF($B$11:$B$230, $B17)>1, "X", "")) | N17: =IF($E17="", "", COUNTIF($E$11:$E$230, ">"&$E17)+1+COUNTIF($E$11:$E17, $E17)-1)
E18: =IF($B18="", "", SUMIF(Expenses!$F$11:$F$1010, $B18, Expenses!$G$11:$G$1010)) | G18: =IF($B18="", "", COUNTIF(Expenses!$F$11:$F$1010, $B18)) | I18: =IF($B18="", "", IFERROR(ROUND($E18/Expenses!$G$7, 2), "")) | L18: =IF($B18="", "", IF(COUNTIF($B$11:$B$230, $B18)>1, "X", "")) | N18: =IF($E18="", "", COUNTIF($E$11:$E$230, ">"&$E18)+1+COUNTIF($E$11:$E18, $E18)-1)
E19: =IF($B19="", "", SUMIF(Expenses!$F$11:$F$1010, $B19, Expenses!$G$11:$G$1010)) | G19: =IF($B19="", "", COUNTIF(Expenses!$F$11:$F$1010, $B19)) | I19: =IF($B19="", "", IFERROR(ROUND($E19/Expenses!$G$7, 2), "")) | L19: =IF($B19="", "", IF(COUNTIF($B$11:$B$230, $B19)>1, "X", "")) | N19: =IF($E19="", "", COUNTIF($E$11:$E$230, ">"&$E19)+1+COUNTIF($E$11:$E19, $E19)-1)
E20: =IF($B20="", "", SUMIF(Expenses!$F$11:$F$1010, $B20, Expenses!$G$11:$G$1010)) | G20: =IF($B20="", "", COUNTIF(Expenses!$F$11:$F$1010, $B20)) | I20: =IF($B20="", "", IFERROR(ROUND($E20/Expenses!$G$7, 2), "")) | L20: =IF($B20="", "", IF(COUNTIF($B$11:$B$230, $B20)>1, "X", "")) | N20: =IF($E20="", "", COUNTIF($E$11:$E$230, ">"&$E20)+1+COUNTIF($E$11:$E20, $E20)-1)
E21: =IF($B21="", "", SUMIF(Expenses!$F$11:$F$1010, $B21, Expenses!$G$11:$G$1010)) | G21: =IF($B21="", "", COUNTIF(Expenses!$F$11:$F$1010, $B21)) | I21: =IF($B21="", "", IFERROR(ROUND($E21/Expenses!$G$7, 2), "")) | L21: =IF($B21="", "", IF(COUNTIF($B$11:$B$230, $B21)>1, "X", "")) | N21: =IF($E21="", "", COUNTIF($E$11:$E$230, ">"&$E21)+1+COUNTIF($E$11:$E21, $E21)-1)
E22: =IF($B22="", "", SUMIF(Expenses!$F$11:$F$1010, $B22, Expenses!$G$11:$G$1010)) | G22: =IF($B22="", "", COUNTIF(Expenses!$F$11:$F$1010, $B22)) | I22: =IF($B22="", "", IFERROR(ROUND($E22/Expenses!$G$7, 2), "")) | L22: =IF($B22="", "", IF(COUNTIF($B$11:$B$230, $B22)>1, "X", "")) | N22: =IF($E22="", "", COUNTIF($E$11:$E$230, ">"&$E22)+1+COUNTIF($E$11:$E22, $E22)-1)
... E230: =IF($B230="", "", SUMIF(Expenses!$F$11:$F$1010, $B230, Expenses!$G$11:$G$1010)) | G230: =IF($B230="", "", COUNTIF(Expenses!$F$11:$F$1010, $B230)) | I230: =IF($B230="", "", IFERROR(ROUND($E230/Expenses!$G$7, 2), "")) | L230: =IF($B230="", "", IF(COUNTIF($B$11:$B$230, $B230)>1, "X", "")) | N230: =IF($E230="", "", COUNTIF($E$11:$E$230, ">"&$E230)+1+COUNTIF($E$11:$E230, $E230)-1)

Sheet Project Report
Q1: Business | AF1: Project
B2: Project Budget Report | Q2: =IF('Intro & Setup'!$H$9="", "", 'Intro & Setup'!$H$9) -> Your Business | AF2: =IF('Intro & Setup'!$AJ$9="", "", 'Intro & Setup'!$AJ$9) -> Project Name
B4: Selected Project Status | K4: Active
AF5: Number of Categories per Result | BA5: Item Names / Categories | BB5: Budget | BC5: Active | BD5: Finished
B6: Budget Value | K6: ='Categories & Budgets'!$D$7 -> 0 | Q6: % of Categories Finished | Z6: ='Categories & Budgets'!$V$4 -> 0 | AA6: of | AB6: ='Categories & Budgets'!$V$5 -> 0 | AC6: ='Categories & Budgets'!$V$3 | AF6: Finished | AK6: In Budget | AQ6: ='Categories & Budgets'!$L3 -> 0 | BA6: =IF('Categories & Budgets'!$B11="", "", 'Categories & Budgets'!$B11) | BB6: =IF($BA6="", NA(), SUMIF('Categories & Budgets'!$B$11:$B$40, $BA6, 'Categories & Budgets'!$D$11:$D$40)) -> #N/A | BC6: =IF($BA6="", "", SUMIF('Categories & Budgets'!$V$11:$V$40, $BA6, 'Categories & Budgets'!$I$11:$I$40)) | BD6: =IF($BA6="", "", SUMIF('Categories & Budgets'!$W$11:$W$40, $BA6, 'Categories & Budgets'!$I$11:$I$40))
AK7: Over Budget | AQ7: ='Categories & Budgets'!$L4 -> 0 | BA7: =IF('Categories & Budgets'!$B12="", "", 'Categories & Budgets'!$B12) | BB7: =IF($BA7="", NA(), SUMIF('Categories & Budgets'!$B$11:$B$40, $BA7, 'Categories & Budgets'!$D$11:$D$40)) -> #N/A | BC7: =IF($BA7="", "", SUMIF('Categories & Budgets'!$V$11:$V$40, $BA7, 'Categories & Budgets'!$I$11:$I$40)) | BD7: =IF($BA7="", "", SUMIF('Categories & Budgets'!$W$11:$W$40, $BA7, 'Categories & Budgets'!$I$11:$I$40))
B8: Total Spent | K8: =Expenses!$G$7 -> 0 | Q8: Percentage of Budget Spent | Z8: =IFERROR(ROUND($K$8/$K$6, 2), "") | AF8: Active | AK8: In Budget | AQ8: ='Categories & Budgets'!$L5 -> 0 | BA8: =IF('Categories & Budgets'!$B13="", "", 'Categories & Budgets'!$B13) | BB8: =IF($BA8="", NA(), SUMIF('Categories & Budgets'!$B$11:$B$40, $BA8, 'Categories & Budgets'!$D$11:$D$40)) -> #N/A | BC8: =IF($BA8="", "", SUMIF('Categories & Budgets'!$V$11:$V$40, $BA8, 'Categories & Budgets'!$I$11:$I$40)) | BD8: =IF($BA8="", "", SUMIF('Categories & Budgets'!$W$11:$W$40, $BA8, 'Categories & Budgets'!$I$11:$I$40))
Q9: All expenses | AK9: Over Budget | AQ9: ='Categories & Budgets'!$L6 -> 0 | BA9: =IF('Categories & Budgets'!$B14="", "", 'Categories & Budgets'!$B14) | BB9: =IF($BA9="", NA(), SUMIF('Categories & Budgets'!$B$11:$B$40, $BA9, 'Categories & Budgets'!$D$11:$D$40)) -> #N/A | BC9: =IF($BA9="", "", SUMIF('Categories & Budgets'!$V$11:$V$40, $BA9, 'Categories & Budgets'!$I$11:$I$40)) | BD9: =IF($BA9="", "", SUMIF('Categories & Budgets'!$W$11:$W$40, $BA9, 'Categories & Budgets'!$I$11:$I$40))
B10: Current Available on Budget | K10: =$K$6-$K$8 -> 0 | Q10: Assigned to a Category | Z10: =IF(Expenses!$U$8=0, 'Categories & Budgets'!$R$7, 'Categories & Budgets'!$R$8) -> ✓ | AF10: ='Categories & Budgets'!$T7 -> Unused so far | AQ10: ='Categories & Budgets'!$L7 -> 0 | BA10: =IF('Categories & Budgets'!$B15="", "", 'Categories & Budgets'!$B15) | BB10: =IF($BA10="", NA(), SUMIF('Categories & Budgets'!$B$11:$B$40, $BA10, 'Categories & Budgets'!$D$11:$D$40)) -> #N/A | BC10: =IF($BA10="", "", SUMIF('Categories & Budgets'!$V$11:$V$40, $BA10, 'Categories & Budgets'!$I$11:$I$40)) | BD10: =IF($BA10="", "", SUMIF('Categories & Budgets'!$W$11:$W$40, $BA10, 'Categories & Budgets'!$I$11:$I$40))
BA11: =IF('Categories & Budgets'!$B16="", "", 'Categories & Budgets'!$B16) | BB11: =IF($BA11="", NA(), SUMIF('Categories & Budgets'!$B$11:$B$40, $BA11, 'Categories & Budgets'!$D$11:$D$40)) -> #N/A | BC11: =IF($BA11="", "", SUMIF('Categories & Budgets'!$V$11:$V$40, $BA11, 'Categories & Budgets'!$I$11:$I$40)) | BD11: =IF($BA11="", "", SUMIF('Categories & Budgets'!$W$11:$W$40, $BA11, 'Categories & Budgets'!$I$11:$I$40))
BA12: =IF('Categories & Budgets'!$B17="", "", 'Categories & Budgets'!$B17) | BB12: =IF($BA12="", NA(), SUMIF('Categories & Budgets'!$B$11:$B$40, $BA12, 'Categories & Budgets'!$D$11:$D$40)) -> #N/A | BC12: =IF($BA12="", "", SUMIF('Categories & Budgets'!$V$11:$V$40, $BA12, 'Categories & Budgets'!$I$11:$I$40)) | BD12: =IF($BA12="", "", SUMIF('Categories & Budgets'!$W$11:$W$40, $BA12, 'Categories & Budgets'!$I$11:$I$40))
BA13: =IF('Categories & Budgets'!$B18="", "", 'Categories & Budgets'!$B18) | BB13: =IF($BA13="", NA(), SUMIF('Categories & Budgets'!$B$11:$B$40, $BA13, 'Categories & Budgets'!$D$11:$D$40)) -> #N/A | BC13: =IF($BA13="", "", SUMIF('Categories & Budgets'!$V$11:$V$40, $BA13, 'Categories & Budgets'!$I$11:$I$40)) | BD13: =IF($BA13="", "", SUMIF('Categories & Budgets'!$W$11:$W$40, $BA13, 'Categories & Budgets'!$I$11:$I$40))
BA14: =IF('Categories & Budgets'!$B19="", "", 'Categories & Budgets'!$B19) | BB14: =IF($BA14="", NA(), SUMIF('Categories & Budgets'!$B$11:$B$40, $BA14, 'Categories & Budgets'!$D$11:$D$40)) -> #N/A | BC14: =IF($BA14="", "", SUMIF('Categories & Budgets'!$V$11:$V$40, $BA14, 'Categories & Budgets'!$I$11:$I$40)) | BD14: =IF($BA14="", "", SUMIF('Categories & Budgets'!$W$11:$W$40, $BA14, 'Categories & Budgets'!$I$11:$I$40))
BA15: =IF('Categories & Budgets'!$B20="", "", 'Categories & Budgets'!$B20) | BB15: =IF($BA15="", NA(), SUMIF('Categories & Budgets'!$B$11:$B$40, $BA15, 'Categories & Budgets'!$D$11:$D$40)) -> #N/A | BC15: =IF($BA15="", "", SUMIF('Categories & Budgets'!$V$11:$V$40, $BA15, 'Categories & Budgets'!$I$11:$I$40)) | BD15: =IF($BA15="", "", SUMIF('Categories & Budgets'!$W$11:$W$40, $BA15, 'Categories & Budgets'!$I$11:$I$40))
BA16: =IF('Categories & Budgets'!$B21="", "", 'Categories & Budgets'!$B21) | BB16: =IF($BA16="", NA(), SUMIF('Categories & Budgets'!$B$11:$B$40, $BA16, 'Categories & Budgets'!$D$11:$D$40)) -> #N/A | BC16: =IF($BA16="", "", SUMIF('Categories & Budgets'!$V$11:$V$40, $BA16, 'Categories & Budgets'!$I$11:$I$40)) | BD16: =IF($BA16="", "", SUMIF('Categories & Budgets'!$W$11:$W$40, $BA16, 'Categories & Budgets'!$I$11:$I$40))
BA17: =IF('Categories & Budgets'!$B22="", "", 'Categories & Budgets'!$B22) | BB17: =IF($BA17="", NA(), SUMIF('Categories & Budgets'!$B$11:$B$40, $BA17, 'Categories & Budgets'!$D$11:$D$40)) -> #N/A | BC17: =IF($BA17="", "", SUMIF('Categories & Budgets'!$V$11:$V$40, $BA17, 'Categories & Budgets'!$I$11:$I$40)) | BD17: =IF($BA17="", "", SUMIF('Categories & Budgets'!$W$11:$W$40, $BA17, 'Categories & Budgets'!$I$11:$I$40))
BA18: =IF('Categories & Budgets'!$B23="", "", 'Categories & Budgets'!$B23) | BB18: =IF($BA18="", NA(), SUMIF('Categories & Budgets'!$B$11:$B$40, $BA18, 'Categories & Budgets'!$D$11:$D$40)) -> #N/A | BC18: =IF($BA18="", "", SUMIF('Categories & Budgets'!$V$11:$V$40, $BA18, 'Categories & Budgets'!$I$11:$I$40)) | BD18: =IF($BA18="", "", SUMIF('Categories & Budgets'!$W$11:$W$40, $BA18, 'Categories & Budgets'!$I$11:$I$40))
BA19: =IF('Categories & Budgets'!$B24="", "", 'Categories & Budgets'!$B24) | BB19: =IF($BA19="", NA(), SUMIF('Categories & Budgets'!$B$11:$B$40, $BA19, 'Categories & Budgets'!$D$11:$D$40)) -> #N/A | BC19: =IF($BA19="", "", SUMIF('Categories & Budgets'!$V$11:$V$40, $BA19, 'Categories & Budgets'!$I$11:$I$40)) | BD19: =IF($BA19="", "", SUMIF('Categories & Budgets'!$W$11:$W$40, $BA19, 'Categories & Budgets'!$I$11:$I$40))
BA20: =IF('Categories & Budgets'!$B25="", "", 'Categories & Budgets'!$B25) | BB20: =IF($BA20="", NA(), SUMIF('Categories & Budgets'!$B$11:$B$40, $BA20, 'Categories & Budgets'!$D$11:$D$40)) -> #N/A | BC20: =IF($BA20="", "", SUMIF('Categories & Budgets'!$V$11:$V$40, $BA20, 'Categories & Budgets'!$I$11:$I$40)) | BD20: =IF($BA20="", "", SUMIF('Categories & Budgets'!$W$11:$W$40, $BA20, 'Categories & Budgets'!$I$11:$I$40))
BA21: =IF('Categories & Budgets'!$B26="", "", 'Categories & Budgets'!$B26) | BB21: =IF($BA21="", NA(), SUMIF('Categories & Budgets'!$B$11:$B$40, $BA21, 'Categories & Budgets'!$D$11:$D$40)) -> #N/A | BC21: =IF($BA21="", "", SUMIF('Categories & Budgets'!$V$11:$V$40, $BA21, 'Categories & Budgets'!$I$11:$I$40)) | BD21: =IF($BA21="", "", SUMIF('Categories & Budgets'!$W$11:$W$40, $BA21, 'Categories & Budgets'!$I$11:$I$40))
BA22: =IF('Categories & Budgets'!$B27="", "", 'Categories & Budgets'!$B27) | BB22: =IF($BA22="", NA(), SUMIF('Categories & Budgets'!$B$11:$B$40, $BA22, 'Categories & Budgets'!$D$11:$D$40)) -> #N/A | BC22: =IF($BA22="", "", SUMIF('Categories & Budgets'!$V$11:$V$40, $BA22, 'Categories & Budgets'!$I$11:$I$40)) | BD22: =IF($BA22="", "", SUMIF('Categories & Budgets'!$W$11:$W$40, $BA22, 'Categories & Budgets'!$I$11:$I$40))
... BA30: =IF('Categories & Budgets'!$B35="", "", 'Categories & Budgets'!$B35) | BB30: =IF($BA30="", NA(), SUMIF('Categories & Budgets'!$B$11:$B$40, $BA30, 'Categories & Budgets'!$D$11:$D$40)) -> #N/A | BC30: =IF($BA30="", "", SUMIF('Categories & Budgets'!$V$11:$V$40, $BA30, 'Categories & Budgets'!$I$11:$I$40)) | BD30: =IF($BA30="", "", SUMIF('Categories & Budgets'!$W$11:$W$40, $BA30, 'Categories & Budgets'!$I$11:$I$40))
B31: ='Intro & Setup'!$Z$9 -> £ | BA31: =IF('Categories & Budgets'!$B36="", "", 'Categories & Budgets'!$B36) | BB31: =IF($BA31="", NA(), SUMIF('Categories & Budgets'!$B$11:$B$40, $BA31, 'Categories & Budgets'!$D$11:$D$40)) -> #N/A | BC31: =IF($BA31="", "", SUMIF('Categories & Budgets'!$V$11:$V$40, $BA31, 'Categories & Budgets'!$I$11:$I$40)) | BD31: =IF($BA31="", "", SUMIF('Categories & Budgets'!$W$11:$W$40, $BA31, 'Categories & Budgets'!$I$11:$I$40))
BA32: =IF('Categories & Budgets'!$B37="", "", 'Categories & Budgets'!$B37) | BB32: =IF($BA32="", NA(), SUMIF('Categories & Budgets'!$B$11:$B$40, $BA32, 'Categories & Budgets'!$D$11:$D$40)) -> #N/A | BC32: =IF($BA32="", "", SUMIF('Categories & Budgets'!$V$11:$V$40, $BA32, 'Categories & Budgets'!$I$11:$I$40)) | BD32: =IF($BA32="", "", SUMIF('Categories & Budgets'!$W$11:$W$40, $BA32, 'Categories & Budgets'!$I$11:$I$40))
BA33: =IF('Categories & Budgets'!$B38="", "", 'Categories & Budgets'!$B38) | BB33: =IF($BA33="", NA(), SUMIF('Categories & Budgets'!$B$11:$B$40, $BA33, 'Categories & Budgets'!$D$11:$D$40)) -> #N/A | BC33: =IF($BA33="", "", SUMIF('Categories & Budgets'!$V$11:$V$40, $BA33, 'Categories & Budgets'!$I$11:$I$40)) | BD33: =IF($BA33="", "", SUMIF('Categories & Budgets'!$W$11:$W$40, $BA33, 'Categories & Budgets'!$I$11:$I$40))
BA34: =IF('Categories & Budgets'!$B39="", "", 'Categories & Budgets'!$B39) | BB34: =IF($BA34="", NA(), SUMIF('Categories & Budgets'!$B$11:$B$40, $BA34, 'Categories & Budgets'!$D$11:$D$40)) -> #N/A | BC34: =IF($BA34="", "", SUMIF('Categories & Budgets'!$V$11:$V$40, $BA34, 'Categories & Budgets'!$I$11:$I$40)) | BD34: =IF($BA34="", "", SUMIF('Categories & Budgets'!$W$11:$W$40, $BA34, 'Categories & Budgets'!$I$11:$I$40))
BA35: =IF('Categories & Budgets'!$B40="", "", 'Categories & Budgets'!$B40) | BB35: =IF($BA35="", NA(), SUMIF('Categories & Budgets'!$B$11:$B$40, $BA35, 'Categories & Budgets'!$D$11:$D$40)) -> #N/A | BC35: =IF($BA35="", "", SUMIF('Categories & Budgets'!$V$11:$V$40, $BA35, 'Categories & Budgets'!$I$11:$I$40)) | BD35: =IF($BA35="", "", SUMIF('Categories & Budgets'!$W$11:$W$40, $BA35, 'Categories & Budgets'!$I$11:$I$40))
BB39: Finished | BC39: Active | BD39: Unused
BA40: Actual | BB40: =SUMIF('Categories & Budgets'!$G$11:$G$40, 'Categories & Budgets'!$R$4, 'Categories & Budgets'!$I$11:$I$40) -> 0 | BC40: =SUMIF('Categories & Budgets'!$G$11:$G$40, 'Categories & Budgets'!$R$3, 'Categories & Budgets'!$I$11:$I$40) -> 0 | BD40: =SUMIF('Categories & Budgets'!$G$11:$G$40, 'Categories & Budgets'!$R$2, 'Categories & Budgets'!$I$11:$I$40) -> 0
B41: ='Intro & Setup'!$Z$9 -> £ | BA41: Budget | BB41: =SUMIF('Categories & Budgets'!$G$11:$G$40, 'Categories & Budgets'!$R$4, 'Categories & Budgets'!$D$11:$D$40) -> 0 | BC41: =SUMIF('Categories & Budgets'!$G$11:$G$40, 'Categories & Budgets'!$R$3, 'Categories & Budgets'!$D$11:$D$40) -> 0 | BD41: =SUMIF('Categories & Budgets'!$G$11:$G$40, 'Categories & Budgets'!$R$2, 'Categories & Budgets'!$D$11:$D$40) -> 0
BB44: Budget Spent | BC44: Over Budget | BD44: Budget Spare
BA45: Overall Project Status | BB45: =IF($BD$51>=0, $BD$49, $BD$48) -> 0 | BC45: =IF($BD$51>=0, 0, $BD$49-$BD$48) -> 0 | BD45: =IF($BD$51>=0, $BD$51, 0) -> 0
B47: Top 10 Suppliers | T47: Top 15 Categories (based on budgets) | BB47: Amount Spent
AZ48: 1 | BA48: =IFERROR(INDEX(Suppliers!$B$11:$B$230, MATCH($AZ48,Suppliers!$N$11:$N$230, 0)), "No Data") -> No Data | BB48: =SUMIF(Suppliers!$B$11:$B$230, $BA48, Suppliers!$E$11:$E$230) -> 0 | BC48: Budget | BD48: ='Categories & Budgets'!$D$7 -> 0
H49: Amount Spent | L49: % of Total | AD49: Budget | AI49: Amount Spent | AN49: % of Budget | AQ49: Finished | AZ49: 2 | BA49: =IFERROR(INDEX(Suppliers!$B$11:$B$230, MATCH($AZ49,Suppliers!$N$11:$N$230, 0)), "") | BB49: =SUMIF(Suppliers!$B$11:$B$230, $BA49, Suppliers!$E$11:$E$230) -> 0 | BC49: Expenses | BD49: =Expenses!$G$7 -> 0
B50: =$BA48 -> No Data | H50: =IF($B50="", "", $BB48) -> 0 | L50: =IF($H50="", "", IFERROR(ROUND($H50/SUM($BB$48:$BB$59), 2), "")) | T50: =IFERROR(INDEX('Categories & Budgets'!$B$11:$B$40, MATCH($AX50, 'Categories & Budgets'!$AD$11:$AD$40, 0)), "") | AD50: =IFERROR(INDEX('Categories & Budgets'!$D$11:$D$40, MATCH($AX50, 'Categories & Budgets'!$AD$11:$AD$40, 0)), "") | AI50: =IFERROR(INDEX('Categories & Budgets'!$I$11:$I$40, MATCH($AX50, 'Categories & Budgets'!$AD$11:$AD$40, 0)), "") | AN50: =IF(OR($AD50="", $AI50=""), "", IFERROR(ROUND($AI50/$AD50, 2), "")) | AQ50: =IF($T50="", "", IF(IFERROR(INDEX('Categories & Budgets'!$E$11:$E$40, MATCH($AX50, 'Categories & Budgets'!$AD$11:$AD$40, 0)), "")="", 'Categories & Budgets'!$R$8, IFERROR(INDEX('Categories & Budgets'!$E$11:$E$40, MATCH($AX50, 'Categories & Budgets'!$AD$11:$AD$40, 0)), ""))) | AX50: 1 | AZ50: 3 | BA50: =IFERROR(INDEX(Suppliers!$B$11:$B$230, MATCH($AZ50,Suppliers!$N$11:$N$230, 0)), "") | BB50: =SUMIF(Suppliers!$B$11:$B$230, $BA50, Suppliers!$E$11:$E$230) -> 0
B51: =$BA49 | H51: =IF($B51="", "", $BB49) | L51: =IF($H51="", "", IFERROR(ROUND($H51/SUM($BB$48:$BB$59), 2), "")) | T51: =IFERROR(INDEX('Categories & Budgets'!$B$11:$B$40, MATCH($AX51, 'Categories & Budgets'!$AD$11:$AD$40, 0)), "") | AD51: =IFERROR(INDEX('Categories & Budgets'!$D$11:$D$40, MATCH($AX51, 'Categories & Budgets'!$AD$11:$AD$40, 0)), "") | AI51: =IFERROR(INDEX('Categories & Budgets'!$I$11:$I$40, MATCH($AX51, 'Categories & Budgets'!$AD$11:$AD$40, 0)), "") | AN51: =IF(OR($AD51="", $AI51=""), "", IFERROR(ROUND($AI51/$AD51, 2), "")) | AQ51: =IF($T51="", "", IF(IFERROR(INDEX('Categories & Budgets'!$E$11:$E$40, MATCH($AX51, 'Categories & Budgets'!$AD$11:$AD$40, 0)), "")="", 'Categories & Budgets'!$R$8, IFERROR(INDEX('Categories & Budgets'!$E$11:$E$40, MATCH($AX51, 'Categories & Budgets'!$AD$11:$AD$40, 0)), ""))) | AX51: 2 | AZ51: 4 | BA51: =IFERROR(INDEX(Suppliers!$B$11:$B$230, MATCH($AZ51,Suppliers!$N$11:$N$230, 0)), "") | BB51: =SUMIF(Suppliers!$B$11:$B$230, $BA51, Suppliers!$E$11:$E$230) -> 0 | BC51: Balance | BD51: =BD48-BD49 -> 0
B52: =$BA50 | H52: =IF($B52="", "", $BB50) | L52: =IF($H52="", "", IFERROR(ROUND($H52/SUM($BB$48:$BB$59), 2), "")) | T52: =IFERROR(INDEX('Categories & Budgets'!$B$11:$B$40, MATCH($AX52, 'Categories & Budgets'!$AD$11:$AD$40, 0)), "") | AD52: =IFERROR(INDEX('Categories & Budgets'!$D$11:$D$40, MATCH($AX52, 'Categories & Budgets'!$AD$11:$AD$40, 0)), "") | AI52: =IFERROR(INDEX('Categories & Budgets'!$I$11:$I$40, MATCH($AX52, 'Categories & Budgets'!$AD$11:$AD$40, 0)), "") | AN52: =IF(OR($AD52="", $AI52=""), "", IFERROR(ROUND($AI52/$AD52, 2), "")) | AQ52: =IF($T52="", "", IF(IFERROR(INDEX('Categories & Budgets'!$E$11:$E$40, MATCH($AX52, 'Categories & Budgets'!$AD$11:$AD$40, 0)), "")="", 'Categories & Budgets'!$R$8, IFERROR(INDEX('Categories & Budgets'!$E$11:$E$40, MATCH($AX52, 'Categories & Budgets'!$AD$11:$AD$40, 0)), ""))) | AX52: 3 | AZ52: 5 | BA52: =IFERROR(INDEX(Suppliers!$B$11:$B$230, MATCH($AZ52,Suppliers!$N$11:$N$230, 0)), "") | BB52: =SUMIF(Suppliers!$B$11:$B$230, $BA52, Suppliers!$E$11:$E$230) -> 0
B53: =$BA51 | H53: =IF($B53="", "", $BB51) | L53: =IF($H53="", "", IFERROR(ROUND($H53/SUM($BB$48:$BB$59), 2), "")) | T53: =IFERROR(INDEX('Categories & Budgets'!$B$11:$B$40, MATCH($AX53, 'Categories & Budgets'!$AD$11:$AD$40, 0)), "") | AD53: =IFERROR(INDEX('Categories & Budgets'!$D$11:$D$40, MATCH($AX53, 'Categories & Budgets'!$AD$11:$AD$40, 0)), "") | AI53: =IFERROR(INDEX('Categories & Budgets'!$I$11:$I$40, MATCH($AX53, 'Categories & Budgets'!$AD$11:$AD$40, 0)), "") | AN53: =IF(OR($AD53="", $AI53=""), "", IFERROR(ROUND($AI53/$AD53, 2), "")) | AQ53: =IF($T53="", "", IF(IFERROR(INDEX('Categories & Budgets'!$E$11:$E$40, MATCH($AX53, 'Categories & Budgets'!$AD$11:$AD$40, 0)), "")="", 'Categories & Budgets'!$R$8, IFERROR(INDEX('Categories & Budgets'!$E$11:$E$40, MATCH($AX53, 'Categories & Budgets'!$AD$11:$AD$40, 0)), ""))) | AX53: 4 | AZ53: 6 | BA53: =IFERROR(INDEX(Suppliers!$B$11:$B$230, MATCH($AZ53,Suppliers!$N$11:$N$230, 0)), "") | BB53: =SUMIF(Suppliers!$B$11:$B$230, $BA53, Suppliers!$E$11:$E$230) -> 0
B54: =$BA52 | H54: =IF($B54="", "", $BB52) | L54: =IF($H54="", "", IFERROR(ROUND($H54/SUM($BB$48:$BB$59), 2), "")) | T54: =IFERROR(INDEX('Categories & Budgets'!$B$11:$B$40, MATCH($AX54, 'Categories & Budgets'!$AD$11:$AD$40, 0)), "") | AD54: =IFERROR(INDEX('Categories & Budgets'!$D$11:$D$40, MATCH($AX54, 'Categories & Budgets'!$AD$11:$AD$40, 0)), "") | AI54: =IFERROR(INDEX('Categories & Budgets'!$I$11:$I$40, MATCH($AX54, 'Categories & Budgets'!$AD$11:$AD$40, 0)), "") | AN54: =IF(OR($AD54="", $AI54=""), "", IFERROR(ROUND($AI54/$AD54, 2), "")) | AQ54: =IF($T54="", "", IF(IFERROR(INDEX('Categories & Budgets'!$E$11:$E$40, MATCH($AX54, 'Categories & Budgets'!$AD$11:$AD$40, 0)), "")="", 'Categories & Budgets'!$R$8, IFERROR(INDEX('Categories & Budgets'!$E$11:$E$40, MATCH($AX54, 'Categories & Budgets'!$AD$11:$AD$40, 0)), ""))) | AX54: 5 | AZ54: 7 | BA54: =IFERROR(INDEX(Suppliers!$B$11:$B$230, MATCH($AZ54,Suppliers!$N$11:$N$230, 0)), "") | BB54: =SUMIF(Suppliers!$B$11:$B$230, $BA54, Suppliers!$E$11:$E$230) -> 0
...
