Workbook

Sheet Intro & Setup
B2: Thanks for trying the Project Layout Schedule
B5: Please read these notes explaining how to use this spreadsheet
B7: Editable Cells | H7: The yellow background and blue writing usually identifies cells where you can enter or edit information.
B8: Calculated Cells | H8: The blue background and yellow writing usually identifies cells which are calculated, and therefore locked.
B9: If you copy and paste data into this spreadsheet (from an internal or external source), ALWAYS use paste VALUES, never normal paste.
B10: Using the drag function is the same as copy and paste, so do not use it.
B11: DO not delete or move data or cells. You can use clear contents, or you can use the sort function where there are filters.
B14: Please complete the following sections before using this spreadsheet
B16: Company Name | H16: Your Business
B18: Your company name will be locked. It is like that to ensure protection for this spreadsheet. If it is wrong, please contact us. | AC18: Project Types | AK18: Please input up to 10 different project types. These will be available to be used on the Project details tab, to assign to each project. This is assuming that you're monitoring various projects, if you're monitoring various tasks within one project, then these will be task categories. All they really do is determine what colour the task or project will appear as on the Monthly Overview Gantt chart. Don't have duplicates, and the colours show what colour each entry type will appear as.
AY19: =IF($AC19="", "", IF(COUNTIF($AC$19:$AH$28, $AC19)>1, "X", ""))
AY20: =IF($AC20="", "", IF(COUNTIF($AC$19:$AH$28, $AC20)>1, "X", ""))
AY21: =IF($AC21="", "", IF(COUNTIF($AC$19:$AH$28, $AC21)>1, "X", ""))
B22: If you get stuck, here is a demo video | AY22: =IF($AC22="", "", IF(COUNTIF($AC$19:$AH$28, $AC22)>1, "X", ""))
AY23: =IF($AC23="", "", IF(COUNTIF($AC$19:$AH$28, $AC23)>1, "X", ""))
AY24: =IF($AC24="", "", IF(COUNTIF($AC$19:$AH$28, $AC24)>1, "X", ""))
AY25: =IF($AC25="", "", IF(COUNTIF($AC$19:$AH$28, $AC25)>1, "X", ""))
AY26: =IF($AC26="", "", IF(COUNTIF($AC$19:$AH$28, $AC26)>1, "X", ""))
AY27: =IF($AC27="", "", IF(COUNTIF($AC$19:$AH$28, $AC27)>1, "X", ""))
S28: The project name will appear on the Monthly Overview and Project Details pages, as an overall name for this project. | AY28: =IF($AC28="", "", IF(COUNTIF($AC$19:$AH$28, $AC28)>1, "X", ""))
B29: Watch the demo on YouTube
AB30: Project Name | AI30: Test Project
B34: This spreadsheet is part of our | Y34: This spreadsheet was created by
B42: Click the logo to see the other products in this range | Y42: SSS10090 - Job Breakdown
B47: We do not offer support on Basic Range spreadsheets, but if you find any errors, please let us know.
Y48: © Sumcor Ltd - Trading as Spreadsheet Solutions

Sheet Project Details
B2: Project Details | E2: Project Name
E3: =IF('Intro & Setup'!$AI$30="", "", 'Intro & Setup'!$AI$30) -> Test Project
N4: ✓
B5: Each new line can be used for a new project, or a task within one big project. Simply add a unique project name for each line, along with selecting the type (as per your setup instructions) to determine the colour of the representation on the overview. You can then put in the start date and end date for each task, and tick the relevant columns if action is required on weekends or bank holidays. Then simply put the completion date in once the task is complete. This will supply the data for the overview. | N5: ✕
B8: =IF($P$8=0, "", "Duplicate Project Names") | C8: Select | F8: Select if applicable | H8: Date when | P8: =COUNTIF($P$11:$P$68, "X") -> 0 | R8: =TODAY() -> 43616
B9: Project Name | C9: Project Type | D9: Start Date | E9: Finish Date | F9: Weekends | G9: Bank Hols | H9: Complete | J9: % Time Used | N9: Type List
P10: Duplicates | R10: End Date | T10: WE Only | U10: BH Only | V10: Both | W10: Neither | Y10: Type
J11: =IF($Y11="", "", IF($Y11=$T$10, $T11, IF($Y11=$U$10, $U11, IF($Y11=$V$10, $V11, IF($Y11=$W$10, $W11, ""))))) | N11: =IF('Intro & Setup'!$AC19="", "", 'Intro & Setup'!$AC19) | O11: 1 | P11: =IF($B11="", "", IF(COUNTIF($B$11:$B$68, $B11)>1, "X", "")) | R11: =IF(OR($D11="", $E11=""), "", IF($H11="", $R$8, $H11)) | T11: =IFERROR(ROUND((NETWORKDAYS($D11, $R11)-1)/(NETWORKDAYS($D11, $E11)-1), 2), "") | U11: =IFERROR(ROUND(($R11-$D11+NETWORKDAYS($D11, $R11, 'Monthly Overview'!$BL$4:$BL$11)-NETWORKDAYS($D11, $R11))/($E11-$D11+NETWORKDAYS($D11, $E11, 'Monthly Overview'!$BL$4:$BL$11)-NETWORKDAYS($D11, $E11)), 2), "") | V11: =IFERROR(ROUND((NETWORKDAYS($D11, $R11, 'Monthly Overview'!$BL$4:$BL$11)-1)/(NETWORKDAYS($D11, $E11, 'Monthly Overview'!$BL$4:$BL$11)-1), 2), "") | W11: =IFERROR(ROUND(($R11-$D11)/($E11-$D11), 2), "") | Y11: =IF($R11="", "", IF(AND($F11=$N$4, $G11=""), $T$10, IF(AND($F11=$N$4, $G11=$N$4), $V$10, IF(AND($F11="", $G11=$N$4), $U$10, IF(AND($F11="", $G11=""), $W$10, "")))))
J12: =IF($Y12="", "", IF($Y12=$T$10, $T12, IF($Y12=$U$10, $U12, IF($Y12=$V$10, $V12, IF($Y12=$W$10, $W12, ""))))) | N12: =IF('Intro & Setup'!$AC20="", "", 'Intro & Setup'!$AC20) | O12: 2 | P12: =IF($B12="", "", IF(COUNTIF($B$11:$B$68, $B12)>1, "X", "")) | R12: =IF(OR($D12="", $E12=""), "", IF($H12="", $R$8, $H12)) | T12: =IFERROR(ROUND((NETWORKDAYS($D12, $R12)-1)/(NETWORKDAYS($D12, $E12)-1), 2), "") | U12: =IFERROR(ROUND(($R12-$D12+NETWORKDAYS($D12, $R12, 'Monthly Overview'!$BL$4:$BL$11)-NETWORKDAYS($D12, $R12))/($E12-$D12+NETWORKDAYS($D12, $E12, 'Monthly Overview'!$BL$4:$BL$11)-NETWORKDAYS($D12, $E12)), 2), "") | V12: =IFERROR(ROUND((NETWORKDAYS($D12, $R12, 'Monthly Overview'!$BL$4:$BL$11)-1)/(NETWORKDAYS($D12, $E12, 'Monthly Overview'!$BL$4:$BL$11)-1), 2), "") | W12: =IFERROR(ROUND(($R12-$D12)/($E12-$D12), 2), "") | Y12: =IF($R12="", "", IF(AND($F12=$N$4, $G12=""), $T$10, IF(AND($F12=$N$4, $G12=$N$4), $V$10, IF(AND($F12="", $G12=$N$4), $U$10, IF(AND($F12="", $G12=""), $W$10, "")))))
J13: =IF($Y13="", "", IF($Y13=$T$10, $T13, IF($Y13=$U$10, $U13, IF($Y13=$V$10, $V13, IF($Y13=$W$10, $W13, ""))))) | N13: =IF('Intro & Setup'!$AC21="", "", 'Intro & Setup'!$AC21) | O13: 3 | P13: =IF($B13="", "", IF(COUNTIF($B$11:$B$68, $B13)>1, "X", "")) | R13: =IF(OR($D13="", $E13=""), "", IF($H13="", $R$8, $H13)) | T13: =IFERROR(ROUND((NETWORKDAYS($D13, $R13)-1)/(NETWORKDAYS($D13, $E13)-1), 2), "") | U13: =IFERROR(ROUND(($R13-$D13+NETWORKDAYS($D13, $R13, 'Monthly Overview'!$BL$4:$BL$11)-NETWORKDAYS($D13, $R13))/($E13-$D13+NETWORKDAYS($D13, $E13, 'Monthly Overview'!$BL$4:$BL$11)-NETWORKDAYS($D13, $E13)), 2), "") | V13: =IFERROR(ROUND((NETWORKDAYS($D13, $R13, 'Monthly Overview'!$BL$4:$BL$11)-1)/(NETWORKDAYS($D13, $E13, 'Monthly Overview'!$BL$4:$BL$11)-1), 2), "") | W13: =IFERROR(ROUND(($R13-$D13)/($E13-$D13), 2), "") | Y13: =IF($R13="", "", IF(AND($F13=$N$4, $G13=""), $T$10, IF(AND($F13=$N$4, $G13=$N$4), $V$10, IF(AND($F13="", $G13=$N$4), $U$10, IF(AND($F13="", $G13=""), $W$10, "")))))
J14: =IF($Y14="", "", IF($Y14=$T$10, $T14, IF($Y14=$U$10, $U14, IF($Y14=$V$10, $V14, IF($Y14=$W$10, $W14, ""))))) | N14: =IF('Intro & Setup'!$AC22="", "", 'Intro & Setup'!$AC22) | O14: 4 | P14: =IF($B14="", "", IF(COUNTIF($B$11:$B$68, $B14)>1, "X", "")) | R14: =IF(OR($D14="", $E14=""), "", IF($H14="", $R$8, $H14)) | T14: =IFERROR(ROUND((NETWORKDAYS($D14, $R14)-1)/(NETWORKDAYS($D14, $E14)-1), 2), "") | U14: =IFERROR(ROUND(($R14-$D14+NETWORKDAYS($D14, $R14, 'Monthly Overview'!$BL$4:$BL$11)-NETWORKDAYS($D14, $R14))/($E14-$D14+NETWORKDAYS($D14, $E14, 'Monthly Overview'!$BL$4:$BL$11)-NETWORKDAYS($D14, $E14)), 2), "") | V14: =IFERROR(ROUND((NETWORKDAYS($D14, $R14, 'Monthly Overview'!$BL$4:$BL$11)-1)/(NETWORKDAYS($D14, $E14, 'Monthly Overview'!$BL$4:$BL$11)-1), 2), "") | W14: =IFERROR(ROUND(($R14-$D14)/($E14-$D14), 2), "") | Y14: =IF($R14="", "", IF(AND($F14=$N$4, $G14=""), $T$10, IF(AND($F14=$N$4, $G14=$N$4), $V$10, IF(AND($F14="", $G14=$N$4), $U$10, IF(AND($F14="", $G14=""), $W$10, "")))))
J15: =IF($Y15="", "", IF($Y15=$T$10, $T15, IF($Y15=$U$10, $U15, IF($Y15=$V$10, $V15, IF($Y15=$W$10, $W15, ""))))) | N15: =IF('Intro & Setup'!$AC23="", "", 'Intro & Setup'!$AC23) | O15: 5 | P15: =IF($B15="", "", IF(COUNTIF($B$11:$B$68, $B15)>1, "X", "")) | R15: =IF(OR($D15="", $E15=""), "", IF($H15="", $R$8, $H15)) | T15: =IFERROR(ROUND((NETWORKDAYS($D15, $R15)-1)/(NETWORKDAYS($D15, $E15)-1), 2), "") | U15: =IFERROR(ROUND(($R15-$D15+NETWORKDAYS($D15, $R15, 'Monthly Overview'!$BL$4:$BL$11)-NETWORKDAYS($D15, $R15))/($E15-$D15+NETWORKDAYS($D15, $E15, 'Monthly Overview'!$BL$4:$BL$11)-NETWORKDAYS($D15, $E15)), 2), "") | V15: =IFERROR(ROUND((NETWORKDAYS($D15, $R15, 'Monthly Overview'!$BL$4:$BL$11)-1)/(NETWORKDAYS($D15, $E15, 'Monthly Overview'!$BL$4:$BL$11)-1), 2), "") | W15: =IFERROR(ROUND(($R15-$D15)/($E15-$D15), 2), "") | Y15: =IF($R15="", "", IF(AND($F15=$N$4, $G15=""), $T$10, IF(AND($F15=$N$4, $G15=$N$4), $V$10, IF(AND($F15="", $G15=$N$4), $U$10, IF(AND($F15="", $G15=""), $W$10, "")))))
J16: =IF($Y16="", "", IF($Y16=$T$10, $T16, IF($Y16=$U$10, $U16, IF($Y16=$V$10, $V16, IF($Y16=$W$10, $W16, ""))))) | N16: =IF('Intro & Setup'!$AC24="", "", 'Intro & Setup'!$AC24) | O16: 6 | P16: =IF($B16="", "", IF(COUNTIF($B$11:$B$68, $B16)>1, "X", "")) | R16: =IF(OR($D16="", $E16=""), "", IF($H16="", $R$8, $H16)) | T16: =IFERROR(ROUND((NETWORKDAYS($D16, $R16)-1)/(NETWORKDAYS($D16, $E16)-1), 2), "") | U16: =IFERROR(ROUND(($R16-$D16+NETWORKDAYS($D16, $R16, 'Monthly Overview'!$BL$4:$BL$11)-NETWORKDAYS($D16, $R16))/($E16-$D16+NETWORKDAYS($D16, $E16, 'Monthly Overview'!$BL$4:$BL$11)-NETWORKDAYS($D16, $E16)), 2), "") | V16: =IFERROR(ROUND((NETWORKDAYS($D16, $R16, 'Monthly Overview'!$BL$4:$BL$11)-1)/(NETWORKDAYS($D16, $E16, 'Monthly Overview'!$BL$4:$BL$11)-1), 2), "") | W16: =IFERROR(ROUND(($R16-$D16)/($E16-$D16), 2), "") | Y16: =IF($R16="", "", IF(AND($F16=$N$4, $G16=""), $T$10, IF(AND($F16=$N$4, $G16=$N$4), $V$10, IF(AND($F16="", $G16=$N$4), $U$10, IF(AND($F16="", $G16=""), $W$10, "")))))
J17: =IF($Y17="", "", IF($Y17=$T$10, $T17, IF($Y17=$U$10, $U17, IF($Y17=$V$10, $V17, IF($Y17=$W$10, $W17, ""))))) | N17: =IF('Intro & Setup'!$AC25="", "", 'Intro & Setup'!$AC25) | O17: 7 | P17: =IF($B17="", "", IF(COUNTIF($B$11:$B$68, $B17)>1, "X", "")) | R17: =IF(OR($D17="", $E17=""), "", IF($H17="", $R$8, $H17)) | T17: =IFERROR(ROUND((NETWORKDAYS($D17, $R17)-1)/(NETWORKDAYS($D17, $E17)-1), 2), "") | U17: =IFERROR(ROUND(($R17-$D17+NETWORKDAYS($D17, $R17, 'Monthly Overview'!$BL$4:$BL$11)-NETWORKDAYS($D17, $R17))/($E17-$D17+NETWORKDAYS($D17, $E17, 'Monthly Overview'!$BL$4:$BL$11)-NETWORKDAYS($D17, $E17)), 2), "") | V17: =IFERROR(ROUND((NETWORKDAYS($D17, $R17, 'Monthly Overview'!$BL$4:$BL$11)-1)/(NETWORKDAYS($D17, $E17, 'Monthly Overview'!$BL$4:$BL$11)-1), 2), "") | W17: =IFERROR(ROUND(($R17-$D17)/($E17-$D17), 2), "") | Y17: =IF($R17="", "", IF(AND($F17=$N$4, $G17=""), $T$10, IF(AND($F17=$N$4, $G17=$N$4), $V$10, IF(AND($F17="", $G17=$N$4), $U$10, IF(AND($F17="", $G17=""), $W$10, "")))))
J18: =IF($Y18="", "", IF($Y18=$T$10, $T18, IF($Y18=$U$10, $U18, IF($Y18=$V$10, $V18, IF($Y18=$W$10, $W18, ""))))) | N18: =IF('Intro & Setup'!$AC26="", "", 'Intro & Setup'!$AC26) | O18: 8 | P18: =IF($B18="", "", IF(COUNTIF($B$11:$B$68, $B18)>1, "X", "")) | R18: =IF(OR($D18="", $E18=""), "", IF($H18="", $R$8, $H18)) | T18: =IFERROR(ROUND((NETWORKDAYS($D18, $R18)-1)/(NETWORKDAYS($D18, $E18)-1), 2), "") | U18: =IFERROR(ROUND(($R18-$D18+NETWORKDAYS($D18, $R18, 'Monthly Overview'!$BL$4:$BL$11)-NETWORKDAYS($D18, $R18))/($E18-$D18+NETWORKDAYS($D18, $E18, 'Monthly Overview'!$BL$4:$BL$11)-NETWORKDAYS($D18, $E18)), 2), "") | V18: =IFERROR(ROUND((NETWORKDAYS($D18, $R18, 'Monthly Overview'!$BL$4:$BL$11)-1)/(NETWORKDAYS($D18, $E18, 'Monthly Overview'!$BL$4:$BL$11)-1), 2), "") | W18: =IFERROR(ROUND(($R18-$D18)/($E18-$D18), 2), "") | Y18: =IF($R18="", "", IF(AND($F18=$N$4, $G18=""), $T$10, IF(AND($F18=$N$4, $G18=$N$4), $V$10, IF(AND($F18="", $G18=$N$4), $U$10, IF(AND($F18="", $G18=""), $W$10, "")))))
J19: =IF($Y19="", "", IF($Y19=$T$10, $T19, IF($Y19=$U$10, $U19, IF($Y19=$V$10, $V19, IF($Y19=$W$10, $W19, ""))))) | N19: =IF('Intro & Setup'!$AC27="", "", 'Intro & Setup'!$AC27) | O19: 9 | P19: =IF($B19="", "", IF(COUNTIF($B$11:$B$68, $B19)>1, "X", "")) | R19: =IF(OR($D19="", $E19=""), "", IF($H19="", $R$8, $H19)) | T19: =IFERROR(ROUND((NETWORKDAYS($D19, $R19)-1)/(NETWORKDAYS($D19, $E19)-1), 2), "") | U19: =IFERROR(ROUND(($R19-$D19+NETWORKDAYS($D19, $R19, 'Monthly Overview'!$BL$4:$BL$11)-NETWORKDAYS($D19, $R19))/($E19-$D19+NETWORKDAYS($D19, $E19, 'Monthly Overview'!$BL$4:$BL$11)-NETWORKDAYS($D19, $E19)), 2), "") | V19: =IFERROR(ROUND((NETWORKDAYS($D19, $R19, 'Monthly Overview'!$BL$4:$BL$11)-1)/(NETWORKDAYS($D19, $E19, 'Monthly Overview'!$BL$4:$BL$11)-1), 2), "") | W19: =IFERROR(ROUND(($R19-$D19)/($E19-$D19), 2), "") | Y19: =IF($R19="", "", IF(AND($F19=$N$4, $G19=""), $T$10, IF(AND($F19=$N$4, $G19=$N$4), $V$10, IF(AND($F19="", $G19=$N$4), $U$10, IF(AND($F19="", $G19=""), $W$10, "")))))
J20: =IF($Y20="", "", IF($Y20=$T$10, $T20, IF($Y20=$U$10, $U20, IF($Y20=$V$10, $V20, IF($Y20=$W$10, $W20, ""))))) | N20: =IF('Intro & Setup'!$AC28="", "", 'Intro & Setup'!$AC28) | O20: 10 | P20: =IF($B20="", "", IF(COUNTIF($B$11:$B$68, $B20)>1, "X", "")) | R20: =IF(OR($D20="", $E20=""), "", IF($H20="", $R$8, $H20)) | T20: =IFERROR(ROUND((NETWORKDAYS($D20, $R20)-1)/(NETWORKDAYS($D20, $E20)-1), 2), "") | U20: =IFERROR(ROUND(($R20-$D20+NETWORKDAYS($D20, $R20, 'Monthly Overview'!$BL$4:$BL$11)-NETWORKDAYS($D20, $R20))/($E20-$D20+NETWORKDAYS($D20, $E20, 'Monthly Overview'!$BL$4:$BL$11)-NETWORKDAYS($D20, $E20)), 2), "") | V20: =IFERROR(ROUND((NETWORKDAYS($D20, $R20, 'Monthly Overview'!$BL$4:$BL$11)-1)/(NETWORKDAYS($D20, $E20, 'Monthly Overview'!$BL$4:$BL$11)-1), 2), "") | W20: =IFERROR(ROUND(($R20-$D20)/($E20-$D20), 2), "") | Y20: =IF($R20="", "", IF(AND($F20=$N$4, $G20=""), $T$10, IF(AND($F20=$N$4, $G20=$N$4), $V$10, IF(AND($F20="", $G20=$N$4), $U$10, IF(AND($F20="", $G20=""), $W$10, "")))))
J21: =IF($Y21="", "", IF($Y21=$T$10, $T21, IF($Y21=$U$10, $U21, IF($Y21=$V$10, $V21, IF($Y21=$W$10, $W21, ""))))) | P21: =IF($B21="", "", IF(COUNTIF($B$11:$B$68, $B21)>1, "X", "")) | R21: =IF(OR($D21="", $E21=""), "", IF($H21="", $R$8, $H21)) | T21: =IFERROR(ROUND((NETWORKDAYS($D21, $R21)-1)/(NETWORKDAYS($D21, $E21)-1), 2), "") | U21: =IFERROR(ROUND(($R21-$D21+NETWORKDAYS($D21, $R21, 'Monthly Overview'!$BL$4:$BL$11)-NETWORKDAYS($D21, $R21))/($E21-$D21+NETWORKDAYS($D21, $E21, 'Monthly Overview'!$BL$4:$BL$11)-NETWORKDAYS($D21, $E21)), 2), "") | V21: =IFERROR(ROUND((NETWORKDAYS($D21, $R21, 'Monthly Overview'!$BL$4:$BL$11)-1)/(NETWORKDAYS($D21, $E21, 'Monthly Overview'!$BL$4:$BL$11)-1), 2), "") | W21: =IFERROR(ROUND(($R21-$D21)/($E21-$D21), 2), "") | Y21: =IF($R21="", "", IF(AND($F21=$N$4, $G21=""), $T$10, IF(AND($F21=$N$4, $G21=$N$4), $V$10, IF(AND($F21="", $G21=$N$4), $U$10, IF(AND($F21="", $G21=""), $W$10, "")))))
J22: =IF($Y22="", "", IF($Y22=$T$10, $T22, IF($Y22=$U$10, $U22, IF($Y22=$V$10, $V22, IF($Y22=$W$10, $W22, ""))))) | P22: =IF($B22="", "", IF(COUNTIF($B$11:$B$68, $B22)>1, "X", "")) | R22: =IF(OR($D22="", $E22=""), "", IF($H22="", $R$8, $H22)) | T22: =IFERROR(ROUND((NETWORKDAYS($D22, $R22)-1)/(NETWORKDAYS($D22, $E22)-1), 2), "") | U22: =IFERROR(ROUND(($R22-$D22+NETWORKDAYS($D22, $R22, 'Monthly Overview'!$BL$4:$BL$11)-NETWORKDAYS($D22, $R22))/($E22-$D22+NETWORKDAYS($D22, $E22, 'Monthly Overview'!$BL$4:$BL$11)-NETWORKDAYS($D22, $E22)), 2), "") | V22: =IFERROR(ROUND((NETWORKDAYS($D22, $R22, 'Monthly Overview'!$BL$4:$BL$11)-1)/(NETWORKDAYS($D22, $E22, 'Monthly Overview'!$BL$4:$BL$11)-1), 2), "") | W22: =IFERROR(ROUND(($R22-$D22)/($E22-$D22), 2), "") | Y22: =IF($R22="", "", IF(AND($F22=$N$4, $G22=""), $T$10, IF(AND($F22=$N$4, $G22=$N$4), $V$10, IF(AND($F22="", $G22=$N$4), $U$10, IF(AND($F22="", $G22=""), $W$10, "")))))
J23: =IF($Y23="", "", IF($Y23=$T$10, $T23, IF($Y23=$U$10, $U23, IF($Y23=$V$10, $V23, IF($Y23=$W$10, $W23, ""))))) | P23: =IF($B23="", "", IF(COUNTIF($B$11:$B$68, $B23)>1, "X", "")) | R23: =IF(OR($D23="", $E23=""), "", IF($H23="", $R$8, $H23)) | T23: =IFERROR(ROUND((NETWORKDAYS($D23, $R23)-1)/(NETWORKDAYS($D23, $E23)-1), 2), "") | U23: =IFERROR(ROUND(($R23-$D23+NETWORKDAYS($D23, $R23, 'Monthly Overview'!$BL$4:$BL$11)-NETWORKDAYS($D23, $R23))/($E23-$D23+NETWORKDAYS($D23, $E23, 'Monthly Overview'!$BL$4:$BL$11)-NETWORKDAYS($D23, $E23)), 2), "") | V23: =IFERROR(ROUND((NETWORKDAYS($D23, $R23, 'Monthly Overview'!$BL$4:$BL$11)-1)/(NETWORKDAYS($D23, $E23, 'Monthly Overview'!$BL$4:$BL$11)-1), 2), "") | W23: =IFERROR(ROUND(($R23-$D23)/($E23-$D23), 2), "") | Y23: =IF($R23="", "", IF(AND($F23=$N$4, $G23=""), $T$10, IF(AND($F23=$N$4, $G23=$N$4), $V$10, IF(AND($F23="", $G23=$N$4), $U$10, IF(AND($F23="", $G23=""), $W$10, "")))))
J24: =IF($Y24="", "", IF($Y24=$T$10, $T24, IF($Y24=$U$10, $U24, IF($Y24=$V$10, $V24, IF($Y24=$W$10, $W24, ""))))) | P24: =IF($B24="", "", IF(COUNTIF($B$11:$B$68, $B24)>1, "X", "")) | R24: =IF(OR($D24="", $E24=""), "", IF($H24="", $R$8, $H24)) | T24: =IFERROR(ROUND((NETWORKDAYS($D24, $R24)-1)/(NETWORKDAYS($D24, $E24)-1), 2), "") | U24: =IFERROR(ROUND(($R24-$D24+NETWORKDAYS($D24, $R24, 'Monthly Overview'!$BL$4:$BL$11)-NETWORKDAYS($D24, $R24))/($E24-$D24+NETWORKDAYS($D24, $E24, 'Monthly Overview'!$BL$4:$BL$11)-NETWORKDAYS($D24, $E24)), 2), "") | V24: =IFERROR(ROUND((NETWORKDAYS($D24, $R24, 'Monthly Overview'!$BL$4:$BL$11)-1)/(NETWORKDAYS($D24, $E24, 'Monthly Overview'!$BL$4:$BL$11)-1), 2), "") | W24: =IFERROR(ROUND(($R24-$D24)/($E24-$D24), 2), "") | Y24: =IF($R24="", "", IF(AND($F24=$N$4, $G24=""), $T$10, IF(AND($F24=$N$4, $G24=$N$4), $V$10, IF(AND($F24="", $G24=$N$4), $U$10, IF(AND($F24="", $G24=""), $W$10, "")))))
J25: =IF($Y25="", "", IF($Y25=$T$10, $T25, IF($Y25=$U$10, $U25, IF($Y25=$V$10, $V25, IF($Y25=$W$10, $W25, ""))))) | P25: =IF($B25="", "", IF(COUNTIF($B$11:$B$68, $B25)>1, "X", "")) | R25: =IF(OR($D25="", $E25=""), "", IF($H25="", $R$8, $H25)) | T25: =IFERROR(ROUND((NETWORKDAYS($D25, $R25)-1)/(NETWORKDAYS($D25, $E25)-1), 2), "") | U25: =IFERROR(ROUND(($R25-$D25+NETWORKDAYS($D25, $R25, 'Monthly Overview'!$BL$4:$BL$11)-NETWORKDAYS($D25, $R25))/($E25-$D25+NETWORKDAYS($D25, $E25, 'Monthly Overview'!$BL$4:$BL$11)-NETWORKDAYS($D25, $E25)), 2), "") | V25: =IFERROR(ROUND((NETWORKDAYS($D25, $R25, 'Monthly Overview'!$BL$4:$BL$11)-1)/(NETWORKDAYS($D25, $E25, 'Monthly Overview'!$BL$4:$BL$11)-1), 2), "") | W25: =IFERROR(ROUND(($R25-$D25)/($E25-$D25), 2), "") | Y25: =IF($R25="", "", IF(AND($F25=$N$4, $G25=""), $T$10, IF(AND($F25=$N$4, $G25=$N$4), $V$10, IF(AND($F25="", $G25=$N$4), $U$10, IF(AND($F25="", $G25=""), $W$10, "")))))
J26: =IF($Y26="", "", IF($Y26=$T$10, $T26, IF($Y26=$U$10, $U26, IF($Y26=$V$10, $V26, IF($Y26=$W$10, $W26, ""))))) | P26: =IF($B26="", "", IF(COUNTIF($B$11:$B$68, $B26)>1, "X", "")) | R26: =IF(OR($D26="", $E26=""), "", IF($H26="", $R$8, $H26)) | T26: =IFERROR(ROUND((NETWORKDAYS($D26, $R26)-1)/(NETWORKDAYS($D26, $E26)-1), 2), "") | U26: =IFERROR(ROUND(($R26-$D26+NETWORKDAYS($D26, $R26, 'Monthly Overview'!$BL$4:$BL$11)-NETWORKDAYS($D26, $R26))/($E26-$D26+NETWORKDAYS($D26, $E26, 'Monthly Overview'!$BL$4:$BL$11)-NETWORKDAYS($D26, $E26)), 2), "") | V26: =IFERROR(ROUND((NETWORKDAYS($D26, $R26, 'Monthly Overview'!$BL$4:$BL$11)-1)/(NETWORKDAYS($D26, $E26, 'Monthly Overview'!$BL$4:$BL$11)-1), 2), "") | W26: =IFERROR(ROUND(($R26-$D26)/($E26-$D26), 2), "") | Y26: =IF($R26="", "", IF(AND($F26=$N$4, $G26=""), $T$10, IF(AND($F26=$N$4, $G26=$N$4), $V$10, IF(AND($F26="", $G26=$N$4), $U$10, IF(AND($F26="", $G26=""), $W$10, "")))))
J27: =IF($Y27="", "", IF($Y27=$T$10, $T27, IF($Y27=$U$10, $U27, IF($Y27=$V$10, $V27, IF($Y27=$W$10, $W27, ""))))) | P27: =IF($B27="", "", IF(COUNTIF($B$11:$B$68, $B27)>1, "X", "")) | R27: =IF(OR($D27="", $E27=""), "", IF($H27="", $R$8, $H27)) | T27: =IFERROR(ROUND((NETWORKDAYS($D27, $R27)-1)/(NETWORKDAYS($D27, $E27)-1), 2), "") | U27: =IFERROR(ROUND(($R27-$D27+NETWORKDAYS($D27, $R27, 'Monthly Overview'!$BL$4:$BL$11)-NETWORKDAYS($D27, $R27))/($E27-$D27+NETWORKDAYS($D27, $E27, 'Monthly Overview'!$BL$4:$BL$11)-NETWORKDAYS($D27, $E27)), 2), "") | V27: =IFERROR(ROUND((NETWORKDAYS($D27, $R27, 'Monthly Overview'!$BL$4:$BL$11)-1)/(NETWORKDAYS($D27, $E27, 'Monthly Overview'!$BL$4:$BL$11)-1), 2), "") | W27: =IFERROR(ROUND(($R27-$D27)/($E27-$D27), 2), "") | Y27: =IF($R27="", "", IF(AND($F27=$N$4, $G27=""), $T$10, IF(AND($F27=$N$4, $G27=$N$4), $V$10, IF(AND($F27="", $G27=$N$4), $U$10, IF(AND($F27="", $G27=""), $W$10, "")))))
J28: =IF($Y28="", "", IF($Y28=$T$10, $T28, IF($Y28=$U$10, $U28, IF($Y28=$V$10, $V28, IF($Y28=$W$10, $W28, ""))))) | P28: =IF($B28="", "", IF(COUNTIF($B$11:$B$68, $B28)>1, "X", "")) | R28: =IF(OR($D28="", $E28=""), "", IF($H28="", $R$8, $H28)) | T28: =IFERROR(ROUND((NETWORKDAYS($D28, $R28)-1)/(NETWORKDAYS($D28, $E28)-1), 2), "") | U28: =IFERROR(ROUND(($R28-$D28+NETWORKDAYS($D28, $R28, 'Monthly Overview'!$BL$4:$BL$11)-NETWORKDAYS($D28, $R28))/($E28-$D28+NETWORKDAYS($D28, $E28, 'Monthly Overview'!$BL$4:$BL$11)-NETWORKDAYS($D28, $E28)), 2), "") | V28: =IFERROR(ROUND((NETWORKDAYS($D28, $R28, 'Monthly Overview'!$BL$4:$BL$11)-1)/(NETWORKDAYS($D28, $E28, 'Monthly Overview'!$BL$4:$BL$11)-1), 2), "") | W28: =IFERROR(ROUND(($R28-$D28)/($E28-$D28), 2), "") | Y28: =IF($R28="", "", IF(AND($F28=$N$4, $G28=""), $T$10, IF(AND($F28=$N$4, $G28=$N$4), $V$10, IF(AND($F28="", $G28=$N$4), $U$10, IF(AND($F28="", $G28=""), $W$10, "")))))
J29: =IF($Y29="", "", IF($Y29=$T$10, $T29, IF($Y29=$U$10, $U29, IF($Y29=$V$10, $V29, IF($Y29=$W$10, $W29, ""))))) | P29: =IF($B29="", "", IF(COUNTIF($B$11:$B$68, $B29)>1, "X", "")) | R29: =IF(OR($D29="", $E29=""), "", IF($H29="", $R$8, $H29)) | T29: =IFERROR(ROUND((NETWORKDAYS($D29, $R29)-1)/(NETWORKDAYS($D29, $E29)-1), 2), "") | U29: =IFERROR(ROUND(($R29-$D29+NETWORKDAYS($D29, $R29, 'Monthly Overview'!$BL$4:$BL$11)-NETWORKDAYS($D29, $R29))/($E29-$D29+NETWORKDAYS($D29, $E29, 'Monthly Overview'!$BL$4:$BL$11)-NETWORKDAYS($D29, $E29)), 2), "") | V29: =IFERROR(ROUND((NETWORKDAYS($D29, $R29, 'Monthly Overview'!$BL$4:$BL$11)-1)/(NETWORKDAYS($D29, $E29, 'Monthly Overview'!$BL$4:$BL$11)-1), 2), "") | W29: =IFERROR(ROUND(($R29-$D29)/($E29-$D29), 2), "") | Y29: =IF($R29="", "", IF(AND($F29=$N$4, $G29=""), $T$10, IF(AND($F29=$N$4, $G29=$N$4), $V$10, IF(AND($F29="", $G29=$N$4), $U$10, IF(AND($F29="", $G29=""), $W$10, "")))))
J30: =IF($Y30="", "", IF($Y30=$T$10, $T30, IF($Y30=$U$10, $U30, IF($Y30=$V$10, $V30, IF($Y30=$W$10, $W30, ""))))) | P30: =IF($B30="", "", IF(COUNTIF($B$11:$B$68, $B30)>1, "X", "")) | R30: =IF(OR($D30="", $E30=""), "", IF($H30="", $R$8, $H30)) | T30: =IFERROR(ROUND((NETWORKDAYS($D30, $R30)-1)/(NETWORKDAYS($D30, $E30)-1), 2), "") | U30: =IFERROR(ROUND(($R30-$D30+NETWORKDAYS($D30, $R30, 'Monthly Overview'!$BL$4:$BL$11)-NETWORKDAYS($D30, $R30))/($E30-$D30+NETWORKDAYS($D30, $E30, 'Monthly Overview'!$BL$4:$BL$11)-NETWORKDAYS($D30, $E30)), 2), "") | V30: =IFERROR(ROUND((NETWORKDAYS($D30, $R30, 'Monthly Overview'!$BL$4:$BL$11)-1)/(NETWORKDAYS($D30, $E30, 'Monthly Overview'!$BL$4:$BL$11)-1), 2), "") | W30: =IFERROR(ROUND(($R30-$D30)/($E30-$D30), 2), "") | Y30: =IF($R30="", "", IF(AND($F30=$N$4, $G30=""), $T$10, IF(AND($F30=$N$4, $G30=$N$4), $V$10, IF(AND($F30="", $G30=$N$4), $U$10, IF(AND($F30="", $G30=""), $W$10, "")))))
J31: =IF($Y31="", "", IF($Y31=$T$10, $T31, IF($Y31=$U$10, $U31, IF($Y31=$V$10, $V31, IF($Y31=$W$10, $W31, ""))))) | P31: =IF($B31="", "", IF(COUNTIF($B$11:$B$68, $B31)>1, "X", "")) | R31: =IF(OR($D31="", $E31=""), "", IF($H31="", $R$8, $H31)) | T31: =IFERROR(ROUND((NETWORKDAYS($D31, $R31)-1)/(NETWORKDAYS($D31, $E31)-1), 2), "") | U31: =IFERROR(ROUND(($R31-$D31+NETWORKDAYS($D31, $R31, 'Monthly Overview'!$BL$4:$BL$11)-NETWORKDAYS($D31, $R31))/($E31-$D31+NETWORKDAYS($D31, $E31, 'Monthly Overview'!$BL$4:$BL$11)-NETWORKDAYS($D31, $E31)), 2), "") | V31: =IFERROR(ROUND((NETWORKDAYS($D31, $R31, 'Monthly Overview'!$BL$4:$BL$11)-1)/(NETWORKDAYS($D31, $E31, 'Monthly Overview'!$BL$4:$BL$11)-1), 2), "") | W31: =IFERROR(ROUND(($R31-$D31)/($E31-$D31), 2), "") | Y31: =IF($R31="", "", IF(AND($F31=$N$4, $G31=""), $T$10, IF(AND($F31=$N$4, $G31=$N$4), $V$10, IF(AND($F31="", $G31=$N$4), $U$10, IF(AND($F31="", $G31=""), $W$10, "")))))
J32: =IF($Y32="", "", IF($Y32=$T$10, $T32, IF($Y32=$U$10, $U32, IF($Y32=$V$10, $V32, IF($Y32=$W$10, $W32, ""))))) | P32: =IF($B32="", "", IF(COUNTIF($B$11:$B$68, $B32)>1, "X", "")) | R32: =IF(OR($D32="", $E32=""), "", IF($H32="", $R$8, $H32)) | T32: =IFERROR(ROUND((NETWORKDAYS($D32, $R32)-1)/(NETWORKDAYS($D32, $E32)-1), 2), "") | U32: =IFERROR(ROUND(($R32-$D32+NETWORKDAYS($D32, $R32, 'Monthly Overview'!$BL$4:$BL$11)-NETWORKDAYS($D32, $R32))/($E32-$D32+NETWORKDAYS($D32, $E32, 'Monthly Overview'!$BL$4:$BL$11)-NETWORKDAYS($D32, $E32)), 2), "") | V32: =IFERROR(ROUND((NETWORKDAYS($D32, $R32, 'Monthly Overview'!$BL$4:$BL$11)-1)/(NETWORKDAYS($D32, $E32, 'Monthly Overview'!$BL$4:$BL$11)-1), 2), "") | W32: =IFERROR(ROUND(($R32-$D32)/($E32-$D32), 2), "") | Y32: =IF($R32="", "", IF(AND($F32=$N$4, $G32=""), $T$10, IF(AND($F32=$N$4, $G32=$N$4), $V$10, IF(AND($F32="", $G32=$N$4), $U$10, IF(AND($F32="", $G32=""), $W$10, "")))))
... J68: =IF($Y68="", "", IF($Y68=$T$10, $T68, IF($Y68=$U$10, $U68, IF($Y68=$V$10, $V68, IF($Y68=$W$10, $W68, ""))))) | P68: =IF($B68="", "", IF(COUNTIF($B$11:$B$68, $B68)>1, "X", "")) | R68: =IF(OR($D68="", $E68=""), "", IF($H68="", $R$8, $H68)) | T68: =IFERROR(ROUND((NETWORKDAYS($D68, $R68)-1)/(NETWORKDAYS($D68, $E68)-1), 2), "") | U68: =IFERROR(ROUND(($R68-$D68+NETWORKDAYS($D68, $R68, 'Monthly Overview'!$BL$4:$BL$11)-NETWORKDAYS($D68, $R68))/($E68-$D68+NETWORKDAYS($D68, $E68, 'Monthly Overview'!$BL$4:$BL$11)-NETWORKDAYS($D68, $E68)), 2), "") | V68: =IFERROR(ROUND((NETWORKDAYS($D68, $R68, 'Monthly Overview'!$BL$4:$BL$11)-1)/(NETWORKDAYS($D68, $E68, 'Monthly Overview'!$BL$4:$BL$11)-1), 2), "") | W68: =IFERROR(ROUND(($R68-$D68)/($E68-$D68), 2), "") | Y68: =IF($R68="", "", IF(AND($F68=$N$4, $G68=""), $T$10, IF(AND($F68=$N$4, $G68=$N$4), $V$10, IF(AND($F68="", $G68=$N$4), $U$10, IF(AND($F68="", $G68=""), $W$10, "")))))

Sheet Monthly Overview
B2: =_xlfn.CONCAT('Intro & Setup'!$AI$30, " for ", 'Intro & Setup'!$H$16) -> Test Project for Your Business
BA3: =IF($H$5="", $BA$4, $H$5) -> 43616 | BJ3: UK Bank Holidays | BL3: =YEAR($BA$3) -> 2019 | BN3: Day | BO3: Date | BQ3: Days | BR3: Diff 1 | BS3: Diff 2 | BT3: Diff 3 | BW3: 1 | BX3: 2 | BY3: 3 | BZ3: 4 | CA3: 5 | CB3: 6 | CC3: 7 | CD3: 8 | CE3: 9 | CF3: 10 | CG3: 11 | CH3: 12
B4: Leave blank for current month | BA4: =TODAY() -> 43616 | BJ4: New Years Day | BL4: =IF(BN4="Sat", BO4+2, IF(BN4="Sun", BO4+1, BO4)) -> 43466 | BN4: =TEXT(BO4, "ddd") -> Tue | BO4: =DATE(BL3, MONTH(1), DAY(1)) -> 43466 | BQ4: Mon | BR4: 0 | BS4: 0 | BT4: 3
B5: Input Date | P5: =_xlfn.CONCAT("This Chart is for ", TEXT($BA$3, "mmmm yyyy")) -> This Chart is for May 2019 | BJ5: Good Friday | BL5: =BO5-INDEX(BT4:BT10, MATCH(BN5, BQ4:BQ10, 0)) -> 43574 | BN5: =TEXT(BO5, "ddd") -> Sun | BO5: =DATE(YEAR(BO4),MONTH(DATE(YEAR(BO4),MONTH(1),DAY(1)))+((INT(((MOD((19*(MOD(YEAR(BO4),19))+(INT(YEAR(BO4)/100))-(INT(INT(YEAR(BO4)/100)/4))-(INT(((INT(YEAR(BO4)/100))-(INT(((INT(YEAR(BO4)/100))+8)/25))+1)/3))+15),30))+(MOD((32+2*(MOD(INT(YEAR(BO4)/100),4))+2*(INT((MOD(YEAR(BO4),100))/4))-(MOD((19*(MOD(YEAR(BO4),19))+(INT(YEAR(BO4)/100))-(INT(INT(YEAR(BO4)/100)/4))-(INT(((INT(YEAR(BO4)/100))-(INT(((INT(YEAR(BO4)/100))+8)/25))+1)/3))+15),30))-(MOD((MOD(YEAR(BO4),100)),4))),7))-7*(INT(((MOD(YEAR(BO4),19))+11*(MOD((19*(MOD(YEAR(BO4),19))+(INT(YEAR(BO4)/100))-(INT(INT(YEAR(BO4)/100)/4))-(INT(((INT(YEAR(BO4)/100))-(INT(((INT(YEAR(BO4)/100))+8)/25))+1)/3))+15),30))+22*(MOD((32+2*(MOD(INT(YEAR(BO4)/100),4))+2*(INT((MOD(YEAR(BO4),100))/4))-(MOD((19*(MOD(YEAR(BO4),19))+(INT(YEAR(BO4)/100))-(INT(INT(YEAR(BO4)/100)/4))-(INT(((INT(YEAR(BO4)/100))-(INT(((INT(YEAR(BO4)/100))+8)/25))+1)/3))+15),30))-(MOD((MOD(YEAR(BO4),100)),4))),7)))/451))+114)/31))-1),DAY(DATE(YEAR(BO4),MONTH(1),DAY(1)))+(((MOD(((MOD((19*(MOD(YEAR(BO4),19))+(INT(YEAR(BO4)/100))-(INT(INT(YEAR(BO4)/100)/4))-(INT(((INT(YEAR(BO4)/100))-(INT(((INT(YEAR(BO4)/100))+8)/25))+1)/3))+15),30))+(MOD((32+2*(MOD(INT(YEAR(BO4)/100),4))+2*(INT((MOD(YEAR(BO4),100))/4))-(MOD((19*(MOD(YEAR(BO4),19))+(INT(YEAR(BO4)/100))-(INT(INT(YEAR(BO4)/100)/4))-(INT(((INT(YEAR(BO4)/100))-(INT(((INT(YEAR(BO4)/100))+8)/25))+1)/3))+15),30))-(MOD((MOD(YEAR(BO4),100)),4))),7))-7*(INT(((MOD(YEAR(BO4),19))+11*(MOD((19*(MOD(YEAR(BO4),19))+(INT(YEAR(BO4)/100))-(INT(INT(YEAR(BO4)/100)/4))-(INT(((INT(YEAR(BO4)/100))-(INT(((INT(YEAR(BO4)/100))+8)/25))+1)/3))+15),30))+22*(MOD((32+2*(MOD(INT(YEAR(BO4)/100),4))+2*(INT((MOD(YEAR(BO4),100))/4))-(MOD((19*(MOD(YEAR(BO4),19))+(INT(YEAR(BO4)/100))-(INT(INT(YEAR(BO4)/100)/4))-(INT(((INT(YEAR(BO4)/100))-(INT(((INT(YEAR(BO4)/100))+8)/25))+1)/3))+15),30))-(MOD((MOD(YEAR(BO4),100)),4))),7)))/451))+114),31))+1)-1)) -> 43576 | BQ5: Tue | BR5: 1 | BS5: 6 | BT5: 4
M6: =IF(COUNTIF($BL$4:$BL$11, O$7)>0, "B", IF(OR(TEXT(O$7, "ddd")="Sun", TEXT(O$7, "ddd")="Sat"), "W", "")) | N6: =IF(COUNTIF($BL$4:$BL$11, P$7)>0, "B", IF(OR(TEXT(P$7, "ddd")="Sun", TEXT(P$7, "ddd")="Sat"), "W", "")) | O6: =IF(COUNTIF($BL$4:$BL$11, Q$7)>0, "B", IF(OR(TEXT(Q$7, "ddd")="Sun", TEXT(Q$7, "ddd")="Sat"), "W", "")) | P6: =IF(COUNTIF($BL$4:$BL$11, R$7)>0, "B", IF(OR(TEXT(R$7, "ddd")="Sun", TEXT(R$7, "ddd")="Sat"), "W", "")) -> W | Q6: =IF(COUNTIF($BL$4:$BL$11, S$7)>0, "B", IF(OR(TEXT(S$7, "ddd")="Sun", TEXT(S$7, "ddd")="Sat"), "W", "")) -> W | R6: =IF(COUNTIF($BL$4:$BL$11, T$7)>0, "B", IF(OR(TEXT(T$7, "ddd")="Sun", TEXT(T$7, "ddd")="Sat"), "W", "")) -> B | S6: =IF(COUNTIF($BL$4:$BL$11, U$7)>0, "B", IF(OR(TEXT(U$7, "ddd")="Sun", TEXT(U$7, "ddd")="Sat"), "W", "")) | T6: =IF(COUNTIF($BL$4:$BL$11, V$7)>0, "B", IF(OR(TEXT(V$7, "ddd")="Sun", TEXT(V$7, "ddd")="Sat"), "W", "")) | ... AQ6: =IF(COUNTIF($BL$4:$BL$11, AS$7)>0, "B", IF(OR(TEXT(AS$7, "ddd")="Sun", TEXT(AS$7, "ddd")="Sat"), "W", "")) | BJ6: Easter Monday | BL6: =BL5+3 -> 43577 | BN6: =TEXT(BO6, "ddd") -> Sun | BO6: =BO5 -> 43576 | BQ6: Wed | BR6: 2 | BS6: 5 | BT6: 5
K7: Done | O7: =IFERROR(DATE(YEAR($BA$3), MONTH($BA$3), 1), "") -> 43586 | P7: =IF(O$7="", "", IF(TEXT(O$7, "mmm yyyy")=TEXT(O$7+1, "mmm yyyy"), O$7+1, "")) -> 43587 | Q7: =IF(P$7="", "", IF(TEXT(P$7, "mmm yyyy")=TEXT(P$7+1, "mmm yyyy"), P$7+1, "")) -> 43588 | R7: =IF(Q$7="", "", IF(TEXT(Q$7, "mmm yyyy")=TEXT(Q$7+1, "mmm yyyy"), Q$7+1, "")) -> 43589 | S7: =IF(R$7="", "", IF(TEXT(R$7, "mmm yyyy")=TEXT(R$7+1, "mmm yyyy"), R$7+1, "")) -> 43590 | T7: =IF(S$7="", "", IF(TEXT(S$7, "mmm yyyy")=TEXT(S$7+1, "mmm yyyy"), S$7+1, "")) -> 43591 | U7: =IF(T$7="", "", IF(TEXT(T$7, "mmm yyyy")=TEXT(T$7+1, "mmm yyyy"), T$7+1, "")) -> 43592 | V7: =IF(U$7="", "", IF(TEXT(U$7, "mmm yyyy")=TEXT(U$7+1, "mmm yyyy"), U$7+1, "")) -> 43593 | W7: =IF(V$7="", "", IF(TEXT(V$7, "mmm yyyy")=TEXT(V$7+1, "mmm yyyy"), V$7+1, "")) -> 43594 | ... AS7: =IF(AR$7="", "", IF(TEXT(AR$7, "mmm yyyy")=TEXT(AR$7+1, "mmm yyyy"), AR$7+1, "")) -> 43616 | BA7: WE | BB7: BH | BC7: Type | BD7: Start | BE7: Finish | BF7: Complete | BJ7: Early May Bank Holiday | BL7: =BO7+INDEX(BS4:BS10, MATCH(BN7, BQ4:BQ10, 0)) -> 43591 | BN7: =TEXT(BO7, "ddd") -> Wed | BO7: =DATE(BL3, 5, 1) -> 43586 | BQ7: Thu | BR7: 3 | BS7: 4 | BT7: 6
B8: =IF('Project Details'!$B11="", "", 'Project Details'!$B11) | K8: =$BF8 | O8: =IF(OR($B8="", O$7=""), "", IF(AND(M$6="W", $BA8=""), "", IF(AND(M$6="B", $BB8=""), "", IF(AND(O$7>=$BD8, O$7<=$BE8), "X", "")))) | P8: =IF(OR($B8="", P$7=""), "", IF(AND(N$6="W", $BA8=""), "", IF(AND(N$6="B", $BB8=""), "", IF(AND(P$7>=$BD8, P$7<=$BE8), "X", "")))) | Q8: =IF(OR($B8="", Q$7=""), "", IF(AND(O$6="W", $BA8=""), "", IF(AND(O$6="B", $BB8=""), "", IF(AND(Q$7>=$BD8, Q$7<=$BE8), "X", "")))) | R8: =IF(OR($B8="", R$7=""), "", IF(AND(P$6="W", $BA8=""), "", IF(AND(P$6="B", $BB8=""), "", IF(AND(R$7>=$BD8, R$7<=$BE8), "X", "")))) | S8: =IF(OR($B8="", S$7=""), "", IF(AND(Q$6="W", $BA8=""), "", IF(AND(Q$6="B", $BB8=""), "", IF(AND(S$7>=$BD8, S$7<=$BE8), "X", "")))) | T8: =IF(OR($B8="", T$7=""), "", IF(AND(R$6="W", $BA8=""), "", IF(AND(R$6="B", $BB8=""), "", IF(AND(T$7>=$BD8, T$7<=$BE8), "X", "")))) | U8: =IF(OR($B8="", U$7=""), "", IF(AND(S$6="W", $BA8=""), "", IF(AND(S$6="B", $BB8=""), "", IF(AND(U$7>=$BD8, U$7<=$BE8), "X", "")))) | V8: =IF(OR($B8="", V$7=""), "", IF(AND(T$6="W", $BA8=""), "", IF(AND(T$6="B", $BB8=""), "", IF(AND(V$7>=$BD8, V$7<=$BE8), "X", "")))) | ... AS8: =IF(OR($B8="", AS$7=""), "", IF(AND(AQ$6="W", $BA8=""), "", IF(AND(AQ$6="B", $BB8=""), "", IF(AND(AS$7>=$BD8, AS$7<=$BE8), "X", "")))) | BA8: =IF(IFERROR(INDEX('Project Details'!$F$11:$F$68, MATCH($B8, 'Project Details'!$B$11:$B$68, 0)), "")="", "", IFERROR(INDEX('Project Details'!$F$11:$F$68, MATCH($B8, 'Project Details'!$B$11:$B$68, 0)), "")) | BB8: =IF(IFERROR(INDEX('Project Details'!$G$11:$G$68, MATCH($B8, 'Project Details'!$B$11:$B$68, 0)), "")="", "", IFERROR(INDEX('Project Details'!$G$11:$FG$68, MATCH($B8, 'Project Details'!$B$11:$B$68, 0)), "")) | BC8: =IF(IFERROR(INDEX('Project Details'!$C$11:$C$68, MATCH($B8, 'Project Details'!$B$11:$B$68, 0)), "")="", "", IFERROR(INDEX('Project Details'!$C$11:$C$68, MATCH($B8, 'Project Details'!$B$11:$B$68, 0)), "")) | BD8: =IF(IFERROR(INDEX('Project Details'!$D$11:$D$68, MATCH($B8, 'Project Details'!$B$11:$B$68, 0)), "")="", "", IFERROR(INDEX('Project Details'!$D$11:$D$68, MATCH($B8, 'Project Details'!$B$11:$B$68, 0)), "")) | BE8: =IF(IFERROR(INDEX('Project Details'!$E$11:$E$68, MATCH($B8, 'Project Details'!$B$11:$B$68, 0)), "")="", "", IFERROR(INDEX('Project Details'!$E$11:$E$68, MATCH($B8, 'Project Details'!$B$11:$B$68, 0)), "")) | BF8: =IF(IFERROR(INDEX('Project Details'!$H$11:$H$68, MATCH($B8, 'Project Details'!$B$11:$B$68, 0)), "")="", "", 'Project Details'!$N$4) | BJ8: Spring Bank Holiday | BL8: =BO8-INDEX(BR4:BR10, MATCH(BN8, BQ4:BQ10, 0)) -> 43612 | BN8: =TEXT(BO8, "ddd") -> Fri | BO8: =DATE(BL3, 5, 31) -> 43616 | BQ8: Fri | BR8: 4 | BS8: 3 | BT8: 0 | BW8: =IF(O8="", "", IF($BF8='Project Details'!$N$4, $CH$3, IF($BC8="", $CG$3, IFERROR(INDEX('Project Details'!$O$11:$O$20, MATCH($BC8, 'Project Details'!$N$11:$N$20, 0)), "")))) | BX8: =IF(P8="", "", IF($BF8='Project Details'!$N$4, $CH$3, IF($BC8="", $CG$3, IFERROR(INDEX('Project Details'!$O$11:$O$20, MATCH($BC8, 'Project Details'!$N$11:$N$20, 0)), "")))) | BY8: =IF(Q8="", "", IF($BF8='Project Details'!$N$4, $CH$3, IF($BC8="", $CG$3, IFERROR(INDEX('Project Details'!$O$11:$O$20, MATCH($BC8, 'Project Details'!$N$11:$N$20, 0)), "")))) | BZ8: =IF(R8="", "", IF($BF8='Project Details'!$N$4, $CH$3, IF($BC8="", $CG$3, IFERROR(INDEX('Project Details'!$O$11:$O$20, MATCH($BC8, 'Project Details'!$N$11:$N$20, 0)), "")))) | CA8: =IF(S8="", "", IF($BF8='Project Details'!$N$4, $CH$3, IF($BC8="", $CG$3, IFERROR(INDEX('Project Details'!$O$11:$O$20, MATCH($BC8, 'Project Details'!$N$11:$N$20, 0)), "")))) | CB8: =IF(T8="", "", IF($BF8='Project Details'!$N$4, $CH$3, IF($BC8="", $CG$3, IFERROR(INDEX('Project Details'!$O$11:$O$20, MATCH($BC8, 'Project Details'!$N$11:$N$20, 0)), "")))) | CC8: =IF(U8="", "", IF($BF8='Project Details'!$N$4, $CH$3, IF($BC8="", $CG$3, IFERROR(INDEX('Project Details'!$O$11:$O$20, MATCH($BC8, 'Project Details'!$N$11:$N$20, 0)), "")))) | CD8: =IF(V8="", "", IF($BF8='Project Details'!$N$4, $CH$3, IF($BC8="", $CG$3, IFERROR(INDEX('Project Details'!$O$11:$O$20, MATCH($BC8, 'Project Details'!$N$11:$N$20, 0)), "")))) | ... DA8: =IF(AS8="", "", IF($BF8='Project Details'!$N$4, $CH$3, IF($BC8="", $CG$3, IFERROR(INDEX('Project Details'!$O$11:$O$20, MATCH($BC8, 'Project Details'!$N$11:$N$20, 0)), ""))))
B9: =IF('Project Details'!$B12="", "", 'Project Details'!$B12) | K9: =$BF9 | O9: =IF(OR($B9="", O$7=""), "", IF(AND(M$6="W", $BA9=""), "", IF(AND(M$6="B", $BB9=""), "", IF(AND(O$7>=$BD9, O$7<=$BE9), "X", "")))) | P9: =IF(OR($B9="", P$7=""), "", IF(AND(N$6="W", $BA9=""), "", IF(AND(N$6="B", $BB9=""), "", IF(AND(P$7>=$BD9, P$7<=$BE9), "X", "")))) | Q9: =IF(OR($B9="", Q$7=""), "", IF(AND(O$6="W", $BA9=""), "", IF(AND(O$6="B", $BB9=""), "", IF(AND(Q$7>=$BD9, Q$7<=$BE9), "X", "")))) | R9: =IF(OR($B9="", R$7=""), "", IF(AND(P$6="W", $BA9=""), "", IF(AND(P$6="B", $BB9=""), "", IF(AND(R$7>=$BD9, R$7<=$BE9), "X", "")))) | S9: =IF(OR($B9="", S$7=""), "", IF(AND(Q$6="W", $BA9=""), "", IF(AND(Q$6="B", $BB9=""), "", IF(AND(S$7>=$BD9, S$7<=$BE9), "X", "")))) | T9: =IF(OR($B9="", T$7=""), "", IF(AND(R$6="W", $BA9=""), "", IF(AND(R$6="B", $BB9=""), "", IF(AND(T$7>=$BD9, T$7<=$BE9), "X", "")))) | U9: =IF(OR($B9="", U$7=""), "", IF(AND(S$6="W", $BA9=""), "", IF(AND(S$6="B", $BB9=""), "", IF(AND(U$7>=$BD9, U$7<=$BE9), "X", "")))) | V9: =IF(OR($B9="", V$7=""), "", IF(AND(T$6="W", $BA9=""), "", IF(AND(T$6="B", $BB9=""), "", IF(AND(V$7>=$BD9, V$7<=$BE9), "X", "")))) | ... AS9: =IF(OR($B9="", AS$7=""), "", IF(AND(AQ$6="W", $BA9=""), "", IF(AND(AQ$6="B", $BB9=""), "", IF(AND(AS$7>=$BD9, AS$7<=$BE9), "X", "")))) | BA9: =IF(IFERROR(INDEX('Project Details'!$F$11:$F$68, MATCH($B9, 'Project Details'!$B$11:$B$68, 0)), "")="", "", IFERROR(INDEX('Project Details'!$F$11:$F$68, MATCH($B9, 'Project Details'!$B$11:$B$68, 0)), "")) | BB9: =IF(IFERROR(INDEX('Project Details'!$G$11:$G$68, MATCH($B9, 'Project Details'!$B$11:$B$68, 0)), "")="", "", IFERROR(INDEX('Project Details'!$G$11:$FG$68, MATCH($B9, 'Project Details'!$B$11:$B$68, 0)), "")) | BC9: =IF(IFERROR(INDEX('Project Details'!$C$11:$C$68, MATCH($B9, 'Project Details'!$B$11:$B$68, 0)), "")="", "", IFERROR(INDEX('Project Details'!$C$11:$C$68, MATCH($B9, 'Project Details'!$B$11:$B$68, 0)), "")) | BD9: =IF(IFERROR(INDEX('Project Details'!$D$11:$D$68, MATCH($B9, 'Project Details'!$B$11:$B$68, 0)), "")="", "", IFERROR(INDEX('Project Details'!$D$11:$D$68, MATCH($B9, 'Project Details'!$B$11:$B$68, 0)), "")) | BE9: =IF(IFERROR(INDEX('Project Details'!$E$11:$E$68, MATCH($B9, 'Project Details'!$B$11:$B$68, 0)), "")="", "", IFERROR(INDEX('Project Details'!$E$11:$E$68, MATCH($B9, 'Project Details'!$B$11:$B$68, 0)), "")) | BF9: =IF(IFERROR(INDEX('Project Details'!$H$11:$H$68, MATCH($B9, 'Project Details'!$B$11:$B$68, 0)), "")="", "", 'Project Details'!$N$4) | BJ9: Summer Bank Holiday | BL9: =BO9-INDEX(BR4:BR10, MATCH(BN9, BQ4:BQ10, 0)) -> 43703 | BN9: =TEXT(BO9, "ddd") -> Sat | BO9: =DATE(BL3, 8, 31) -> 43708 | BQ9: Sat | BR9: 5 | BS9: 2 | BT9: 1 | BW9: =IF(O9="", "", IF($BF9='Project Details'!$N$4, $CH$3, IF($BC9="", $CG$3, IFERROR(INDEX('Project Details'!$O$11:$O$20, MATCH($BC9, 'Project Details'!$N$11:$N$20, 0)), "")))) | BX9: =IF(P9="", "", IF($BF9='Project Details'!$N$4, $CH$3, IF($BC9="", $CG$3, IFERROR(INDEX('Project Details'!$O$11:$O$20, MATCH($BC9, 'Project Details'!$N$11:$N$20, 0)), "")))) | BY9: =IF(Q9="", "", IF($BF9='Project Details'!$N$4, $CH$3, IF($BC9="", $CG$3, IFERROR(INDEX('Project Details'!$O$11:$O$20, MATCH($BC9, 'Project Details'!$N$11:$N$20, 0)), "")))) | BZ9: =IF(R9="", "", IF($BF9='Project Details'!$N$4, $CH$3, IF($BC9="", $CG$3, IFERROR(INDEX('Project Details'!$O$11:$O$20, MATCH($BC9, 'Project Details'!$N$11:$N$20, 0)), "")))) | CA9: =IF(S9="", "", IF($BF9='Project Details'!$N$4, $CH$3, IF($BC9="", $CG$3, IFERROR(INDEX('Project Details'!$O$11:$O$20, MATCH($BC9, 'Project Details'!$N$11:$N$20, 0)), "")))) | CB9: =IF(T9="", "", IF($BF9='Project Details'!$N$4, $CH$3, IF($BC9="", $CG$3, IFERROR(INDEX('Project Details'!$O$11:$O$20, MATCH($BC9, 'Project Details'!$N$11:$N$20, 0)), "")))) | CC9: =IF(U9="", "", IF($BF9='Project Details'!$N$4, $CH$3, IF($BC9="", $CG$3, IFERROR(INDEX('Project Details'!$O$11:$O$20, MATCH($BC9, 'Project Details'!$N$11:$N$20, 0)), "")))) | CD9: =IF(V9="", "", IF($BF9='Project Details'!$N$4, $CH$3, IF($BC9="", $CG$3, IFERROR(INDEX('Project Details'!$O$11:$O$20, MATCH($BC9, 'Project Details'!$N$11:$N$20, 0)), "")))) | ... DA9: =IF(AS9="", "", IF($BF9='Project Details'!$N$4, $CH$3, IF($BC9="", $CG$3, IFERROR(INDEX('Project Details'!$O$11:$O$20, MATCH($BC9, 'Project Details'!$N$11:$N$20, 0)), ""))))
B10: =IF('Project Details'!$B13="", "", 'Project Details'!$B13) | K10: =$BF10 | O10: =IF(OR($B10="", O$7=""), "", IF(AND(M$6="W", $BA10=""), "", IF(AND(M$6="B", $BB10=""), "", IF(AND(O$7>=$BD10, O$7<=$BE10), "X", "")))) | P10: =IF(OR($B10="", P$7=""), "", IF(AND(N$6="W", $BA10=""), "", IF(AND(N$6="B", $BB10=""), "", IF(AND(P$7>=$BD10, P$7<=$BE10), "X", "")))) | Q10: =IF(OR($B10="", Q$7=""), "", IF(AND(O$6="W", $BA10=""), "", IF(AND(O$6="B", $BB10=""), "", IF(AND(Q$7>=$BD10, Q$7<=$BE10), "X", "")))) | R10: =IF(OR($B10="", R$7=""), "", IF(AND(P$6="W", $BA10=""), "", IF(AND(P$6="B", $BB10=""), "", IF(AND(R$7>=$BD10, R$7<=$BE10), "X", "")))) | S10: =IF(OR($B10="", S$7=""), "", IF(AND(Q$6="W", $BA10=""), "", IF(AND(Q$6="B", $BB10=""), "", IF(AND(S$7>=$BD10, S$7<=$BE10), "X", "")))) | T10: =IF(OR($B10="", T$7=""), "", IF(AND(R$6="W", $BA10=""), "", IF(AND(R$6="B", $BB10=""), "", IF(AND(T$7>=$BD10, T$7<=$BE10), "X", "")))) | U10: =IF(OR($B10="", U$7=""), "", IF(AND(S$6="W", $BA10=""), "", IF(AND(S$6="B", $BB10=""), "", IF(AND(U$7>=$BD10, U$7<=$BE10), "X", "")))) | V10: =IF(OR($B10="", V$7=""), "", IF(AND(T$6="W", $BA10=""), "", IF(AND(T$6="B", $BB10=""), "", IF(AND(V$7>=$BD10, V$7<=$BE10), "X", "")))) | ... AS10: =IF(OR($B10="", AS$7=""), "", IF(AND(AQ$6="W", $BA10=""), "", IF(AND(AQ$6="B", $BB10=""), "", IF(AND(AS$7>=$BD10, AS$7<=$BE10), "X", "")))) | BA10: =IF(IFERROR(INDEX('Project Details'!$F$11:$F$68, MATCH($B10, 'Project Details'!$B$11:$B$68, 0)), "")="", "", IFERROR(INDEX('Project Details'!$F$11:$F$68, MATCH($B10, 'Project Details'!$B$11:$B$68, 0)), "")) | BB10: =IF(IFERROR(INDEX('Project Details'!$G$11:$G$68, MATCH($B10, 'Project Details'!$B$11:$B$68, 0)), "")="", "", IFERROR(INDEX('Project Details'!$G$11:$FG$68, MATCH($B10, 'Project Details'!$B$11:$B$68, 0)), "")) | BC10: =IF(IFERROR(INDEX('Project Details'!$C$11:$C$68, MATCH($B10, 'Project Details'!$B$11:$B$68, 0)), "")="", "", IFERROR(INDEX('Project Details'!$C$11:$C$68, MATCH($B10, 'Project Details'!$B$11:$B$68, 0)), "")) | BD10: =IF(IFERROR(INDEX('Project Details'!$D$11:$D$68, MATCH($B10, 'Project Details'!$B$11:$B$68, 0)), "")="", "", IFERROR(INDEX('Project Details'!$D$11:$D$68, MATCH($B10, 'Project Details'!$B$11:$B$68, 0)), "")) | BE10: =IF(IFERROR(INDEX('Project Details'!$E$11:$E$68, MATCH($B10, 'Project Details'!$B$11:$B$68, 0)), "")="", "", IFERROR(INDEX('Project Details'!$E$11:$E$68, MATCH($B10, 'Project Details'!$B$11:$B$68, 0)), "")) | BF10: =IF(IFERROR(INDEX('Project Details'!$H$11:$H$68, MATCH($B10, 'Project Details'!$B$11:$B$68, 0)), "")="", "", 'Project Details'!$N$4) | BJ10: Christmas Day | BL10: =IF(OR(BN10="Sat", BN10="Sun"), BO10+INDEX(BS4:BS10, MATCH(BN10, BQ4:BQ10, 0)), BO10) -> 43824 | BN10: =TEXT(BO10, "ddd") -> Wed | BO10: =DATE(BL3, 12, 25) -> 43824 | BQ10: Sun | BR10: 6 | BS10: 1 | BT10: 2 | BW10: =IF(O10="", "", IF($BF10='Project Details'!$N$4, $CH$3, IF($BC10="", $CG$3, IFERROR(INDEX('Project Details'!$O$11:$O$20, MATCH($BC10, 'Project Details'!$N$11:$N$20, 0)), "")))) | BX10: =IF(P10="", "", IF($BF10='Project Details'!$N$4, $CH$3, IF($BC10="", $CG$3, IFERROR(INDEX('Project Details'!$O$11:$O$20, MATCH($BC10, 'Project Details'!$N$11:$N$20, 0)), "")))) | BY10: =IF(Q10="", "", IF($BF10='Project Details'!$N$4, $CH$3, IF($BC10="", $CG$3, IFERROR(INDEX('Project Details'!$O$11:$O$20, MATCH($BC10, 'Project Details'!$N$11:$N$20, 0)), "")))) | BZ10: =IF(R10="", "", IF($BF10='Project Details'!$N$4, $CH$3, IF($BC10="", $CG$3, IFERROR(INDEX('Project Details'!$O$11:$O$20, MATCH($BC10, 'Project Details'!$N$11:$N$20, 0)), "")))) | CA10: =IF(S10="", "", IF($BF10='Project Details'!$N$4, $CH$3, IF($BC10="", $CG$3, IFERROR(INDEX('Project Details'!$O$11:$O$20, MATCH($BC10, 'Project Details'!$N$11:$N$20, 0)), "")))) | CB10: =IF(T10="", "", IF($BF10='Project Details'!$N$4, $CH$3, IF($BC10="", $CG$3, IFERROR(INDEX('Project Details'!$O$11:$O$20, MATCH($BC10, 'Project Details'!$N$11:$N$20, 0)), "")))) | CC10: =IF(U10="", "", IF($BF10='Project Details'!$N$4, $CH$3, IF($BC10="", $CG$3, IFERROR(INDEX('Project Details'!$O$11:$O$20, MATCH($BC10, 'Project Details'!$N$11:$N$20, 0)), "")))) | CD10: =IF(V10="", "", IF($BF10='Project Details'!$N$4, $CH$3, IF($BC10="", $CG$3, IFERROR(INDEX('Project Details'!$O$11:$O$20, MATCH($BC10, 'Project Details'!$N$11:$N$20, 0)), "")))) | ... DA10: =IF(AS10="", "", IF($BF10='Project Details'!$N$4, $CH$3, IF($BC10="", $CG$3, IFERROR(INDEX('Project Details'!$O$11:$O$20, MATCH($BC10, 'Project Details'!$N$11:$N$20, 0)), ""))))
B11: =IF('Project Details'!$B14="", "", 'Project Details'!$B14) | K11: =$BF11 | O11: =IF(OR($B11="", O$7=""), "", IF(AND(M$6="W", $BA11=""), "", IF(AND(M$6="B", $BB11=""), "", IF(AND(O$7>=$BD11, O$7<=$BE11), "X", "")))) | P11: =IF(OR($B11="", P$7=""), "", IF(AND(N$6="W", $BA11=""), "", IF(AND(N$6="B", $BB11=""), "", IF(AND(P$7>=$BD11, P$7<=$BE11), "X", "")))) | Q11: =IF(OR($B11="", Q$7=""), "", IF(AND(O$6="W", $BA11=""), "", IF(AND(O$6="B", $BB11=""), "", IF(AND(Q$7>=$BD11, Q$7<=$BE11), "X", "")))) | R11: =IF(OR($B11="", R$7=""), "", IF(AND(P$6="W", $BA11=""), "", IF(AND(P$6="B", $BB11=""), "", IF(AND(R$7>=$BD11, R$7<=$BE11), "X", "")))) | S11: =IF(OR($B11="", S$7=""), "", IF(AND(Q$6="W", $BA11=""), "", IF(AND(Q$6="B", $BB11=""), "", IF(AND(S$7>=$BD11, S$7<=$BE11), "X", "")))) | T11: =IF(OR($B11="", T$7=""), "", IF(AND(R$6="W", $BA11=""), "", IF(AND(R$6="B", $BB11=""), "", IF(AND(T$7>=$BD11, T$7<=$BE11), "X", "")))) | U11: =IF(OR($B11="", U$7=""), "", IF(AND(S$6="W", $BA11=""), "", IF(AND(S$6="B", $BB11=""), "", IF(AND(U$7>=$BD11, U$7<=$BE11), "X", "")))) | V11: =IF(OR($B11="", V$7=""), "", IF(AND(T$6="W", $BA11=""), "", IF(AND(T$6="B", $BB11=""), "", IF(AND(V$7>=$BD11, V$7<=$BE11), "X", "")))) | ... AS11: =IF(OR($B11="", AS$7=""), "", IF(AND(AQ$6="W", $BA11=""), "", IF(AND(AQ$6="B", $BB11=""), "", IF(AND(AS$7>=$BD11, AS$7<=$BE11), "X", "")))) | BA11: =IF(IFERROR(INDEX('Project Details'!$F$11:$F$68, MATCH($B11, 'Project Details'!$B$11:$B$68, 0)), "")="", "", IFERROR(INDEX('Project Details'!$F$11:$F$68, MATCH($B11, 'Project Details'!$B$11:$B$68, 0)), "")) | BB11: =IF(IFERROR(INDEX('Project Details'!$G$11:$G$68, MATCH($B11, 'Project Details'!$B$11:$B$68, 0)), "")="", "", IFERROR(INDEX('Project Details'!$G$11:$FG$68, MATCH($B11, 'Project Details'!$B$11:$B$68, 0)), "")) | BC11: =IF(IFERROR(INDEX('Project Details'!$C$11:$C$68, MATCH($B11, 'Project Details'!$B$11:$B$68, 0)), "")="", "", IFERROR(INDEX('Project Details'!$C$11:$C$68, MATCH($B11, 'Project Details'!$B$11:$B$68, 0)), "")) | BD11: =IF(IFERROR(INDEX('Project Details'!$D$11:$D$68, MATCH($B11, 'Project Details'!$B$11:$B$68, 0)), "")="", "", IFERROR(INDEX('Project Details'!$D$11:$D$68, MATCH($B11, 'Project Details'!$B$11:$B$68, 0)), "")) | BE11: =IF(IFERROR(INDEX('Project Details'!$E$11:$E$68, MATCH($B11, 'Project Details'!$B$11:$B$68, 0)), "")="", "", IFERROR(INDEX('Project Details'!$E$11:$E$68, MATCH($B11, 'Project Details'!$B$11:$B$68, 0)), "")) | BF11: =IF(IFERROR(INDEX('Project Details'!$H$11:$H$68, MATCH($B11, 'Project Details'!$B$11:$B$68, 0)), "")="", "", 'Project Details'!$N$4) | BJ11: Boxing Day | BL11: =IF(BN10="Sat", BL10+1, IF(BN11="Sat", BO11+INDEX(BS4:BS10, MATCH(BN11, BQ4:BQ10, 0)), BO11)) -> 43825 | BN11: =TEXT(BO11, "ddd") -> Thu | BO11: =DATE(BL3, 12, 26) -> 43825 | BW11: =IF(O11="", "", IF($BF11='Project Details'!$N$4, $CH$3, IF($BC11="", $CG$3, IFERROR(INDEX('Project Details'!$O$11:$O$20, MATCH($BC11, 'Project Details'!$N$11:$N$20, 0)), "")))) | BX11: =IF(P11="", "", IF($BF11='Project Details'!$N$4, $CH$3, IF($BC11="", $CG$3, IFERROR(INDEX('Project Details'!$O$11:$O$20, MATCH($BC11, 'Project Details'!$N$11:$N$20, 0)), "")))) | BY11: =IF(Q11="", "", IF($BF11='Project Details'!$N$4, $CH$3, IF($BC11="", $CG$3, IFERROR(INDEX('Project Details'!$O$11:$O$20, MATCH($BC11, 'Project Details'!$N$11:$N$20, 0)), "")))) | BZ11: =IF(R11="", "", IF($BF11='Project Details'!$N$4, $CH$3, IF($BC11="", $CG$3, IFERROR(INDEX('Project Details'!$O$11:$O$20, MATCH($BC11, 'Project Details'!$N$11:$N$20, 0)), "")))) | CA11: =IF(S11="", "", IF($BF11='Project Details'!$N$4, $CH$3, IF($BC11="", $CG$3, IFERROR(INDEX('Project Details'!$O$11:$O$20, MATCH($BC11, 'Project Details'!$N$11:$N$20, 0)), "")))) | CB11: =IF(T11="", "", IF($BF11='Project Details'!$N$4, $CH$3, IF($BC11="", $CG$3, IFERROR(INDEX('Project Details'!$O$11:$O$20, MATCH($BC11, 'Project Details'!$N$11:$N$20, 0)), "")))) | CC11: =IF(U11="", "", IF($BF11='Project Details'!$N$4, $CH$3, IF($BC11="", $CG$3, IFERROR(INDEX('Project Details'!$O$11:$O$20, MATCH($BC11, 'Project Details'!$N$11:$N$20, 0)), "")))) | CD11: =IF(V11="", "", IF($BF11='Project Details'!$N$4, $CH$3, IF($BC11="", $CG$3, IFERROR(INDEX('Project Details'!$O$11:$O$20, MATCH($BC11, 'Project Details'!$N$11:$N$20, 0)), "")))) | ... DA11: =IF(AS11="", "", IF($BF11='Project Details'!$N$4, $CH$3, IF($BC11="", $CG$3, IFERROR(INDEX('Project Details'!$O$11:$O$20, MATCH($BC11, 'Project Details'!$N$11:$N$20, 0)), ""))))
B12: =IF('Project Details'!$B15="", "", 'Project Details'!$B15) | K12: =$BF12 | O12: =IF(OR($B12="", O$7=""), "", IF(AND(M$6="W", $BA12=""), "", IF(AND(M$6="B", $BB12=""), "", IF(AND(O$7>=$BD12, O$7<=$BE12), "X", "")))) | P12: =IF(OR($B12="", P$7=""), "", IF(AND(N$6="W", $BA12=""), "", IF(AND(N$6="B", $BB12=""), "", IF(AND(P$7>=$BD12, P$7<=$BE12), "X", "")))) | Q12: =IF(OR($B12="", Q$7=""), "", IF(AND(O$6="W", $BA12=""), "", IF(AND(O$6="B", $BB12=""), "", IF(AND(Q$7>=$BD12, Q$7<=$BE12), "X", "")))) | R12: =IF(OR($B12="", R$7=""), "", IF(AND(P$6="W", $BA12=""), "", IF(AND(P$6="B", $BB12=""), "", IF(AND(R$7>=$BD12, R$7<=$BE12), "X", "")))) | S12: =IF(OR($B12="", S$7=""), "", IF(AND(Q$6="W", $BA12=""), "", IF(AND(Q$6="B", $BB12=""), "", IF(AND(S$7>=$BD12, S$7<=$BE12), "X", "")))) | T12: =IF(OR($B12="", T$7=""), "", IF(AND(R$6="W", $BA12=""), "", IF(AND(R$6="B", $BB12=""), "", IF(AND(T$7>=$BD12, T$7<=$BE12), "X", "")))) | U12: =IF(OR($B12="", U$7=""), "", IF(AND(S$6="W", $BA12=""), "", IF(AND(S$6="B", $BB12=""), "", IF(AND(U$7>=$BD12, U$7<=$BE12), "X", "")))) | V12: =IF(OR($B12="", V$7=""), "", IF(AND(T$6="W", $BA12=""), "", IF(AND(T$6="B", $BB12=""), "", IF(AND(V$7>=$BD12, V$7<=$BE12), "X", "")))) | ... AS12: =IF(OR($B12="", AS$7=""), "", IF(AND(AQ$6="W", $BA12=""), "", IF(AND(AQ$6="B", $BB12=""), "", IF(AND(AS$7>=$BD12, AS$7<=$BE12), "X", "")))) | BA12: =IF(IFERROR(INDEX('Project Details'!$F$11:$F$68, MATCH($B12, 'Project Details'!$B$11:$B$68, 0)), "")="", "", IFERROR(INDEX('Project Details'!$F$11:$F$68, MATCH($B12, 'Project Details'!$B$11:$B$68, 0)), "")) | BB12: =IF(IFERROR(INDEX('Project Details'!$G$11:$G$68, MATCH($B12, 'Project Details'!$B$11:$B$68, 0)), "")="", "", IFERROR(INDEX('Project Details'!$G$11:$FG$68, MATCH($B12, 'Project Details'!$B$11:$B$68, 0)), "")) | BC12: =IF(IFERROR(INDEX('Project Details'!$C$11:$C$68, MATCH($B12, 'Project Details'!$B$11:$B$68, 0)), "")="", "", IFERROR(INDEX('Project Details'!$C$11:$C$68, MATCH($B12, 'Project Details'!$B$11:$B$68, 0)), "")) | BD12: =IF(IFERROR(INDEX('Project Details'!$D$11:$D$68, MATCH($B12, 'Project Details'!$B$11:$B$68, 0)), "")="", "", IFERROR(INDEX('Project Details'!$D$11:$D$68, MATCH($B12, 'Project Details'!$B$11:$B$68, 0)), "")) | BE12: =IF(IFERROR(INDEX('Project Details'!$E$11:$E$68, MATCH($B12, 'Project Details'!$B$11:$B$68, 0)), "")="", "", IFERROR(INDEX('Project Details'!$E$11:$E$68, MATCH($B12, 'Project Details'!$B$11:$B$68, 0)), "")) | BF12: =IF(IFERROR(INDEX('Project Details'!$H$11:$H$68, MATCH($B12, 'Project Details'!$B$11:$B$68, 0)), "")="", "", 'Project Details'!$N$4) | BW12: =IF(O12="", "", IF($BF12='Project Details'!$N$4, $CH$3, IF($BC12="", $CG$3, IFERROR(INDEX('Project Details'!$O$11:$O$20, MATCH($BC12, 'Project Details'!$N$11:$N$20, 0)), "")))) | BX12: =IF(P12="", "", IF($BF12='Project Details'!$N$4, $CH$3, IF($BC12="", $CG$3, IFERROR(INDEX('Project Details'!$O$11:$O$20, MATCH($BC12, 'Project Details'!$N$11:$N$20, 0)), "")))) | BY12: =IF(Q12="", "", IF($BF12='Project Details'!$N$4, $CH$3, IF($BC12="", $CG$3, IFERROR(INDEX('Project Details'!$O$11:$O$20, MATCH($BC12, 'Project Details'!$N$11:$N$20, 0)), "")))) | BZ12: =IF(R12="", "", IF($BF12='Project Details'!$N$4, $CH$3, IF($BC12="", $CG$3, IFERROR(INDEX('Project Details'!$O$11:$O$20, MATCH($BC12, 'Project Details'!$N$11:$N$20, 0)), "")))) | CA12: =IF(S12="", "", IF($BF12='Project Details'!$N$4, $CH$3, IF($BC12="", $CG$3, IFERROR(INDEX('Project Details'!$O$11:$O$20, MATCH($BC12, 'Project Details'!$N$11:$N$20, 0)), "")))) | CB12: =IF(T12="", "", IF($BF12='Project Details'!$N$4, $CH$3, IF($BC12="", $CG$3, IFERROR(INDEX('Project Details'!$O$11:$O$20, MATCH($BC12, 'Project Details'!$N$11:$N$20, 0)), "")))) | CC12: =IF(U12="", "", IF($BF12='Project Details'!$N$4, $CH$3, IF($BC12="", $CG$3, IFERROR(INDEX('Project Details'!$O$11:$O$20, MATCH($BC12, 'Project Details'!$N$11:$N$20, 0)), "")))) | CD12: =IF(V12="", "", IF($BF12='Project Details'!$N$4, $CH$3, IF($BC12="", $CG$3, IFERROR(INDEX('Project Details'!$O$11:$O$20, MATCH($BC12, 'Project Details'!$N$11:$N$20, 0)), "")))) | ... DA12: =IF(AS12="", "", IF($BF12='Project Details'!$N$4, $CH$3, IF($BC12="", $CG$3, IFERROR(INDEX('Project Details'!$O$11:$O$20, MATCH($BC12, 'Project Details'!$N$11:$N$20, 0)), ""))))
B13: =IF('Project Details'!$B16="", "", 'Project Details'!$B16) | K13: =$BF13 | O13: =IF(OR($B13="", O$7=""), "", IF(AND(M$6="W", $BA13=""), "", IF(AND(M$6="B", $BB13=""), "", IF(AND(O$7>=$BD13, O$7<=$BE13), "X", "")))) | P13: =IF(OR($B13="", P$7=""), "", IF(AND(N$6="W", $BA13=""), "", IF(AND(N$6="B", $BB13=""), "", IF(AND(P$7>=$BD13, P$7<=$BE13), "X", "")))) | Q13: =IF(OR($B13="", Q$7=""), "", IF(AND(O$6="W", $BA13=""), "", IF(AND(O$6="B", $BB13=""), "", IF(AND(Q$7>=$BD13, Q$7<=$BE13), "X", "")))) | R13: =IF(OR($B13="", R$7=""), "", IF(AND(P$6="W", $BA13=""), "", IF(AND(P$6="B", $BB13=""), "", IF(AND(R$7>=$BD13, R$7<=$BE13), "X", "")))) | S13: =IF(OR($B13="", S$7=""), "", IF(AND(Q$6="W", $BA13=""), "", IF(AND(Q$6="B", $BB13=""), "", IF(AND(S$7>=$BD13, S$7<=$BE13), "X", "")))) | T13: =IF(OR($B13="", T$7=""), "", IF(AND(R$6="W", $BA13=""), "", IF(AND(R$6="B", $BB13=""), "", IF(AND(T$7>=$BD13, T$7<=$BE13), "X", "")))) | U13: =IF(OR($B13="", U$7=""), "", IF(AND(S$6="W", $BA13=""), "", IF(AND(S$6="B", $BB13=""), "", IF(AND(U$7>=$BD13, U$7<=$BE13), "X", "")))) | V13: =IF(OR($B13="", V$7=""), "", IF(AND(T$6="W", $BA13=""), "", IF(AND(T$6="B", $BB13=""), "", IF(AND(V$7>=$BD13, V$7<=$BE13), "X", "")))) | ... AS13: =IF(OR($B13="", AS$7=""), "", IF(AND(AQ$6="W", $BA13=""), "", IF(AND(AQ$6="B", $BB13=""), "", IF(AND(AS$7>=$BD13, AS$7<=$BE13), "X", "")))) | BA13: =IF(IFERROR(INDEX('Project Details'!$F$11:$F$68, MATCH($B13, 'Project Details'!$B$11:$B$68, 0)), "")="", "", IFERROR(INDEX('Project Details'!$F$11:$F$68, MATCH($B13, 'Project Details'!$B$11:$B$68, 0)), "")) | BB13: =IF(IFERROR(INDEX('Project Details'!$G$11:$G$68, MATCH($B13, 'Project Details'!$B$11:$B$68, 0)), "")="", "", IFERROR(INDEX('Project Details'!$G$11:$FG$68, MATCH($B13, 'Project Details'!$B$11:$B$68, 0)), "")) | BC13: =IF(IFERROR(INDEX('Project Details'!$C$11:$C$68, MATCH($B13, 'Project Details'!$B$11:$B$68, 0)), "")="", "", IFERROR(INDEX('Project Details'!$C$11:$C$68, MATCH($B13, 'Project Details'!$B$11:$B$68, 0)), "")) | BD13: =IF(IFERROR(INDEX('Project Details'!$D$11:$D$68, MATCH($B13, 'Project Details'!$B$11:$B$68, 0)), "")="", "", IFERROR(INDEX('Project Details'!$D$11:$D$68, MATCH($B13, 'Project Details'!$B$11:$B$68, 0)), "")) | BE13: =IF(IFERROR(INDEX('Project Details'!$E$11:$E$68, MATCH($B13, 'Project Details'!$B$11:$B$68, 0)), "")="", "", IFERROR(INDEX('Project Details'!$E$11:$E$68, MATCH($B13, 'Project Details'!$B$11:$B$68, 0)), "")) | BF13: =IF(IFERROR(INDEX('Project Details'!$H$11:$H$68, MATCH($B13, 'Project Details'!$B$11:$B$68, 0)), "")="", "", 'Project Details'!$N$4) | BW13: =IF(O13="", "", IF($BF13='Project Details'!$N$4, $CH$3, IF($BC13="", $CG$3, IFERROR(INDEX('Project Details'!$O$11:$O$20, MATCH($BC13, 'Project Details'!$N$11:$N$20, 0)), "")))) | BX13: =IF(P13="", "", IF($BF13='Project Details'!$N$4, $CH$3, IF($BC13="", $CG$3, IFERROR(INDEX('Project Details'!$O$11:$O$20, MATCH($BC13, 'Project Details'!$N$11:$N$20, 0)), "")))) | BY13: =IF(Q13="", "", IF($BF13='Project Details'!$N$4, $CH$3, IF($BC13="", $CG$3, IFERROR(INDEX('Project Details'!$O$11:$O$20, MATCH($BC13, 'Project Details'!$N$11:$N$20, 0)), "")))) | BZ13: =IF(R13="", "", IF($BF13='Project Details'!$N$4, $CH$3, IF($BC13="", $CG$3, IFERROR(INDEX('Project Details'!$O$11:$O$20, MATCH($BC13, 'Project Details'!$N$11:$N$20, 0)), "")))) | CA13: =IF(S13="", "", IF($BF13='Project Details'!$N$4, $CH$3, IF($BC13="", $CG$3, IFERROR(INDEX('Project Details'!$O$11:$O$20, MATCH($BC13, 'Project Details'!$N$11:$N$20, 0)), "")))) | CB13: =IF(T13="", "", IF($BF13='Project Details'!$N$4, $CH$3, IF($BC13="", $CG$3, IFERROR(INDEX('Project Details'!$O$11:$O$20, MATCH($BC13, 'Project Details'!$N$11:$N$20, 0)), "")))) | CC13: =IF(U13="", "", IF($BF13='Project Details'!$N$4, $CH$3, IF($BC13="", $CG$3, IFERROR(INDEX('Project Details'!$O$11:$O$20, MATCH($BC13, 'Project Details'!$N$11:$N$20, 0)), "")))) | CD13: =IF(V13="", "", IF($BF13='Project Details'!$N$4, $CH$3, IF($BC13="", $CG$3, IFERROR(INDEX('Project Details'!$O$11:$O$20, MATCH($BC13, 'Project Details'!$N$11:$N$20, 0)), "")))) | ... DA13: =IF(AS13="", "", IF($BF13='Project Details'!$N$4, $CH$3, IF($BC13="", $CG$3, IFERROR(INDEX('Project Details'!$O$11:$O$20, MATCH($BC13, 'Project Details'!$N$11:$N$20, 0)), ""))))
B14: =IF('Project Details'!$B17="", "", 'Project Details'!$B17) | K14: =$BF14 | O14: =IF(OR($B14="", O$7=""), "", IF(AND(M$6="W", $BA14=""), "", IF(AND(M$6="B", $BB14=""), "", IF(AND(O$7>=$BD14, O$7<=$BE14), "X", "")))) | P14: =IF(OR($B14="", P$7=""), "", IF(AND(N$6="W", $BA14=""), "", IF(AND(N$6="B", $BB14=""), "", IF(AND(P$7>=$BD14, P$7<=$BE14), "X", "")))) | Q14: =IF(OR($B14="", Q$7=""), "", IF(AND(O$6="W", $BA14=""), "", IF(AND(O$6="B", $BB14=""), "", IF(AND(Q$7>=$BD14, Q$7<=$BE14), "X", "")))) | R14: =IF(OR($B14="", R$7=""), "", IF(AND(P$6="W", $BA14=""), "", IF(AND(P$6="B", $BB14=""), "", IF(AND(R$7>=$BD14, R$7<=$BE14), "X", "")))) | S14: =IF(OR($B14="", S$7=""), "", IF(AND(Q$6="W", $BA14=""), "", IF(AND(Q$6="B", $BB14=""), "", IF(AND(S$7>=$BD14, S$7<=$BE14), "X", "")))) | T14: =IF(OR($B14="", T$7=""), "", IF(AND(R$6="W", $BA14=""), "", IF(AND(R$6="B", $BB14=""), "", IF(AND(T$7>=$BD14, T$7<=$BE14), "X", "")))) | U14: =IF(OR($B14="", U$7=""), "", IF(AND(S$6="W", $BA14=""), "", IF(AND(S$6="B", $BB14=""), "", IF(AND(U$7>=$BD14, U$7<=$BE14), "X", "")))) | V14: =IF(OR($B14="", V$7=""), "", IF(AND(T$6="W", $BA14=""), "", IF(AND(T$6="B", $BB14=""), "", IF(AND(V$7>=$BD14, V$7<=$BE14), "X", "")))) | ... AS14: =IF(OR($B14="", AS$7=""), "", IF(AND(AQ$6="W", $BA14=""), "", IF(AND(AQ$6="B", $BB14=""), "", IF(AND(AS$7>=$BD14, AS$7<=$BE14), "X", "")))) | BA14: =IF(IFERROR(INDEX('Project Details'!$F$11:$F$68, MATCH($B14, 'Project Details'!$B$11:$B$68, 0)), "")="", "", IFERROR(INDEX('Project Details'!$F$11:$F$68, MATCH($B14, 'Project Details'!$B$11:$B$68, 0)), "")) | BB14: =IF(IFERROR(INDEX('Project Details'!$G$11:$G$68, MATCH($B14, 'Project Details'!$B$11:$B$68, 0)), "")="", "", IFERROR(INDEX('Project Details'!$G$11:$FG$68, MATCH($B14, 'Project Details'!$B$11:$B$68, 0)), "")) | BC14: =IF(IFERROR(INDEX('Project Details'!$C$11:$C$68, MATCH($B14, 'Project Details'!$B$11:$B$68, 0)), "")="", "", IFERROR(INDEX('Project Details'!$C$11:$C$68, MATCH($B14, 'Project Details'!$B$11:$B$68, 0)), "")) | BD14: =IF(IFERROR(INDEX('Project Details'!$D$11:$D$68, MATCH($B14, 'Project Details'!$B$11:$B$68, 0)), "")="", "", IFERROR(INDEX('Project Details'!$D$11:$D$68, MATCH($B14, 'Project Details'!$B$11:$B$68, 0)), "")) | BE14: =IF(IFERROR(INDEX('Project Details'!$E$11:$E$68, MATCH($B14, 'Project Details'!$B$11:$B$68, 0)), "")="", "", IFERROR(INDEX('Project Details'!$E$11:$E$68, MATCH($B14, 'Project Details'!$B$11:$B$68, 0)), "")) | BF14: =IF(IFERROR(INDEX('Project Details'!$H$11:$H$68, MATCH($B14, 'Project Details'!$B$11:$B$68, 0)), "")="", "", 'Project Details'!$N$4) | BW14: =IF(O14="", "", IF($BF14='Project Details'!$N$4, $CH$3, IF($BC14="", $CG$3, IFERROR(INDEX('Project Details'!$O$11:$O$20, MATCH($BC14, 'Project Details'!$N$11:$N$20, 0)), "")))) | BX14: =IF(P14="", "", IF($BF14='Project Details'!$N$4, $CH$3, IF($BC14="", $CG$3, IFERROR(INDEX('Project Details'!$O$11:$O$20, MATCH($BC14, 'Project Details'!$N$11:$N$20, 0)), "")))) | BY14: =IF(Q14="", "", IF($BF14='Project Details'!$N$4, $CH$3, IF($BC14="", $CG$3, IFERROR(INDEX('Project Details'!$O$11:$O$20, MATCH($BC14, 'Project Details'!$N$11:$N$20, 0)), "")))) | BZ14: =IF(R14="", "", IF($BF14='Project Details'!$N$4, $CH$3, IF($BC14="", $CG$3, IFERROR(INDEX('Project Details'!$O$11:$O$20, MATCH($BC14, 'Project Details'!$N$11:$N$20, 0)), "")))) | CA14: =IF(S14="", "", IF($BF14='Project Details'!$N$4, $CH$3, IF($BC14="", $CG$3, IFERROR(INDEX('Project Details'!$O$11:$O$20, MATCH($BC14, 'Project Details'!$N$11:$N$20, 0)), "")))) | CB14: =IF(T14="", "", IF($BF14='Project Details'!$N$4, $CH$3, IF($BC14="", $CG$3, IFERROR(INDEX('Project Details'!$O$11:$O$20, MATCH($BC14, 'Project Details'!$N$11:$N$20, 0)), "")))) | CC14: =IF(U14="", "", IF($BF14='Project Details'!$N$4, $CH$3, IF($BC14="", $CG$3, IFERROR(INDEX('Project Details'!$O$11:$O$20, MATCH($BC14, 'Project Details'!$N$11:$N$20, 0)), "")))) | CD14: =IF(V14="", "", IF($BF14='Project Details'!$N$4, $CH$3, IF($BC14="", $CG$3, IFERROR(INDEX('Project Details'!$O$11:$O$20, MATCH($BC14, 'Project Details'!$N$11:$N$20, 0)), "")))) | ... DA14: =IF(AS14="", "", IF($BF14='Project Details'!$N$4, $CH$3, IF($BC14="", $CG$3, IFERROR(INDEX('Project Details'!$O$11:$O$20, MATCH($BC14, 'Project Details'!$N$11:$N$20, 0)), ""))))
B15: =IF('Project Details'!$B18="", "", 'Project Details'!$B18) | K15: =$BF15 | O15: =IF(OR($B15="", O$7=""), "", IF(AND(M$6="W", $BA15=""), "", IF(AND(M$6="B", $BB15=""), "", IF(AND(O$7>=$BD15, O$7<=$BE15), "X", "")))) | P15: =IF(OR($B15="", P$7=""), "", IF(AND(N$6="W", $BA15=""), "", IF(AND(N$6="B", $BB15=""), "", IF(AND(P$7>=$BD15, P$7<=$BE15), "X", "")))) | Q15: =IF(OR($B15="", Q$7=""), "", IF(AND(O$6="W", $BA15=""), "", IF(AND(O$6="B", $BB15=""), "", IF(AND(Q$7>=$BD15, Q$7<=$BE15), "X", "")))) | R15: =IF(OR($B15="", R$7=""), "", IF(AND(P$6="W", $BA15=""), "", IF(AND(P$6="B", $BB15=""), "", IF(AND(R$7>=$BD15, R$7<=$BE15), "X", "")))) | S15: =IF(OR($B15="", S$7=""), "", IF(AND(Q$6="W", $BA15=""), "", IF(AND(Q$6="B", $BB15=""), "", IF(AND(S$7>=$BD15, S$7<=$BE15), "X", "")))) | T15: =IF(OR($B15="", T$7=""), "", IF(AND(R$6="W", $BA15=""), "", IF(AND(R$6="B", $BB15=""), "", IF(AND(T$7>=$BD15, T$7<=$BE15), "X", "")))) | U15: =IF(OR($B15="", U$7=""), "", IF(AND(S$6="W", $BA15=""), "", IF(AND(S$6="B", $BB15=""), "", IF(AND(U$7>=$BD15, U$7<=$BE15), "X", "")))) | V15: =IF(OR($B15="", V$7=""), "", IF(AND(T$6="W", $BA15=""), "", IF(AND(T$6="B", $BB15=""), "", IF(AND(V$7>=$BD15, V$7<=$BE15), "X", "")))) | ... AS15: =IF(OR($B15="", AS$7=""), "", IF(AND(AQ$6="W", $BA15=""), "", IF(AND(AQ$6="B", $BB15=""), "", IF(AND(AS$7>=$BD15, AS$7<=$BE15), "X", "")))) | BA15: =IF(IFERROR(INDEX('Project Details'!$F$11:$F$68, MATCH($B15, 'Project Details'!$B$11:$B$68, 0)), "")="", "", IFERROR(INDEX('Project Details'!$F$11:$F$68, MATCH($B15, 'Project Details'!$B$11:$B$68, 0)), "")) | BB15: =IF(IFERROR(INDEX('Project Details'!$G$11:$G$68, MATCH($B15, 'Project Details'!$B$11:$B$68, 0)), "")="", "", IFERROR(INDEX('Project Details'!$G$11:$FG$68, MATCH($B15, 'Project Details'!$B$11:$B$68, 0)), "")) | BC15: =IF(IFERROR(INDEX('Project Details'!$C$11:$C$68, MATCH($B15, 'Project Details'!$B$11:$B$68, 0)), "")="", "", IFERROR(INDEX('Project Details'!$C$11:$C$68, MATCH($B15, 'Project Details'!$B$11:$B$68, 0)), "")) | BD15: =IF(IFERROR(INDEX('Project Details'!$D$11:$D$68, MATCH($B15, 'Project Details'!$B$11:$B$68, 0)), "")="", "", IFERROR(INDEX('Project Details'!$D$11:$D$68, MATCH($B15, 'Project Details'!$B$11:$B$68, 0)), "")) | BE15: =IF(IFERROR(INDEX('Project Details'!$E$11:$E$68, MATCH($B15, 'Project Details'!$B$11:$B$68, 0)), "")="", "", IFERROR(INDEX('Project Details'!$E$11:$E$68, MATCH($B15, 'Project Details'!$B$11:$B$68, 0)), "")) | BF15: =IF(IFERROR(INDEX('Project Details'!$H$11:$H$68, MATCH($B15, 'Project Details'!$B$11:$B$68, 0)), "")="", "", 'Project Details'!$N$4) | BW15: =IF(O15="", "", IF($BF15='Project Details'!$N$4, $CH$3, IF($BC15="", $CG$3, IFERROR(INDEX('Project Details'!$O$11:$O$20, MATCH($BC15, 'Project Details'!$N$11:$N$20, 0)), "")))) | BX15: =IF(P15="", "", IF($BF15='Project Details'!$N$4, $CH$3, IF($BC15="", $CG$3, IFERROR(INDEX('Project Details'!$O$11:$O$20, MATCH($BC15, 'Project Details'!$N$11:$N$20, 0)), "")))) | BY15: =IF(Q15="", "", IF($BF15='Project Details'!$N$4, $CH$3, IF($BC15="", $CG$3, IFERROR(INDEX('Project Details'!$O$11:$O$20, MATCH($BC15, 'Project Details'!$N$11:$N$20, 0)), "")))) | BZ15: =IF(R15="", "", IF($BF15='Project Details'!$N$4, $CH$3, IF($BC15="", $CG$3, IFERROR(INDEX('Project Details'!$O$11:$O$20, MATCH($BC15, 'Project Details'!$N$11:$N$20, 0)), "")))) | CA15: =IF(S15="", "", IF($BF15='Project Details'!$N$4, $CH$3, IF($BC15="", $CG$3, IFERROR(INDEX('Project Details'!$O$11:$O$20, MATCH($BC15, 'Project Details'!$N$11:$N$20, 0)), "")))) | CB15: =IF(T15="", "", IF($BF15='Project Details'!$N$4, $CH$3, IF($BC15="", $CG$3, IFERROR(INDEX('Project Details'!$O$11:$O$20, MATCH($BC15, 'Project Details'!$N$11:$N$20, 0)), "")))) | CC15: =IF(U15="", "", IF($BF15='Project Details'!$N$4, $CH$3, IF($BC15="", $CG$3, IFERROR(INDEX('Project Details'!$O$11:$O$20, MATCH($BC15, 'Project Details'!$N$11:$N$20, 0)), "")))) | CD15: =IF(V15="", "", IF($BF15='Project Details'!$N$4, $CH$3, IF($BC15="", $CG$3, IFERROR(INDEX('Project Details'!$O$11:$O$20, MATCH($BC15, 'Project Details'!$N$11:$N$20, 0)), "")))) | ... DA15: =IF(AS15="", "", IF($BF15='Project Details'!$N$4, $CH$3, IF($BC15="", $CG$3, IFERROR(INDEX('Project Details'!$O$11:$O$20, MATCH($BC15, 'Project Details'!$N$11:$N$20, 0)), ""))))
B16: =IF('Project Details'!$B19="", "", 'Project Details'!$B19) | K16: =$BF16 | O16: =IF(OR($B16="", O$7=""), "", IF(AND(M$6="W", $BA16=""), "", IF(AND(M$6="B", $BB16=""), "", IF(AND(O$7>=$BD16, O$7<=$BE16), "X", "")))) | P16: =IF(OR($B16="", P$7=""), "", IF(AND(N$6="W", $BA16=""), "", IF(AND(N$6="B", $BB16=""), "", IF(AND(P$7>=$BD16, P$7<=$BE16), "X", "")))) | Q16: =IF(OR($B16="", Q$7=""), "", IF(AND(O$6="W", $BA16=""), "", IF(AND(O$6="B", $BB16=""), "", IF(AND(Q$7>=$BD16, Q$7<=$BE16), "X", "")))) | R16: =IF(OR($B16="", R$7=""), "", IF(AND(P$6="W", $BA16=""), "", IF(AND(P$6="B", $BB16=""), "", IF(AND(R$7>=$BD16, R$7<=$BE16), "X", "")))) | S16: =IF(OR($B16="", S$7=""), "", IF(AND(Q$6="W", $BA16=""), "", IF(AND(Q$6="B", $BB16=""), "", IF(AND(S$7>=$BD16, S$7<=$BE16), "X", "")))) | T16: =IF(OR($B16="", T$7=""), "", IF(AND(R$6="W", $BA16=""), "", IF(AND(R$6="B", $BB16=""), "", IF(AND(T$7>=$BD16, T$7<=$BE16), "X", "")))) | U16: =IF(OR($B16="", U$7=""), "", IF(AND(S$6="W", $BA16=""), "", IF(AND(S$6="B", $BB16=""), "", IF(AND(U$7>=$BD16, U$7<=$BE16), "X", "")))) | V16: =IF(OR($B16="", V$7=""), "", IF(AND(T$6="W", $BA16=""), "", IF(AND(T$6="B", $BB16=""), "", IF(AND(V$7>=$BD16, V$7<=$BE16), "X", "")))) | ... AS16: =IF(OR($B16="", AS$7=""), "", IF(AND(AQ$6="W", $BA16=""), "", IF(AND(AQ$6="B", $BB16=""), "", IF(AND(AS$7>=$BD16, AS$7<=$BE16), "X", "")))) | BA16: =IF(IFERROR(INDEX('Project Details'!$F$11:$F$68, MATCH($B16, 'Project Details'!$B$11:$B$68, 0)), "")="", "", IFERROR(INDEX('Project Details'!$F$11:$F$68, MATCH($B16, 'Project Details'!$B$11:$B$68, 0)), "")) | BB16: =IF(IFERROR(INDEX('Project Details'!$G$11:$G$68, MATCH($B16, 'Project Details'!$B$11:$B$68, 0)), "")="", "", IFERROR(INDEX('Project Details'!$G$11:$FG$68, MATCH($B16, 'Project Details'!$B$11:$B$68, 0)), "")) | BC16: =IF(IFERROR(INDEX('Project Details'!$C$11:$C$68, MATCH($B16, 'Project Details'!$B$11:$B$68, 0)), "")="", "", IFERROR(INDEX('Project Details'!$C$11:$C$68, MATCH($B16, 'Project Details'!$B$11:$B$68, 0)), "")) | BD16: =IF(IFERROR(INDEX('Project Details'!$D$11:$D$68, MATCH($B16, 'Project Details'!$B$11:$B$68, 0)), "")="", "", IFERROR(INDEX('Project Details'!$D$11:$D$68, MATCH($B16, 'Project Details'!$B$11:$B$68, 0)), "")) | BE16: =IF(IFERROR(INDEX('Project Details'!$E$11:$E$68, MATCH($B16, 'Project Details'!$B$11:$B$68, 0)), "")="", "", IFERROR(INDEX('Project Details'!$E$11:$E$68, MATCH($B16, 'Project Details'!$B$11:$B$68, 0)), "")) | BF16: =IF(IFERROR(INDEX('Project Details'!$H$11:$H$68, MATCH($B16, 'Project Details'!$B$11:$B$68, 0)), "")="", "", 'Project Details'!$N$4) | BW16: =IF(O16="", "", IF($BF16='Project Details'!$N$4, $CH$3, IF($BC16="", $CG$3, IFERROR(INDEX('Project Details'!$O$11:$O$20, MATCH($BC16, 'Project Details'!$N$11:$N$20, 0)), "")))) | BX16: =IF(P16="", "", IF($BF16='Project Details'!$N$4, $CH$3, IF($BC16="", $CG$3, IFERROR(INDEX('Project Details'!$O$11:$O$20, MATCH($BC16, 'Project Details'!$N$11:$N$20, 0)), "")))) | BY16: =IF(Q16="", "", IF($BF16='Project Details'!$N$4, $CH$3, IF($BC16="", $CG$3, IFERROR(INDEX('Project Details'!$O$11:$O$20, MATCH($BC16, 'Project Details'!$N$11:$N$20, 0)), "")))) | BZ16: =IF(R16="", "", IF($BF16='Project Details'!$N$4, $CH$3, IF($BC16="", $CG$3, IFERROR(INDEX('Project Details'!$O$11:$O$20, MATCH($BC16, 'Project Details'!$N$11:$N$20, 0)), "")))) | CA16: =IF(S16="", "", IF($BF16='Project Details'!$N$4, $CH$3, IF($BC16="", $CG$3, IFERROR(INDEX('Project Details'!$O$11:$O$20, MATCH($BC16, 'Project Details'!$N$11:$N$20, 0)), "")))) | CB16: =IF(T16="", "", IF($BF16='Project Details'!$N$4, $CH$3, IF($BC16="", $CG$3, IFERROR(INDEX('Project Details'!$O$11:$O$20, MATCH($BC16, 'Project Details'!$N$11:$N$20, 0)), "")))) | CC16: =IF(U16="", "", IF($BF16='Project Details'!$N$4, $CH$3, IF($BC16="", $CG$3, IFERROR(INDEX('Project Details'!$O$11:$O$20, MATCH($BC16, 'Project Details'!$N$11:$N$20, 0)), "")))) | CD16: =IF(V16="", "", IF($BF16='Project Details'!$N$4, $CH$3, IF($BC16="", $CG$3, IFERROR(INDEX('Project Details'!$O$11:$O$20, MATCH($BC16, 'Project Details'!$N$11:$N$20, 0)), "")))) | ... DA16: =IF(AS16="", "", IF($BF16='Project Details'!$N$4, $CH$3, IF($BC16="", $CG$3, IFERROR(INDEX('Project Details'!$O$11:$O$20, MATCH($BC16, 'Project Details'!$N$11:$N$20, 0)), ""))))
B17: =IF('Project Details'!$B20="", "", 'Project Details'!$B20) | K17: =$BF17 | O17: =IF(OR($B17="", O$7=""), "", IF(AND(M$6="W", $BA17=""), "", IF(AND(M$6="B", $BB17=""), "", IF(AND(O$7>=$BD17, O$7<=$BE17), "X", "")))) | P17: =IF(OR($B17="", P$7=""), "", IF(AND(N$6="W", $BA17=""), "", IF(AND(N$6="B", $BB17=""), "", IF(AND(P$7>=$BD17, P$7<=$BE17), "X", "")))) | Q17: =IF(OR($B17="", Q$7=""), "", IF(AND(O$6="W", $BA17=""), "", IF(AND(O$6="B", $BB17=""), "", IF(AND(Q$7>=$BD17, Q$7<=$BE17), "X", "")))) | R17: =IF(OR($B17="", R$7=""), "", IF(AND(P$6="W", $BA17=""), "", IF(AND(P$6="B", $BB17=""), "", IF(AND(R$7>=$BD17, R$7<=$BE17), "X", "")))) | S17: =IF(OR($B17="", S$7=""), "", IF(AND(Q$6="W", $BA17=""), "", IF(AND(Q$6="B", $BB17=""), "", IF(AND(S$7>=$BD17, S$7<=$BE17), "X", "")))) | T17: =IF(OR($B17="", T$7=""), "", IF(AND(R$6="W", $BA17=""), "", IF(AND(R$6="B", $BB17=""), "", IF(AND(T$7>=$BD17, T$7<=$BE17), "X", "")))) | U17: =IF(OR($B17="", U$7=""), "", IF(AND(S$6="W", $BA17=""), "", IF(AND(S$6="B", $BB17=""), "", IF(AND(U$7>=$BD17, U$7<=$BE17), "X", "")))) | V17: =IF(OR($B17="", V$7=""), "", IF(AND(T$6="W", $BA17=""), "", IF(AND(T$6="B", $BB17=""), "", IF(AND(V$7>=$BD17, V$7<=$BE17), "X", "")))) | ... AS17: =IF(OR($B17="", AS$7=""), "", IF(AND(AQ$6="W", $BA17=""), "", IF(AND(AQ$6="B", $BB17=""), "", IF(AND(AS$7>=$BD17, AS$7<=$BE17), "X", "")))) | BA17: =IF(IFERROR(INDEX('Project Details'!$F$11:$F$68, MATCH($B17, 'Project Details'!$B$11:$B$68, 0)), "")="", "", IFERROR(INDEX('Project Details'!$F$11:$F$68, MATCH($B17, 'Project Details'!$B$11:$B$68, 0)), "")) | BB17: =IF(IFERROR(INDEX('Project Details'!$G$11:$G$68, MATCH($B17, 'Project Details'!$B$11:$B$68, 0)), "")="", "", IFERROR(INDEX('Project Details'!$G$11:$FG$68, MATCH($B17, 'Project Details'!$B$11:$B$68, 0)), "")) | BC17: =IF(IFERROR(INDEX('Project Details'!$C$11:$C$68, MATCH($B17, 'Project Details'!$B$11:$B$68, 0)), "")="", "", IFERROR(INDEX('Project Details'!$C$11:$C$68, MATCH($B17, 'Project Details'!$B$11:$B$68, 0)), "")) | BD17: =IF(IFERROR(INDEX('Project Details'!$D$11:$D$68, MATCH($B17, 'Project Details'!$B$11:$B$68, 0)), "")="", "", IFERROR(INDEX('Project Details'!$D$11:$D$68, MATCH($B17, 'Project Details'!$B$11:$B$68, 0)), "")) | BE17: =IF(IFERROR(INDEX('Project Details'!$E$11:$E$68, MATCH($B17, 'Project Details'!$B$11:$B$68, 0)), "")="", "", IFERROR(INDEX('Project Details'!$E$11:$E$68, MATCH($B17, 'Project Details'!$B$11:$B$68, 0)), "")) | BF17: =IF(IFERROR(INDEX('Project Details'!$H$11:$H$68, MATCH($B17, 'Project Details'!$B$11:$B$68, 0)), "")="", "", 'Project Details'!$N$4) | BW17: =IF(O17="", "", IF($BF17='Project Details'!$N$4, $CH$3, IF($BC17="", $CG$3, IFERROR(INDEX('Project Details'!$O$11:$O$20, MATCH($BC17, 'Project Details'!$N$11:$N$20, 0)), "")))) | BX17: =IF(P17="", "", IF($BF17='Project Details'!$N$4, $CH$3, IF($BC17="", $CG$3, IFERROR(INDEX('Project Details'!$O$11:$O$20, MATCH($BC17, 'Project Details'!$N$11:$N$20, 0)), "")))) | BY17: =IF(Q17="", "", IF($BF17='Project Details'!$N$4, $CH$3, IF($BC17="", $CG$3, IFERROR(INDEX('Project Details'!$O$11:$O$20, MATCH($BC17, 'Project Details'!$N$11:$N$20, 0)), "")))) | BZ17: =IF(R17="", "", IF($BF17='Project Details'!$N$4, $CH$3, IF($BC17="", $CG$3, IFERROR(INDEX('Project Details'!$O$11:$O$20, MATCH($BC17, 'Project Details'!$N$11:$N$20, 0)), "")))) | CA17: =IF(S17="", "", IF($BF17='Project Details'!$N$4, $CH$3, IF($BC17="", $CG$3, IFERROR(INDEX('Project Details'!$O$11:$O$20, MATCH($BC17, 'Project Details'!$N$11:$N$20, 0)), "")))) | CB17: =IF(T17="", "", IF($BF17='Project Details'!$N$4, $CH$3, IF($BC17="", $CG$3, IFERROR(INDEX('Project Details'!$O$11:$O$20, MATCH($BC17, 'Project Details'!$N$11:$N$20, 0)), "")))) | CC17: =IF(U17="", "", IF($BF17='Project Details'!$N$4, $CH$3, IF($BC17="", $CG$3, IFERROR(INDEX('Project Details'!$O$11:$O$20, MATCH($BC17, 'Project Details'!$N$11:$N$20, 0)), "")))) | CD17: =IF(V17="", "", IF($BF17='Project Details'!$N$4, $CH$3, IF($BC17="", $CG$3, IFERROR(INDEX('Project Details'!$O$11:$O$20, MATCH($BC17, 'Project Details'!$N$11:$N$20, 0)), "")))) | ... DA17: =IF(AS17="", "", IF($BF17='Project Details'!$N$4, $CH$3, IF($BC17="", $CG$3, IFERROR(INDEX('Project Details'!$O$11:$O$20, MATCH($BC17, 'Project Details'!$N$11:$N$20, 0)), ""))))
B18: =IF('Project Details'!$B21="", "", 'Project Details'!$B21) | K18: =$BF18 | O18: =IF(OR($B18="", O$7=""), "", IF(AND(M$6="W", $BA18=""), "", IF(AND(M$6="B", $BB18=""), "", IF(AND(O$7>=$BD18, O$7<=$BE18), "X", "")))) | P18: =IF(OR($B18="", P$7=""), "", IF(AND(N$6="W", $BA18=""), "", IF(AND(N$6="B", $BB18=""), "", IF(AND(P$7>=$BD18, P$7<=$BE18), "X", "")))) | Q18: =IF(OR($B18="", Q$7=""), "", IF(AND(O$6="W", $BA18=""), "", IF(AND(O$6="B", $BB18=""), "", IF(AND(Q$7>=$BD18, Q$7<=$BE18), "X", "")))) | R18: =IF(OR($B18="", R$7=""), "", IF(AND(P$6="W", $BA18=""), "", IF(AND(P$6="B", $BB18=""), "", IF(AND(R$7>=$BD18, R$7<=$BE18), "X", "")))) | S18: =IF(OR($B18="", S$7=""), "", IF(AND(Q$6="W", $BA18=""), "", IF(AND(Q$6="B", $BB18=""), "", IF(AND(S$7>=$BD18, S$7<=$BE18), "X", "")))) | T18: =IF(OR($B18="", T$7=""), "", IF(AND(R$6="W", $BA18=""), "", IF(AND(R$6="B", $BB18=""), "", IF(AND(T$7>=$BD18, T$7<=$BE18), "X", "")))) | U18: =IF(OR($B18="", U$7=""), "", IF(AND(S$6="W", $BA18=""), "", IF(AND(S$6="B", $BB18=""), "", IF(AND(U$7>=$BD18, U$7<=$BE18), "X", "")))) | V18: =IF(OR($B18="", V$7=""), "", IF(AND(T$6="W", $BA18=""), "", IF(AND(T$6="B", $BB18=""), "", IF(AND(V$7>=$BD18, V$7<=$BE18), "X", "")))) | ... AS18: =IF(OR($B18="", AS$7=""), "", IF(AND(AQ$6="W", $BA18=""), "", IF(AND(AQ$6="B", $BB18=""), "", IF(AND(AS$7>=$BD18, AS$7<=$BE18), "X", "")))) | BA18: =IF(IFERROR(INDEX('Project Details'!$F$11:$F$68, MATCH($B18, 'Project Details'!$B$11:$B$68, 0)), "")="", "", IFERROR(INDEX('Project Details'!$F$11:$F$68, MATCH($B18, 'Project Details'!$B$11:$B$68, 0)), "")) | BB18: =IF(IFERROR(INDEX('Project Details'!$G$11:$G$68, MATCH($B18, 'Project Details'!$B$11:$B$68, 0)), "")="", "", IFERROR(INDEX('Project Details'!$G$11:$FG$68, MATCH($B18, 'Project Details'!$B$11:$B$68, 0)), "")) | BC18: =IF(IFERROR(INDEX('Project Details'!$C$11:$C$68, MATCH($B18, 'Project Details'!$B$11:$B$68, 0)), "")="", "", IFERROR(INDEX('Project Details'!$C$11:$C$68, MATCH($B18, 'Project Details'!$B$11:$B$68, 0)), "")) | BD18: =IF(IFERROR(INDEX('Project Details'!$D$11:$D$68, MATCH($B18, 'Project Details'!$B$11:$B$68, 0)), "")="", "", IFERROR(INDEX('Project Details'!$D$11:$D$68, MATCH($B18, 'Project Details'!$B$11:$B$68, 0)), "")) | BE18: =IF(IFERROR(INDEX('Project Details'!$E$11:$E$68, MATCH($B18, 'Project Details'!$B$11:$B$68, 0)), "")="", "", IFERROR(INDEX('Project Details'!$E$11:$E$68, MATCH($B18, 'Project Details'!$B$11:$B$68, 0)), "")) | BF18: =IF(IFERROR(INDEX('Project Details'!$H$11:$H$68, MATCH($B18, 'Project Details'!$B$11:$B$68, 0)), "")="", "", 'Project Details'!$N$4) | BW18: =IF(O18="", "", IF($BF18='Project Details'!$N$4, $CH$3, IF($BC18="", $CG$3, IFERROR(INDEX('Project Details'!$O$11:$O$20, MATCH($BC18, 'Project Details'!$N$11:$N$20, 0)), "")))) | BX18: =IF(P18="", "", IF($BF18='Project Details'!$N$4, $CH$3, IF($BC18="", $CG$3, IFERROR(INDEX('Project Details'!$O$11:$O$20, MATCH($BC18, 'Project Details'!$N$11:$N$20, 0)), "")))) | BY18: =IF(Q18="", "", IF($BF18='Project Details'!$N$4, $CH$3, IF($BC18="", $CG$3, IFERROR(INDEX('Project Details'!$O$11:$O$20, MATCH($BC18, 'Project Details'!$N$11:$N$20, 0)), "")))) | BZ18: =IF(R18="", "", IF($BF18='Project Details'!$N$4, $CH$3, IF($BC18="", $CG$3, IFERROR(INDEX('Project Details'!$O$11:$O$20, MATCH($BC18, 'Project Details'!$N$11:$N$20, 0)), "")))) | CA18: =IF(S18="", "", IF($BF18='Project Details'!$N$4, $CH$3, IF($BC18="", $CG$3, IFERROR(INDEX('Project Details'!$O$11:$O$20, MATCH($BC18, 'Project Details'!$N$11:$N$20, 0)), "")))) | CB18: =IF(T18="", "", IF($BF18='Project Details'!$N$4, $CH$3, IF($BC18="", $CG$3, IFERROR(INDEX('Project Details'!$O$11:$O$20, MATCH($BC18, 'Project Details'!$N$11:$N$20, 0)), "")))) | CC18: =IF(U18="", "", IF($BF18='Project Details'!$N$4, $CH$3, IF($BC18="", $CG$3, IFERROR(INDEX('Project Details'!$O$11:$O$20, MATCH($BC18, 'Project Details'!$N$11:$N$20, 0)), "")))) | CD18: =IF(V18="", "", IF($BF18='Project Details'!$N$4, $CH$3, IF($BC18="", $CG$3, IFERROR(INDEX('Project Details'!$O$11:$O$20, MATCH($BC18, 'Project Details'!$N$11:$N$20, 0)), "")))) | ... DA18: =IF(AS18="", "", IF($BF18='Project Details'!$N$4, $CH$3, IF($BC18="", $CG$3, IFERROR(INDEX('Project Details'!$O$11:$O$20, MATCH($BC18, 'Project Details'!$N$11:$N$20, 0)), ""))))
B19: =IF('Project Details'!$B22="", "", 'Project Details'!$B22) | K19: =$BF19 | O19: =IF(OR($B19="", O$7=""), "", IF(AND(M$6="W", $BA19=""), "", IF(AND(M$6="B", $BB19=""), "", IF(AND(O$7>=$BD19, O$7<=$BE19), "X", "")))) | P19: =IF(OR($B19="", P$7=""), "", IF(AND(N$6="W", $BA19=""), "", IF(AND(N$6="B", $BB19=""), "", IF(AND(P$7>=$BD19, P$7<=$BE19), "X", "")))) | Q19: =IF(OR($B19="", Q$7=""), "", IF(AND(O$6="W", $BA19=""), "", IF(AND(O$6="B", $BB19=""), "", IF(AND(Q$7>=$BD19, Q$7<=$BE19), "X", "")))) | R19: =IF(OR($B19="", R$7=""), "", IF(AND(P$6="W", $BA19=""), "", IF(AND(P$6="B", $BB19=""), "", IF(AND(R$7>=$BD19, R$7<=$BE19), "X", "")))) | S19: =IF(OR($B19="", S$7=""), "", IF(AND(Q$6="W", $BA19=""), "", IF(AND(Q$6="B", $BB19=""), "", IF(AND(S$7>=$BD19, S$7<=$BE19), "X", "")))) | T19: =IF(OR($B19="", T$7=""), "", IF(AND(R$6="W", $BA19=""), "", IF(AND(R$6="B", $BB19=""), "", IF(AND(T$7>=$BD19, T$7<=$BE19), "X", "")))) | U19: =IF(OR($B19="", U$7=""), "", IF(AND(S$6="W", $BA19=""), "", IF(AND(S$6="B", $BB19=""), "", IF(AND(U$7>=$BD19, U$7<=$BE19), "X", "")))) | V19: =IF(OR($B19="", V$7=""), "", IF(AND(T$6="W", $BA19=""), "", IF(AND(T$6="B", $BB19=""), "", IF(AND(V$7>=$BD19, V$7<=$BE19), "X", "")))) | ... AS19: =IF(OR($B19="", AS$7=""), "", IF(AND(AQ$6="W", $BA19=""), "", IF(AND(AQ$6="B", $BB19=""), "", IF(AND(AS$7>=$BD19, AS$7<=$BE19), "X", "")))) | BA19: =IF(IFERROR(INDEX('Project Details'!$F$11:$F$68, MATCH($B19, 'Project Details'!$B$11:$B$68, 0)), "")="", "", IFERROR(INDEX('Project Details'!$F$11:$F$68, MATCH($B19, 'Project Details'!$B$11:$B$68, 0)), "")) | BB19: =IF(IFERROR(INDEX('Project Details'!$G$11:$G$68, MATCH($B19, 'Project Details'!$B$11:$B$68, 0)), "")="", "", IFERROR(INDEX('Project Details'!$G$11:$FG$68, MATCH($B19, 'Project Details'!$B$11:$B$68, 0)), "")) | BC19: =IF(IFERROR(INDEX('Project Details'!$C$11:$C$68, MATCH($B19, 'Project Details'!$B$11:$B$68, 0)), "")="", "", IFERROR(INDEX('Project Details'!$C$11:$C$68, MATCH($B19, 'Project Details'!$B$11:$B$68, 0)), "")) | BD19: =IF(IFERROR(INDEX('Project Details'!$D$11:$D$68, MATCH($B19, 'Project Details'!$B$11:$B$68, 0)), "")="", "", IFERROR(INDEX('Project Details'!$D$11:$D$68, MATCH($B19, 'Project Details'!$B$11:$B$68, 0)), "")) | BE19: =IF(IFERROR(INDEX('Project Details'!$E$11:$E$68, MATCH($B19, 'Project Details'!$B$11:$B$68, 0)), "")="", "", IFERROR(INDEX('Project Details'!$E$11:$E$68, MATCH($B19, 'Project Details'!$B$11:$B$68, 0)), "")) | BF19: =IF(IFERROR(INDEX('Project Details'!$H$11:$H$68, MATCH($B19, 'Project Details'!$B$11:$B$68, 0)), "")="", "", 'Project Details'!$N$4) | BW19: =IF(O19="", "", IF($BF19='Project Details'!$N$4, $CH$3, IF($BC19="", $CG$3, IFERROR(INDEX('Project Details'!$O$11:$O$20, MATCH($BC19, 'Project Details'!$N$11:$N$20, 0)), "")))) | BX19: =IF(P19="", "", IF($BF19='Project Details'!$N$4, $CH$3, IF($BC19="", $CG$3, IFERROR(INDEX('Project Details'!$O$11:$O$20, MATCH($BC19, 'Project Details'!$N$11:$N$20, 0)), "")))) | BY19: =IF(Q19="", "", IF($BF19='Project Details'!$N$4, $CH$3, IF($BC19="", $CG$3, IFERROR(INDEX('Project Details'!$O$11:$O$20, MATCH($BC19, 'Project Details'!$N$11:$N$20, 0)), "")))) | BZ19: =IF(R19="", "", IF($BF19='Project Details'!$N$4, $CH$3, IF($BC19="", $CG$3, IFERROR(INDEX('Project Details'!$O$11:$O$20, MATCH($BC19, 'Project Details'!$N$11:$N$20, 0)), "")))) | CA19: =IF(S19="", "", IF($BF19='Project Details'!$N$4, $CH$3, IF($BC19="", $CG$3, IFERROR(INDEX('Project Details'!$O$11:$O$20, MATCH($BC19, 'Project Details'!$N$11:$N$20, 0)), "")))) | CB19: =IF(T19="", "", IF($BF19='Project Details'!$N$4, $CH$3, IF($BC19="", $CG$3, IFERROR(INDEX('Project Details'!$O$11:$O$20, MATCH($BC19, 'Project Details'!$N$11:$N$20, 0)), "")))) | CC19: =IF(U19="", "", IF($BF19='Project Details'!$N$4, $CH$3, IF($BC19="", $CG$3, IFERROR(INDEX('Project Details'!$O$11:$O$20, MATCH($BC19, 'Project Details'!$N$11:$N$20, 0)), "")))) | CD19: =IF(V19="", "", IF($BF19='Project Details'!$N$4, $CH$3, IF($BC19="", $CG$3, IFERROR(INDEX('Project Details'!$O$11:$O$20, MATCH($BC19, 'Project Details'!$N$11:$N$20, 0)), "")))) | ... DA19: =IF(AS19="", "", IF($BF19='Project Details'!$N$4, $CH$3, IF($BC19="", $CG$3, IFERROR(INDEX('Project Details'!$O$11:$O$20, MATCH($BC19, 'Project Details'!$N$11:$N$20, 0)), ""))))
B20: =IF('Project Details'!$B23="", "", 'Project Details'!$B23) | K20: =$BF20 | O20: =IF(OR($B20="", O$7=""), "", IF(AND(M$6="W", $BA20=""), "", IF(AND(M$6="B", $BB20=""), "", IF(AND(O$7>=$BD20, O$7<=$BE20), "X", "")))) | P20: =IF(OR($B20="", P$7=""), "", IF(AND(N$6="W", $BA20=""), "", IF(AND(N$6="B", $BB20=""), "", IF(AND(P$7>=$BD20, P$7<=$BE20), "X", "")))) | Q20: =IF(OR($B20="", Q$7=""), "", IF(AND(O$6="W", $BA20=""), "", IF(AND(O$6="B", $BB20=""), "", IF(AND(Q$7>=$BD20, Q$7<=$BE20), "X", "")))) | R20: =IF(OR($B20="", R$7=""), "", IF(AND(P$6="W", $BA20=""), "", IF(AND(P$6="B", $BB20=""), "", IF(AND(R$7>=$BD20, R$7<=$BE20), "X", "")))) | S20: =IF(OR($B20="", S$7=""), "", IF(AND(Q$6="W", $BA20=""), "", IF(AND(Q$6="B", $BB20=""), "", IF(AND(S$7>=$BD20, S$7<=$BE20), "X", "")))) | T20: =IF(OR($B20="", T$7=""), "", IF(AND(R$6="W", $BA20=""), "", IF(AND(R$6="B", $BB20=""), "", IF(AND(T$7>=$BD20, T$7<=$BE20), "X", "")))) | U20: =IF(OR($B20="", U$7=""), "", IF(AND(S$6="W", $BA20=""), "", IF(AND(S$6="B", $BB20=""), "", IF(AND(U$7>=$BD20, U$7<=$BE20), "X", "")))) | V20: =IF(OR($B20="", V$7=""), "", IF(AND(T$6="W", $BA20=""), "", IF(AND(T$6="B", $BB20=""), "", IF(AND(V$7>=$BD20, V$7<=$BE20), "X", "")))) | ... AS20: =IF(OR($B20="", AS$7=""), "", IF(AND(AQ$6="W", $BA20=""), "", IF(AND(AQ$6="B", $BB20=""), "", IF(AND(AS$7>=$BD20, AS$7<=$BE20), "X", "")))) | BA20: =IF(IFERROR(INDEX('Project Details'!$F$11:$F$68, MATCH($B20, 'Project Details'!$B$11:$B$68, 0)), "")="", "", IFERROR(INDEX('Project Details'!$F$11:$F$68, MATCH($B20, 'Project Details'!$B$11:$B$68, 0)), "")) | BB20: =IF(IFERROR(INDEX('Project Details'!$G$11:$G$68, MATCH($B20, 'Project Details'!$B$11:$B$68, 0)), "")="", "", IFERROR(INDEX('Project Details'!$G$11:$FG$68, MATCH($B20, 'Project Details'!$B$11:$B$68, 0)), "")) | BC20: =IF(IFERROR(INDEX('Project Details'!$C$11:$C$68, MATCH($B20, 'Project Details'!$B$11:$B$68, 0)), "")="", "", IFERROR(INDEX('Project Details'!$C$11:$C$68, MATCH($B20, 'Project Details'!$B$11:$B$68, 0)), "")) | BD20: =IF(IFERROR(INDEX('Project Details'!$D$11:$D$68, MATCH($B20, 'Project Details'!$B$11:$B$68, 0)), "")="", "", IFERROR(INDEX('Project Details'!$D$11:$D$68, MATCH($B20, 'Project Details'!$B$11:$B$68, 0)), "")) | BE20: =IF(IFERROR(INDEX('Project Details'!$E$11:$E$68, MATCH($B20, 'Project Details'!$B$11:$B$68, 0)), "")="", "", IFERROR(INDEX('Project Details'!$E$11:$E$68, MATCH($B20, 'Project Details'!$B$11:$B$68, 0)), "")) | BF20: =IF(IFERROR(INDEX('Project Details'!$H$11:$H$68, MATCH($B20, 'Project Details'!$B$11:$B$68, 0)), "")="", "", 'Project Details'!$N$4) | BW20: =IF(O20="", "", IF($BF20='Project Details'!$N$4, $CH$3, IF($BC20="", $CG$3, IFERROR(INDEX('Project Details'!$O$11:$O$20, MATCH($BC20, 'Project Details'!$N$11:$N$20, 0)), "")))) | BX20: =IF(P20="", "", IF($BF20='Project Details'!$N$4, $CH$3, IF($BC20="", $CG$3, IFERROR(INDEX('Project Details'!$O$11:$O$20, MATCH($BC20, 'Project Details'!$N$11:$N$20, 0)), "")))) | BY20: =IF(Q20="", "", IF($BF20='Project Details'!$N$4, $CH$3, IF($BC20="", $CG$3, IFERROR(INDEX('Project Details'!$O$11:$O$20, MATCH($BC20, 'Project Details'!$N$11:$N$20, 0)), "")))) | BZ20: =IF(R20="", "", IF($BF20='Project Details'!$N$4, $CH$3, IF($BC20="", $CG$3, IFERROR(INDEX('Project Details'!$O$11:$O$20, MATCH($BC20, 'Project Details'!$N$11:$N$20, 0)), "")))) | CA20: =IF(S20="", "", IF($BF20='Project Details'!$N$4, $CH$3, IF($BC20="", $CG$3, IFERROR(INDEX('Project Details'!$O$11:$O$20, MATCH($BC20, 'Project Details'!$N$11:$N$20, 0)), "")))) | CB20: =IF(T20="", "", IF($BF20='Project Details'!$N$4, $CH$3, IF($BC20="", $CG$3, IFERROR(INDEX('Project Details'!$O$11:$O$20, MATCH($BC20, 'Project Details'!$N$11:$N$20, 0)), "")))) | CC20: =IF(U20="", "", IF($BF20='Project Details'!$N$4, $CH$3, IF($BC20="", $CG$3, IFERROR(INDEX('Project Details'!$O$11:$O$20, MATCH($BC20, 'Project Details'!$N$11:$N$20, 0)), "")))) | CD20: =IF(V20="", "", IF($BF20='Project Details'!$N$4, $CH$3, IF($BC20="", $CG$3, IFERROR(INDEX('Project Details'!$O$11:$O$20, MATCH($BC20, 'Project Details'!$N$11:$N$20, 0)), "")))) | ... DA20: =IF(AS20="", "", IF($BF20='Project Details'!$N$4, $CH$3, IF($BC20="", $CG$3, IFERROR(INDEX('Project Details'!$O$11:$O$20, MATCH($BC20, 'Project Details'!$N$11:$N$20, 0)), ""))))
B21: =IF('Project Details'!$B24="", "", 'Project Details'!$B24) | K21: =$BF21 | O21: =IF(OR($B21="", O$7=""), "", IF(AND(M$6="W", $BA21=""), "", IF(AND(M$6="B", $BB21=""), "", IF(AND(O$7>=$BD21, O$7<=$BE21), "X", "")))) | P21: =IF(OR($B21="", P$7=""), "", IF(AND(N$6="W", $BA21=""), "", IF(AND(N$6="B", $BB21=""), "", IF(AND(P$7>=$BD21, P$7<=$BE21), "X", "")))) | Q21: =IF(OR($B21="", Q$7=""), "", IF(AND(O$6="W", $BA21=""), "", IF(AND(O$6="B", $BB21=""), "", IF(AND(Q$7>=$BD21, Q$7<=$BE21), "X", "")))) | R21: =IF(OR($B21="", R$7=""), "", IF(AND(P$6="W", $BA21=""), "", IF(AND(P$6="B", $BB21=""), "", IF(AND(R$7>=$BD21, R$7<=$BE21), "X", "")))) | S21: =IF(OR($B21="", S$7=""), "", IF(AND(Q$6="W", $BA21=""), "", IF(AND(Q$6="B", $BB21=""), "", IF(AND(S$7>=$BD21, S$7<=$BE21), "X", "")))) | T21: =IF(OR($B21="", T$7=""), "", IF(AND(R$6="W", $BA21=""), "", IF(AND(R$6="B", $BB21=""), "", IF(AND(T$7>=$BD21, T$7<=$BE21), "X", "")))) | U21: =IF(OR($B21="", U$7=""), "", IF(AND(S$6="W", $BA21=""), "", IF(AND(S$6="B", $BB21=""), "", IF(AND(U$7>=$BD21, U$7<=$BE21), "X", "")))) | V21: =IF(OR($B21="", V$7=""), "", IF(AND(T$6="W", $BA21=""), "", IF(AND(T$6="B", $BB21=""), "", IF(AND(V$7>=$BD21, V$7<=$BE21), "X", "")))) | ... AS21: =IF(OR($B21="", AS$7=""), "", IF(AND(AQ$6="W", $BA21=""), "", IF(AND(AQ$6="B", $BB21=""), "", IF(AND(AS$7>=$BD21, AS$7<=$BE21), "X", "")))) | BA21: =IF(IFERROR(INDEX('Project Details'!$F$11:$F$68, MATCH($B21, 'Project Details'!$B$11:$B$68, 0)), "")="", "", IFERROR(INDEX('Project Details'!$F$11:$F$68, MATCH($B21, 'Project Details'!$B$11:$B$68, 0)), "")) | BB21: =IF(IFERROR(INDEX('Project Details'!$G$11:$G$68, MATCH($B21, 'Project Details'!$B$11:$B$68, 0)), "")="", "", IFERROR(INDEX('Project Details'!$G$11:$FG$68, MATCH($B21, 'Project Details'!$B$11:$B$68, 0)), "")) | BC21: =IF(IFERROR(INDEX('Project Details'!$C$11:$C$68, MATCH($B21, 'Project Details'!$B$11:$B$68, 0)), "")="", "", IFERROR(INDEX('Project Details'!$C$11:$C$68, MATCH($B21, 'Project Details'!$B$11:$B$68, 0)), "")) | BD21: =IF(IFERROR(INDEX('Project Details'!$D$11:$D$68, MATCH($B21, 'Project Details'!$B$11:$B$68, 0)), "")="", "", IFERROR(INDEX('Project Details'!$D$11:$D$68, MATCH($B21, 'Project Details'!$B$11:$B$68, 0)), "")) | BE21: =IF(IFERROR(INDEX('Project Details'!$E$11:$E$68, MATCH($B21, 'Project Details'!$B$11:$B$68, 0)), "")="", "", IFERROR(INDEX('Project Details'!$E$11:$E$68, MATCH($B21, 'Project Details'!$B$11:$B$68, 0)), "")) | BF21: =IF(IFERROR(INDEX('Project Details'!$H$11:$H$68, MATCH($B21, 'Project Details'!$B$11:$B$68, 0)), "")="", "", 'Project Details'!$N$4) | BW21: =IF(O21="", "", IF($BF21='Project Details'!$N$4, $CH$3, IF($BC21="", $CG$3, IFERROR(INDEX('Project Details'!$O$11:$O$20, MATCH($BC21, 'Project Details'!$N$11:$N$20, 0)), "")))) | BX21: =IF(P21="", "", IF($BF21='Project Details'!$N$4, $CH$3, IF($BC21="", $CG$3, IFERROR(INDEX('Project Details'!$O$11:$O$20, MATCH($BC21, 'Project Details'!$N$11:$N$20, 0)), "")))) | BY21: =IF(Q21="", "", IF($BF21='Project Details'!$N$4, $CH$3, IF($BC21="", $CG$3, IFERROR(INDEX('Project Details'!$O$11:$O$20, MATCH($BC21, 'Project Details'!$N$11:$N$20, 0)), "")))) | BZ21: =IF(R21="", "", IF($BF21='Project Details'!$N$4, $CH$3, IF($BC21="", $CG$3, IFERROR(INDEX('Project Details'!$O$11:$O$20, MATCH($BC21, 'Project Details'!$N$11:$N$20, 0)), "")))) | CA21: =IF(S21="", "", IF($BF21='Project Details'!$N$4, $CH$3, IF($BC21="", $CG$3, IFERROR(INDEX('Project Details'!$O$11:$O$20, MATCH($BC21, 'Project Details'!$N$11:$N$20, 0)), "")))) | CB21: =IF(T21="", "", IF($BF21='Project Details'!$N$4, $CH$3, IF($BC21="", $CG$3, IFERROR(INDEX('Project Details'!$O$11:$O$20, MATCH($BC21, 'Project Details'!$N$11:$N$20, 0)), "")))) | CC21: =IF(U21="", "", IF($BF21='Project Details'!$N$4, $CH$3, IF($BC21="", $CG$3, IFERROR(INDEX('Project Details'!$O$11:$O$20, MATCH($BC21, 'Project Details'!$N$11:$N$20, 0)), "")))) | CD21: =IF(V21="", "", IF($BF21='Project Details'!$N$4, $CH$3, IF($BC21="", $CG$3, IFERROR(INDEX('Project Details'!$O$11:$O$20, MATCH($BC21, 'Project Details'!$N$11:$N$20, 0)), "")))) | ... DA21: =IF(AS21="", "", IF($BF21='Project Details'!$N$4, $CH$3, IF($BC21="", $CG$3, IFERROR(INDEX('Project Details'!$O$11:$O$20, MATCH($BC21, 'Project Details'!$N$11:$N$20, 0)), ""))))
B22: =IF('Project Details'!$B25="", "", 'Project Details'!$B25) | K22: =$BF22 | O22: =IF(OR($B22="", O$7=""), "", IF(AND(M$6="W", $BA22=""), "", IF(AND(M$6="B", $BB22=""), "", IF(AND(O$7>=$BD22, O$7<=$BE22), "X", "")))) | P22: =IF(OR($B22="", P$7=""), "", IF(AND(N$6="W", $BA22=""), "", IF(AND(N$6="B", $BB22=""), "", IF(AND(P$7>=$BD22, P$7<=$BE22), "X", "")))) | Q22: =IF(OR($B22="", Q$7=""), "", IF(AND(O$6="W", $BA22=""), "", IF(AND(O$6="B", $BB22=""), "", IF(AND(Q$7>=$BD22, Q$7<=$BE22), "X", "")))) | R22: =IF(OR($B22="", R$7=""), "", IF(AND(P$6="W", $BA22=""), "", IF(AND(P$6="B", $BB22=""), "", IF(AND(R$7>=$BD22, R$7<=$BE22), "X", "")))) | S22: =IF(OR($B22="", S$7=""), "", IF(AND(Q$6="W", $BA22=""), "", IF(AND(Q$6="B", $BB22=""), "", IF(AND(S$7>=$BD22, S$7<=$BE22), "X", "")))) | T22: =IF(OR($B22="", T$7=""), "", IF(AND(R$6="W", $BA22=""), "", IF(AND(R$6="B", $BB22=""), "", IF(AND(T$7>=$BD22, T$7<=$BE22), "X", "")))) | U22: =IF(OR($B22="", U$7=""), "", IF(AND(S$6="W", $BA22=""), "", IF(AND(S$6="B", $BB22=""), "", IF(AND(U$7>=$BD22, U$7<=$BE22), "X", "")))) | V22: =IF(OR($B22="", V$7=""), "", IF(AND(T$6="W", $BA22=""), "", IF(AND(T$6="B", $BB22=""), "", IF(AND(V$7>=$BD22, V$7<=$BE22), "X", "")))) | ... AS22: =IF(OR($B22="", AS$7=""), "", IF(AND(AQ$6="W", $BA22=""), "", IF(AND(AQ$6="B", $BB22=""), "", IF(AND(AS$7>=$BD22, AS$7<=$BE22), "X", "")))) | BA22: =IF(IFERROR(INDEX('Project Details'!$F$11:$F$68, MATCH($B22, 'Project Details'!$B$11:$B$68, 0)), "")="", "", IFERROR(INDEX('Project Details'!$F$11:$F$68, MATCH($B22, 'Project Details'!$B$11:$B$68, 0)), "")) | BB22: =IF(IFERROR(INDEX('Project Details'!$G$11:$G$68, MATCH($B22, 'Project Details'!$B$11:$B$68, 0)), "")="", "", IFERROR(INDEX('Project Details'!$G$11:$FG$68, MATCH($B22, 'Project Details'!$B$11:$B$68, 0)), "")) | BC22: =IF(IFERROR(INDEX('Project Details'!$C$11:$C$68, MATCH($B22, 'Project Details'!$B$11:$B$68, 0)), "")="", "", IFERROR(INDEX('Project Details'!$C$11:$C$68, MATCH($B22, 'Project Details'!$B$11:$B$68, 0)), "")) | BD22: =IF(IFERROR(INDEX('Project Details'!$D$11:$D$68, MATCH($B22, 'Project Details'!$B$11:$B$68, 0)), "")="", "", IFERROR(INDEX('Project Details'!$D$11:$D$68, MATCH($B22, 'Project Details'!$B$11:$B$68, 0)), "")) | BE22: =IF(IFERROR(INDEX('Project Details'!$E$11:$E$68, MATCH($B22, 'Project Details'!$B$11:$B$68, 0)), "")="", "", IFERROR(INDEX('Project Details'!$E$11:$E$68, MATCH($B22, 'Project Details'!$B$11:$B$68, 0)), "")) | BF22: =IF(IFERROR(INDEX('Project Details'!$H$11:$H$68, MATCH($B22, 'Project Details'!$B$11:$B$68, 0)), "")="", "", 'Project Details'!$N$4) | BW22: =IF(O22="", "", IF($BF22='Project Details'!$N$4, $CH$3, IF($BC22="", $CG$3, IFERROR(INDEX('Project Details'!$O$11:$O$20, MATCH($BC22, 'Project Details'!$N$11:$N$20, 0)), "")))) | BX22: =IF(P22="", "", IF($BF22='Project Details'!$N$4, $CH$3, IF($BC22="", $CG$3, IFERROR(INDEX('Project Details'!$O$11:$O$20, MATCH($BC22, 'Project Details'!$N$11:$N$20, 0)), "")))) | BY22: =IF(Q22="", "", IF($BF22='Project Details'!$N$4, $CH$3, IF($BC22="", $CG$3, IFERROR(INDEX('Project Details'!$O$11:$O$20, MATCH($BC22, 'Project Details'!$N$11:$N$20, 0)), "")))) | BZ22: =IF(R22="", "", IF($BF22='Project Details'!$N$4, $CH$3, IF($BC22="", $CG$3, IFERROR(INDEX('Project Details'!$O$11:$O$20, MATCH($BC22, 'Project Details'!$N$11:$N$20, 0)), "")))) | CA22: =IF(S22="", "", IF($BF22='Project Details'!$N$4, $CH$3, IF($BC22="", $CG$3, IFERROR(INDEX('Project Details'!$O$11:$O$20, MATCH($BC22, 'Project Details'!$N$11:$N$20, 0)), "")))) | CB22: =IF(T22="", "", IF($BF22='Project Details'!$N$4, $CH$3, IF($BC22="", $CG$3, IFERROR(INDEX('Project Details'!$O$11:$O$20, MATCH($BC22, 'Project Details'!$N$11:$N$20, 0)), "")))) | CC22: =IF(U22="", "", IF($BF22='Project Details'!$N$4, $CH$3, IF($BC22="", $CG$3, IFERROR(INDEX('Project Details'!$O$11:$O$20, MATCH($BC22, 'Project Details'!$N$11:$N$20, 0)), "")))) | CD22: =IF(V22="", "", IF($BF22='Project Details'!$N$4, $CH$3, IF($BC22="", $CG$3, IFERROR(INDEX('Project Details'!$O$11:$O$20, MATCH($BC22, 'Project Details'!$N$11:$N$20, 0)), "")))) | ... DA22: =IF(AS22="", "", IF($BF22='Project Details'!$N$4, $CH$3, IF($BC22="", $CG$3, IFERROR(INDEX('Project Details'!$O$11:$O$20, MATCH($BC22, 'Project Details'!$N$11:$N$20, 0)), ""))))
B23: =IF('Project Details'!$B26="", "", 'Project Details'!$B26) | K23: =$BF23 | O23: =IF(OR($B23="", O$7=""), "", IF(AND(M$6="W", $BA23=""), "", IF(AND(M$6="B", $BB23=""), "", IF(AND(O$7>=$BD23, O$7<=$BE23), "X", "")))) | P23: =IF(OR($B23="", P$7=""), "", IF(AND(N$6="W", $BA23=""), "", IF(AND(N$6="B", $BB23=""), "", IF(AND(P$7>=$BD23, P$7<=$BE23), "X", "")))) | Q23: =IF(OR($B23="", Q$7=""), "", IF(AND(O$6="W", $BA23=""), "", IF(AND(O$6="B", $BB23=""), "", IF(AND(Q$7>=$BD23, Q$7<=$BE23), "X", "")))) | R23: =IF(OR($B23="", R$7=""), "", IF(AND(P$6="W", $BA23=""), "", IF(AND(P$6="B", $BB23=""), "", IF(AND(R$7>=$BD23, R$7<=$BE23), "X", "")))) | S23: =IF(OR($B23="", S$7=""), "", IF(AND(Q$6="W", $BA23=""), "", IF(AND(Q$6="B", $BB23=""), "", IF(AND(S$7>=$BD23, S$7<=$BE23), "X", "")))) | T23: =IF(OR($B23="", T$7=""), "", IF(AND(R$6="W", $BA23=""), "", IF(AND(R$6="B", $BB23=""), "", IF(AND(T$7>=$BD23, T$7<=$BE23), "X", "")))) | U23: =IF(OR($B23="", U$7=""), "", IF(AND(S$6="W", $BA23=""), "", IF(AND(S$6="B", $BB23=""), "", IF(AND(U$7>=$BD23, U$7<=$BE23), "X", "")))) | V23: =IF(OR($B23="", V$7=""), "", IF(AND(T$6="W", $BA23=""), "", IF(AND(T$6="B", $BB23=""), "", IF(AND(V$7>=$BD23, V$7<=$BE23), "X", "")))) | ... AS23: =IF(OR($B23="", AS$7=""), "", IF(AND(AQ$6="W", $BA23=""), "", IF(AND(AQ$6="B", $BB23=""), "", IF(AND(AS$7>=$BD23, AS$7<=$BE23), "X", "")))) | BA23: =IF(IFERROR(INDEX('Project Details'!$F$11:$F$68, MATCH($B23, 'Project Details'!$B$11:$B$68, 0)), "")="", "", IFERROR(INDEX('Project Details'!$F$11:$F$68, MATCH($B23, 'Project Details'!$B$11:$B$68, 0)), "")) | BB23: =IF(IFERROR(INDEX('Project Details'!$G$11:$G$68, MATCH($B23, 'Project Details'!$B$11:$B$68, 0)), "")="", "", IFERROR(INDEX('Project Details'!$G$11:$FG$68, MATCH($B23, 'Project Details'!$B$11:$B$68, 0)), "")) | BC23: =IF(IFERROR(INDEX('Project Details'!$C$11:$C$68, MATCH($B23, 'Project Details'!$B$11:$B$68, 0)), "")="", "", IFERROR(INDEX('Project Details'!$C$11:$C$68, MATCH($B23, 'Project Details'!$B$11:$B$68, 0)), "")) | BD23: =IF(IFERROR(INDEX('Project Details'!$D$11:$D$68, MATCH($B23, 'Project Details'!$B$11:$B$68, 0)), "")="", "", IFERROR(INDEX('Project Details'!$D$11:$D$68, MATCH($B23, 'Project Details'!$B$11:$B$68, 0)), "")) | BE23: =IF(IFERROR(INDEX('Project Details'!$E$11:$E$68, MATCH($B23, 'Project Details'!$B$11:$B$68, 0)), "")="", "", IFERROR(INDEX('Project Details'!$E$11:$E$68, MATCH($B23, 'Project Details'!$B$11:$B$68, 0)), "")) | BF23: =IF(IFERROR(INDEX('Project Details'!$H$11:$H$68, MATCH($B23, 'Project Details'!$B$11:$B$68, 0)), "")="", "", 'Project Details'!$N$4) | BW23: =IF(O23="", "", IF($BF23='Project Details'!$N$4, $CH$3, IF($BC23="", $CG$3, IFERROR(INDEX('Project Details'!$O$11:$O$20, MATCH($BC23, 'Project Details'!$N$11:$N$20, 0)), "")))) | BX23: =IF(P23="", "", IF($BF23='Project Details'!$N$4, $CH$3, IF($BC23="", $CG$3, IFERROR(INDEX('Project Details'!$O$11:$O$20, MATCH($BC23, 'Project Details'!$N$11:$N$20, 0)), "")))) | BY23: =IF(Q23="", "", IF($BF23='Project Details'!$N$4, $CH$3, IF($BC23="", $CG$3, IFERROR(INDEX('Project Details'!$O$11:$O$20, MATCH($BC23, 'Project Details'!$N$11:$N$20, 0)), "")))) | BZ23: =IF(R23="", "", IF($BF23='Project Details'!$N$4, $CH$3, IF($BC23="", $CG$3, IFERROR(INDEX('Project Details'!$O$11:$O$20, MATCH($BC23, 'Project Details'!$N$11:$N$20, 0)), "")))) | CA23: =IF(S23="", "", IF($BF23='Project Details'!$N$4, $CH$3, IF($BC23="", $CG$3, IFERROR(INDEX('Project Details'!$O$11:$O$20, MATCH($BC23, 'Project Details'!$N$11:$N$20, 0)), "")))) | CB23: =IF(T23="", "", IF($BF23='Project Details'!$N$4, $CH$3, IF($BC23="", $CG$3, IFERROR(INDEX('Project Details'!$O$11:$O$20, MATCH($BC23, 'Project Details'!$N$11:$N$20, 0)), "")))) | CC23: =IF(U23="", "", IF($BF23='Project Details'!$N$4, $CH$3, IF($BC23="", $CG$3, IFERROR(INDEX('Project Details'!$O$11:$O$20, MATCH($BC23, 'Project Details'!$N$11:$N$20, 0)), "")))) | CD23: =IF(V23="", "", IF($BF23='Project Details'!$N$4, $CH$3, IF($BC23="", $CG$3, IFERROR(INDEX('Project Details'!$O$11:$O$20, MATCH($BC23, 'Project Details'!$N$11:$N$20, 0)), "")))) | ... DA23: =IF(AS23="", "", IF($BF23='Project Details'!$N$4, $CH$3, IF($BC23="", $CG$3, IFERROR(INDEX('Project Details'!$O$11:$O$20, MATCH($BC23, 'Project Details'!$N$11:$N$20, 0)), ""))))
... B65: =IF('Project Details'!$B68="", "", 'Project Details'!$B68) | K65: =$BF65 | O65: =IF(OR($B65="", O$7=""), "", IF(AND(M$6="W", $BA65=""), "", IF(AND(M$6="B", $BB65=""), "", IF(AND(O$7>=$BD65, O$7<=$BE65), "X", "")))) | P65: =IF(OR($B65="", P$7=""), "", IF(AND(N$6="W", $BA65=""), "", IF(AND(N$6="B", $BB65=""), "", IF(AND(P$7>=$BD65, P$7<=$BE65), "X", "")))) | Q65: =IF(OR($B65="", Q$7=""), "", IF(AND(O$6="W", $BA65=""), "", IF(AND(O$6="B", $BB65=""), "", IF(AND(Q$7>=$BD65, Q$7<=$BE65), "X", "")))) | R65: =IF(OR($B65="", R$7=""), "", IF(AND(P$6="W", $BA65=""), "", IF(AND(P$6="B", $BB65=""), "", IF(AND(R$7>=$BD65, R$7<=$BE65), "X", "")))) | S65: =IF(OR($B65="", S$7=""), "", IF(AND(Q$6="W", $BA65=""), "", IF(AND(Q$6="B", $BB65=""), "", IF(AND(S$7>=$BD65, S$7<=$BE65), "X", "")))) | T65: =IF(OR($B65="", T$7=""), "", IF(AND(R$6="W", $BA65=""), "", IF(AND(R$6="B", $BB65=""), "", IF(AND(T$7>=$BD65, T$7<=$BE65), "X", "")))) | U65: =IF(OR($B65="", U$7=""), "", IF(AND(S$6="W", $BA65=""), "", IF(AND(S$6="B", $BB65=""), "", IF(AND(U$7>=$BD65, U$7<=$BE65), "X", "")))) | V65: =IF(OR($B65="", V$7=""), "", IF(AND(T$6="W", $BA65=""), "", IF(AND(T$6="B", $BB65=""), "", IF(AND(V$7>=$BD65, V$7<=$BE65), "X", "")))) | ... AS65: =IF(OR($B65="", AS$7=""), "", IF(AND(AQ$6="W", $BA65=""), "", IF(AND(AQ$6="B", $BB65=""), "", IF(AND(AS$7>=$BD65, AS$7<=$BE65), "X", "")))) | BA65: =IF(IFERROR(INDEX('Project Details'!$F$11:$F$68, MATCH($B65, 'Project Details'!$B$11:$B$68, 0)), "")="", "", IFERROR(INDEX('Project Details'!$F$11:$F$68, MATCH($B65, 'Project Details'!$B$11:$B$68, 0)), "")) | BB65: =IF(IFERROR(INDEX('Project Details'!$G$11:$G$68, MATCH($B65, 'Project Details'!$B$11:$B$68, 0)), "")="", "", IFERROR(INDEX('Project Details'!$G$11:$FG$68, MATCH($B65, 'Project Details'!$B$11:$B$68, 0)), "")) | BC65: =IF(IFERROR(INDEX('Project Details'!$C$11:$C$68, MATCH($B65, 'Project Details'!$B$11:$B$68, 0)), "")="", "", IFERROR(INDEX('Project Details'!$C$11:$C$68, MATCH($B65, 'Project Details'!$B$11:$B$68, 0)), "")) | BD65: =IF(IFERROR(INDEX('Project Details'!$D$11:$D$68, MATCH($B65, 'Project Details'!$B$11:$B$68, 0)), "")="", "", IFERROR(INDEX('Project Details'!$D$11:$D$68, MATCH($B65, 'Project Details'!$B$11:$B$68, 0)), "")) | BE65: =IF(IFERROR(INDEX('Project Details'!$E$11:$E$68, MATCH($B65, 'Project Details'!$B$11:$B$68, 0)), "")="", "", IFERROR(INDEX('Project Details'!$E$11:$E$68, MATCH($B65, 'Project Details'!$B$11:$B$68, 0)), "")) | BF65: =IF(IFERROR(INDEX('Project Details'!$H$11:$H$68, MATCH($B65, 'Project Details'!$B$11:$B$68, 0)), "")="", "", 'Project Details'!$N$4) | BW65: =IF(O65="", "", IF($BF65='Project Details'!$N$4, $CH$3, IF($BC65="", $CG$3, IFERROR(INDEX('Project Details'!$O$11:$O$20, MATCH($BC65, 'Project Details'!$N$11:$N$20, 0)), "")))) | BX65: =IF(P65="", "", IF($BF65='Project Details'!$N$4, $CH$3, IF($BC65="", $CG$3, IFERROR(INDEX('Project Details'!$O$11:$O$20, MATCH($BC65, 'Project Details'!$N$11:$N$20, 0)), "")))) | BY65: =IF(Q65="", "", IF($BF65='Project Details'!$N$4, $CH$3, IF($BC65="", $CG$3, IFERROR(INDEX('Project Details'!$O$11:$O$20, MATCH($BC65, 'Project Details'!$N$11:$N$20, 0)), "")))) | BZ65: =IF(R65="", "", IF($BF65='Project Details'!$N$4, $CH$3, IF($BC65="", $CG$3, IFERROR(INDEX('Project Details'!$O$11:$O$20, MATCH($BC65, 'Project Details'!$N$11:$N$20, 0)), "")))) | CA65: =IF(S65="", "", IF($BF65='Project Details'!$N$4, $CH$3, IF($BC65="", $CG$3, IFERROR(INDEX('Project Details'!$O$11:$O$20, MATCH($BC65, 'Project Details'!$N$11:$N$20, 0)), "")))) | CB65: =IF(T65="", "", IF($BF65='Project Details'!$N$4, $CH$3, IF($BC65="", $CG$3, IFERROR(INDEX('Project Details'!$O$11:$O$20, MATCH($BC65, 'Project Details'!$N$11:$N$20, 0)), "")))) | CC65: =IF(U65="", "", IF($BF65='Project Details'!$N$4, $CH$3, IF($BC65="", $CG$3, IFERROR(INDEX('Project Details'!$O$11:$O$20, MATCH($BC65, 'Project Details'!$N$11:$N$20, 0)), "")))) | CD65: =IF(V65="", "", IF($BF65='Project Details'!$N$4, $CH$3, IF($BC65="", $CG$3, IFERROR(INDEX('Project Details'!$O$11:$O$20, MATCH($BC65, 'Project Details'!$N$11:$N$20, 0)), "")))) | ... DA65: =IF(AS65="", "", IF($BF65='Project Details'!$N$4, $CH$3, IF($BC65="", $CG$3, IFERROR(INDEX('Project Details'!$O$11:$O$20, MATCH($BC65, 'Project Details'!$N$11:$N$20, 0)), ""))))
